Workbook
Name Bdgt_ADEME: ADEME!$E$6:$E$30
Name Bdgt_EDF: EDF!$E$6:$E$84
Name Bdgt_ETG_SALE: 'ETANG-SALE'!$D$5:$D$11
Name Bdgt_FRAFU: 'FRAFU DEAL'!$H$6:$H$152
Name Bdgt_LBU: 'LBU DEAL'!$I$6:$I$397
Name Bdgt_P_Ile: 'PETITE ILE'!$C$6:$C$16
Name Bdgt_Rectorat: RECTORAT!$G$6:$G$13
Name Bdgt_Region: REGION!$G$6:$G$29
Name Bdgt_Rehab: 'LBU REHAB'!$I$6:$I$48
Name Bdgt_ST_JO: 'ST JOSEPH'!$D$5:$D$16
Name Date_AF_FRAFU: 'FRAFU DEAL'!$K$6:$K$152
Name DateAF: 'FRAFU DEAL'!$K$6:$K$152
Name DateAF_ADEME: ADEME!$H$6:$H$30
Name DateAF_CAF: CAF!$H$6:$H$41
Name DateAF_EAU: 'OFFICE DE L''EAU'!$G$7:$G$14
Name DateAF_EDF: EDF!$H$7:$H$59
Name DateAF_FEDER: FEDER!$J$7:$J$13
Name DateAF_LBU: 'LBU DEAL'!$L$6:$L$397
Name DateAF_LBU_rehab: 'LBU REHAB'!$L$6:$L$48
Name DateAF_P_ILE: 'PETITE ILE'!$F$7:$F$16
Name DateAF_Region: REGION!$J$6:$J$29
Name DateAF_ST_JOSEPH: 'ST JOSEPH'!$G$6:$G$15
Name DateAF_ST_LEU: 'ST LEU'!$G$6:$G$45
Name DateAF_TCO: TCO!$H$7:$H$15
Name DatePmt: 'FRAFU DEAL'!$M$6:$M$152
Name DatePmt_ADEME: ADEME!$J$6:$J$30
Name DatePmt_caf: CAF!$J$6:$J$41
Name DatePmt_EAU: 'OFFICE DE L''EAU'!$I$7:$I$14
Name DatePmt_EDF: EDF!$J$7:$J$59
Name DatePmt_FEDER: FEDER!$L$7:$L$13
Name DatePmt_LBU: 'LBU DEAL'!$N$6:$N$397
Name DatePmt_P_ILE: 'PETITE ILE'!$H$7:$H$16
Name DatePmt_Region: REGION!$L$6:$L$29
Name DatePmt_ST_JOSEPH: 'ST JOSEPH'!$I$5:$I$16
Name DatePmt_ST_LEU: 'ST LEU'!$I$6:$I$45
Name DatePmt_TCO: TCO!$J$7:$J$15
Name DatePmtRehab: 'LBU REHAB'!$N$6:$N$48
Name MontantAF: 'FRAFU DEAL'!$I$6:$I$152
Name MontantAF_ADEME: ADEME!$F$6:$F$30
Name MontantAF_CAF: CAF!$F$6:$F$41
Name MontantAF_EAU: 'OFFICE DE L''EAU'!$E$7:$E$14
Name MontantAF_EDF: EDF!$F$7:$F$59
Name MontantAF_FEDER: FEDER!$H$7:$H$13
Name MontantAF_FRAFU: 'FRAFU DEAL'!$I$6:$I$152
Name MontantAF_LBU: 'LBU DEAL'!$J$6:$J$397
Name MontantAF_LBU_rehab: 'LBU REHAB'!$J$6:$J$48
Name MontantAF_P_ILE: 'PETITE ILE'!$D$7:$D$16
Name MontantAF_Region: REGION!$H$6:$H$29
Name MontantAF_ST_JOSEPH: 'ST JOSEPH'!$E$6:$E$15
Name MontantAF_ST_LEU: 'ST LEU'!$E$6:$E$45
Name MontantAF_TCO: TCO!$F$7:$F$15
Name MontantPaye: 'FRAFU DEAL'!$L$6:$L$152
Name MontantPayeRehab: 'LBU REHAB'!$M$6:$M$48
Name MtntPaye_ADEME: ADEME!$I$6:$I$30
Name MtntPaye_CAF: CAF!$I$6:$I$41
Name MtntPaye_EAU: 'OFFICE DE L''EAU'!$H$7:$H$14
Name MtntPaye_EDF: EDF!$I$7:$I$59
Name MtntPaye_FEDER: FEDER!$K$7:$K$13
Name MtntPaye_LBU: 'LBU DEAL'!$M$6:$M$397
Name MtntPaye_P_ILE: 'PETITE ILE'!$G$7:$G$16

Sheet SYNTHESE
B1: Budget | C1: Versé | D1: Appelé (Non payé) | E1: Non appelé
A2: FRAFU DEAL | B2: ='FRAFU DEAL'!H153 -> 26941525 | C2: ='FRAFU DEAL'!L153 -> 18793761 | D2: ='FRAFU DEAL'!O153 -> 712517.92 | E2: ='FRAFU DEAL'!P153 -> 7397110.5 | F2: =B2-(C2+D2+E2) -> 38134.822 | G2: DESIRE 1/2
A3: LBU DEAL | B3: ='LBU DEAL'!I398 -> 38901471 | C3: ='LBU DEAL'!M398 -> 25452869 | D3: ='LBU DEAL'!P398 -> 523812 | E3: ='LBU DEAL'!Q398 -> 12924786 | F3: =B3-(C3+D3+E3) -> 4
A4: SAINT-LEU | B4: ='ST LEU'!D38+'ST LEU'!D40 -> 4270508.3 | C4: ='ST LEU'!H38+'ST LEU'!H46 -> 3896551 | D4: ='ST LEU'!K38+'ST LEU'!K46 -> 551506.14 | E4: ='ST LEU'!L38+'ST LEU'!L46 -> 0 | F4: =B4-(C4+D4+E4) -> -177548.87 | G4: VERIF SOBEPRE
A5: CAF | B5: =CAF!E42 -> 1370000 | C5: =CAF!I42 -> 1210000 | D5: =CAF!L42 -> 0 | E5: =CAF!M42 -> 160000 | F5: =B5-(C5+D5+E5) -> 0
A6: REGION | B6: =REGION!G30 -> 3829151.4 | C6: =REGION!K30 -> 2700924.1 | D6: =REGION!N30 -> 18394.2 | E6: =REGION!O30 -> 941484.5 | F6: =B6-(C6+D6+E6) -> 168348.64 | G6: Pepinière : dépenses pas atteintes
A7: DIECCTE | B7: =DIECCTE!D6 -> 66848.64 | C7: =DIECCTE!H11 -> 57101.89 | D7: =DIECCTE!K11 -> 0 | E7: =DIECCTE!L11 -> 0 | F7: =B7-(C7+D7+E7) -> 9746.75
A8: FEDER | B8: =FEDER!G14 -> 1712805.3 | C8: =FEDER!K14 -> 1492522.4 | D8: =FEDER!N14 -> 0 | E8: =FEDER!O14 -> 0 | F8: =B8-(C8+D8+E8) -> 220282.86
A9: TCO | B9: =TCO!E16 -> 500814.33 | C9: =TCO!I16 -> 359788.59 | D9: =TCO!L16 -> 90808.98 | E9: =TCO!M16 -> 50211.41 | F9: =B9-(C9+D9+E9) -> 5.3523194
A10: EDF | B10: =+EDF!E84 -> 2197461.4 | C10: =+EDF!I84 -> 1009076.5 | D10: =+EDF!L84 -> 294933.79 | E10: =+EDF!M84 -> 715764.07 | F10: =B10-(C10+D10+E10) -> 177687.05
A11: SAINT-JOSEPH | B11: ='ST JOSEPH'!D17 -> 510715.38 | C11: ='ST JOSEPH'!H17 -> 364604.28 | D11: ='ST JOSEPH'!K17 -> 0 | E11: ='ST JOSEPH'!L17 -> 146111.1 | F11: =B11-(C11+D11+E11) -> 0
A12: OFFICE EAU | B12: =+'OFFICE DE L''EAU'!D15 -> 350572.66 | C12: =+'OFFICE DE L''EAU'!H15 -> 225067.56 | D12: =+'OFFICE DE L''EAU'!K15 -> 125505.1 | E12: =+'OFFICE DE L''EAU'!L15 -> 0 | F12: =B12-(C12+D12+E12) -> 0
A13: ADEME | B13: =+ADEME!E10 -> 0 | C13: =+ADEME!I10 -> 25600 | D13: =+ADEME!L10 -> 0 | E13: =+ADEME!M10 -> 0 | F13: =B13-(C13+D13+E13) -> -25600
A14: ETG SALE | B14: =+'ETANG-SALE'!D12 -> 1085000 | C14: =+'ETANG-SALE'!H12 -> 1627500 | D14: =+'ETANG-SALE'!K12 -> 1085000 | E14: =+'ETANG-SALE'!L12 -> 0 | F14: =B14-(C14+D14+E14) -> -1627500
A15: PETITE-ILE | B15: ='PETITE ILE'!C17 -> 1924239.6 | C15: ='PETITE ILE'!G17 -> 1872435.3 | D15: ='PETITE ILE'!J17 -> 0 | E15: ='PETITE ILE'!K17 -> 46021.32 | F15: =B15-(C15+D15+E15) -> 5783
A16: Total | B16: =SUM(B4:B15) -> 17818117 | C16: =SUM(C4:C15) -> 14841172 | D16: =SUM(D4:D15) -> 2166148.2 | E16: =SUM(E4:E15) -> 2059592.4 | F16: =B16-(C16+D16+E16) -> -1248795.2
E18: 26105888 | F18: au 31/05/15
B22: AF REALISES | D22: FRAFU DEAL | E22: LBU DEAL | F22: LBU REHAB | G22: ST LEU | H22: CAF | I22: REGION | J22: RECTORAT | K22: DIECCTE | L22: FEDER | M22: TCO | N22: ADEME | O22: PETITE ILE | P22: EDF | Q22: OFFICE EAU | R22: ETG SALE | S22: ST JOSEPH
B23: 2006 | C23: =SUM(D23:Q23) -> 1558057.8 | D23: ='FRAFU DEAL'!I157 -> 1558057.8 | E23: 0 | F23: 0 | G23: 0 | H23: 0 | I23: 0 | J23: 0 | K23: 0 | L23: 0 | M23: 0 | N23: 0 | O23: 0 | P23: 0 | Q23: 0
B24: 2007 | C24: =SUM(D24:Q24) -> 170100 | D24: ='FRAFU DEAL'!I158 -> 170100 | E24: ='LBU DEAL'!J402 -> 0 | F24: 0 | G24: 0 | H24: 0 | I24: 0 | J24: 0 | K24: 0 | L24: 0 | M24: 0 | N24: 0 | O24: 0 | P24: 0 | Q24: 0
B25: 2010 | C25: =SUM(D25:Q25) -> 2779598.6 | D25: ='FRAFU DEAL'!I159 -> 63180 | E25: ='LBU DEAL'!J403 -> 2578304 | F25: 0 | G25: 0 | H25: 0 | I25: 0 | J25: 0 | K25: 0 | L25: 0 | M25: =+TCO!L21 -> 68000 | N25: 0 | O25: 0 | P25: 0 | Q25: =+'OFFICE DE L''EAU'!K19 -> 70114.53
B26: 2011 | C26: =SUM(D26:Q26) -> 3985527.6 | D26: ='FRAFU DEAL'!I160 -> 1113274 | E26: ='LBU DEAL'!J404 -> 1379921.7 | F26: 0 | G26: 0 | H26: 0 | I26: =REGION!H34 -> 735403.9 | J26: 0 | K26: 0 | L26: =+FEDER!N18 -> 124127.96 | M26: 0 | N26: =ADEME!F34 -> 12800 | O26: =+'PETITE ILE'!J22 -> 620000 | P26: 0 | Q26: 0
B27: 2012 | C27: =SUM(D27:Q27) -> 4881672.7 | D27: ='FRAFU DEAL'!I161 -> 1260319.3 | E27: ='LBU DEAL'!J405 -> 2290444.1 | F27: 0 | G27: ='ST LEU'!K58 -> 369138.64 | H27: =CAF!L48 -> 28000 | I27: =REGION!H35 -> 0 | J27: 0 | K27: 0 | L27: =+FEDER!N19 -> 117869.62 | M27: =+TCO!L22 -> 204000 | N27: =ADEME!F35 -> 0 | O27: =+'PETITE ILE'!K23 -> 611901 | P27: 0 | Q27: 0
B28: 2013 | C28: =SUM(D28:Q28) -> 6376229.2 | D28: ='FRAFU DEAL'!I162 -> 2866858.3 | E28: ='LBU DEAL'!J406 -> 2713185.8 | F28: 0 | G28: ='ST LEU'!K59 -> 328396.61 | H28: =CAF!L49 -> 175000 | I28: =REGION!H36 -> 205000 | J28: 0 | K28: 0 | L28: 0 | M28: =+TCO!L23 -> 87788.59 | N28: =ADEME!F36 -> 0 | O28: 0 | P28: 0 | Q28: 0
B29: 2014 | C29: =SUM(D29:Q29) -> 8649914.8 | D29: ='FRAFU DEAL'!I163 -> 2269922.4 | E29: ='LBU DEAL'!J407 -> 2180533.4 | F29: 0 | G29: ='ST LEU'!K60 -> 3077009.7 | H29: =CAF!L50 -> 190000 | I29: =REGION!H37 -> 94683.18 | J29: 0 | K29: 0 | L29: =+FEDER!N20 -> 809277.2 | M29: =+TCO!L24 -> 20808.98 | N29: =ADEME!F37 -> 7680 | O29: 0 | P29: 0 | Q29: 0
B30: 2015 | C30: =SUM(D30:Q30) -> 9923576.8 | D30: ='FRAFU DEAL'!I164 -> 3264503.6 | E30: ='LBU DEAL'!J408 -> 3885594.5 | F30: 0 | G30: ='ST LEU'!K61 -> 443115.66 | H30: =CAF!L51 -> 269500 | I30: =REGION!H38 -> 544244.53 | J30: 0 | K30: =DIECCTE!E7 -> 66848.64 | L30: =+FEDER!N21 -> 499678.77 | M30: =+TCO!L25 -> 70000 | N30: =ADEME!F38 -> 5120 | O30: =+'PETITE ILE'!J24 -> 594513 | P30: 0 | Q30: =+'OFFICE DE L''EAU'!K20 -> 280458.13 | R30: =+'ETANG-SALE'!E12 -> 1085000
B31: 2016 | C31: =SUM(D31:Q31) -> 5882024.6 | D31: ='FRAFU DEAL'!I165 -> 3128172.5 | E31: ='LBU DEAL'!J409 -> 2177727.8 | F31: 0 | G31: ='ST LEU'!K62 -> 0 | H31: =CAF!L52 -> 135000 | I31: =REGION!H39 -> 205000 | J31: 0 | K31: 0 | L31: =+FEDER!N22 -> 0 | M31: 0 | N31: =ADEME!F39 -> 0 | O31: =+'PETITE ILE'!J25 -> 0 | P31: =+EDF!L88 -> 236124.36 | Q31: 0 | S31: =+'ST JOSEPH'!K21 -> 109246.59
A32: =C32/C31 -> 1.0827911 | B32: 2017 | C32: =SUM(D32:Q32) -> 6369003.9 | D32: ='FRAFU DEAL'!I166 -> 1630791.1 | E32: ='LBU DEAL'!J410 -> 3905691.4 | F32: 0 | G32: ='ST LEU'!K63 -> 41383.38 | H32: =CAF!L53 -> 288000 | I32: =REGION!H40 -> 0 | J32: 0 | K32: 0 | L32: =+FEDER!N23 -> 0 | M32: 0 | N32: =ADEME!F40 -> 7700 | O32: 0 | P32: =+EDF!L89 -> 495438.09 | Q32: 0 | S32: =+'ST JOSEPH'!K22 -> 146111.1
B33: 2018 | C33: =SUM(D33:Q33) -> 7887775.3 | D33: ='FRAFU DEAL'!I167 -> 1325881.8 | E33: ='LBU DEAL'!J411 -> 3811521.1 | F33: ='LBU REHAB'!J54 -> 244390 | G33: ='ST LEU'!K64 -> 0 | H33: =CAF!L54 -> 124500 | I33: =REGION!H41 -> 941484.5 | J33: =RECTORAT!H7+RECTORAT!H11 -> 941484.5 | K33: 0 | L33: 0 | M33: 0 | N33: =ADEME!F41 -> 16660 | O33: =+'PETITE ILE'!J26 -> 46021.32 | P33: =+EDF!L90 -> 435832.06 | R33: ='ETANG-SALE'!E8+'ETANG-SALE'!E10 -> 1085000 | S33: =+'ST JOSEPH'!K23 -> 109246.59
B34: 2019 | C34: =SUM(D34:Q34) -> 1335940.6 | D34: ='FRAFU DEAL'!I168 -> 136252.48 | E34: ='LBU DEAL'!J412 -> 1060448.2 | F34: ='LBU REHAB'!J55 -> 0 | G34: 0 | H34: 0 | I34: =REGION!H42 -> 0 | K34: 0 | L34: 0 | M34: 0 | N34: =ADEME!F42 -> 1575 | O34: ='PETITE ILE'!J27 -> 0 | P34: =EDF!L91 -> 137664.93
C35: =SUM(C23:C34) -> 59799422 | D35: =SUM(D23:D34) -> 18787313 | E35: =SUM(E23:E34) -> 25983372 | G35: =SUM(G23:G34) -> 4259044 | H35: =SUM(H23:H34) -> 1210000 | I35: =SUM(I23:I34) -> 2725816.1 | J35: =SUM(J23:J34) -> 941484.5 | K35: =SUM(K23:K34) -> 66848.64 | L35: =SUM(L23:L34) -> 1550953.6 | M35: =SUM(M23:M34) -> 450597.57 | N35: =SUM(N23:N34) -> 51535 | ... S35: =SUM(S23:S34) -> 364604.28
D36: =D35-'FRAFU DEAL'!I169 -> 0 | E36: =E35-'LBU DEAL'!J413 -> 1060448.2 | G36: =G35-'ST LEU'!K65 -> 0 | H36: =H35-CAF!L55 -> 0 | I36: =I35-REGION!$H$43 -> 0 | L36: =+L35-FEDER!N24 -> 0 | M36: =+M35-TCO!L26 -> 0 | N36: =+N35-ADEME!F31 -> 0 | O36: =+O35-'PETITE ILE'!J28 -> 0 | P36: =+P35-EDF!L92 -> 0 | Q36: =+Q35-'OFFICE DE L''EAU'!K21 -> 0 | R36: =+R35-'ETANG-SALE'!E12 -> 1085000 | S36: =+S35-'ST JOSEPH'!K25 -> 0

Sheet FRAFU DEAL
A2: ETAT DES CREANCES : FRAFU DEAL | P2: =TODAY() -> 43593
I4: APPELS DE FONDS | O4: RESTE A PERCEVOIR | Q4: Observations
A5: Opération | C5: Signature | D5: Date limite démarrage | E5: Date DCEO | F5: Fin convention | G5: Date DAT | H5: BUDGET | I5: Montant | J5: N° | K5: Date | L5: Payé | M5: Date | N5: Nbre js d'impayés | O5: A payer | P5: Non appelé
A6: FRAFU JULES VIENNE | C6: 40506 | D6: =DATE(YEAR(C6)+2,MONTH(C6),DAY(C6)) -> 41237 | E6: 40945 | F6: =DATE(YEAR(E6)+4,MONTH(E6),DAY(E6)) -> 42406 | G6: 41669 | H6: 555000 | L6: =SUM(L7:L12) -> 555000 | O6: =SUM(O7:O12) -> 0 | P6: =SUM(P7:P12) -> 0 | R6: =H6-(L6+O6+P6) -> 0
A7: FRAFU JULES VIENNE | I7: 242850 | J7: 1 | K7: 40648 | L7: 242850 | M7: 40787 | N7: =IF(M7="",$P$2-K7,M7-K7) -> 139 | O7: =IF(L7="en attente",I7,"") | P7: =IF(K7="",I7-L7,0) -> 0
A8: FRAFU JULES VIENNE | I8: 45966.39 | J8: 2 | K8: 41073 | L8: 45966.39 | M8: 41170 | N8: =IF(M8="",$P$2-K8,M8-K8) -> 97 | O8: =IF(L8="en attente",I8,"") | P8: =IF(K8="",I8-L8,0) -> 0
A9: FRAFU JULES VIENNE | I9: 45329.07 | J9: 3 | K9: 41143 | L9: 45329.07 | M9: 41187 | N9: =IF(M9="",$P$2-K9,M9-K9) -> 44 | O9: =IF(L9="en attente",I9,"") | P9: =IF(K9="",I9-L9,0) -> 0
A10: FRAFU JULES VIENNE | I10: 70348.05 | J10: 4 | K10: 41192 | L10: 70348.05 | M10: 41243 | N10: =IF(M10="",$P$2-K10,M10-K10) -> 51 | O10: =IF(L10="en attente",I10,"") | P10: =IF(K10="",I10-L10,0) -> 0
A11: FRAFU JULES VIENNE | I11: 40785.4 | J11: 5 | K11: 41387 | L11: 40785.4 | M11: 41551 | N11: =IF(M11="",$P$2-K11,M11-K11) -> 164 | O11: =IF(L11="en attente",I11,"") | P11: =IF(K11="",I11-L11,0) -> 0
A12: FRAFU JULES VIENNE | I12: 109721.09 | J12: 6 | K12: 41957 | L12: 109721.09 | M12: 42104 | N12: =IF(M12="",$P$2-K12,M12-K12) -> 147 | O12: =IF(L12="en attente",I12,"") | P12: =IF(K12="",I12-L12,0) -> 0
A13: FRAFU P'TIT CANAL | C13: 40491 | D13: =DATE(YEAR(C13)+2,MONTH(C13),DAY(C13)) -> 41222 | E13: 40939 | F13: =DATE(YEAR(E13)+4,MONTH(E13),DAY(E13)) -> 42400 | G13: 41709 | H13: 400000 | L13: =SUM(L14:L19) -> 400000 | O13: =SUM(O14:O19) -> 0 | P13: =SUM(P14:P19) -> 0 | R13: =H13-(L13+O13+P13) -> 0
A14: FRAFU P'TIT CANAL | H14: =I14/$H$13 -> 0.2373 | I14: 94920 | J14: 1 | K14: 40561 | L14: 94920 | M14: 40877 | N14: =IF(M14="",$P$2-K14,M14-K14) -> 316 | O14: =IF(L14="en attente",I14,"") | P14: =IF(K14="",I14-L14,0) -> 0
A15: FRAFU P'TIT CANAL | H15: =I15/$H$13+H14 -> 0.4149225 | I15: 71049 | J15: 2 | K15: 41143 | L15: 71049 | M15: 41257 | N15: =IF(M15="",$P$2-K15,M15-K15) -> 114 | O15: =IF(L15="en attente",I15,"") | P15: =IF(K15="",I15-L15,0) -> 0
A16: FRAFU P'TIT CANAL | H16: =I16/$H$13+H15 -> 0.54004782 | I16: 50050.13 | J16: 3 | K16: 41191 | L16: 50050.13 | M16: 41987 | N16: =IF(M16="",$P$2-K16,M16-K16) -> 796 | O16: =IF(L16="en attente",I16,"") | P16: =IF(K16="",I16-L16,0) -> 0
A17: FRAFU P'TIT CANAL | H17: =I17/$H$13+H16 -> 0.65286377 | I17: 45126.38 | J17: 4 | K17: 41361 | L17: 45126.38 | M17: 41508 | N17: =IF(M17="",$P$2-K17,M17-K17) -> 147 | O17: =IF(L17="en attente",I17,"") | P17: =IF(K17="",I17-L17,0) -> 0
A18: FRAFU P'TIT CANAL | H18: =I18/$H$13+H17 -> 0.7868041 | I18: 53576.13 | J18: 5 | K18: 41549 | L18: 53576.13 | M18: 41680 | N18: =IF(M18="",$P$2-K18,M18-K18) -> 131 | O18: =IF(L18="en attente",I18,"") | P18: =IF(K18="",I18-L18,0) -> 0
A19: FRAFU P'TIT CANAL | H19: =I19/$H$13+H18 -> 1 | I19: 85278.36 | J19: 6 | K19: 42037 | L19: 85278.36 | M19: 42314 | N19: =IF(M19="",$P$2-K19,M19-K19) -> 277 | O19: =IF(L19="en attente",I19,"") | P19: =IF(K19="",I19-L19,0) -> 0
A20: FRAFU DESIRE | C20: 40506 | D20: =DATE(YEAR(C20)+2,MONTH(C20),DAY(C20)) -> 41237 | E20: 40721 | F20: =DATE(YEAR(E20)+4,MONTH(E20),DAY(E20)) -> 42182 | G20: 41605 | H20: 660000 | L20: =SUM(L21:L27) -> 656094.66 | O20: =SUM(O21:O27) -> 0 | P20: =SUM(P21:P27) -> 0 | R20: =H20-(L20+O20+P20) -> 3905.34
A21: FRAFU DESIRE | H21: =I21/$H$20 -> 0.23835909 | I21: 157317 | J21: 1 | K21: 40648 | L21: 157317 | M21: 40787 | N21: =IF(M21="",$P$2-K21,M21-K21) -> 139 | O21: =IF(L21="en attente",I21,"") | P21: =IF(K21="",I21-L21,0) -> 0 | R21: recalcul FRAFU ?
A22: FRAFU DESIRE | H22: =I22/$H$20+H21 -> 0.40604545 | I22: 110673 | J22: 2 | K22: 40830 | L22: 110673 | M22: 40876 | N22: =IF(M22="",$P$2-K22,M22-K22) -> 46 | O22: =IF(L22="en attente",I22,"") | P22: =IF(K22="",I22-L22,0) -> 0
A23: FRAFU DESIRE | H23: =I23/$H$20+H22 -> 0.4722313 | I23: 43682.66 | J23: 3 | K23: 41143 | L23: 43682.66 | M23: 41187 | N23: =IF(M23="",$P$2-K23,M23-K23) -> 44 | O23: =IF(L23="en attente",I23,"") | P23: =IF(K23="",I23-L23,0) -> 0
A24: FRAFU DESIRE | H24: =I24/$H$20+H23 -> 0.68728847 | I24: 141937.73 | J24: 4 | K24: 41362 | L24: 141937.73 | M24: 41428 | N24: =IF(M24="",$P$2-K24,M24-K24) -> 66 | O24: =IF(L24="en attente",I24,"") | P24: =IF(K24="",I24-L24,0) -> 0
A25: FRAFU DESIRE | H25: =I25/$H$20+H24 -> 0.76837297 | I25: 53515.77 | J25: 5 | K25: 41549 | L25: 53515.77 | M25: 41638 | N25: =IF(M25="",$P$2-K25,M25-K25) -> 89 | O25: =IF(L25="en attente",I25,"") | P25: =IF(K25="",I25-L25,0) -> 0
A26: FRAFU DESIRE | H26: =I26/$H$20+H25 -> 0.8 | I26: 20873.84 | J26: 6 | K26: 41673 | L26: 20873.84 | M26: 41743 | N26: =IF(M26="",$P$2-K26,M26-K26) -> 70 | O26: =IF(L26="en attente",I26,"") | P26: =IF(K26="",I26-L26,0) -> 0
A27: FRAFU DESIRE | H27: =I27/$H$20+H26 -> 1 | I27: 132000 | J27: 7 | K27: 42214 | L27: 128094.66 | M27: 42307 | N27: =IF(M27="",$P$2-K27,M27-K27) -> 93 | O27: =IF(L27="en attente",I27,"") | P27: =IF(K27="",I27-L27,0) -> 0
A28: FRAFU LAVOIR | C28: 40795 | H28: 280000 | L28: =SUM(L29:L32) -> 280000 | O28: =SUM(O29:O32) -> 0 | P28: =SUM(P29:P32) -> 0 | R28: =H28-(L28+O28+P28) -> 0
A29: FRAFU LAVOIR | I29: 129444 | J29: 1 | K29: 41143 | L29: 129444 | M29: 41199 | N29: =IF(M29="",$P$2-K29,M29-K29) -> 56 | O29: =IF(L29="en attente",I29,"") | P29: =IF(K29="",I29-L29,0) -> 0
A30: FRAFU LAVOIR | I30: 41989.59 | J30: 2 | K30: 41423 | L30: 41989.59 | M30: 41551 | N30: =IF(M30="",$P$2-K30,M30-K30) -> 128 | O30: =IF(L30="en attente",I30,"") | P30: =IF(K30="",I30-L30,0) -> 0
A31: FRAFU LAVOIR | I31: 52566.41 | J31: 3 | K31: 41673 | L31: 52566.41 | M31: 41743 | N31: =IF(M31="",$P$2-K31,M31-K31) -> 70 | O31: =IF(L31="en attente",I31,"") | P31: =IF(K31="",I31-L31,0) -> 0
A32: FRAFU LAVOIR | I32: 56000 | J32: 4 | K32: 42034 | L32: 56000 | M32: 42069 | N32: =IF(M32="",$P$2-K32,M32-K32) -> 35 | O32: =IF(L32="en attente",I32,"") | P32: =IF(K32="",I32-L32,0) -> 0 | Q32: Soldé - ok
A33: FRAFU AUBEPINES | B33: N° SHLS-FRAFU-11-0016 | C33: 40864 | D33: =DATE(YEAR(C33)+2,MONTH(C33),DAY(C33)) -> 41595 | E33: 41309 | F33: =DATE(YEAR(E33)+4,MONTH(E33),DAY(E33)) -> 42770 | G33: 42788 | H33: 340000 | L33: =SUM(L34:L37) -> 335175.78 | O33: =SUM(O34:O37) -> 0 | P33: =SUM(P34:P37) -> 0 | R33: =H33-(L33+O33+P33) -> 4824.22
A34: FRAFU AUBEPINES | C34: ok | E34: ok | F34: dde avenant faite | H34: =I34/$H$33 -> 0.4381 | I34: 148954 | J34: 1 | K34: 40892 | L34: 148954 | M34: 40994 | N34: =IF(M34="",$P$2-K34,M34-K34) -> 102 | O34: =IF(L34="en attente",I34,"") | P34: =IF(K34="",I34-L34,0) -> 0
A35: FRAFU AUBEPINES | H35: =I35/$H$33+H34 -> 0.569 | I35: 44506 | J35: 2 | K35: 41549 | L35: 44506 | M35: 41680 | N35: =IF(M35="",$P$2-K35,M35-K35) -> 131 | O35: =IF(L35="en attente",I35,"") | P35: =IF(K35="",I35-L35,0) -> 0
A36: FRAFU AUBEPINES | H36: 0.7603 | I36: 65042 | J36: 3 | K36: 42325 | L36: 65042 | M36: 42422 | O36: =IF(L36="en attente",I36,"") | P36: =IF(K36="",I36-L36,0) -> 0
A37: FRAFU AUBEPINES | H37: 0.9858 | I37: 76673.78 | J37: 4 | K37: 42997 | L37: 76673.78 | M37: 43448 | O37: =IF(L37="en attente",I37,"") | P37: =IF(K37="",I37-L37,0) -> 0 | Q37: Solde à réalisation de fin de trvx à 98,58 %
A38: FRAFU BOUTON D'OR | B38: N° SHLS-FRAFU-11-0024 | C38: 40864 | D38: =DATE(YEAR(C38)+2,MONTH(C38),DAY(C38)) -> 41595 | E38: 41303 | F38: 44175 | G38: 42954 | H38: 1300000 | L38: =SUM(L39:L44) -> 1286871.6 | O38: =SUM(O39:O44) -> 0 | P38: =SUM(P39:P44) -> 0 | R38: =H38-(L38+O38+P38) -> 13128.41
A39: FRAFU BOUTON D'OR | C39: ok | E39: ok | F39: suite à prorogation | H39: =I39/$H$38 -> 0.4863 | I39: 632190 | J39: 1 | K39: 40962 | L39: 632190 | M39: 41067 | N39: =IF(M39="",$P$2-K39,M39-K39) -> 105 | O39: =IF(L39="en attente",I39,"") | P39: =IF(K39="",I39-L39,0) -> 0
A40: FRAFU BOUTON D'OR | H40: =I40/$H$38+H39 -> 0.56350457 | I40: 100365.94 | J40: 2 | K40: 41549 | L40: 100365.94 | M40: 41653 | N40: =IF(M40="",$P$2-K40,M40-K40) -> 104 | O40: =IF(L40="en attente",I40,"") | P40: =IF(K40="",I40-L40,0) -> 0
A41: FRAFU BOUTON D'OR | H41: =I41/$H$38+H40 -> 0.68899496 | I41: 163137.51 | J41: 3 | K41: 41673 | L41: 163137.51 | M41: 41731 | N41: =IF(M41="",$P$2-K41,M41-K41) -> 58 | O41: =IF(L41="en attente",I41,"") | P41: =IF(K41="",I41-L41,0) -> 0
A42: FRAFU BOUTON D'OR | H42: =I42/$H$38+H41 -> 0.7155204 | I42: 34483.07 | J42: 4 | K42: 41941 | L42: 34483.07 | M42: 42030 | N42: =IF(M42="",$P$2-K42,M42-K42) -> 89 | O42: =IF(L42="en attente",I42,"") | P42: =IF(K42="",I42-L42,0) -> 0
...

Sheet LBU REHAB
A2: ETAT DES CREANCES : LBU REHABILITATION DEAL | Q2: =TODAY() -> 43593
A4: Opération | B4: Libellé | C4: Signature | D4: Date limite DROC (12 mois) | E4: Date de la DROC | F4: Date OS | G4: Date limite DAT (2 ans à la signature de la convention) | H4: Date DAT | I4: BUDGET | J4: APPELS DE FONDS | P4: RESTE A PERCEVOIR | R4: Observations
J5: Montant | K5: N° | L5: Date | M5: Payé | N5: Date | O5: Nbre js d'impayés | P5: A payer | Q5: Non appelé
A6: 100 MARCHES (10 LLS) | B6: SHLS N° 17-0445 | C6: 43005 | D6: =DATE(YEAR(C6),MONTH(C6)+12,DAY(C6)) -> 43370 | E6: 43328 | G6: =DATE(YEAR(C6)+2,MONTH(C6),DAY(C6)) -> 43735 | I6: 18200 | M6: =SUM(M7:M9) -> 3640 | P6: =SUM(P7:P9) -> 0 | Q6: =SUM(Q7:Q9) -> 14560 | S6: =I6-(M6+P6+Q6) -> 0
I7: 0.2 | J7: =+I6*I7 -> 3640 | K7: 1 | L7: 43333 | M7: 3640 | N7: 43385 | P7: =IF(M7="en attente",J7,"") | Q7: =IF(L7="",J7-M7,0) -> 0
I8: 0.8 | J8: =+I6*I8-J7 -> 10920 | K8: 2 | P8: =IF(M8="en attente",J8,"") | Q8: =IF(L8="",J8-M8,0) -> 10920
I9: 1 | J9: =+I6-J7-J8 -> 3640 | K9: 3 | P9: =IF(M9="en attente",J9,"") | Q9: =IF(L9="",J9-M9,0) -> 3640
A10: BOUGAINVILLEES ( 26 LLS) | B10: SHLS N° 17-0446 | C10: 43005 | D10: =DATE(YEAR(C10),MONTH(C10)+12,DAY(C10)) -> 43370 | E10: 43328 | G10: =DATE(YEAR(C10)+2,MONTH(C10),DAY(C10)) -> 43735 | I10: 47320 | M10: =SUM(M11:M13) -> 9464 | P10: =SUM(P11:P13) -> 0 | Q10: =SUM(Q11:Q13) -> 37856 | S10: =I10-(M10+P10+Q10) -> 0
I11: 0.2 | J11: =+I10*20% -> 9464 | K11: 1 | L11: 43333 | M11: 9464 | N11: 43385 | P11: =IF(M11="en attente",J11,"")
I12: 0.8 | J12: =+I10*I12-J11 -> 28392 | K12: 2 | P12: =IF(M12="en attente",J12,"") | Q12: =IF(L12="",J12-M12,0) -> 28392
I13: 1 | J13: =+I10-J11-J12 -> 9464 | K13: 3 | P13: =IF(M13="en attente",J13,"") | Q13: =IF(L13="",J13-M13,0) -> 9464
A14: CARAMBOLES (6 LLS) | B14: SHLS N° 17-0447 | C14: 43005 | D14: =DATE(YEAR(C14),MONTH(C14)+12,DAY(C14)) -> 43370 | E14: 43368 | G14: =DATE(YEAR(C14)+2,MONTH(C14),DAY(C14)) -> 43735 | I14: 10920 | M14: =SUM(M15:M17) -> 2184 | P14: =SUM(P15:P17) -> 0 | Q14: =SUM(Q15:Q17) -> 8736 | S14: =I14-(M14+P14+Q14) -> 0
I15: 0.2 | J15: =+I14*I15 -> 2184 | K15: 1 | L15: 43370 | M15: 2184 | N15: 43420 | P15: =IF(M15="en attente",J15,"")
I16: 0.8 | J16: =+I14*I16-J15 -> 6552 | K16: 2 | P16: =IF(M16="en attente",J16,"") | Q16: =IF(L16="",J16-M16,0) -> 6552
I17: 1 | J17: =+I14-J15-J16 -> 2184 | K17: 3 | P17: =IF(M17="en attente",J17,"") | Q17: =IF(L17="",J17-M17,0) -> 2184
A18: CITRONNELLES (45 LLS) | B18: SHLS N° 17-0448 | C18: 43032 | D18: =DATE(YEAR(C18),MONTH(C18)+12,DAY(C18)) -> 43397 | E18: 43362 | G18: =DATE(YEAR(C18)+2,MONTH(C18),DAY(C18)) -> 43762 | I18: 281250 | M18: =SUM(M19:M21) -> 56250 | P18: =SUM(P19:P21) -> 0 | Q18: =SUM(Q19:Q21) -> 225000 | S18: =I18-(M18+P18+Q18) -> 0
I19: 0.2 | J19: =+I18*I19 -> 56250 | K19: 1 | L19: 43370 | M19: 56250 | N19: 43420 | P19: =IF(M19="en attente",J19,"")
I20: 0.8 | J20: =+I18*I20-J19 -> 168750 | K20: 2 | P20: =IF(M20="en attente",J20,"") | Q20: =IF(L20="",J20-M20,0) -> 168750
I21: 1 | J21: =+I18-J19-J20 -> 56250 | K21: 3 | P21: =IF(M21="en attente",J21,"") | Q21: =IF(L21="",J21-M21,0) -> 56250
A22: HUBERT DELISLE (74 LLS) | B22: SHLS N°17-0382 | C22: 43039 | D22: =DATE(YEAR(C22),MONTH(C22)+12,DAY(C22)) -> 43404 | E22: 43355 | G22: =DATE(YEAR(C22)+2,MONTH(C22),DAY(C22)) -> 43769 | I22: 462500 | M22: =SUM(M23:M25) -> 92500 | P22: =SUM(P23:P25) -> 0 | Q22: =SUM(Q23:Q25) -> 370000 | S22: =I22-(M22+P22+Q22) -> 0
I23: 0.2 | J23: =+I22*I23 -> 92500 | K23: 1 | L23: 43370 | M23: 92500 | N23: 43420 | P23: =IF(M23="en attente",J23,"")
I24: 0.8 | J24: =+I22*I24-J23 -> 277500 | K24: 2 | P24: =IF(M24="en attente",J24,"") | Q24: =IF(L24="",J24-M24,0) -> 277500
I25: 1 | J25: =+I22-J23-J24 -> 92500 | K25: 3 | P25: =IF(M25="en attente",J25,"") | Q25: =IF(L25="",J25-M25,0) -> 92500
A26: BRAS DES ETANGS (31 LLS) | B26: SHLS N° 17-0415 | C26: 43039 | D26: =DATE(YEAR(C26),MONTH(C26)+12,DAY(C26)) -> 43404 | E26: 43388 | G26: =DATE(YEAR(C26)+2,MONTH(C26),DAY(C26)) -> 43769 | I26: 401760 | M26: =SUM(M27:M29) -> 80352 | P26: =SUM(P27:P29) -> 0 | Q26: =SUM(Q27:Q29) -> 321408 | S26: =I26-(M26+P26+Q26) -> 0
I27: 0.2 | J27: =I26*I27 -> 80352 | K27: 1 | L27: 43391 | M27: 80352 | N27: 43448 | P27: =IF(M27="en attente",J27,"") | Q27: =IF(L27="",J27-M27,0) -> 0
I28: 0.8 | J28: =I26*I28-J27 -> 241056 | K28: 2 | P28: =IF(M28="en attente",J28,"") | Q28: =IF(L28="",J28-M28,0) -> 241056
I29: 1 | J29: =I26-J27-J28 -> 80352 | K29: 3 | P29: =IF(M29="en attente",J29,"") | Q29: =IF(L29="",J29-M29,0) -> 80352
A30: BELLEVUE (128 LLS) | B30: SHLS N° 18-0127 | C30: 43334 | D30: =DATE(YEAR(C30),MONTH(C30)+12,DAY(C30)) -> 43699 | G30: =DATE(YEAR(C30)+2,MONTH(C30),DAY(C30)) -> 44065 | I30: =524564.45+131141.11 -> 655705.56 | M30: =SUM(M31) -> 0 | P30: =SUM(P31:P33) -> 0 | Q30: =SUM(Q31:Q33) -> 655705.56 | S30: =I30-(M30+P30+Q30) -> 0
D31: ATTENTION | I31: 0.2 | J31: =I30*I31 -> 131141.11 | K31: 1 | P31: =IF(M31="en attente",J31,"") | Q31: =IF(L31="",J31-M31,0) -> 131141.11
I32: 0.8 | J32: =I30*I32-J31 -> 393423.34 | K32: 2 | P32: =IF(M32="en attente",J32,"") | Q32: =IF(L32="",J32-M32,0) -> 393423.34
I33: 1 | J33: =I30-J31-J32 -> 131141.11 | K33: 3 | P33: =IF(M33="en attente",J33,"") | Q33: =IF(L33="",J33-M33,0) -> 131141.11
A34: POINSETIAS (31 LLS) | B34: SHLS N° 18-0122 | C34: 43335 | D34: =DATE(YEAR(C34),MONTH(C34)+12,DAY(C34)) -> 43700 | G34: =DATE(YEAR(C34)+2,MONTH(C34),DAY(C34)) -> 44066 | I34: 136000 | M34: =SUM(M35:M37) -> 0 | P34: =SUM(P35:P37) -> 0 | Q34: =SUM(Q35:Q37) -> 136000 | S34: =I34-(M34+P34+Q34) -> 0
D35: ATTENTION | I35: 0.2 | J35: =I34*I35 -> 27200 | K35: 1 | P35: =IF(M35="en attente",J35,"") | Q35: =IF(L35="",J35-M35,0) -> 27200
I36: 0.8 | J36: =I34*I36-J35 -> 81600 | K36: 2 | P36: =IF(M36="en attente",J36,"") | Q36: =IF(L36="",J36-M36,0) -> 81600
I37: 1 | J37: =I34-J35-J36 -> 27200 | K37: 3 | P37: =IF(M37="en attente",J37,"") | Q37: =IF(L37="",J37-M37,0) -> 27200
A38: LA CURE 1 | B38: SHLS N° 18-0123 | C38: 43335 | D38: =DATE(YEAR(C38),MONTH(C38)+12,DAY(C38)) -> 43700 | G38: =DATE(YEAR(C38)+2,MONTH(C38),DAY(C38)) -> 44066 | I38: 150000 | M38: =SUM(M39:M41) -> 0 | P38: =SUM(P39:P41) -> 0 | Q38: =SUM(Q39:Q41) -> 150000 | S38: =I38-(M38+P38+Q38) -> 0
D39: ATTENTION | I39: 0.2 | J39: =I38*I39 -> 30000 | K39: 1 | P39: =IF(M39="en attente",J39,"") | Q39: =IF(L39="",J39-M39,0) -> 30000
I40: 0.8 | J40: =I38*I40-J39 -> 90000 | K40: 2 | P40: =IF(M40="en attente",J40,"") | Q40: =IF(L40="",J40-M40,0) -> 90000
I41: 1 | J41: =I38-J39-J40 -> 30000 | K41: 3 | P41: =IF(M41="en attente",J41,"") | Q41: =IF(L41="",J41-M41,0) -> 30000
A42: CANAL LILIS (23 LLS) | B42: SHLS N° 18-0125 | C42: 43335 | D42: =DATE(YEAR(C42),MONTH(C42)+12,DAY(C42)) -> 43700 | G42: =DATE(YEAR(C42)+2,MONTH(C42),DAY(C42)) -> 44066 | I42: 115000 | M42: =SUM(M43:M45) -> 0 | P42: =SUM(P43:P45) -> 0 | Q42: =SUM(Q43:Q45) -> 115000 | S42: =I42-(M42+P42+Q42) -> 0
...

Sheet LBU DEAL
J1: =J538 -> 25983372
A2: ETAT DES CREANCES : LBU DEAL | Q2: =TODAY() -> 43593
A4: Opération | B4: Libellé | C4: Signature | D4: Date limite DROC (18 mois) | E4: Date de la DROC | F4: Date OS | G4: Date limite DAT (4 ans) | H4: Date DAT | I4: BUDGET | J4: APPELS DE FONDS | P4: RESTE A PERCEVOIR | R4: Observations
J5: Montant | K5: N° | L5: Date | M5: Payé | N5: Date | O5: Nbre js d'impayés | P5: A payer | Q5: Non appelé
A6: COMBAVAS | C6: 40389 | D6: =DATE(YEAR(C6),MONTH(C6)+18,DAY(C6)) -> 40938 | F6: 40499 | G6: =DATE(YEAR(C6)+4,MONTH(C6),DAY(C6)) -> 41850 | H6: 40910 | I6: 832014 | M6: =SUM(M7:M12) -> 832014 | P6: =SUM(P7:P12) -> 0 | Q6: =SUM(Q7:Q12) -> 0 | S6: =I6-(M6+P6+Q6) -> 0
A7: COMBAVAS | I7: =J7/$I$6 -> 0.3 | J7: 249604.2 | K7: 1 | L7: 40519 | M7: 249604.2 | N7: 40632 | O7: =IF(N7="",$Q$2-L7,N7-L7) -> 113 | P7: =IF(M7="en attente",J7,"") | Q7: =IF(L7="",J7-M7,0) -> 0
A8: COMBAVAS | I8: =J8/$I$6+I7 -> 0.4123 | J8: 93435.17 | K8: 2 | L8: 40711 | M8: 93435.17 | N8: 40779 | O8: =IF(N8="",$Q$2-L8,N8-L8) -> 68 | P8: =IF(M8="en attente",J8,"") | Q8: =IF(L8="",J8-M8,0) -> 0
A9: COMBAVAS | I9: =J9/$I$6+I8 -> 0.6045 | J9: 159913.09 | K9: 3 | L9: 40799 | M9: 159913.09 | N9: 40969 | O9: =IF(N9="",$Q$2-L9,N9-L9) -> 170 | P9: =IF(M9="en attente",J9,"") | Q9: =IF(L9="",J9-M9,0) -> 0
A10: COMBAVAS | I10: =J10/$I$6+I9 -> 0.66970001 | J10: 54247.32 | K10: 4 | L10: 40826 | M10: 54247.32 | N10: 40969 | O10: =IF(N10="",$Q$2-L10,N10-L10) -> 143 | P10: =IF(M10="en attente",J10,"") | Q10: =IF(L10="",J10-M10,0) -> 0
A11: COMBAVAS | I11: =J11/$I$6+I10 -> 0.8 | J11: 108411.42 | K11: 5 | L11: 40947 | M11: 108411.42 | N11: 40994 | O11: =IF(N11="",$Q$2-L11,N11-L11) -> 47 | P11: =IF(M11="en attente",J11,"") | Q11: =IF(L11="",J11-M11,0) -> 0
A12: COMBAVAS | I12: =J12/$I$6+I11 -> 1 | J12: 166402.8 | K12: 5 | L12: 42179 | M12: 166402.8 | N12: 42254 | O12: =IF(N12="",$Q$2-L12,N12-L12) -> 75 | P12: =IF(M12="en attente",J12,"") | Q12: =IF(L12="",J12-M12,0) -> 0
A13: RESERVOIRS DE STELLA | C13: 40361 | I13: 1425198 | M13: =SUM(M14:M22) -> 1425198 | P13: =+IF(L13="",0,J13-M13) -> 0 | Q13: =SUM(Q14:Q22) -> 0
A14: RESERVOIRS DE STELLA | J14: 427559.4 | K14: 1 | L14: 40484 | M14: 427559.4 | N14: 40613 | O14: =IF(N14="",$Q$2-L14,N14-L14) -> 129 | P14: =+IF(L14="",0,J14-M14) -> 0 | Q14: =IF(L14="",J14-M14,0) -> 0
A15: RESERVOIRS DE STELLA | J15: 94205.59 | K15: 2 | L15: 40763 | M15: 94205.59 | N15: 40828 | O15: =IF(N15="",$Q$2-L15,N15-L15) -> 65 | P15: =+IF(L15="",0,J15-M15) -> 0 | Q15: =IF(L15="",J15-M15,0) -> 0
A16: RESERVOIRS DE STELLA | J16: 65131.54 | K16: 3 | L16: 40800 | M16: 65131.54 | N16: 40868 | O16: =IF(N16="",$Q$2-L16,N16-L16) -> 68 | P16: =+IF(L16="",0,J16-M16) -> 0 | Q16: =IF(L16="",J16-M16,0) -> 0
A17: RESERVOIRS DE STELLA | J17: 151213.51 | K17: 4 | L17: 40826 | M17: 151213.51 | N17: 40871 | O17: =IF(N17="",$Q$2-L17,N17-L17) -> 45 | P17: =+IF(L17="",0,J17-M17) -> 0 | Q17: =IF(L17="",J17-M17,0) -> 0
A18: RESERVOIRS DE STELLA | J18: 97483.55 | K18: 5 | L18: 40883 | M18: 97483.55 | N18: 40995 | O18: =IF(N18="",$Q$2-L18,N18-L18) -> 112 | P18: =+IF(L18="",0,J18-M18) -> 0 | Q18: =IF(L18="",J18-M18,0) -> 0
A19: RESERVOIRS DE STELLA | J19: 99193.78 | K19: 6 | L19: 40945 | M19: 99193.78 | N19: 41023 | O19: =IF(N19="",$Q$2-L19,N19-L19) -> 78 | P19: =+IF(L19="",0,J19-M19) -> 0 | Q19: =IF(L19="",J19-M19,0) -> 0
A20: RESERVOIRS DE STELLA | J20: 129693.02 | K20: 7 | L20: 41038 | M20: 129693.02 | N20: 41093 | O20: =IF(N20="",$Q$2-L20,N20-L20) -> 55 | P20: =+IF(L20="",0,J20-M20) -> 0 | Q20: =IF(L20="",J20-M20,0) -> 0
A21: RESERVOIRS DE STELLA | J21: 75678.01 | K21: 8 | L21: 41129 | M21: 75678.01 | N21: 41185 | O21: =IF(N21="",$Q$2-L21,N21-L21) -> 56 | P21: =+IF(L21="",0,J21-M21) -> 0 | Q21: =IF(L21="",J21-M21,0) -> 0
A22: RESERVOIRS DE STELLA | J22: 285039.6 | K22: 9 | L22: 41969 | M22: 285039.6 | N22: 42153 | O22: =IF(N22="",$Q$2-L22,N22-L22) -> 184 | P22: =+IF(L22="",0,J22-M22) -> 0 | Q22: =IF(L22="",J22-M22,0) -> 0
A23: CAMPHRIER | C23: 39818 | D23: =DATE(YEAR(C23),MONTH(C23)+18,DAY(C23)) -> 40364 | F23: 39986 | G23: =DATE(YEAR(C23)+4,MONTH(C23),DAY(C23)) -> 41279 | H23: 40749 | I23: 2766905 | M23: =SUM(M24:M33) -> 2766905 | P23: =SUM(P24:P33) -> 0 | Q23: =SUM(Q24:Q33) -> 0 | S23: =I23-(M23+P23+Q23) -> 0
A24: CAMPHRIER | I24: =J24/$I$23 -> 0.3 | J24: 830071.5 | K24: 1 | L24: 40483 | M24: 830071.5 | N24: 40038 | P24: =IF(M24="en attente",J24,"") | Q24: =IF(L24="",J24-M24,0) -> 0
A25: CAMPHRIER | I25: =J25/$I$23+I24 -> 0.3268 | J25: 74153.05 | K25: 2 | L25: 40483 | M25: 74153.05 | N25: 40315 | P25: =IF(M25="en attente",J25,"") | Q25: =IF(L25="",J25-M25,0) -> 0
A26: CAMPHRIER | I26: =J26/$I$23+I25 -> 0.359 | J26: 89094.34 | K26: 3 | L26: 40483 | M26: 89094.34 | N26: 40347 | P26: =IF(M26="en attente",J26,"") | Q26: =IF(L26="",J26-M26,0) -> 0
A27: CAMPHRIER | I27: =J27/$I$23+I26 -> 0.4132 | J27: 149966.26 | K27: 4 | L27: 40483 | M27: 149966.26 | N27: 40366 | P27: =IF(M27="en attente",J27,"") | Q27: =IF(L27="",J27-M27,0) -> 0
A28: CAMPHRIER | I28: =J28/$I$23+I27 -> 0.4773 | J28: 177358.61 | K28: 5 | L28: 40483 | M28: 177358.61 | N28: 40396 | P28: =IF(M28="en attente",J28,"") | Q28: =IF(L28="",J28-M28,0) -> 0
A29: CAMPHRIER | I29: =J29/$I$23+I28 -> 0.6112 | J29: 370488.58 | K29: 6 | L29: 40483 | M29: 370488.58 | N29: 40497 | P29: =IF(M29="en attente",J29,"") | Q29: =IF(L29="",J29-M29,0) -> 0
A30: CAMPHRIER | I30: =J30/$I$23+I29 -> 0.6871 | J30: 210008.09 | K30: 7 | L30: 40483 | M30: 210008.09 | N30: 40528 | P30: =IF(M30="en attente",J30,"") | Q30: =IF(L30="",J30-M30,0) -> 0
A31: CAMPHRIER | I31: =J31/$I$23+I30 -> 0.7814 | J31: 260919.14 | K31: 8 | L31: 40591 | M31: 260919.14 | N31: 40687 | O31: =IF(N31="",$Q$2-L31,N31-L31) -> 96 | P31: =IF(M31="en attente",J31,"") | Q31: =IF(L31="",J31-M31,0) -> 0
A32: CAMPHRIER | I32: =J32/$I$23+I31 -> 0.8 | J32: 51464.43 | K32: 9 | L32: 40641 | M32: 51464.43 | N32: 40716 | O32: =IF(N32="",$Q$2-L32,N32-L32) -> 75 | P32: =IF(M32="en attente",J32,"") | Q32: =IF(L32="",J32-M32,0) -> 0
A33: CAMPHRIER | I33: =J33/$I$23+I32 -> 1 | J33: 553381 | K33: 10 | L33: 42149 | M33: 553381 | N33: 42222 | O33: =IF(N33="",$Q$2-L33,N33-L33) -> 73 | P33: =IF(M33="en attente",J33,"") | Q33: =IF(L33="",J33-M33,0) -> 0
A34: JULES VIENNE | C34: 40491 | D34: =DATE(YEAR(C34),MONTH(C34)+18,DAY(C34)) -> 41038 | F34: 40945 | G34: =DATE(YEAR(C34)+4,MONTH(C34),DAY(C34)) -> 41952 | H34: 41670 | I34: 1269605 | M34: =SUM(M35:M43) -> 1269605 | P34: =SUM(P35:P43) -> 0 | Q34: =SUM(Q35:Q43) -> 0 | S34: =I34-(M34+P34+Q34) -> 0
A35: JULES VIENNE | I35: =J35/$I$34 -> 0.3 | J35: 380881.5 | K35: 1 | L35: 40966 | M35: 380881.5 | N35: 41092 | O35: =IF(N35="",$Q$2-L35,N35-L35) -> 126 | P35: =IF(M35="en attente",J35,"") | Q35: =IF(L35="",J35-M35,0) -> 0
A36: JULES VIENNE | I36: =J36/$I$34+I35 -> 0.3344 | J36: 43674.41 | K36: 2 | L36: 41211 | M36: 43674.41 | N36: 41243 | O36: =IF(N36="",$Q$2-L36,N36-L36) -> 32 | P36: =IF(M36="en attente",J36,"") | Q36: =IF(L36="",J36-M36,0) -> 0
A37: JULES VIENNE | I37: =J37/$I$34+I36 -> 0.4037 | J37: 87983.63 | K37: 3 | L37: 41240 | M37: 87983.63 | N37: 41391 | O37: =IF(N37="",$Q$2-L37,N37-L37) -> 151 | P37: =IF(M37="en attente",J37,"") | Q37: =IF(L37="",J37-M37,0) -> 0
A38: JULES VIENNE | I38: =J38/$I$34+I37 -> 0.479 | J38: 95601.26 | K38: 4 | L38: 41313 | M38: 95601.26 | N38: 41416 | O38: =IF(N38="",$Q$2-L38,N38-L38) -> 103 | P38: =IF(M38="en attente",J38,"") | Q38: =IF(L38="",J38-M38,0) -> 0
A39: JULES VIENNE | I39: =J39/$I$34+I38 -> 0.5478 | J39: 87348.82 | K39: 5 | L39: 41360 | M39: 87348.82 | N39: 41430 | O39: =IF(N39="",$Q$2-L39,N39-L39) -> 70 | P39: =IF(M39="en attente",J39,"") | Q39: =IF(L39="",J39-M39,0) -> 0
A40: JULES VIENNE | I40: =J40/$I$34+I39 -> 0.6186 | J40: 89888.03 | K40: 6 | L40: 41422 | M40: 89888.03 | N40: 41473 | O40: =IF(N40="",$Q$2-L40,N40-L40) -> 51 | P40: =IF(M40="en attente",J40,"") | Q40: =IF(L40="",J40-M40,0) -> 0
A41: JULES VIENNE | I41: =J41/$I$34+I40 -> 0.7272 | J41: 137879.11 | K41: 7 | L41: 41466 | M41: 137879.11 | N41: 41533 | O41: =IF(N41="",$Q$2-L41,N41-L41) -> 67 | P41: =IF(M41="en attente",J41,"") | Q41: =IF(L41="",J41-M41,0) -> 0
...

Sheet ST LEU
O1: Base | P1: Tx d'intérêts
A2: ETAT DES CREANCES : MAIRIE DE SAINT LEU | L2: 42155 | P2: 0.0294
A4: Opération | B4: Libellé | C4: Signature | D4: BUDGET | E4: APPELS DE FONDS | K4: RESTE A PERCEVOIR | M4: Observations | P4: 41967 | Q4: 42185
E5: Montant | F5: N° | G5: Date | H5: Payé | I5: Date | J5: Nbre js d'impayés | K5: A payer | L5: Non appelé
A6: PTIT CANAL | B6: FRAFU SECONDAIRE | C6: 40870 | D6: =341529.23+0.02 -> 341529.25 | H6: =SUM(H7:H11) -> 273223.4 | K6: =SUM(K7:K11) -> 68305.85 | L6: =SUM(L7:L11) -> 0 | N6: =D6-(H6+K6+L6) -> 0
A7: PTIT CANAL | E7: 68305.85 | F7: 1 | G7: 40968 | H7: 68305.85 | I7: 42051 | J7: =$L$2-G7 -> 1187 | K7: =E7-H7 -> 0 | L7: =IF(G7="",E7,"") | O7: =K7 -> 0 | P7: =O7*$P$2*J7/365 -> 0
A8: PTIT CANAL | E8: 68305.85 | F8: 2 | G8: 41040 | H8: 68305.85 | I8: 42051 | J8: =$L$2-G8 -> 1115 | K8: =E8-H8 -> 0 | L8: =IF(G8="",E8,"") | O8: =K8 -> 0 | P8: =O8*$P$2*J8/365 -> 0
A9: PTIT CANAL | E9: 68305.85 | F9: 3 | G9: 41134 | H9: 68305.85 | I9: 42051 | J9: =$L$2-G9 -> 1021 | K9: =E9-H9 -> 0 | L9: =IF(G9="",E9,"") | O9: =K9 -> 0 | P9: =O9*$P$2*J9/365 -> 0
A10: PTIT CANAL | E10: 68305.85 | F10: 4 | G10: 41192 | H10: 68305.85 | I10: 42051 | J10: =$L$2-G10 -> 963 | K10: =E10-H10 -> 0 | L10: =IF(G10="",E10,"") | O10: =K10 -> 0 | P10: =O10*$P$2*J10/365 -> 0
A11: PTIT CANAL | E11: 68305.85 | F11: 5 | G11: 42037 | H11: en attente | J11: =$L$2-G11 -> 118 | K11: =E11 -> 68305.85 | L11: =IF(G11="",E11,"") | O11: =K11 -> 68305.85 | P11: =O11*$P$2*J11/365 -> 649.22371
A12: LAVOIR | B12: FRAFU SECONDAIRE | C12: 40984 | D12: =119894.04+0.01 -> 119894.05 | H12: =SUM(H13:H17) -> 95915.24 | K12: =SUM(K13:K17) -> 23978.81 | L12: =SUM(L13:L17) -> 0 | N12: =D12-(H12+K12+L12) -> 0 | O12: =K12 -> 23978.81
A13: LAVOIR | E13: 23978.81 | F13: 1 | G13: 40989 | H13: 23978.81 | I13: 41059 | J13: =I13-G13 -> 70 | K13: =E13-H13 -> 0 | L13: =IF(G13="",E13,"") | O13: =E13 -> 23978.81 | P13: =O13*$P$2*J13/365 -> 135.20107
A14: LAVOIR | E14: 23978.81 | F14: 2 | G14: 41040 | H14: 23978.81 | I14: 41652 | J14: =I14-G14 -> 612 | K14: =E14-H14 -> 0 | L14: =IF(G14="",E14,"") | O14: =E14 -> 23978.81 | P14: =O14*$P$2*J14/365 -> 1182.0437
A15: LAVOIR | E15: 23978.81 | F15: 3 | G15: 41134 | H15: 23978.81 | I15: 41652 | J15: =I15-G15 -> 518 | K15: =E15-H15 -> 0 | L15: =IF(G15="",E15,"") | O15: =E15 -> 23978.81 | P15: =O15*$P$2*J15/365 -> 1000.4879
A16: LAVOIR | E16: 23978.81 | F16: 4 | G16: 41192 | H16: 23978.81 | I16: 41652 | J16: =I16-G16 -> 460 | K16: =E16-H16 -> 0 | L16: =IF(G16="",E16,"") | O16: =E16 -> 23978.81 | P16: =O16*$P$2*J16/365 -> 888.46418
A17: LAVOIR | E17: 23978.81 | F17: 5 | G17: 42037 | H17: en attente | K17: =E17 -> 23978.81 | L17: =IF(G17="",E17,"")
A18: LAURENCY | B18: FRAFU SOCIAL | C18: 41145 | D18: =150077.39 -> 150077.39 | H18: =SUM(H19:H23) -> 120061.92 | K18: =SUM(K19:K23) -> 30015.47 | L18: =SUM(L19:L23) -> 0 | N18: =D18-(H18+K18+L18) -> 0
A19: LAURENCY | E19: 30015.48 | F19: 1 | G19: 41317 | H19: 30015.48 | I19: 42073 | J19: =I19-G19 -> 756 | K19: =E19-H19 -> 0 | L19: =IF(G19="",E19,"") | O19: =K19 -> 0 | P19: =O19*$P$2*J19/365 -> 0
A20: LAURENCY | E20: 30015.48 | F20: 2 | G20: 41387 | H20: 30015.48 | I20: 42073 | J20: =I20-G20 -> 686 | K20: =E20-H20 -> 0 | L20: =IF(G20="",E20,"") | O20: =K20 -> 0 | P20: =O20*$P$2*J20/365 -> 0
A21: LAURENCY | E21: 30015.48 | F21: 3 | G21: 41423 | H21: 30015.48 | I21: 42073 | J21: =I21-G21 -> 650 | K21: =E21-H21 -> 0 | L21: =IF(G21="",E21,"") | O21: =K21 -> 0 | P21: =O21*$P$2*J21/365 -> 0
A22: LAURENCY | E22: 30015.48 | F22: 4 | G22: 41466 | H22: 30015.48 | I22: 42073 | J22: =I22-G22 -> 607 | K22: =E22-H22 -> 0 | L22: =IF(G22="",E22,"") | O22: =K22 -> 0 | P22: =O22*$P$2*J22/365 -> 0
A23: LAURENCY | E23: 30015.47 | F23: 5 | G23: 42811 | H23: en attente | J23: =I23-G23 -> -42811 | K23: =E23 -> 30015.47 | L23: =IF(G23="",E23,"") | O23: =K23 -> 30015.47 | P23: =O23*$P$2*J23/365 -> -103503.49
A24: PRZA LAURENCY | B24: PARTICIPATION CH 624 & 93 | C24: 41145 | D24: 114200 | H24: =SUM(H25) -> 114200 | K24: =SUM(K25) -> 0 | L24: =SUM(L25) -> 0 | N24: =D24-(H24+K24+L24) -> 0 | O24: =K25 -> 0 | P24: =O24*$P$2*J25/365 -> 0
A25: PRZA LAURENCY | E25: 114200 | F25: 1 | G25: 41554 | H25: 114200 | I25: 42234 | J25: =$L$2-G25 -> 601 | K25: =E25-H24 -> 0 | L25: =IF(G25="",E25,"")
A26: LE CAP | B26: FRAFU SECONDAIRE | C26: 41047 | D26: =184958.11+0.04 -> 184958.15 | H26: =SUM(H27:H31) -> 147966.52 | K26: =SUM(K27:K31) -> 36991.63 | L26: =SUM(L27:L31) -> 0 | N26: =D26-(H26+K26+L26) -> 0
A27: LE CAP | E27: 36991.63 | F27: 1 | G27: 41715 | H27: 36991.63 | I27: 43384 | J27: =$L$2-G27 -> 440 | K27: =E27-H27 -> 0 | L27: =IF(G27="",E27,"") | O27: =K27 -> 0 | P27: =O27*$P$2*J27/365 -> 0
A28: LE CAP | E28: 36991.63 | F28: 2 | G28: 41715 | H28: 36991.63 | I28: 43384 | J28: =$L$2-G28 -> 440 | K28: =E28-H28 -> 0 | L28: =IF(G28="",E28,"") | O28: =K28 -> 0 | P28: =O28*$P$2*J28/365 -> 0
A29: LE CAP | E29: 36991.63 | F29: 3 | G29: 41715 | H29: 36991.63 | I29: 43384 | J29: =$L$2-G29 -> 440 | K29: =E29-H29 -> 0 | L29: =IF(G29="",E29,"") | O29: =K29 -> 0 | P29: =O29*$P$2*J29/365 -> 0
A30: LE CAP | E30: 36991.63 | F30: 4 | G30: 41715 | H30: 36991.63 | I30: 43384 | J30: =$L$2-G30 -> 440 | K30: =E30-H30 -> 0 | L30: =IF(G30="",E30,"") | O30: =K30 -> 0 | P30: =O30*$P$2*J30/365 -> 0
A31: LE CAP | E31: 36991.63 | F31: 5 | G31: 43000 | H31: en attente | J31: =$L$2-G31 -> -845 | K31: =+E31 -> 36991.63 | L31: =IF(G31="",E31,"") | O31: =K31 -> 36991.63 | P31: =O31*$P$2*J31/365 -> -2517.7618
A32: CHALOUPE | B32: FRAFU SOCIAL | C32: 41150 | D32: =206916.91 -> 206916.91 | H32: =SUM(H33:H37) -> 165533.56 | K32: =SUM(K33:K37) -> 41383.38 | L32: =SUM(L33:L37) -> 0 | N32: =D32-(H32+K32+L32) -> -0.03
A33: CHALOUPE | E33: 41383.39 | F33: 1 | G33: 41561 | H33: 41383.39 | I33: 43356 | J33: =$L$2-G33 -> 594 | K33: 0 | L33: =IF(G33="",E33,"") | O33: =K33 -> 0 | P33: =O33*$P$2*J33/365 -> 0
A34: CHALOUPE | E34: 41383.39 | F34: 2 | G34: 41561 | H34: 41383.39 | I34: 43368 | J34: =$L$2-G34 -> 594 | K34: 0 | L34: =IF(G34="",E34,"") | O34: =K34 -> 0 | P34: =O34*$P$2*J34/365 -> 0
A35: CHALOUPE | E35: 41383.39 | F35: 3 | G35: 41582 | H35: 41383.39 | I35: 43368 | J35: =$L$2-G35 -> 573 | K35: 0 | L35: =IF(G35="",E35,"") | O35: =K35 -> 0 | P35: =O35*$P$2*J35/365 -> 0
A36: CHALOUPE | E36: 41383.39 | F36: 4 | G36: 41646 | H36: 41383.39 | I36: 43369 | J36: =$L$2-G36 -> 509 | K36: 0 | L36: =IF(G36="",E36,"") | O36: =K36 -> 0 | P36: =O36*$P$2*J36/365 -> 0
A37: CHALOUPE | E37: 41383.38 | F37: 5 | G37: 42782 | H37: en attente | J37: =$L$2-G37 -> -627 | K37: =E37 -> 41383.38 | L37: =IF(G37="",E37,"")
D38: =SUM(D6:D37) -> 1117575.8 | E38: =SUM(E6:E37) -> 1117575.8 | H38: =H6+H12+H18+H24+H26+H32 -> 916900.64 | K38: =K6+K12+K18+K24+K26+K32 -> 200675.14 | L38: =L6+L12+L18+L24+L26+L32 -> 0 | O38: =SUM(O6:O37) -> 255207 | P38: =SUM(P6:P37) -> -102165.83
K39: =SUM(K38:L38) -> 200675.14
A40: SOBEPRE | B40: Mandats | C40: 41131 | D40: 3152932.5 | J40: =I40-G40 -> 0 | O40: =H40 -> 0 | P40: =O40*$P$2*J40/365 -> 0
A41: SOBEPRE | E41: 91990.6 | F41: 1 | G41: 41443 | H41: 91990.6 | I41: 41548 | J41: =I41-G41 -> 105 | K41: =E41-H41 -> 0
...

Sheet CAF
A2: ETAT DES CREANCES : CAF | M2: =TODAY() -> 43593
A4: Opération | B4: Signature | C4: Date limite demande de solde | D4: DAT | E4: BUDGET | F4: APPELS DE FONDS | L4: RESTE A PERCEVOIR | N4: observations
F5: Montant | G5: N° | H5: Date | I5: Payé | J5: Date | K5: Nbre js d'impayés | L5: A payer | M5: Non appelé
A6: LA FONTAINE - LE LAVOIR | B6: 40724 | C6: =DATE(YEAR(B6)+5,MONTH(B6),DAY(B6)) -> 42551 | D6: 41613 | E6: 70000 | I6: =SUM(I7:I9) -> 70000 | L6: =SUM(L7:L9) -> 0 | M6: =SUM(M7:M9) -> 0 | O6: =E6-(I6+L6+M6) -> 0
A7: LA FONTAINE - LE LAVOIR | E7: =F7/$E$6 -> 0.4 | F7: 28000 | G7: 1 | H7: 41010 | I7: 28000 | J7: 41010 | K7: =IF(J7="",$M$2-H7,J7-H7) -> 0 | L7: =IF(I7="en attente",F7,"") | M7: =IF(H7="",F7-I7,0) -> 0
A8: LA FONTAINE - LE LAVOIR | E8: 0.7 | F8: 21000 | G8: 2 | H8: 41456 | I8: 21000 | J8: 41522 | L8: =IF(I8="en attente",F8,"") | M8: =IF(H8="",F8-I8,0) -> 0
A9: LA FONTAINE - LE LAVOIR | E9: 1 | F9: 21000 | G9: 3 | H9: 42123 | I9: =F9 -> 21000 | J9: 42188 | L9: =IF(I9="en attente",F9,"") | M9: =IF(H9="",F9-I9,0) -> 0
A10: LAURENCY | B10: 40988 | C10: 42735 | D10: 42326 | E10: 110000 | I10: =SUM(I11:I13) -> 110000 | L10: =SUM(L11:L13) -> 0 | M10: =SUM(M11:M13) -> 0 | O10: =E10-(I10+L10+M10) -> 0
A11: LAURENCY | E11: =F11/$E$10 -> 0.4 | F11: 44000 | G11: 1 | H11: 41275 | I11: 44000 | J11: 41360 | L11: =IF(I11="en attente",F11,"") | M11: =IF(H11="",F11-I11,0) -> 0
A12: LAURENCY | E12: 0.7 | F12: 33000 | G12: 2 | H12: 41884 | K12: =IF(J12="",$M$2-H12,J12-H12) -> 1709 | L12: =IF(I12="en attente",F12,"") | M12: =IF(H12="",F12-I12,0) -> 0 | O12: Pas de suite à dde acpte 2 donc demande de solde de 66000 €
A13: LAURENCY | E13: 1 | F13: 33000 | G13: 3 | H13: 42454 | I13: 66000 | J13: 42502 | L13: =IF(I13="en attente",F13,"") | M13: =IF(H13="",F13-I13,0) -> 0
A14: LES AUBEPINES | B14: 40988 | C14: 42735 | D14: 43100 | E14: 85000 | I14: =SUM(I15:I17) -> 85000 | L14: =SUM(L15:L17) -> 0 | M14: =SUM(M15:M17) -> 0 | O14: =E14-(I14+L14+M14) -> 0
A15: LES AUBEPINES | B15: ok | C15: ok | D15: Prorogation | E15: =F15/$E$14 -> 0.4 | F15: 34000 | G15: 1 | H15: 41276 | I15: 34000 | J15: 41358 | L15: =IF(I15="en attente",F15,"") | M15: =IF(H15="",F15-I15,0) -> 0
A16: LES AUBEPINES | E16: 0.7 | F16: 25500 | G16: 2 | H16: 42215 | I16: 25500 | J16: 42282 | L16: =IF(I16="en attente",F16,"") | M16: =IF(H16="",F16-I16,0) -> 0
A17: LES AUBEPINES | E17: 1 | F17: 25500 | G17: 3 | H17: 42830 | I17: 25500 | J17: 42878 | L17: =IF(I17="en attente",F17,"") | M17: =IF(H17="",F17-I17,0) -> 0
A18: TAMARINIERS | B18: 41450 | C18: =DATE(YEAR(B18)+4,MONTH(B18),DAY(B18)) -> 42911 | D18: 42726 | E18: 220000 | I18: =SUM(I19:I21) -> 220000 | L18: =SUM(L19:L21) -> 0 | M18: =SUM(M19:M21) -> 0 | O18: =E18-(I18+L18+M18) -> 0
A19: TAMARINIERS | B19: ok | C19: ok | E19: =F19/$E$18 -> 0.4 | F19: 88000 | G19: 1 | H19: 41715 | I19: 88000 | J19: 41754 | K19: =IF(J19="",$M$2-H19,J19-H19) -> 39 | L19: =IF(I19="en attente",F19,"") | M19: =IF(H19="",F19-I19,0) -> 0
A20: TAMARINIERS | E20: 0.7 | F20: =0.3*E18 -> 66000 | G20: 2 | H20: 42503 | I20: 66000 | J20: 42543 | L20: =IF(I20="en attente",F20,"") | M20: =IF(H20="",F20-I20,0) -> 0
A21: TAMARINIERS | E21: 1 | F21: 66000 | G21: 3 | H21: 42781 | I21: 66000 | J21: 42808 | L21: =IF(I21="en attente",F21,"") | M21: =IF(H21="",F21-I21,0) -> 0
A22: RAYMOND BARRE | B22: 40988 | C22: 42735 | D22: 41943 | E22: 70000 | I22: =SUM(I23:I25) -> 70000 | L22: =SUM(L23:L24) -> 0 | M22: =SUM(M23:M25) -> 0 | O22: =E22-(I22+L22+M22) -> 0
A23: RAYMOND BARRE | E23: =F23/$E$22 -> 0.4 | F23: 28000 | G23: 1 | H23: 41276 | I23: 28000 | J23: 41358 | L23: =IF(I23="en attente",F23,"") | M23: =IF(H23="",F23-I23,0) -> 0
A24: RAYMOND BARRE | E24: 0.7 | F24: 21000 | G24: 2 | H24: 41884 | I24: =F24 -> 21000 | J24: 42188 | K24: =IF(J24="",$M$2-H24,J24-H24) -> 304 | L24: =IF(I24="en attente",F24,"") | M24: =IF(H24="",F24-I24,0) -> 0 | N24: Demande du 2ème acompte du 02/9/14 annulée pour un montant de 21000 € donc demande de solde d'un montant de 42000
A25: RAYMOND BARRE | E25: 1 | F25: 21000 | G25: 3 | H25: 42136 | I25: =F25 -> 21000 | J25: 42188 | M25: =IF(H25="",F25-I25,0) -> 0
A26: LE CAP | B26: 40988 | C26: 42735 | D26: 42633 | E26: 120000 | I26: =SUM(I27:I29) -> 120000 | L26: =SUM(L27:L29) -> 0 | M26: =SUM(M27:M29) -> 0 | O26: =E26-(I26+L26+M26) -> 0
A27: LE CAP | B27: ok | C27: ok | E27: =F27/$E$26 -> 0.4 | F27: 48000 | G27: 1 | H27: 41276 | I27: 48000 | J27: 41358 | L27: =IF(I27="en attente",F27,"") | M27: =IF(H27="",F27-I27,0) -> 0
A28: LE CAP | E28: 0.7 | F28: 36000 | G28: 2 | H28: 42206 | I28: 36000 | J28: 42228 | L28: =IF(I28="en attente",F28,"") | M28: =IF(H28="",F28-I28,0) -> 0
A29: LE CAP | E29: 1 | F29: 36000 | G29: 3 | H29: 42873 | I29: 36000 | J29: 42900 | L29: =IF(I29="en attente",F29,"") | M29: =IF(H29="",F29-I29,0) -> 0
A30: BARRAGE | B30: 41534 | C30: 42916 | D30: 43075 | E30: 415000 | I30: =SUM(I31:I33) -> 415000 | L30: =SUM(L31:L33) -> 0 | M30: =SUM(M31:M33) -> 0 | O30: =E30-(I30+L30+M30) -> 0
A31: BARRAGE | B31: ok | C31: Dde de prorogation faite | E31: =F31/$E$30 -> 0.4 | F31: 166000 | G31: 1 | H31: 42188 | I31: 166000 | J31: 42228 | K31: =IF(J31="",$M$2-H31,J31-H31) -> 40 | L31: =IF(I31="en attente",F31,"") | M31: =IF(H31="",F31-I31,0) -> 0
A32: BARRAGE | E32: 0.7 | F32: =0.3*E30 -> 124500 | G32: 2 | H32: 42780 | I32: 124500 | J32: 42808 | L32: =IF(I32="en attente",F32,"") | M32: =IF(H32="",F32-I32,0) -> 0
A33: BARRAGE | E33: 1 | F33: =0.3*E30 -> 124500 | G33: 3 | H33: 43171 | I33: 124500 | J33: 43242 | L33: =IF(I33="en attente",F33,"") | M33: =IF(H33="",F33-I33,0) -> 0
A34: FANFAN | B34: 41534 | C34: 42916 | D34: 43161 | E34: 120000 | I34: =SUM(I35:I37) -> 120000 | L34: =SUM(L35:L37) -> 0 | M34: =SUM(M35:M37) -> 0 | O34: =E34-(I34+L34+M34) -> 0
A35: GRANDE RAVINE LES HAUTS | B35: ok | C35: ok | E35: =F35/$E$34 -> 0.4 | F35: 48000 | G35: 1 | H35: 41641 | I35: 48000 | J35: 41758 | L35: =IF(I35="en attente",F35,"") | M35: =IF(H35="",F35-I35,0) -> 0
A36: GRANDE RAVINE LES HAUTS | E36: 0.7 | F36: 36000 | G36: 2 | H36: 42606 | I36: 36000 | J36: 42655 | L36: =IF(I36="en attente",F36,"") | M36: =IF(H36="",F36-I36,0) -> 0
A37: GRANDE RAVINE LES HAUTS | E37: 1 | F37: 36000 | G37: 3 | H37: 42803 | I37: 36000 | J37: 42831 | L37: =IF(I37="en attente",F37,"") | M37: =IF(H37="",F37-I37,0) -> 0
A38: VEFA CAP OUEST | B38: 42004 | C38: 43465 | E38: 160000 | I38: =SUM(I39:I41) -> 0 | L38: =SUM(L39:L41) -> 0 | M38: =SUM(M39:M41) -> 160000
A39: VEFA CAP OUEST | E39: 0.4 | F39: =E38*E39 -> 64000 | G39: 1 | M39: =IF(H39="",F39-I39,0) -> 64000
A40: VEFA CAP OUEST | E40: 0.7 | F40: 48000 | G40: 2 | M40: =IF(H40="",F40-I40,0) -> 48000 | O40: ANNULE
A41: VEFA CAP OUEST | E41: 1 | F41: =E38*30% -> 48000 | G41: 3 | M41: =IF(H41="",F41-I41,0) -> 48000
E42: =E6+E10+E14+E18+E22+E26+E30+E34+E38 -> 1370000 | F42: =SUMPRODUCT((DateAF_CAF<>"")*MontantAF_CAF) -> 1210000 | I42: =I6+I10+I14+I18+I22+I26+I30+I34 -> 1210000 | L42: =L6+L10+L14+L18+L22+L26+L30+L34+L38 -> 0 | M42: =M6+M10+M14+M18+M22+M26+M30+M34+M38 -> 160000 | O42: =E42-(I42+L42+M42) -> 0
...

Sheet REGION
A2: ETAT DES CREANCES : REGION | O2: =TODAY() -> 43593
A4: Opération | B4: Libellé | C4: Signature | D4: Eligibilité dépenses | E4: Fin convention | F4: DAT | G4: BUDGET | H4: APPELS DE FONDS | N4: RESTE A PERCEVOIR | P4: observations
H5: Montant | I5: N° | J5: Date | K5: Payé | L5: Date | M5: Nbre js d'impayés | N5: A payer | O5: Non appelé
A6: CRESSONNIERE | C6: 41547 | G6: 44565.76 | K6: =SUM(K7:K8) -> 38067.93 | N6: =SUM(N7) -> 0 | O6: =SUM(O7) -> 0 | Q6: =G6-(K6+N6+O6) -> 6497.83
A7: CRESSONNIERE | H7: 44565.76 | I7: 1 | J7: 42246 | K7: 38067.93 | L7: 42284 | N7: =IF(K7="en attente",H7,"")
L8: 42369 | N8: -6497.83 | Q8: arrêté de minoration
A9: RESERVOIRS DE STELLA | C9: 41091 | G9: 20808.98 | K9: =SUM(K10) -> 20808.98 | N9: =SUM(N10) -> 0 | O9: =SUM(O10) -> 0
A10: RESERVOIRS DE STELLA | H10: 20808.98 | I10: 1 | J10: 41668 | K10: 20808.98 | L10: 42158 | M10: =$L$10-J10 -> 490 | N10: =IF(K10="en attente",H10,"") | O10: =IF(J10="",H10-K10,0) -> 0
A11: AVENUE RAYMOND BARRE | B11: DADT / 2012 0706 FRAFU | C11: 41149 | D11: 41044 | E11: =DATE(YEAR(C11)+2,MONTH(C11),DAY(C11)) -> 41879 | F11: 41983 | G11: 210000 | K11: =SUM(K12:K13) -> 210000 | N11: =SUM(N12:N13) -> 0 | O11: =SUM(O12:O13) -> 0 | Q11: =G11-(K11+N11+O11) -> 0
G12: =H12/$G$11 -> 0.5 | H12: 105000 | I12: 1 | J12: 41485 | K12: 105000 | L12: 41522 | M12: =$L$12-J12 -> 37 | N12: =IF(K12="en attente",H12,"") | O12: =IF(J12="",H12-K12,0) -> 0
G13: =H13/$G$11+G12 -> 1 | H13: 105000 | I13: 2 | J13: 42411 | K13: 105000 | L13: 42723 | N13: =IF(K13="en attente",H13,"") | O13: =IF(J13="",H13-K13,0) -> 0
A14: CHALOUPE | B14: DADT / 2012 1065 FRAFU | C14: 41334 | D14: 41025 | E14: =DATE(YEAR(C14)+2,MONTH(C14),DAY(C14)) -> 42064 | F14: 42275 | G14: 200000 | K14: =SUM(K15:K16) -> 200000 | N14: =SUM(N15:N16) -> 0 | O14: =SUM(O15:O16) -> 0 | Q14: =G14-(K14+N14+O14) -> 0
G15: =H15/$G$14 -> 0.5 | H15: 100000 | I15: 1 | J15: 41485 | K15: 100000 | L15: 41522 | M15: =$L$15-J15 -> 37 | N15: =IF(K15="en attente",H15,"") | O15: =IF(J15="",H15-K15,0) -> 0
G16: =H16/$G$14+G15 -> 1 | H16: 100000 | I16: 2 | J16: 42710 | K16: 100000 | L16: 42788 | N16: =IF(K16="en attente",H16,"") | O16: =IF(J16="",H16-K16,0) -> 0
A17: PEPINIERE | B17: DAE1/2011-1446 | C17: 40892 | D17: 40613 | E17: 42277 | F17: 41890 | G17: 1470807.7 | K17: =SUM(K18:K21) -> 1290562.7 | N17: =SUM(N18:N21) -> 18394.2 | O17: =SUM(O18:O21) -> 0 | Q17: =G17-(K17+N17+O17) -> 161850.81 | R17: Base éligible non atteinte ?
D18: solde à demander avant | E18: 42338 | G18: =H18/$G$17 -> 0.50000004 | H18: 735403.9 | I18: 1 | J18: 40816 | K18: 735403.9 | L18: 40907 | M18: =$L$15-J18 -> 706 | N18: =IF(K18="en attente",H18,"") | O18: =IF(J18="",H18-K18,0) -> 0
G19: =H19/$G$17+G18 -> 0.550227 | H19: 73874.2 | I19: 2 | J19: 41977 | M19: =$O$2-J19 -> 1616 | N19: =IF(K19="en attente",H19,"") | O19: =IF(J19="",H19-K19,0) -> 0 | P19: Règlement de 555 158,77 au lieu de 573 552,97
G20: =H20/$G$17+G19 -> 0.88995787 | H20: 499678.77 | I20: 3 | J20: 42334 | K20: 555158.77 | L20: 42355 | N20: =(H20+H19)-K20 -> 18394.2 | O20: =IF(J20="",H20-K20,0) -> 0 | P20: Différence de : 18 394,20
N21: =IF(K21="en attente",H21,"") | O21: =IF(J21="",H21-K21,0) -> 0
A22: CROUS ST PIERRE | B22: DIRED/20180248 | C22: 43255 | D22: 44104 | E22: 44196 | G22: 1227844 | K22: =SUM(K23:K25) -> 613922 | N22: =SUM(N23:N25) -> 0 | O22: =SUM(O23:O25) -> 613922
E23: Solde à demander avant | F23: Fondations | G23: 0.5 | H23: =G22*50% -> 613922 | I23: 1 | J23: 43305 | K23: 613922 | L23: 43321 | N23: =IF(K23="en attente",H23,"") | O23: =IF(J23="",H23-K23,0) -> 0
F24: Mise hors d'air | G24: 0.25 | H24: =+G22*G24 -> 306961 | I24: 2 | N24: =IF(K24="en attente",H24,"") | O24: =IF(J24="",H24-K24,0) -> 306961
F25: remise des clés | G25: 0.25 | H25: =+G22*G25 -> 306961 | I25: 3 | N25: =IF(K25="en attente",H25,"") | O25: =IF(J25="",H25-K25,0) -> 306961
A26: CROUS TAMPON | B26: DIRED/20180457 | C26: 43285 | D26: 44104 | E26: 44195 | G26: 655125 | K26: =SUM(K27:K29) -> 327562.5 | N26: =SUM(N27:N29) -> 0 | O26: =SUM(O27:O29) -> 327562.5
E27: Solde à demander avant | F27: Fondations | G27: 0.5 | H27: =+G26*G27 -> 327562.5 | I27: 1 | J27: 43381 | K27: 327562.5 | L27: 43433 | N27: =IF(K27="en attente",H27,"") | O27: =IF(J27="",H27-K27,0) -> 0
F28: Mise hors d'air | G28: 0.25 | H28: =+G26*G28 -> 163781.25 | I28: 2 | N28: =IF(K28="en attente",H28,"") | O28: =IF(J28="",H28-K28,0) -> 163781.25
F29: remise des clés | G29: 0.25 | H29: =+G26*G29 -> 163781.25 | I29: 3 | N29: =IF(K29="en attente",H29,"") | O29: =IF(J29="",H29-K29,0) -> 163781.25
G30: =G6+G9+G11+G14+G17+G22+G26 -> 3829151.4 | H30: =SUMPRODUCT((DateAF_Region<>"")*MontantAF_Region) -> 2725816.1 | K30: =K6+K9+K11+K14+K17+K22+K26 -> 2700924.1 | N30: =N6+N9+N11+N14+N17+N22+N26 -> 18394.2 | O30: =O6+O9+O11+O14+O17+O22+O26 -> 941484.5 | Q30: =G30-(K30+N30+O30) -> 168348.64
N31: =SUM(N30:O30) -> 959878.7
H33: APPELE | K33: PAYE
G34: 2011 | H34: =SUMPRODUCT((YEAR($G$49:$G$97)=G34)*($H$49:$H$97)) -> 735403.9 | K34: =SUMPRODUCT((YEAR($J$49:$J$97)=G34)*($K$49:$K$97)) -> 735403.9
G35: 2012 | H35: =SUMPRODUCT((YEAR($G$49:$G$97)=G35)*($H$49:$H$97)) -> 0 | K35: =SUMPRODUCT((YEAR($J$49:$J$97)=G35)*($K$49:$K$97)) -> 0
G36: 2013 | H36: =SUMPRODUCT((YEAR($G$49:$G$97)=G36)*($H$49:$H$97)) -> 205000 | K36: =SUMPRODUCT((YEAR($J$49:$J$97)=G36)*($K$49:$K$97)) -> 205000
G37: 2014 | H37: =SUMPRODUCT((YEAR($G$49:$G$97)=G37)*($H$49:$H$97)) -> 94683.18 | K37: =SUMPRODUCT((YEAR($J$49:$J$97)=G37)*($K$49:$K$97)) -> 0
G38: 2015 | H38: =SUMPRODUCT((YEAR($G$49:$G$97)=G38)*($H$49:$H$97)) -> 544244.53 | K38: =SUMPRODUCT((YEAR($J$49:$J$97)=G38)*($K$49:$K$97)) -> 614035.68
G39: 2016 | H39: =SUMPRODUCT((YEAR($G$49:$G$97)=G39)*($H$49:$H$97)) -> 205000 | K39: =SUMPRODUCT((YEAR($J$49:$J$97)=G39)*($K$49:$K$97)) -> 105000
G40: 2017 | H40: =SUMPRODUCT((YEAR($G$49:$G$97)=G40)*($H$49:$H$97)) -> 0 | K40: =SUMPRODUCT((YEAR($J$49:$J$97)=G40)*($K$49:$K$97)) -> 100000
G41: 2018 | H41: =SUMPRODUCT((YEAR($G$49:$G$97)=G41)*($H$49:$H$97)) -> 941484.5 | K41: =SUMPRODUCT((YEAR($J$49:$J$97)=G41)*($K$49:$K$97)) -> 941484.5
G42: 2019 | H42: =SUMPRODUCT((YEAR($G$49:$G$97)=G42)*($H$49:$H$97)) -> 0 | K42: =SUMPRODUCT((YEAR($J$49:$J$97)=G42)*($K$49:$K$97)) -> 0
H43: =SUM(H34:H42) -> 2725816.1 | K43: =SUM(K34:K42) -> 2700924.1
...

Sheet RECTORAT
A2: ETAT DES CREANCES : RECTORAT | O2: =TODAY() -> 43593
A4: Opération | B4: Libellé | C4: Signature | D4: Eligibilité dépenses | E4: Fin convention | F4: DAT | G4: BUDGET | H4: APPELS DE FONDS | N4: RESTE A PERCEVOIR | P4: observations
H5: Montant | I5: N° | J5: Date | K5: Payé | L5: Date | M5: Nbre js d'impayés | N5: A payer | O5: Non appelé
A6: CROUS ST PIERRE | B6: CPER 2015-2020 VOLET 1 Mesure 1-1-3 | C6: 43283 | D6: 44104 | E6: 44196 | G6: 1227844 | K6: =SUM(K7:K9) -> 613922 | N6: =SUM(N7:N9) -> 0 | O6: =SUM(O7:O9) -> 613922
E7: Solde à demander avant | F7: Fondations | G7: 0.5 | H7: =G6*50% -> 613922 | I7: 1 | J7: 43305 | K7: 613922 | L7: 43342 | N7: =IF(K7="en attente",H7,"")
F8: Mise hors d'air | G8: 0.25 | H8: =+G6*G8 -> 306961 | I8: 2 | N8: =IF(K8="en attente",H8,"") | O8: =+H8 -> 306961
F9: Remise des clés | G9: 0.25 | H9: =+G6*G9 -> 306961 | I9: 3 | N9: =IF(K9="en attente",H9,"") | O9: =+H9 -> 306961
A10: CROUS TAMPON | B10: CPER 2015-2020 VOLET 1 Mesure 1-1-3 | C10: 43283 | D10: 44104 | E10: 44196 | G10: 655125 | K10: =SUM(K11:K13) -> 327562.5 | N10: =SUM(N11:N13) -> 0 | O10: =SUM(O11:O13) -> 327562.5
E11: Solde à demander avant | F11: Fondations | G11: 0.5 | H11: =+G10*G11 -> 327562.5 | I11: 1 | J11: 43381 | K11: 327562.5 | L11: 43440 | N11: =IF(K11="en attente",H11,"")
F12: Mise hors d'air | G12: 0.25 | H12: =+G10*G12 -> 163781.25 | I12: 2 | N12: =IF(K12="en attente",H12,"") | O12: =H12 -> 163781.25
F13: Remise des clés | G13: 0.25 | H13: =+G10*G13 -> 163781.25 | I13: 3 | N13: =IF(K13="en attente",H13,"") | O13: =H13 -> 163781.25
G14: =+G6+G10 -> 1882969 | H14: =SUM(H7:H9) -> 1227844 | K14: =+K6+K10 -> 941484.5 | N14: =N10+N6 -> 0 | O14: =+O6+O10 -> 941484.5 | Q14: =G14-(K14+N14+O14) -> 0
N15: =SUM(N14:O14) -> 941484.5

Sheet DIECCTE
A2: ETAT DES CREANCES : DIECCTE | L2: =TODAY() -> 43593
A4: Opération | B4: Libellé | C4: Signature | D4: BUDGET | E4: APPELS DE FONDS | K4: RESTE A PERCEVOIR
E5: Montant | F5: N° | G5: Date | H5: Payé | I5: Date | J5: Nbre js d'impayés | K5: A payer | L5: Non appelé
A6: CRESSONIERE | C6: 41607 | D6: 66848.64
D7: -9746.75 | E7: 66848.64 | F7: 1 | H7: 57101.89 | I7: 42192
A8: CRESSONIERE | I8: 42369 | M8: Arrêté de minoration
A9: P'TIT CANAL | C9: 41091 | D9: 38400 | K9: =+IF(G9="",0,E9-H9) -> 0 | L9: =IF(G9="",E9-H9,0) -> 0
A10: P'TIT CANAL | D10: ANNULE | E10: 38400 | F10: 1 | G10: 41984 | J10: =$L$2-G10 -> 1609 | K10: =+IF(G10="",0,E10-H10) -> 38400 | L10: =IF(G10="",E10-H10,0) -> 0
D11: =SUM(D6:D10) -> 95501.89 | E11: =SUM(E7) -> 66848.64 | H11: =SUM(H6:H10) -> 57101.89 | K11: =SUM(K6:K8) -> 0 | L11: =SUM(L6:L10) -> 0
K12: =SUM(K11:L11) -> 0

Sheet FEDER
A2: ETAT DES CREANCES : FEDER | O2: =TODAY() -> 43593
A4: Opération | B4: Libellé | C4: Signature | D4: Eligibilité dépenses | E4: Fin convention | F4: DAT | G4: BUDGET | H4: APPELS DE FONDS | N4: RESTE A PERCEVOIR | P4: OBSERVATIONS
H5: Montant | I5: N° | J5: Date | K5: Payé | L5: Date | M5: Nbre js d'impayés | N5: A payer | O5: Non appelé
A6: RHI BUTTE CITRONNELLE | B6: Dossier présage 30279 / Réseau AEU | C6: 41010 | E6: 42004 | G6: 241997.58 | K6: =SUM(K7:K9) -> 201959.73 | N6: =SUM(N7:N9) -> 0 | O6: =SUM(O7:O9) -> 0 | Q6: =G6-(K6+N6+O6) -> 40037.85
A7: RHI BUTTE CITRONNELLE | E7: vérifier si prorog faite | G7: =H7/$G$6 -> 0.51293058 | H7: 124127.96 | I7: 1 | J7: 40800 | K7: 124157.04 | L7: 40842 | M7: =$L$7-J7 -> 42 | N7: =IF(K7="en attente",H7,"") | O7: =IF(J7="",H7-K7,0) -> 0 | P7: dépenses acquittées entre 01/01/07 et 31/12/14 éligibles
A8: RHI BUTTE CITRONNELLE | G8: =H8/$G$6+G7 -> 0.51293058 | N8: =IF(K8="en attente",H8,"") | O8: =IF(J8="",H8-K8,0) -> 0 | P8: Demande de 26 394,54 € (Acpte 2)annulée le 30/07/13
A9: RHI BUTTE CITRONNELLE | G9: 0.8346 | H9: 117869.62 | I9: 2 | J9: 41171 | K9: 77802.69 | L9: 42324 | N9: =IF(K9="en attente",H9,"") | O9: =IF(J9="",H9-K9,0) -> 0 | P9: Solde à réalisation de fin travx à 83,46 %
A10: PEPINIERE D'ENTREPRISE | B10: SGAR / 2012 31966 | C10: 40892 | D10: 40823 | E10: 42277 | F10: 41890 | G10: 1470807.7 | K10: =SUM(K11:K13) -> 1290562.7 | N10: =SUM(N11:N13) -> 0 | O10: =SUM(O11:O13) -> 0 | Q10: =G10-(K10+N10+O10) -> 180245.01
A11: PEPINIERE D'ENTREPRISE | E11: 42338 | G11: =H11/$G$10 -> 0.55022639 | H11: 809277.2 | I11: 1 | J11: 41947 | M11: =$O$2-J11 -> 1646 | N11: =IF(K11="en attente",H11,"") | O11: =IF(J11="",H11-K11,0) -> 0 | P11: Règlement de 1 290 562,67 € au lieu de 1 308 955,97
A12: PEPINIERE D'ENTREPRISE | G12: =H12/$G$10+G11 -> 0.88995726 | H12: 499678.77 | I12: 2 | J12: 42334 | K12: 1290562.7 | L12: 42381 | N12: =IF(K12="en attente",H12,"") | O12: =IF(J12="",H12-K12,0) -> 0 | P12: Différence de 18 393,30 €
O13: =IF(J13="",H13-K13,0) -> 0 | Q13: =G13-(K13+N13+O13) -> 0
G14: =G6+G10 -> 1712805.3 | H14: =SUMPRODUCT((DateAF_FEDER<>"")*MontantAF_FEDER) -> 1550953.6 | K14: =K6+K10 -> 1492522.4 | N14: =N6+N10 -> 0 | O14: =O6+O10 -> 0 | Q14: =G14-(K14+N14+O14) -> 220282.86
N15: =SUM(N14:O14) -> 0
H17: APPELE | K17: PAYE | N17: APPELE | O17: PAYE
