Workbook
Name _NH2011: #REF!
Name _NH2012: #REF!
Name _Rem2010: 'Prév Hono Construction 2020'!$F$3:$F$6
Name _RO2010: 'Prév Hono Construction 2020'!$F$9:$F$11
Name Am: 'Prév Hono Construction 2020'!$E$239:$E$251
Name Annee_Inaug: '[1]Données initiales'!$FL$2:$FL$136
Name Annee_OS: '[1]Données initiales'!$DY$2:$DY$136
Name Ass: '[1]Données initiales'!$H$2:$H$136
Name Avancement: '[1]Données initiales'!$I$2:$I$136
Name Bdgt: 'Prév Hono Construction 2020'!$G$129:$G$221
Name Bdgt: '[1]Données initiales'!$GW$4:$GW$136
Name Bdgt2010: 'Prév Hono Construction 2020'!$I$9:$I$11
Name Bdgt2011: 'Prév Hono Construction 2020'!$I$13:$I$17
Name Bdgt2012: 'Prév Hono Construction 2020'!$I$19:$I$30
Name Bdgt2013: 'Prév Hono Construction 2020'!$I$32:$I$41
Name Bdgt2014: 'Prév Hono Construction 2020'!$I$43:$I$49
Name Bdgt2015: 'Prév Hono Construction 2020'!$I$51:$I$58
Name Bdgt2016: 'Prév Hono Construction 2020'!$I$60:$I$67
Name Bdgt2017: 'Prév Hono Construction 2020'!$I$69:$I$76
Name Bdgt2018: 'Prév Hono Construction 2020'!$I$78:$I$83
Name Bdgt2019: 'Prév Hono Construction 2020'!$I$85:$I$92
Name Bdgt2020: 'Prév Hono Construction 2020'!$I$94:$I$103
Name Bdgt2021: 'Prév Hono Construction 2020'!$I$105:$I$113
Name Ecart_DEAL_OS: '[1]Données initiales'!$DZ$2:$DZ$136
Name Fonds_propres: '[1]Données initiales'!$IL$2:$IL$136
Name LBU: '[1]Données initiales'!$HR$2:$HR$136
Name Livraison: '[1]Données initiales'!$FK$2:$FK$136
Name Loyers: '[1]Données initiales'!$FO$2:$FO$136
Name N_lgt: 'Prév Hono Construction 2020'!$E$19:$E$115
Name Nlgts: '[1]Données initiales'!$AE$2:$AE$136
Name Nlgts_hors_rehab: '[1]Données initiales'!$AF$2:$AF$136
Name Notaire: '[1]Données initiales'!$CS$2:$CS$136
Name OS: '[1]Données initiales'!$DX$2:$DX$136
Name PA_SAS_HT_PLS: '[2]DPR PLS'!$E$68
Name Phase: 'Prév Hono Construction 2020'!$G$32:$G$113
Name Phase2010: 'Prév Hono Construction 2020'!$G$9:$G$11
Name Phase2011: 'Prév Hono Construction 2020'!$G$13:$G$17
Name Phase2012: 'Prév Hono Construction 2020'!$G$19:$G$30
Name Phase2013: 'Prév Hono Construction 2020'!$G$32:$G$41
Name Phase2014: 'Prév Hono Construction 2020'!$G$43:$G$49
Name Phase2015: 'Prév Hono Construction 2020'!$G$51:$G$58
Name Phase2016: 'Prév Hono Construction 2020'!$G$60:$G$67
Name Phase2017: 'Prév Hono Construction 2020'!$G$69:$G$76
Name Phase2018: 'Prév Hono Construction 2020'!$G$78:$G$83
Name Phase2019: 'Prév Hono Construction 2020'!$G$85:$G$92
Name Phase2020: 'Prév Hono Construction 2020'!$G$94:$G$103
Name Phase2021: 'Prév Hono Construction 2020'!$G$105:$G$113
Name Prog: 'Prév Hono Construction 2020'!$C$129:$C$221
Name Prog: '[1]Données initiales'!$E$2:$E$136
Name Prog2010: 'Prév Hono Construction 2020'!$E$9:$E$11
Name Prog2011: 'Prév Hono Construction 2020'!$E$13:$E$17
Name Prog2012: 'Prév Hono Construction 2020'!$E$19:$E$30
Name Prog2013: 'Prév Hono Construction 2020'!$E$32:$E$41
Name Prog2014: 'Prév Hono Construction 2020'!$E$43:$E$49
Name Prog2015: 'Prév Hono Construction 2020'!$E$51:$E$58
Name Prog2016: 'Prév Hono Construction 2020'!$E$60:$E$67
Name Prog2017: 'Prév Hono Construction 2020'!$E$69:$E$76
Name Prog2018: 'Prév Hono Construction 2020'!$E$78:$E$83
Name Prog2019: 'Prév Hono Construction 2020'!$E$85:$E$92
Name Prog2020: 'Prév Hono Construction 2020'!$E$94:$E$103

Sheet Prév Hono Construction 2020
B1: Libellé | C1: Code | D1: Prog | E1: N logts | F1: RO | G1: Phase | H1: VEFA | I1: Dépenses prév | J1: Ratio Logts | K1: Total Rem Previ | L1: % rémunération | M1: Cumul au | N1: % avancement total | O1: Rem Perçue en 2012 | P1: Rem Perçue en 2013 | Q1: Cumul perçu au 31/12/2013 | R1: % avancement 2013 | S1: Rem perçue en 2014 | T1: Cumul perçu au 31/12/2014 | U1: % avancement 2014 | V1: Rem perçue en 2015 | W1: Cumul perçu au 31/12/2015 | X1: % avancement 2015 | Y1: Rem perçue en 2016 | Z1: Cumul perçu au 31/12/2016 | AA1: % avancement 2016 | AB1: Rem perçue en 2017 | AC1: Cumul perçu au 31/12/2017 | AD1: % avancement 2017 | AE1: Rem perçue en 2018 | AF1: Cumul perçu au 31/12/18 | AG1: % avancement 2018 | AH1: Rem Perçue en 2019 | AI1: Cumul perçu au 31/12/19 | AJ1: % avancement 2019 | AK1: Rem perçue en 2020 | AL1: % avancement 2020 au | AM1: Reste à percevoir en 2020 | AN1: % avancement prévu à fin 2020 | AO1: Restera à Percevoir au Total | AP1: INITIAL | AQ1: Avancement final | AR1: Contrôle calcul avancement
M2: =TODAY() -> 44172 | O2: Montant | AJ2: =TODAY() -> 44172 | AQ2: fin 2020
A3: 2008/2009 | B3: Camphrier | C3: PRLC 0063 | D3: 2008 | E3: 84 | F3: FHO | G3: fin | I3: 9484719 | J3: =I3/E3 -> 112913.32 | K3: 487450 | M3: 487450 | N3: =M3/K3 -> 1 | O3: 32540 | Q3: 487450 | R3: =Q3/K3 -> 1 | S3: 0 | T3: 487450 | U3: =T3/K3 -> 1 | W3: 487450 | X3: =W3/K3 -> 1 | Z3: 487450 | AA3: =Z3/K3 -> 1 | AC3: 487450 | AD3: =AC3/K3 -> 1 | AF3: 487450 | AG3: =AE3/K3 -> 0 | AM3: 0 | AN3: =(M3+AM3)/K3 -> 1 | AO3: =K3-M3 -> 0
B4: Ile bourbon | C4: PRLC 0091 | D4: 2009 | E4: 47 | F4: NBL | G4: fin | I4: 6475362 | J4: =I4/E4 -> 137773.66 | K4: 323756 | M4: 323756 | N4: =M4/K4 -> 1 | O4: 16193 | P4: 0 | Q4: 307678 | R4: =Q4/K4 -> 0.95033914 | S4: 16078 | T4: 323756 | U4: =T4/K4 -> 1 | W4: 323756 | X4: =W4/K4 -> 1 | Z4: 323756 | AA4: =Z4/K4 -> 1 | AC4: 323756 | AD4: =AC4/K4 -> 1 | AF4: 323756 | AG4: =AE4/K4 -> 0 | AM4: 0 | AN4: =(M4+AM4)/K4 -> 1 | AO4: =K4-M4 -> 0
B5: Réservoir Stella | C5: PRLC 0092 | D5: 2009 | E5: 34 | F5: NBL | G5: fin | I5: 5008372 | J5: =I5/E5 -> 147305.06 | K5: 223829 | M5: 223829 | N5: =M5/K5 -> 1 | O5: 7835 | P5: 0 | Q5: 223829 | R5: =Q5/K5 -> 1 | S5: 0 | T5: 223829 | U5: =T5/K5 -> 1 | W5: 223829 | X5: =W5/K5 -> 1 | Z5: 223829 | AA5: =Z5/K5 -> 1 | AC5: 223829 | AD5: =AC5/K5 -> 1 | AF5: 223829 | AG5: =AE5/K5 -> 0 | AM5: 0 | AN5: =(M5+AM5)/K5 -> 1 | AO5: =K5-M5 -> 0
B6: Capucines | C6: PRLC 0088 | D6: 2008 | E6: 18 | F6: SFE | G6: fin | I6: 2892845 | J6: =I6/E6 -> 160713.61 | K6: 144692 | M6: 144692 | N6: =M6/K6 -> 1 | Q6: 144692 | R6: =Q6/K6 -> 1 | S6: 0 | T6: 144692 | U6: =T6/K6 -> 1 | W6: 144692 | X6: =W6/K6 -> 1 | Z6: 144692 | AA6: =Z6/K6 -> 1 | AC6: 144692 | AD6: =AC6/K6 -> 1 | AF6: 144692 | AG6: =AE6/K6 -> 0 | AM6: 0 | AN6: =(M6+AM6)/K6 -> 1 | AO6: =K6-M6 -> 0
B7: CoeurVillage-RPA | C7: PRLC 0089 | D7: 2009 | E7: 27 | F7: SGM | G7: fin | I7: 3246438 | J7: =I7/E7 -> 120238.44 | K7: 162321.91 | M7: 162321.91 | N7: =M7/K7 -> 1 | O7: 5220 | Q7: 162321.91 | R7: =Q7/K7 -> 1 | S7: 0 | T7: 162321.91 | U7: =T7/K7 -> 1 | W7: 162321.91 | X7: =W7/K7 -> 1 | Z7: 162321.91 | AA7: =Z7/K7 -> 1 | AC7: 162321.91 | AD7: =AC7/K7 -> 1 | AF7: 162321.91 | AG7: =AE7/K7 -> 0 | AM7: 0 | AN7: =(M7+AM7)/K7 -> 1 | AO7: =K7-M7 -> 0
D8: =COUNTA(D3:D7) -> 5 | E8: =SUM(E3:E7) -> 210 | I8: =SUM(I3:I7) -> 27107736 | K8: =SUM(K3:K7) -> 1342048.9 | M8: =SUM(M3:M7) -> 1342048.9 | N8: =M8/K8 -> 1 | O8: =SUM(O3:O7) -> 61788 | P8: =SUM(P3:P7) -> 0 | Q8: =SUM(Q3:Q7) -> 1325970.9 | R8: =Q8/K8 -> 0.98801981 | S8: =SUM(S3:S7) -> 16078 | T8: =SUM(T3:T7) -> 1342048.9 | U8: =T8/K8 -> 1 | V8: =SUM(V3:V7) -> 0 | W8: =SUM(W3:W7) -> 1342048.9 | X8: =W8/K8 -> 1 | Y8: =SUM(Y3:Y7) -> 0 | Z8: =SUM(Z3:Z7) -> 1342048.9 | AA8: =Z8/K8 -> 1 | AC8: =SUM(AC3:AC7) -> 1342048.9 | AD8: =AC8/K8 -> 1 | AE8: =SUM(AE3:AE7) -> 0 | AF8: =SUM(AF3:AF7) -> 1342048.9 | AG8: =AE8/K8 -> 0 | AM8: =SUM(AM3:AM7) -> 0 | AN8: =(M8+AM8)/K8 -> 1 | AO8: =SUM(AO3:AO7) -> 0
A9: 2010 | B9: Désiré - Ravine du Pont | C9: PRLC 0099 | D9: 2010 | E9: 27 | F9: FHO | G9: fin | I9: 3582299 | J9: =I9/E9 -> 132677.74 | K9: 179115 | M9: 179115 | N9: =M9/K9 -> 1 | O9: 9824 | P9: =9094+18188 -> 27282 | Q9: 172785 | R9: =Q9/K9 -> 0.96465958 | S9: 6330 | T9: 179115 | U9: =T9/K9 -> 1 | W9: 179115 | X9: =W9/K9 -> 1 | Z9: 179115 | AA9: =Z9/K9 -> 1 | AC9: 179115 | AD9: =AC9/K9 -> 1 | AF9: 179115 | AG9: =AE9/K9 -> 0 | AM9: 0 | AN9: =(M9+AM9)/K9 -> 1 | AO9: =K9-M9 -> 0 | AT9: =49/6.5 -> 7.5384615
B10: Jules Vienne-Petite Ile | C10: PRLC 0098 | D10: 2010 | E10: 30 | F10: FMA | G10: fin | I10: 3900853 | J10: =I10/E10 -> 130028.43 | K10: 195043 | M10: 195043 | N10: =M10/K10 -> 1 | O10: 42640 | P10: =29256+9752 -> 39008 | Q10: 185290 | R10: =Q10/K10 -> 0.94999564 | S10: 9752 | T10: 195043 | U10: =T10/K10 -> 1 | W10: 195043 | X10: =W10/K10 -> 1 | Z10: 195043 | AA10: =Z10/K10 -> 1 | AC10: 195043 | AD10: =AC10/K10 -> 1 | AF10: 195043 | AG10: =AE10/K10 -> 0 | AM10: 0 | AN10: =(M10+AM10)/K10 -> 1 | AO10: =K10-M10 -> 0
B11: Tamarin Becquet (Butte Citronnelle) | C11: PRLC 0085 | D11: 2010 | E11: =19+2 -> 21 | F11: SGM | G11: fin | I11: 2903610 | J11: =I11/E11 -> 138267.14 | K11: 145176.94 | M11: 145176.94 | N11: =M11/K11 -> 1 | O11: 7278 | P11: 0 | Q11: 138153 | R11: =Q11/K11 -> 0.95161807 | S11: 7023.94 | T11: =145180-3.06 -> 145176.94 | U11: =T11/K11 -> 1 | W11: 145176.94 | X11: =W11/K11 -> 1 | Z11: 145176.94 | AA11: =Z11/K11 -> 1 | AC11: 145176.94 | AD11: =AC11/K11 -> 1 | AF11: 145176.94 | AG11: =AE11/K11 -> 0 | AM11: 0 | AN11: =(M11+AM11)/K11 -> 1 | AO11: =K11-M11 -> 0
D12: =COUNTA(D9:D11) -> 3 | E12: =SUM(E9:E11) -> 78 | I12: =SUM(I9:I11) -> 10386762 | K12: =SUM(K9:K11) -> 519334.94 | M12: =SUM(M9:M11) -> 519334.94 | N12: =M12/K12 -> 1 | O12: =SUM(O9:O11) -> 59742 | P12: =SUM(P9:P11) -> 66290 | Q12: =SUM(Q9:Q11) -> 496228 | R12: =Q12/K12 -> 0.95550667 | S12: =SUM(S9:S11) -> 23105.94 | T12: =SUM(T9:T11) -> 519334.94 | U12: =T12/K12 -> 1 | V12: =SUM(V9:V11) -> 0 | W12: =SUM(W9:W11) -> 519334.94 | X12: =W12/K12 -> 1 | Y12: =SUM(Y9:Y11) -> 0 | Z12: =SUM(Z9:Z11) -> 519334.94 | AA12: =Z12/K12 -> 1 | AC12: =SUM(AC9:AC11) -> 519334.94 | AD12: =AC12/K12 -> 1 | AE12: =SUM(AE9:AE11) -> 0 | AF12: =SUM(AF9:AF11) -> 519334.94 | AG12: =AE12/K12 -> 0 | AM12: =SUM(AM9:AM11) -> 0 | AN12: =(M12+AM12)/K12 -> 1 | AO12: =SUM(AO9:AO11) -> 0
A13: 2011 | B13: VEFA Les Pechers | C13: PRLC 0105 | D13: 2011 | E13: 20 | F13: FMA | G13: fin | I13: 3506440 | J13: =I13/E13 -> 175322 | K13: =140257.6/1.021 -> 137372.77 | M13: 137372.77 | N13: =M13/K13 -> 0.99999999 | O13: 37091 | P13: =13737.33+2747+5495+1374+8242+8242 -> 39837.33 | Q13: 137372.77 | R13: =Q13/K13 -> 1 | S13: 0 | T13: 137372.77 | U13: =T13/K13 -> 0.99999999 | W13: 137372.77 | X13: =W13/K13 -> 0.99999999 | Z13: 137372.77 | AA13: =Z13/K13 -> 0.99999999 | AC13: 137372.77 | AD13: =AC13/K13 -> 0.99999999 | AF13: 137372.77 | AG13: =AE13/K13 -> 0 | AM13: 0 | AN13: =(M13+AM13)/K13 -> 0.99999999 | AO13: =K13-M13 -> 0.0017923604
B14: Lavoir | C14: PRLC 0100 | D14: 2011 | E14: 14 | F14: YFR | G14: fin | I14: 2201051 | J14: =I14/E14 -> 157217.93 | K14: 110053 | M14: 110053 | N14: =M14/K14 -> 1 | O14: 20106 | P14: 21648 | Q14: 102824 | R14: =Q14/K14 -> 0.93431347 | S14: 7228 | T14: 110053 | U14: =T14/K14 -> 1 | W14: 110053 | X14: =W14/K14 -> 1 | Z14: 110053 | AA14: =Z14/K14 -> 1 | AC14: 110053 | AD14: =AC14/K14 -> 1 | AF14: 110053 | AG14: =AE14/K14 -> 0 | AM14: 0 | AN14: =(M14+AM14)/K14 -> 1 | AO14: =K14-M14 -> 0
B15: VEFA Oiseaux du Paradis | C15: PRLC 0123 | D15: 2011 | E15: =23 -> 23 | F15: NBL | G15: fin | I15: =150000*23 -> 3450000 | J15: =I15/E15 -> 150000 | K15: 156957 | M15: 156957 | N15: =M15/K15 -> 1 | O15: 58074 | P15: =10987+9417 -> 20404 | Q15: 156957 | R15: =Q15/K15 -> 1 | S15: 9417 | T15: 156957 | U15: =T15/K15 -> 1 | W15: 156957 | X15: =W15/K15 -> 1 | Z15: 156957 | AA15: =Z15/K15 -> 1 | AC15: 156957 | AD15: =AC15/K15 -> 1 | AF15: 156957 | AG15: =AE15/K15 -> 0 | AM15: 0 | AN15: =(M15+AM15)/K15 -> 1 | AO15: =K15-M15 -> 0
B16: P'titCanal | C16: PRLC 0094 | D16: 2011 | E16: 20 | F16: SFE | G16: fin | I16: 3330841 | J16: =I16/E16 -> 166542.05 | K16: 166542 | M16: 166542 | N16: =M16/K16 -> 1 | O16: 42324 | P16: =8326+8326 -> 16652 | Q16: 158190 | R16: =Q16/K16 -> 0.94985049 | S16: =8326+8352 -> 16678 | T16: 166542 | U16: =T16/K16 -> 1 | W16: 166542 | X16: =W16/K16 -> 1 | Z16: 166542 | AA16: =Z16/K16 -> 1 | AC16: 166542 | AD16: =AC16/K16 -> 1 | AF16: 166542 | AG16: =AE16/K16 -> 0 | AM16: 0 | AN16: =(M16+AM16)/K16 -> 1 | AO16: =K16-M16 -> 0
B17: VEFA les Rosiers | C17: PRLC 0124 | D17: 2011 | E17: 57 | F17: SFE | G17: fin | I17: 9832760 | J17: =I17/E17 -> 172504.56 | K17: 200000 | M17: 200000 | N17: =M17/K17 -> 1 | O17: 44000 | P17: 34000 | Q17: 178000 | R17: =Q17/K17 -> 0.89 | S17: 22000 | T17: 200000 | U17: =T17/K17 -> 1 | W17: 200000 | X17: =W17/K17 -> 1 | Z17: 200000 | AA17: =Z17/K17 -> 1 | AC17: 200000 | AD17: =AC17/K17 -> 1 | AF17: 200000 | AG17: =AE17/K17 -> 0 | AM17: =22000-S17 -> 0 | AN17: =(M17+AM17)/K17 -> 1 | AO17: =K17-M17 -> 0
D18: =COUNTA(D13:D17) -> 5 | E18: =SUM(E13:E17) -> 134 | I18: =SUM(I13:I17) -> 22321092 | K18: =SUM(K13:K17) -> 770924.77 | M18: =SUM(M13:M17) -> 770924.77 | N18: =M18/K18 -> 1 | O18: =SUM(O13:O17) -> 201595 | P18: =SUM(P13:P17) -> 132541.33 | Q18: =SUM(Q13:Q17) -> 733343.77 | R18: =Q18/K18 -> 0.95125205 | S18: =SUM(S13:S17) -> 55323 | T18: =SUM(T13:T17) -> 770924.77 | U18: =T18/K18 -> 1 | V18: =SUM(V13:V17) -> 0 | W18: =SUM(W13:W17) -> 770924.77 | X18: =W18/K18 -> 1 | Y18: =SUM(Y13:Y17) -> 0 | Z18: =SUM(Z13:Z17) -> 770924.77 | AA18: =Z18/K18 -> 1 | AC18: =SUM(AC13:AC17) -> 770924.77 | AD18: =AC18/K18 -> 1 | AE18: =SUM(AE13:AE17) -> 0 | AF18: =SUM(AF13:AF17) -> 770924.77 | AG18: =AE18/K18 -> 0 | AM18: =SUM(AM13:AM17) -> 0 | AN18: =(M18+AM18)/K18 -> 1 | AO18: =SUM(AO13:AO17) -> 0.0017923604
A19: 2012 | B19: FLAMBOYANT | C19: PRLC 0116 | D19: 2012 | E19: 14 | F19: FHO | G19: fin | I19: 2454841 | J19: =I19/E19 -> 175345.79 | K19: 122742 | M19: 122742 | N19: =M19/K19 -> 1 | O19: 34421 | P19: 33259 | Q19: 91353 | R19: =Q19/K19 -> 0.74426847 | S19: 25176 | T19: 116529 | U19: =T19/K19 -> 0.94938163 | V19: 6213 | W19: 122742 | X19: =W19/K19 -> 1 | Z19: 122742 | AA19: =Z19/K19 -> 1 | AC19: 122742 | AD19: =AC19/K19 -> 1 | AF19: 122742 | AG19: =AE19/K19 -> 0 | AM19: 0 | AN19: =(M19+AM19)/K19 -> 1 | AO19: =K19-M19 -> 0
B20: Désiré 2 | C20: PRLC 0133 | D20: 2012 | E20: 7 | F20: YFR | G20: fin | I20: 1094988 | J20: =I20/E20 -> 156426.86 | K20: 54749 | M20: 54749 | N20: =M20/K20 -> 1 | O20: 28594 | P20: 10296 | Q20: 38890 | R20: =Q20/K20 -> 0.71033261 | S20: 12798 | T20: 51688 | U20: =T20/K20 -> 0.9440903 | V20: 3061 | W20: 54749 | X20: =W20/K20 -> 1 | Z20: 54749 | AA20: =Z20/K20 -> 1 | AC20: 54749 | AD20: =AC20/K20 -> 1 | AF20: 54749 | AG20: =AE20/K20 -> 0 | AM20: 0 | AN20: =(M20+AM20)/K20 -> 1 | AO20: =K20-M20 -> 0
B21: Poker d'As 1 logements | C21: PRLC 0090 | D21: 2012 | E21: 42 | F21: FMA | G21: fin | I21: 6726607 | J21: =I21/E21 -> 160157.31 | K21: 336330 | M21: 336330 | N21: =M21/K21 -> 1 | O21: 67266 | P21: 67266 | Q21: 252248 | R21: =Q21/K21 -> 0.75000149 | S21: 60540 | T21: 312787 | U21: =T21/K21 -> 0.9300003 | V21: 6726 | W21: 319513 | X21: =W21/K21 -> 0.94999851 | Y21: 16817 | Z21: 336330 | AA21: =Z21/K21 -> 1 | AC21: 336330 | AD21: =AC21/K21 -> 1 | AF21: 336330 | AG21: =AE21/K21 -> 0 | AM21: 0 | AN21: =(M21+AM21)/K21 -> 1 | AO21: =K21-M21 -> 0
B22: Poker d'As 1 bureaux | C22: PRLC 0091 | D22: 2012 | F22: FMA | G22: fin | I22: 3513754 | J22: =I22/E22 -> #DIV/0! | K22: 497939 | M22: 512877 | N22: =M22/K22 -> 1.0299997 | O22: 26353 | P22: =17569+8784 -> 26353 | Q22: 122981 | R22: =Q22/K22 -> 0.24698005 | S22: 139050 | T22: 253248 | U22: =T22/K22 -> 0.50859242 | V22: =23835+210897 -> 234732 | W22: 487980 | X22: =W22/K22 -> 0.97999956 | Y22: 24897 | Z22: 512877 | AA22: =Z22/K22 -> 1.0299997 | AC22: 512877 | AD22: =AC22/K22 -> 1.0299997 | AF22: 512877 | AG22: =AE22/K22 -> 0 | AM22: 0 | AN22: =(M22+AM22)/K22 -> 1.0299997 | AO22: 0
B23: Les Mimosas | C23: PRLC 0114 | D23: 2012 | E23: 40 | F23: FHO | G23: fin | I23: 4969330 | J23: =I23/E23 -> 124233.25 | K23: 248466 | M23: 248466 | N23: =M23/K23 -> 1 | O23: 21122 | P23: =24202+12101 -> 36303 | Q23: 169412 | R23: =Q23/K23 -> 0.68183172 | S23: 50193 | T23: 219605 | U23: =T23/K23 -> 0.88384326 | V23: =9636+7462 -> 17098 | W23: 236703 | X23: =W23/K23 -> 0.95265751 | Y23: 11763 | Z23: 248466 | AA23: =Z23/K23 -> 1 | AC23: 248466 | AD23: =AC23/K23 -> 1 | AF23: 248466 | AG23: =AE23/K23 -> 0 | AM23: 0 | AN23: =(M23+AM23)/K23 -> 1 | AO23: =K23-M23 -> 0
B24: Résidence Aubépines (Les Boulistes) | C24: PRLC0104 | D24: 2012 | E24: 17 | F24: ADE | G24: fin | I24: 3094743 | J24: =I24/E24 -> 182043.71 | K24: 154737.15 | M24: 154737.15 | N24: =M24/K24 -> 1 | O24: 12038 | P24: 12365 | Q24: 80370 | R24: =Q24/K24 -> 0.51939693 | S24: 12365 | T24: 92735 | U24: =T24/K24 -> 0.59930663 | V24: =6182+6182+3091 -> 15455 | W24: 108191 | X24: =W24/K24 -> 0.69919215 | Y24: =36328+2947 -> 39275 | Z24: 147465 | AA24: =Z24/K24 -> 0.95300321 | AB24: 7272.15 | AC24: 154737.15 | AD24: =AC24/K24 -> 1 | AF24: 154737.15 | AG24: =AE24/K24 -> 0 | AM24: 0 | AN24: =(M24+AM24)/K24 -> 1 | AO24: =K24-M24 -> 0
B25: Résidence Bouton d'Or | C25: PRLC 0117 | D25: 2012 | E25: 65 | F25: FVA | G25: fin | I25: 10053368 | J25: =I25/E25 -> 154667.2 | K25: 502668 | M25: 502668 | N25: =M25/K25 -> 1 | O25: 35654 | P25: 48710 | Q25: 316616 | R25: =Q25/K25 -> 0.62987101 | S25: 97418 | T25: 414029 | U25: =T25/K25 -> 0.82366293 | V25: 0 | W25: 414029 | X25: =W25/K25 -> 0.82366293 | Y25: =373+24420+21619 -> 46412 | Z25: 460446 | AA25: =Z25/K25 -> 0.9160042 | AB25: =15007+27215 -> 42222 | AC25: 502668 | AD25: =AC25/K25 -> 1 | AF25: 502668 | AG25: =AE25/K25 -> 0 | AM25: =25024*0 -> 0 | AN25: =(M25+AM25)/K25 -> 1 | AO25: =K25-M25 -> 0
B26: Le CAP (BH228) Saint Leu | C26: PRLC 0135 | D26: 2012 | E26: 24 | F26: YFR | G26: fin | I26: 3959483 | J26: =I26/E26 -> 164978.46 | K26: 197974 | M26: 197974 | N26: =M26/K26 -> 1 | O26: =94207+10525-1104 -> 103628 | P26: =19042+1104 -> 20146 | Q26: 123774 | R26: =Q26/K26 -> 0.62520331 | S26: 19042 | T26: 142816 | U26: =T26/K26 -> 0.72138766 | V26: =9383+9512 -> 18895 | W26: 161711 | X26: =W26/K26 -> 0.81682948 | Y26: =17322+9946 -> 27268 | Z26: 188979 | AA26: =Z26/K26 -> 0.95456474 | AB26: 8995 | AC26: 197974 | AD26: =AC26/K26 -> 1 | AF26: 197974 | AG26: =AE26/K26 -> 0 | AM26: 0 | AN26: =(M26+AM26)/K26 -> 1 | AO26: =K26-M26 -> 0
B27: Paille en Queue | C27: PRLC 0138 | D27: 2013 | E27: 10 | F27: YFR | G27: fin | I27: 2030244 | J27: =I27/E27 -> 203024.4 | K27: 101512 | M27: 101608 | N27: =M27/K27 -> 1.0009457 | O27: 41590 | P27: 7562 | Q27: 49152 | R27: =Q27/K27 -> 0.48419891 | S27: 28740 | T27: 77892 | U27: =T27/K27 -> 0.76731815 | V27: =7315+7222 -> 14537 | W27: 92429 | X27: =W27/K27 -> 0.91052289 | Y27: 9179 | Z27: 101887 | AA27: =Z27/K27 -> 1.0036941 | AC27: 101608 | AD27: =AC27/K27 -> 1.0009457 | AF27: 101608 | AG27: =AE27/K27 -> 0 | AM27: 0 | AN27: =(M27+AM27)/K27 -> 1.0009457 | AO27: =K27-M27 -> -96
B28: Sceau de Salomon | C28: PRLC 0128 | D28: 2012 | E28: 84 | F28: SFE | G28: fin | I28: 9378520 | J28: =I28/E28 -> 111649.05 | K28: 645925 | M28: 645925 | N28: =M28/K28 -> 1 | O28: 209869 | P28: =46864+47415 -> 94279 | Q28: 350810 | R28: =Q28/K28 -> 0.54311259 | S28: 93550 | T28: 444360 | U28: =T28/K28 -> 0.68794365 | V28: =24566+163000 -> 187566 | W28: =468926+163000 -> 631926 | X28: =W28/K28 -> 0.97832721 | Y28: 16999 | Z28: 645925 | AA28: =Z28/K28 -> 1 | AC28: 645925 | AD28: =AC28/K28 -> 1 | AF28: 645925 | AG28: =AE28/K28 -> 0 | AM28: 0 | AN28: =(M28+AM28)/K28 -> 1 | AO28: =K28-M28 -> 0
B29: Laurency | C29: PRLC 0101 | D29: 2012 | E29: 22 | F29: APU | G29: fin | I29: 3538433 | J29: =I29/E29 -> 160837.86 | K29: 176922 | M29: 176922 | N29: =M29/K29 -> 1 | O29: 75076 | P29: =16867+16867 -> 33734 | Q29: 126502 | R29: =Q29/K29 -> 0.71501566 | S29: 25301 | T29: 151803 | U29: =T29/K29 -> 0.85802218 | V29: 5060 | W29: 156863 | X29: =W29/K29 -> 0.88662235 | Y29: =3373+16686 -> 20059 | Z29: 176922 | AA29: =Z29/K29 -> 1 | AC29: 176922 | AD29: =AC29/K29 -> 1 | AF29: 176922 | AG29: =AE29/K29 -> 0 | AM29: 0 | AN29: =(M29+AM29)/K29 -> 1 | AO29: =K29-M29 -> 0
B30: Résidence ALAMANDAS | C30: PRLC 0107 | D30: 2012 | E30: 75 | F30: SGM | G30: fin | I30: 18507505 | J30: 130000 | K30: 925375 | M30: 925375 | N30: =M30/K30 -> 1 | O30: 428820 | P30: 135266 | Q30: 634840 | R30: =Q30/K30 -> 0.68603539 | S30: 131084 | T30: 765924 | U30: =T30/K30 -> 0.8276904 | V30: =44551+45501 -> 90052 | W30: 855976 | X30: =W30/K30 -> 0.92500446 | Y30: 69399 | Z30: 925375 | AA30: =Z30/K30 -> 1 | AC30: 925375 | AD30: =AC30/K30 -> 1 | AF30: 925375 | AG30: =AE30/K30 -> 0 | AM30: 0 | AN30: =(M30+AM30)/K30 -> 1 | AO30: =K30-M30 -> 0 | AS30: =AM31-SUM(AR19:AR30) -> 0
D31: =COUNTA(D19:D30)-1 -> 11 | E31: =SUM(E19:E30) -> 400 | I31: =SUM(I19:I30) -> 69321816 | K31: =SUM(K19:K30) -> 3965339.1 | M31: =SUM(M19:M30) -> 3980373.1 | N31: =M31/K31 -> 1.0037914 | O31: =SUM(O19:O30) -> 1084431 | P31: =SUM(P19:P30) -> 525539 | Q31: =SUM(Q19:Q30) -> 2356948 | R31: =Q31/K31 -> 0.59438749 | S31: =SUM(S19:S30) -> 695257 | T31: =SUM(T19:T30) -> 3043416 | U31: =T31/K31 -> 0.76750459 | V31: =SUM(V19:V30) -> 599395 | W31: =SUM(W19:W30) -> 3642812 | X31: =W31/K31 -> 0.91866341 | Y31: =SUM(Y19:Y30) -> 282068 | Z31: =SUM(Z19:Z30) -> 3922163 | AA31: =Z31/K31 -> 0.98911161 | AB31: =SUM(AB19:AB30) -> 58489.15 | AC31: =SUM(AC19:AC30) -> 3980373.1 | AD31: =AC31/K31 -> 1.0037914 | AE31: =SUM(AE19:AE30) -> 0 | AF31: =SUM(AF19:AF30) -> 3980373.1 | AG31: =AE31/K31 -> 0 | AM31: =SUM(AM19:AM30) -> 0 | AN31: =(M31+AM31)/K31 -> 1.0037914 | AO31: =SUM(AO19:AO30) -> -96
A32: 2013 | B32: Takamaka | C32: PRLC 0093 | D32: 2013 | E32: 14 | F32: FHO | G32: fin | I32: 2375752 | J32: =I32/E32 -> 169696.57 | K32: =L32*I32 -> 118787.6 | L32: 0.05 | M32: 118788 | N32: =M32/K32 -> 1.0000034 | O32: 0 | P32: 52184 | Q32: 63943 | R32: =Q32/K32 -> 0.53829693 | S32: 19080 | T32: 83023 | U32: =T32/K32 -> 0.69891975 | V32: =5931+6048+4031+5748+6876+998 -> 29632 | W32: 112655 | X32: =W32/K32 -> 0.9483734 | Z32: 112655 | AA32: =Z32/K32 -> 0.9483734 | AB32: 6133 | AC32: 118788 | AD32: =AC32/K32 -> 1.0000034 | AF32: 118788 | AG32: =AF32/K32 -> 1.0000034 | AI32: 118788 | AJ32: =AI32/K32 -> 1.0000034 | AL32: =AK32/K32 -> 0 | AM32: 0 | AN32: =(M32+AM32)/K32 -> 1.0000034 | AO32: =K32-M32 -> -0.4
B33: Lié ETHEVE (Poker d'As II) | C33: PRLC 0139 | D33: 2013 | E33: 44 | F33: NBL | G33: fin | I33: 6925720 | J33: =I33/E33 -> 157402.73 | K33: =L33*I33 -> 346286 | L33: 0.05 | M33: 346286 | N33: =M33/K33 -> 1 | O33: 74596 | P33: =111893+2242 -> 114135 | Q33: 188730 | R33: =Q33/K33 -> 0.54501193 | S33: 68629 | T33: 257360 | U33: =T33/K33 -> 0.74320071 | V33: 51472 | W33: 308833 | X33: =W33/K33 -> 0.89184374 | Y33: 21718 | Z33: 330551 | AA33: =Z33/K33 -> 0.95456068 | AB33: 15661 | AC33: 346212 | AD33: =AC33/K33 -> 0.9997863 | AE33: 71.26 | AF33: 346286 | AG33: =AF33/K33 -> 1 | AI33: 346286 | AJ33: =AI33/K33 -> 1 | AL33: =AK33/K33 -> 0 | AM33: 0 | AN33: =(M33+AM33)/K33 -> 1 | AO33: =K33-M33 -> 0
B34: PIVET VELIN | C34: PRLC 0147 | D34: 2013 | E34: 54 | F34: YFR | G34: fin | I34: 9890549 | J34: =I34/E34 -> 183158.31 | K34: =L34*I34 -> 494527.45 | L34: 0.05 | M34: 494527 | N34: =M34/K34 -> 0.99999909 | O34: 42868 | P34: =176082 -> 176082 | Q34: 218950 | R34: =Q34/K34 -> 0.4427459 | S34: 97374 | T34: 316324 | U34: =T34/K34 -> 0.63964902 | V34: 43701 | W34: 360025 | X34: =W34/K34 -> 0.72801823 | Y34: 20543 | Z34: 380568 | AA34: =Z34/K34 -> 0.7695589 | AB34: =32730+13017+29863 -> 75610 | AC34: 456178 | AD34: =AC34/K34 -> 0.92245233 | AE34: 38349 | AF34: =456178+38349 -> 494527 | AG34: =AF34/K34 -> 0.99999909 | AI34: 494527 | AJ34: =AI34/K34 -> 0.99999909 | AL34: =AK34/K34 -> 0 | AM34: 0 | AN34: =(M34+AM34)/K34 -> 0.99999909 | AO34: =K34-M34 -> 0.45
B35: FANFAN | C35: PRLC 0149 | D35: 2013 | E35: 24 | F35: FVA | G35: fin | I35: 3867445 | J35: =I35/E35 -> 161143.54 | K35: =L35*I35 -> 193372.25 | L35: 0.05 | M35: 193372 | N35: =M35/K35 -> 0.99999871 | O35: 16144 | P35: =8072+16144+20008+25872+8624 -> 78720 | Q35: 94864 | R35: =Q35/K35 -> 0.49057711 | S35: 17248 | T35: 112112 | U35: =T35/K35 -> 0.57977295 | V35: =8624+8624+17680 -> 34928 | W35: 147042 | X35: =W35/K35 -> 0.760409 | Y35: =22686+6536 -> 29222 | Z35: 176264 | AA35: =Z35/K35 -> 0.91152686 | AB35: =6573+10537 -> 17110 | AC35: 193372 | AD35: =AC35/K35 -> 0.99999871 | AF35: 193372 | AG35: =AF35/K35 -> 0.99999871 | AI35: 193372 | AJ35: =AI35/K35 -> 0.99999871 | AL35: =AK35/K35 -> 0 | AM35: =9623*0 -> 0 | AN35: =(M35+AM35)/K35 -> 0.99999871 | AO35: =K35-M35 -> 0.25
B36: Rue de l'Eglise | C36: PRLC 0148 | D36: 2013 | E36: 18 | F36: NBL | G36: fin | I36: 3241649 | J36: =I36/E36 -> 180091.61 | K36: =L36*I36 -> 162082.45 | L36: 0.05 | M36: 162085 | N36: =M36/K36 -> 1.0000157 | O36: 14755 | P36: =14755+4453+12951+19295+4540 -> 55994 | Q36: 70749 | R36: =Q36/K36 -> 0.43650007 | S36: 23813 | T36: 94562 | U36: =T36/K36 -> 0.58341912 | V36: =10375+7495 -> 17870 | W36: 112432 | X36: =W36/K36 -> 0.69367165 | Y36: 22068 | Z36: 134500 | AA36: =Z36/K36 -> 0.82982457 | AB36: =2418+8123+8370 -> 18911 | AC36: 153411 | AD36: =AC36/K36 -> 0.94649976 | AE36: 8105 | AF36: 162085 | AG36: =AF36/K36 -> 1.0000157 | AI36: 162085 | AJ36: =AI36/K36 -> 1.0000157 | AL36: =AK36/K36 -> 0 | AM36: 0 | AN36: =(M36+AM36)/K36 -> 1.0000157 | AO36: =K36-M36 -> -2.55
B37: Barrage | C37: PRLC 0140 | D37: 2013 | E37: 110 | F37: BBL | G37: GPA | I37: 19497460 | J37: =I37/E37 -> 177249.64 | K37: =L37*I37 -> 974873 | L37: 0.05 | M37: 916756 | N37: =M37/K37 -> 0.94038506 | O37: 193001 | P37: =48250+96501+144751 -> 289502 | Q37: 482503 | R37: =Q37/K37 -> 0.49493934 | S37: 0 | T37: 482503 | U37: =T37/K37 -> 0.49493934 | V37: =96501+48250+48250 -> 193001 | W37: 675504 | X37: =W37/K37 -> 0.69291487 | Y37: =96501+72375 -> 168876 | Z37: 844380 | AA37: =Z37/K37 -> 0.86614359 | AB37: 72376 | AC37: 916756 | AD37: =AC37/K37 -> 0.94038506 | AE37: 0 | AF37: 916756 | AG37: =AF37/K37 -> 0.94038506 | AI37: 916756 | AJ37: =AI37/K37 -> 0.94038506 | AL37: =AK37/K37 -> 0 | AM37: =58117 -> 58117 | AN37: =(M37+AM37)/K37 -> 1 | AO37: =K37-M37 -> 58117 | AP37: bilan final
B38: LES TAMARINIERS | C38: PRLC 0113 | D38: 2013 | E38: 81 | F38: TQU | G38: fin | I38: 13154943 | J38: =I38/E38 -> 162406.7 | K38: =L38*I38 -> 657747.15 | L38: 0.05 | M38: 657747 | N38: =M38/K38 -> 0.99999977 | O38: 164241 | P38: =65696+121749+98544 -> 285989 | Q38: 328481 | R38: =Q38/K38 -> 0.49940315 | S38: 114968 | T38: 443449 | U38: =T38/K38 -> 0.67419372 | V38: =16427+32848+66361 -> 115636 | W38: 559085 | X38: =W38/K38 -> 0.84999988 | Y38: =32887+19732+13155 -> 65774 | Z38: 624860 | AA38: =Z38/K38 -> 0.95000032 | AB38: 32887 | AC38: 657747 | AD38: =AC38/K38 -> 0.99999977 | AF38: 657747 | AG38: =AF38/K38 -> 0.99999977 | AI38: 657747 | AJ38: =AI38/K38 -> 0.99999977 | AL38: =AK38/K38 -> 0 | AM38: 0 | AN38: =(M38+AM38)/K38 -> 0.99999977 | AO38: =K38-M38 -> 0.15
B39: Parc à Moutons | C39: PRLC 0121 | D39: 2013 | E39: 34 | F39: YFR | G39: fin | I39: 5396489 | J39: =I39/E39 -> 158720.26 | K39: =L39*I39 -> 269824.45 | L39: 0.05 | M39: 274695 | N39: =M39/K39 -> 1.0180508 | O39: 0 | P39: =39806+24327+36491 -> 100624 | Q39: 121637 | R39: =Q39/K39 -> 0.45080051 | S39: 57637 | T39: 179254 | U39: =T39/K39 -> 0.66433564 | V39: =12873+5536 -> 18409 | W39: 197683 | X39: =W39/K39 -> 0.73263561 | Y39: 21261 | Z39: 218944 | AA39: =Z39/K39 -> 0.81143128 | AB39: =9093+42937 -> 52030 | AC39: 270974 | AD39: =AC39/K39 -> 1.0042604 | AE39: 3721 | AF39: =270974 -> 270974 | AG39: =AF39/K39 -> 1.0042604 | AI39: 274695 | AJ39: =AI39/K39 -> 1.0180508 | AL39: =AK39/K39 -> 0 | AM39: 0 | AN39: =(M39+AM39)/K39 -> 1.0180508 | AO39: =K39-M39 -> -4870.55
B40: AMARYLLIS | C40: PRLC 0109 | D40: 2013 | E40: 9 | F40: NBL | G40: fin | I40: 1659203 | J40: =I40/E40 -> 184355.89 | K40: =L40*I40 -> 82960.15 | L40: 0.05 | M40: 82960 | N40: =M40/K40 -> 0.99999819 | O40: =16481*0 -> 0 | P40: 40271 | Q40: 40271 | R40: =Q40/K40 -> 0.48542583 | S40: 7322 | T40: 47593 | U40: =T40/K40 -> 0.57368508 | V40: =11783+3958+7917 -> 23658 | W40: 71251 | X40: =W40/K40 -> 0.85885814 | Y40: 3958 | Z40: 75209 | AA40: =Z40/K40 -> 0.90656779 | AB40: 7751 | AC40: 82960 | AD40: =AC40/K40 -> 0.99999819 | AF40: 82960 | AG40: =AF40/K40 -> 0.99999819 | AI40: 82960 | AJ40: =AI40/K40 -> 0.99999819 | AL40: =AK40/K40 -> 0 | AM40: 0 | AN40: =(M40+AM40)/K40 -> 0.99999819 | AO40: =K40-M40 -> 0.15
...

Sheet Listes
B1: CI VEFA
A2: programmation | B2: 0.1 | C2: =B2 -> 0.1
A3: Dépôt PC | B3: 0.05 | C3: =B3+C2 -> 0.15
A4: Contrat réservation | B4: 0.15 | C4: =B4+C3 -> 0.3
A5: VEFA | B5: 0.15 | C5: =B5+C4 -> 0.45
A6: OS | B6: 0.05 | C6: =B6+C5 -> 0.5
A7: Terrassement | B7: 0.05 | C7: =B7+C6 -> 0.55
A8: Fondations | B8: 0.1 | C8: =B8+C7 -> 0.65
A9: Plancher bas du R+1 | B9: 0.05 | C9: =B9+C8 -> 0.7
A10: HDE | B10: 0.05 | C10: =B10+C9 -> 0.75
A11: HDA | B11: 0.05 | C11: =B11+C10 -> 0.8
A12: Plâtres | B12: 0.05 | C12: =B12+C11 -> 0.85
A13: DAT | B13: 0.05 | C13: =B13+C12 -> 0.9
A14: RDC | B14: 0.05 | C14: =B14+C13 -> 0.95
A15: Bilan final | B15: 0.05 | C15: =B15+C14 -> 1
