Workbook
Name _NH2011: #REF!
Name _NH2012: #REF!
Name _Rem2010: 'Prév Hono Construction 2020'!$F$3:$F$6
Name _RO2010: 'Prév Hono Construction 2020'!$F$9:$F$11
Name Am: 'Prév Hono Construction 2020'!$E$239:$E$251
Name Annee_Inaug: '[1]Données initiales'!$FL$2:$FL$136
Name Annee_OS: '[1]Données initiales'!$DY$2:$DY$136
Name Ass: '[1]Données initiales'!$H$2:$H$136
Name Avancement: '[1]Données initiales'!$I$2:$I$136
Name Bdgt: 'Prév Hono Construction 2020'!$G$129:$G$221
Name Bdgt: '[1]Données initiales'!$GW$4:$GW$136
Name Bdgt2010: 'Prév Hono Construction 2020'!$I$9:$I$11
Name Bdgt2011: 'Prév Hono Construction 2020'!$I$13:$I$17
Name Bdgt2012: 'Prév Hono Construction 2020'!$I$19:$I$30
Name Bdgt2013: 'Prév Hono Construction 2020'!$I$32:$I$41
Name Bdgt2014: 'Prév Hono Construction 2020'!$I$43:$I$49
Name Bdgt2015: 'Prév Hono Construction 2020'!$I$51:$I$58
Name Bdgt2016: 'Prév Hono Construction 2020'!$I$60:$I$67
Name Bdgt2017: 'Prév Hono Construction 2020'!$I$69:$I$76
Name Bdgt2018: 'Prév Hono Construction 2020'!$I$78:$I$83
Name Bdgt2019: 'Prév Hono Construction 2020'!$I$85:$I$92
Name Bdgt2020: 'Prév Hono Construction 2020'!$I$94:$I$103
Name Bdgt2021: 'Prév Hono Construction 2020'!$I$105:$I$113
Name Ecart_DEAL_OS: '[1]Données initiales'!$DZ$2:$DZ$136
Name Fonds_propres: '[1]Données initiales'!$IL$2:$IL$136
Name LBU: '[1]Données initiales'!$HR$2:$HR$136
Name Livraison: '[1]Données initiales'!$FK$2:$FK$136
Name Loyers: '[1]Données initiales'!$FO$2:$FO$136
Name N_lgt: 'Prév Hono Construction 2020'!$E$19:$E$115
Name Nlgts: '[1]Données initiales'!$AE$2:$AE$136
Name Nlgts_hors_rehab: '[1]Données initiales'!$AF$2:$AF$136
Name Notaire: '[1]Données initiales'!$CS$2:$CS$136
Name OS: '[1]Données initiales'!$DX$2:$DX$136
Name PA_SAS_HT_PLS: '[2]DPR PLS'!$E$68
Name Phase: 'Prév Hono Construction 2020'!$G$32:$G$113
Name Phase2010: 'Prév Hono Construction 2020'!$G$9:$G$11
Name Phase2011: 'Prév Hono Construction 2020'!$G$13:$G$17
Name Phase2012: 'Prév Hono Construction 2020'!$G$19:$G$30
Name Phase2013: 'Prév Hono Construction 2020'!$G$32:$G$41
Name Phase2014: 'Prév Hono Construction 2020'!$G$43:$G$49
Name Phase2015: 'Prév Hono Construction 2020'!$G$51:$G$58
Name Phase2016: 'Prév Hono Construction 2020'!$G$60:$G$67
Name Phase2017: 'Prév Hono Construction 2020'!$G$69:$G$76
Name Phase2018: 'Prév Hono Construction 2020'!$G$78:$G$83
Name Phase2019: 'Prév Hono Construction 2020'!$G$85:$G$92
Name Phase2020: 'Prév Hono Construction 2020'!$G$94:$G$103
Name Phase2021: 'Prév Hono Construction 2020'!$G$105:$G$113
Name Prog: 'Prév Hono Construction 2020'!$C$129:$C$221
Name Prog: '[1]Données initiales'!$E$2:$E$136
Name Prog2010: 'Prév Hono Construction 2020'!$E$9:$E$11
Name Prog2011: 'Prév Hono Construction 2020'!$E$13:$E$17
Name Prog2012: 'Prév Hono Construction 2020'!$E$19:$E$30
Name Prog2013: 'Prév Hono Construction 2020'!$E$32:$E$41
Name Prog2014: 'Prév Hono Construction 2020'!$E$43:$E$49
Name Prog2015: 'Prév Hono Construction 2020'!$E$51:$E$58
Name Prog2016: 'Prév Hono Construction 2020'!$E$60:$E$67
Name Prog2017: 'Prév Hono Construction 2020'!$E$69:$E$76
Name Prog2018: 'Prév Hono Construction 2020'!$E$78:$E$83
Name Prog2019: 'Prév Hono Construction 2020'!$E$85:$E$92
Name Prog2020: 'Prév Hono Construction 2020'!$E$94:$E$103

Sheet Prév Hono Construction 2020
B1: Libellé | C1: Code | D1: Prog | E1: N logts | F1: RO | G1: Phase | H1: VEFA | I1: Dépenses prév | J1: Ratio Logts | K1: Total Rem Previ | L1: % rémunération | M1: Cumul au | N1: % avancement total | O1: Rem Perçue en 2012 | P1: Rem Perçue en 2013 | Q1: Cumul perçu au 31/12/2013 | R1: % avancement 2013 | S1: Rem perçue en 2014 | T1: Cumul perçu au 31/12/2014 | U1: % avancement 2014 | V1: Rem perçue en 2015 | W1: Cumul perçu au 31/12/2015 | X1: % avancement 2015 | Y1: Rem perçue en 2016 | Z1: Cumul perçu au 31/12/2016 | AA1: % avancement 2016 | AB1: Rem perçue en 2017 | AC1: Cumul perçu au 31/12/2017 | AD1: % avancement 2017 | AE1: Rem perçue en 2018 | AF1: Cumul perçu au 31/12/18 | AG1: % avancement 2018 | AH1: Rem Perçue en 2019 | AI1: Cumul perçu au 31/12/19 | AJ1: % avancement 2019 | AK1: Rem perçue en 2020 | AL1: % avancement 2020 au | AM1: Reste à percevoir en 2020 | AN1: % avancement prévu à fin 2020 | AO1: Restera à Percevoir au Total | AP1: INITIAL | AQ1: Avancement final | AR1: Contrôle calcul avancement
M2: =TODAY() -> 44172 | O2: Montant | AJ2: =TODAY() -> 44172 | AQ2: fin 2020
A3: 2008/2009 | B3: Camphrier | C3: PRLC 0063 | D3: 2008 | E3: 84 | F3: FHO | G3: fin | I3: 9484719 | J3: =I3/E3 -> 112913.32 | K3: 487450 | M3: 487450 | N3: =M3/K3 -> 1 | O3: 32540 | Q3: 487450 | R3: =Q3/K3 -> 1 | S3: 0 | T3: 487450 | U3: =T3/K3 -> 1 | W3: 487450 | X3: =W3/K3 -> 1 | Z3: 487450 | AA3: =Z3/K3 -> 1 | AC3: 487450 | AD3: =AC3/K3 -> 1 | AF3: 487450 | AG3: =AE3/K3 -> 0 | AM3: 0 | AN3: =(M3+AM3)/K3 -> 1 | AO3: =K3-M3 -> 0
B4: Ile bourbon | C4: PRLC 0091 | D4: 2009 | E4: 47 | F4: NBL | G4: fin | I4: 6475362 | J4: =I4/E4 -> 137773.66 | K4: 323756 | M4: 323756 | N4: =M4/K4 -> 1 | O4: 16193 | P4: 0 | Q4: 307678 | R4: =Q4/K4 -> 0.95033914 | S4: 16078 | T4: 323756 | U4: =T4/K4 -> 1 | W4: 323756 | X4: =W4/K4 -> 1 | Z4: 323756 | AA4: =Z4/K4 -> 1 | AC4: 323756 | AD4: =AC4/K4 -> 1 | AF4: 323756 | AG4: =AE4/K4 -> 0 | AM4: 0 | AN4: =(M4+AM4)/K4 -> 1 | AO4: =K4-M4 -> 0
B5: Réservoir Stella | C5: PRLC 0092 | D5: 2009 | E5: 34 | F5: NBL | G5: fin | I5: 5008372 | J5: =I5/E5 -> 147305.06 | K5: 223829 | M5: 223829 | N5: =M5/K5 -> 1 | O5: 7835 | P5: 0 | Q5: 223829 | R5: =Q5/K5 -> 1 | S5: 0 | T5: 223829 | U5: =T5/K5 -> 1 | W5: 223829 | X5: =W5/K5 -> 1 | Z5: 223829 | AA5: =Z5/K5 -> 1 | AC5: 223829 | AD5: =AC5/K5 -> 1 | AF5: 223829 | AG5: =AE5/K5 -> 0 | AM5: 0 | AN5: =(M5+AM5)/K5 -> 1 | AO5: =K5-M5 -> 0
B6: Capucines | C6: PRLC 0088 | D6: 2008 | E6: 18 | F6: SFE | G6: fin | I6: 2892845 | J6: =I6/E6 -> 160713.61 | K6: 144692 | M6: 144692 | N6: =M6/K6 -> 1 | Q6: 144692 | R6: =Q6/K6 -> 1 | S6: 0 | T6: 144692 | U6: =T6/K6 -> 1 | W6: 144692 | X6: =W6/K6 -> 1 | Z6: 144692 | AA6: =Z6/K6 -> 1 | AC6: 144692 | AD6: =AC6/K6 -> 1 | AF6: 144692 | AG6: =AE6/K6 -> 0 | AM6: 0 | AN6: =(M6+AM6)/K6 -> 1 | AO6: =K6-M6 -> 0
B7: CoeurVillage-RPA | C7: PRLC 0089 | D7: 2009 | E7: 27 | F7: SGM | G7: fin | I7: 3246438 | J7: =I7/E7 -> 120238.44 | K7: 162321.91 | M7: 162321.91 | N7: =M7/K7 -> 1 | O7: 5220 | Q7: 162321.91 | R7: =Q7/K7 -> 1 | S7: 0 | T7: 162321.91 | U7: =T7/K7 -> 1 | W7: 162321.91 | X7: =W7/K7 -> 1 | Z7: 162321.91 | AA7: =Z7/K7 -> 1 | AC7: 162321.91 | AD7: =AC7/K7 -> 1 | AF7: 162321.91 | AG7: =AE7/K7 -> 0 | AM7: 0 | AN7: =(M7+AM7)/K7 -> 1 | AO7: =K7-M7 -> 0
D8: =COUNTA(D3:D7) -> 5 | E8: =SUM(E3:E7) -> 210 | I8: =SUM(I3:I7) -> 27107736 | K8: =SUM(K3:K7) -> 1342048.9 | M8: =SUM(M3:M7) -> 1342048.9 | N8: =M8/K8 -> 1 | O8: =SUM(O3:O7) -> 61788 | P8: =SUM(P3:P7) -> 0 | Q8: =SUM(Q3:Q7) -> 1325970.9 | R8: =Q8/K8 -> 0.98801981 | S8: =SUM(S3:S7) -> 16078 | T8: =SUM(T3:T7) -> 1342048.9 | U8: =T8/K8 -> 1 | V8: =SUM(V3:V7) -> 0 | W8: =SUM(W3:W7) -> 1342048.9 | X8: =W8/K8 -> 1 | Y8: =SUM(Y3:Y7) -> 0 | Z8: =SUM(Z3:Z7) -> 1342048.9 | AA8: =Z8/K8 -> 1 | AC8: =SUM(AC3:AC7) -> 1342048.9 | AD8: =AC8/K8 -> 1 | AE8: =SUM(AE3:AE7) -> 0 | AF8: =SUM(AF3:AF7) -> 1342048.9 | AG8: =AE8/K8 -> 0 | AM8: =SUM(AM3:AM7) -> 0 | AN8: =(M8+AM8)/K8 -> 1 | AO8: =SUM(AO3:AO7) -> 0
A9: 2010 | B9: Désiré - Ravine du Pont | C9: PRLC 0099 | D9: 2010 | E9: 27 | F9: FHO | G9: fin | I9: 3582299 | J9: =I9/E9 -> 132677.74 | K9: 179115 | M9: 179115 | N9: =M9/K9 -> 1 | O9: 9824 | P9: =9094+18188 -> 27282 | Q9: 172785 | R9: =Q9/K9 -> 0.96465958 | S9: 6330 | T9: 179115 | U9: =T9/K9 -> 1 | W9: 179115 | X9: =W9/K9 -> 1 | Z9: 179115 | AA9: =Z9/K9 -> 1 | AC9: 179115 | AD9: =AC9/K9 -> 1 | AF9: 179115 | AG9: =AE9/K9 -> 0 | AM9: 0 | AN9: =(M9+AM9)/K9 -> 1 | AO9: =K9-M9 -> 0 | AT9: =49/6.5 -> 7.5384615
B10: Jules Vienne-Petite Ile | C10: PRLC 0098 | D10: 2010 | E10: 30 | F10: FMA | G10: fin | I10: 3900853 | J10: =I10/E10 -> 130028.43 | K10: 195043 | M10: 195043 | N10: =M10/K10 -> 1 | O10: 42640 | P10: =29256+9752 -> 39008 | Q10: 185290 | R10: =Q10/K10 -> 0.94999564 | S10: 9752 | T10: 195043 | U10: =T10/K10 -> 1 | W10: 195043 | X10: =W10/K10 -> 1 | Z10: 195043 | AA10: =Z10/K10 -> 1 | AC10: 195043 | AD10: =AC10/K10 -> 1 | AF10: 195043 | AG10: =AE10/K10 -> 0 | AM10: 0 | AN10: =(M10+AM10)/K10 -> 1 | AO10: =K10-M10 -> 0
B11: Tamarin Becquet (Butte Citronnelle) | C11: PRLC 0085 | D11: 2010 | E11: =19+2 -> 21 | F11: SGM | G11: fin | I11: 2903610 | J11: =I11/E11 -> 138267.14 | K11: 145176.94 | M11: 145176.94 | N11: =M11/K11 -> 1 | O11: 7278 | P11: 0 | Q11: 138153 | R11: =Q11/K11 -> 0.95161807 | S11: 7023.94 | T11: =145180-3.06 -> 145176.94 | U11: =T11/K11 -> 1 | W11: 145176.94 | X11: =W11/K11 -> 1 | Z11: 145176.94 | AA11: =Z11/K11 -> 1 | AC11: 145176.94 | AD11: =AC11/K11 -> 1 | AF11: 145176.94 | AG11: =AE11/K11 -> 0 | AM11: 0 | AN11: =(M11+AM11)/K11 -> 1 | AO11: =K11-M11 -> 0
D12: =COUNTA(D9:D11) -> 3 | E12: =SUM(E9:E11) -> 78 | I12: =SUM(I9:I11) -> 10386762 | K12: =SUM(K9:K11) -> 519334.94 | M12: =SUM(M9:M11) -> 519334.94 | N12: =M12/K12 -> 1 | O12: =SUM(O9:O11) -> 59742 | P12: =SUM(P9:P11) -> 66290 | Q12: =SUM(Q9:Q11) -> 496228 | R12: =Q12/K12 -> 0.95550667 | S12: =SUM(S9:S11) -> 23105.94 | T12: =SUM(T9:T11) -> 519334.94 | U12: =T12/K12 -> 1 | V12: =SUM(V9:V11) -> 0 | W12: =SUM(W9:W11) -> 519334.94 | X12: =W12/K12 -> 1 | Y12: =SUM(Y9:Y11) -> 0 | Z12: =SUM(Z9:Z11) -> 519334.94 | AA12: =Z12/K12 -> 1 | AC12: =SUM(AC9:AC11) -> 519334.94 | AD12: =AC12/K12 -> 1 | AE12: =SUM(AE9:AE11) -> 0 | AF12: =SUM(AF9:AF11) -> 519334.94 | AG12: =AE12/K12 -> 0 | AM12: =SUM(AM9:AM11) -> 0 | AN12: =(M12+AM12)/K12 -> 1 | AO12: =SUM(AO9:AO11) -> 0
A13: 2011 | B13: VEFA Les Pechers | C13: PRLC 0105 | D13: 2011 | E13: 20 | F13: FMA | G13: fin | I13: 3506440 | J13: =I13/E13 -> 175322 | K13: =140257.6/1.021 -> 137372.77 | M13: 137372.77 | N13: =M13/K13 -> 0.99999999 | O13: 37091 | P13: =13737.33+2747+5495+1374+8242+8242 -> 39837.33 | Q13: 137372.77 | R13: =Q13/K13 -> 1 | S13: 0 | T13: 137372.77 | U13: =T13/K13 -> 0.99999999 | W13: 137372.77 | X13: =W13/K13 -> 0.99999999 | Z13: 137372.77 | AA13: =Z13/K13 -> 0.99999999 | AC13: 137372.77 | AD13: =AC13/K13 -> 0.99999999 | AF13: 137372.77 | AG13: =AE13/K13 -> 0 | AM13: 0 | AN13: =(M13+AM13)/K13 -> 0.99999999 | AO13: =K13-M13 -> 0.0017923604
B14: Lavoir | C14: PRLC 0100 | D14: 2011 | E14: 14 | F14: YFR | G14: fin | I14: 2201051 | J14: =I14/E14 -> 157217.93 | K14: 110053 | M14: 110053 | N14: =M14/K14 -> 1 | O14: 20106 | P14: 21648 | Q14: 102824 | R14: =Q14/K14 -> 0.93431347 | S14: 7228 | T14: 110053 | U14: =T14/K14 -> 1 | W14: 110053 | X14: =W14/K14 -> 1 | Z14: 110053 | AA14: =Z14/K14 -> 1 | AC14: 110053 | AD14: =AC14/K14 -> 1 | AF14: 110053 | AG14: =AE14/K14 -> 0 | AM14: 0 | AN14: =(M14+AM14)/K14 -> 1 | AO14: =K14-M14 -> 0
B15: VEFA Oiseaux du Paradis | C15: PRLC 0123 | D15: 2011 | E15: =23 -> 23 | F15: NBL | G15: fin | I15: =150000*23 -> 3450000 | J15: =I15/E15 -> 150000 | K15: 156957 | M15: 156957 | N15: =M15/K15 -> 1 | O15: 58074 | P15: =10987+9417 -> 20404 | Q15: 156957 | R15: =Q15/K15 -> 1 | S15: 9417 | T15: 156957 | U15: =T15/K15 -> 1 | W15: 156957 | X15: =W15/K15 -> 1 | Z15: 156957 | AA15: =Z15/K15 -> 1 | AC15: 156957 | AD15: =AC15/K15 -> 1 | AF15: 156957 | AG15: =AE15/K15 -> 0 | AM15: 0 | AN15: =(M15+AM15)/K15 -> 1 | AO15: =K15-M15 -> 0
B16: P'titCanal | C16: PRLC 0094 | D16: 2011 | E16: 20 | F16: SFE | G16: fin | I16: 3330841 | J16: =I16/E16 -> 166542.05 | K16: 166542 | M16: 166542 | N16: =M16/K16 -> 1 | O16: 42324 | P16: =8326+8326 -> 16652 | Q16: 158190 | R16: =Q16/K16 -> 0.94985049 | S16: =8326+8352 -> 16678 | T16: 166542 | U16: =T16/K16 -> 1 | W16: 166542 | X16: =W16/K16 -> 1 | Z16: 166542 | AA16: =Z16/K16 -> 1 | AC16: 166542 | AD16: =AC16/K16 -> 1 | AF16: 166542 | AG16: =AE16/K16 -> 0 | AM16: 0 | AN16: =(M16+AM16)/K16 -> 1 | AO16: =K16-M16 -> 0
B17: VEFA les Rosiers | C17: PRLC 0124 | D17: 2011 | E17: 57 | F17: SFE | G17: fin | I17: 9832760 | J17: =I17/E17 -> 172504.56 | K17: 200000 | M17: 200000 | N17: =M17/K17 -> 1 | O17: 44000 | P17: 34000 | Q17: 178000 | R17: =Q17/K17 -> 0.89 | S17: 22000 | T17: 200000 | U17: =T17/K17 -> 1 | W17: 200000 | X17: =W17/K17 -> 1 | Z17: 200000 | AA17: =Z17/K17 -> 1 | AC17: 200000 | AD17: =AC17/K17 -> 1 | AF17: 200000 | AG17: =AE17/K17 -> 0 | AM17: =22000-S17 -> 0 | AN17: =(M17+AM17)/K17 -> 1 | AO17: =K17-M17 -> 0
D18: =COUNTA(D13:D17) -> 5 | E18: =SUM(E13:E17) -> 134 | I18: =SUM(I13:I17) -> 22321092 | K18: =SUM(K13:K17) -> 770924.77 | M18: =SUM(M13:M17) -> 770924.77 | N18: =M18/K18 -> 1 | O18: =SUM(O13:O17) -> 201595 | P18: =SUM(P13:P17) -> 132541.33 | Q18: =SUM(Q13:Q17) -> 733343.77 | R18: =Q18/K18 -> 0.95125205 | S18: =SUM(S13:S17) -> 55323 | T18: =SUM(T13:T17) -> 770924.77 | U18: =T18/K18 -> 1 | V18: =SUM(V13:V17) -> 0 | W18: =SUM(W13:W17) -> 770924.77 | X18: =W18/K18 -> 1 | Y18: =SUM(Y13:Y17) -> 0 | Z18: =SUM(Z13:Z17) -> 770924.77 | AA18: =Z18/K18 -> 1 | AC18: =SUM(AC13:AC17) -> 770924.77 | AD18: =AC18/K18 -> 1 | AE18: =SUM(AE13:AE17) -> 0 | AF18: =SUM(AF13:AF17) -> 770924.77 | AG18: =AE18/K18 -> 0 | AM18: =SUM(AM13:AM17) -> 0 | AN18: =(M18+AM18)/K18 -> 1 | AO18: =SUM(AO13:AO17) -> 0.0017923604
A19: 2012 | B19: FLAMBOYANT | C19: PRLC 0116 | D19: 2012 | E19: 14 | F19: FHO | G19: fin | I19: 2454841 | J19: =I19/E19 -> 175345.79 | K19: 122742 | M19: 122742 | N19: =M19/K19 -> 1 | O19: 34421 | P19: 33259 | Q19: 91353 | R19: =Q19/K19 -> 0.74426847 | S19: 25176 | T19: 116529 | U19: =T19/K19 -> 0.94938163 | V19: 6213 | W19: 122742 | X19: =W19/K19 -> 1 | Z19: 122742 | AA19: =Z19/K19 -> 1 | AC19: 122742 | AD19: =AC19/K19 -> 1 | AF19: 122742 | AG19: =AE19/K19 -> 0 | AM19: 0 | AN19: =(M19+AM19)/K19 -> 1 | AO19: =K19-M19 -> 0
B20: Désiré 2 | C20: PRLC 0133 | D20: 2012 | E20: 7 | F20: YFR | G20: fin | I20: 1094988 | J20: =I20/E20 -> 156426.86 | K20: 54749 | M20: 54749 | N20: =M20/K20 -> 1 | O20: 28594 | P20: 10296 | Q20: 38890 | R20: =Q20/K20 -> 0.71033261 | S20: 12798 | T20: 51688 | U20: =T20/K20 -> 0.9440903 | V20: 3061 | W20: 54749 | X20: =W20/K20 -> 1 | Z20: 54749 | AA20: =Z20/K20 -> 1 | AC20: 54749 | AD20: =AC20/K20 -> 1 | AF20: 54749 | AG20: =AE20/K20 -> 0 | AM20: 0 | AN20: =(M20+AM20)/K20 -> 1 | AO20: =K20-M20 -> 0
B21: Poker d'As 1 logements | C21: PRLC 0090 | D21: 2012 | E21: 42 | F21: FMA | G21: fin | I21: 6726607 | J21: =I21/E21 -> 160157.31 | K21: 336330 | M21: 336330 | N21: =M21/K21 -> 1 | O21: 67266 | P21: 67266 | Q21: 252248 | R21: =Q21/K21 -> 0.75000149 | S21: 60540 | T21: 312787 | U21: =T21/K21 -> 0.9300003 | V21: 6726 | W21: 319513 | X21: =W21/K21 -> 0.94999851 | Y21: 16817 | Z21: 336330 | AA21: =Z21/K21 -> 1 | AC21: 336330 | AD21: =AC21/K21 -> 1 | AF21: 336330 | AG21: =AE21/K21 -> 0 | AM21: 0 | AN21: =(M21+AM21)/K21 -> 1 | AO21: =K21-M21 -> 0
B22: Poker d'As 1 bureaux | C22: PRLC 0091 | D22: 2012 | F22: FMA | G22: fin | I22: 3513754 | J22: =I22/E22 -> #DIV/0! | K22: 497939 | M22: 512877 | N22: =M22/K22 -> 1.0299997 | O22: 26353 | P22: =17569+8784 -> 26353 | Q22: 122981 | R22: =Q22/K22 -> 0.24698005 | S22: 139050 | T22: 253248 | U22: =T22/K22 -> 0.50859242 | V22: =23835+210897 -> 234732 | W22: 487980 | X22: =W22/K22 -> 0.97999956 | Y22: 24897 | Z22: 512877 | AA22: =Z22/K22 -> 1.0299997 | AC22: 512877 | AD22: =AC22/K22 -> 1.0299997 | AF22: 512877 | AG22: =AE22/K22 -> 0 | AM22: 0 | AN22: =(M22+AM22)/K22 -> 1.0299997 | AO22: 0
B23: Les Mimosas | C23: PRLC 0114 | D23: 2012 | E23: 40 | F23: FHO | G23: fin | I23: 4969330 | J23: =I23/E23 -> 124233.25 | K23: 248466 | M23: 248466 | N23: =M23/K23 -> 1 | O23: 21122 | P23: =24202+12101 -> 36303 | Q23: 169412 | R23: =Q23/K23 -> 0.68183172 | S23: 50193 | T23: 219605 | U23: =T23/K23 -> 0.88384326 | V23: =9636+7462 -> 17098 | W23: 236703 | X23: =W23/K23 -> 0.95265751 | Y23: 11763 | Z23: 248466 | AA23: =Z23/K23 -> 1 | AC23: 248466 | AD23: =AC23/K23 -> 1 | AF23: 248466 | AG23: =AE23/K23 -> 0 | AM23: 0 | AN23: =(M23+AM23)/K23 -> 1 | AO23: =K23-M23 -> 0
B24: Résidence Aubépines (Les Boulistes) | C24: PRLC0104 | D24: 2012 | E24: 17 | F24: ADE | G24: fin | I24: 3094743 | J24: =I24/E24 -> 182043.71 | K24: 154737.15 | M24: 154737.15 | N24: =M24/K24 -> 1 | O24: 12038 | P24: 12365 | Q24: 80370 | R24: =Q24/K24 -> 0.51939693 | S24: 12365 | T24: 92735 | U24: =T24/K24 -> 0.59930663 | V24: =6182+6182+3091 -> 15455 | W24: 108191 | X24: =W24/K24 -> 0.69919215 | Y24: =36328+2947 -> 39275 | Z24: 147465 | AA24: =Z24/K24 -> 0.95300321 | AB24: 7272.15 | AC24: 154737.15 | AD24: =AC24/K24 -> 1 | AF24: 154737.15 | AG24: =AE24/K24 -> 0 | AM24: 0 | AN24: =(M24+AM24)/K24 -> 1 | AO24: =K24-M24 -> 0
B25: Résidence Bouton d'Or | C25: PRLC 0117 | D25: 2012 | E25: 65 | F25: FVA | G25: fin | I25: 10053368 | J25: =I25/E25 -> 154667.2 | K25: 502668 | M25: 502668 | N25: =M25/K25 -> 1 | O25: 35654 | P25: 48710 | Q25: 316616 | R25: =Q25/K25 -> 0.62987101 | S25: 97418 | T25: 414029 | U25: =T25/K25 -> 0.82366293 | V25: 0 | W25: 414029 | X25: =W25/K25 -> 0.82366293 | Y25: =373+24420+21619 -> 46412 | Z25: 460446 | AA25: =Z25/K25 -> 0.9160042 | AB25: =15007+27215 -> 42222 | AC25: 502668 | AD25: =AC25/K25 -> 1 | AF25: 502668 | AG25: =AE25/K25 -> 0 | AM25: =25024*0 -> 0 | AN25: =(M25+AM25)/K25 -> 1 | AO25: =K25-M25 -> 0
B26: Le CAP (BH228) Saint Leu | C26: PRLC 0135 | D26: 2012 | E26: 24 | F26: YFR | G26: fin | I26: 3959483 | J26: =I26/E26 -> 164978.46 | K26: 197974 | M26: 197974 | N26: =M26/K26 -> 1 | O26: =94207+10525-1104 -> 103628 | P26: =19042+1104 -> 20146 | Q26: 123774 | R26: =Q26/K26 -> 0.62520331 | S26: 19042 | T26: 142816 | U26: =T26/K26 -> 0.72138766 | V26: =9383+9512 -> 18895 | W26: 161711 | X26: =W26/K26 -> 0.81682948 | Y26: =17322+9946 -> 27268 | Z26: 188979 | AA26: =Z26/K26 -> 0.95456474 | AB26: 8995 | AC26: 197974 | AD26: =AC26/K26 -> 1 | AF26: 197974 | AG26: =AE26/K26 -> 0 | AM26: 0 | AN26: =(M26+AM26)/K26 -> 1 | AO26: =K26-M26 -> 0
B27: Paille en Queue | C27: PRLC 0138 | D27: 2013 | E27: 10 | F27: YFR | G27: fin | I27: 2030244 | J27: =I27/E27 -> 203024.4 | K27: 101512 | M27: 101608 | N27: =M27/K27 -> 1.0009457 | O27: 41590 | P27: 7562 | Q27: 49152 | R27: =Q27/K27 -> 0.48419891 | S27: 28740 | T27: 77892 | U27: =T27/K27 -> 0.76731815 | V27: =7315+7222 -> 14537 | W27: 92429 | X27: =W27/K27 -> 0.91052289 | Y27: 9179 | Z27: 101887 | AA27: =Z27/K27 -> 1.0036941 | AC27: 101608 | AD27: =AC27/K27 -> 1.0009457 | AF27: 101608 | AG27: =AE27/K27 -> 0 | AM27: 0 | AN27: =(M27+AM27)/K27 -> 1.0009457 | AO27: =K27-M27 -> -96
B28: Sceau de Salomon | C28: PRLC 0128 | D28: 2012 | E28: 84 | F28: SFE | G28: fin | I28: 9378520 | J28: =I28/E28 -> 111649.05 | K28: 645925 | M28: 645925 | N28: =M28/K28 -> 1 | O28: 209869 | P28: =46864+47415 -> 94279 | Q28: 350810 | R28: =Q28/K28 -> 0.54311259 | S28: 93550 | T28: 444360 | U28: =T28/K28 -> 0.68794365 | V28: =24566+163000 -> 187566 | W28: =468926+163000 -> 631926 | X28: =W28/K28 -> 0.97832721 | Y28: 16999 | Z28: 645925 | AA28: =Z28/K28 -> 1 | AC28: 645925 | AD28: =AC28/K28 -> 1 | AF28: 645925 | AG28: =AE28/K28 -> 0 | AM28: 0 | AN28: =(M28+AM28)/K28 -> 1 | AO28: =K28-M28 -> 0
B29: Laurency | C29: PRLC 0101 | D29: 2012 | E29: 22 | F29: APU | G29: fin | I29: 3538433 | J29: =I29/E29 -> 160837.86 | K29: 176922 | M29: 176922 | N29: =M29/K29 -> 1 | O29: 75076 | P29: =16867+16867 -> 33734 | Q29: 126502 | R29: =Q29/K29 -> 0.71501566 | S29: 25301 | T29: 151803 | U29: =T29/K29 -> 0.85802218 | V29: 5060 | W29: 156863 | X29: =W29/K29 -> 0.88662235 | Y29: =3373+16686 -> 20059 | Z29: 176922 | AA29: =Z29/K29 -> 1 | AC29: 176922 | AD29: =AC29/K29 -> 1 | AF29: 176922 | AG29: =AE29/K29 -> 0 | AM29: 0 | AN29: =(M29+AM29)/K29 -> 1 | AO29: =K29-M29 -> 0
B30: Résidence ALAMANDAS | C30: PRLC 0107 | D30: 2012 | E30: 75 | F30: SGM | G30: fin | I30: 18507505 | J30: 130000 | K30: 925375 | M30: 925375 | N30: =M30/K30 -> 1 | O30: 428820 | P30: 135266 | Q30: 634840 | R30: =Q30/K30 -> 0.68603539 | S30: 131084 | T30: 765924 | U30: =T30/K30 -> 0.8276904 | V30: =44551+45501 -> 90052 | W30: 855976 | X30: =W30/K30 -> 0.92500446 | Y30: 69399 | Z30: 925375 | AA30: =Z30/K30 -> 1 | AC30: 925375 | AD30: =AC30/K30 -> 1 | AF30: 925375 | AG30: =AE30/K30 -> 0 | AM30: 0 | AN30: =(M30+AM30)/K30 -> 1 | AO30: =K30-M30 -> 0 | AS30: =AM31-SUM(AR19:AR30) -> 0
D31: =COUNTA(D19:D30)-1 -> 11 | E31: =SUM(E19:E30) -> 400 | I31: =SUM(I19:I30) -> 69321816 | K31: =SUM(K19:K30) -> 3965339.1 | M31: =SUM(M19:M30) -> 3980373.1 | N31: =M31/K31 -> 1.0037914 | O31: =SUM(O19:O30) -> 1084431 | P31: =SUM(P19:P30) -> 525539 | Q31: =SUM(Q19:Q30) -> 2356948 | R31: =Q31/K31 -> 0.59438749 | S31: =SUM(S19:S30) -> 695257 | T31: =SUM(T19:T30) -> 3043416 | U31: =T31/K31 -> 0.76750459 | V31: =SUM(V19:V30) -> 599395 | W31: =SUM(W19:W30) -> 3642812 | X31: =W31/K31 -> 0.91866341 | Y31: =SUM(Y19:Y30) -> 282068 | Z31: =SUM(Z19:Z30) -> 3922163 | AA31: =Z31/K31 -> 0.98911161 | AB31: =SUM(AB19:AB30) -> 58489.15 | AC31: =SUM(AC19:AC30) -> 3980373.1 | AD31: =AC31/K31 -> 1.0037914 | AE31: =SUM(AE19:AE30) -> 0 | AF31: =SUM(AF19:AF30) -> 3980373.1 | AG31: =AE31/K31 -> 0 | AM31: =SUM(AM19:AM30) -> 0 | AN31: =(M31+AM31)/K31 -> 1.0037914 | AO31: =SUM(AO19:AO30) -> -96
A32: 2013 | B32: Takamaka | C32: PRLC 0093 | D32: 2013 | E32: 14 | F32: FHO | G32: fin | I32: 2375752 | J32: =I32/E32 -> 169696.57 | K32: =L32*I32 -> 118787.6 | L32: 0.05 | M32: 118788 | N32: =M32/K32 -> 1.0000034 | O32: 0 | P32: 52184 | Q32: 63943 | R32: =Q32/K32 -> 0.53829693 | S32: 19080 | T32: 83023 | U32: =T32/K32 -> 0.69891975 | V32: =5931+6048+4031+5748+6876+998 -> 29632 | W32: 112655 | X32: =W32/K32 -> 0.9483734 | Z32: 112655 | AA32: =Z32/K32 -> 0.9483734 | AB32: 6133 | AC32: 118788 | AD32: =AC32/K32 -> 1.0000034 | AF32: 118788 | AG32: =AF32/K32 -> 1.0000034 | AI32: 118788 | AJ32: =AI32/K32 -> 1.0000034 | AL32: =AK32/K32 -> 0 | AM32: 0 | AN32: =(M32+AM32)/K32 -> 1.0000034 | AO32: =K32-M32 -> -0.4
B33: Lié ETHEVE (Poker d'As II) | C33: PRLC 0139 | D33: 2013 | E33: 44 | F33: NBL | G33: fin | I33: 6925720 | J33: =I33/E33 -> 157402.73 | K33: =L33*I33 -> 346286 | L33: 0.05 | M33: 346286 | N33: =M33/K33 -> 1 | O33: 74596 | P33: =111893+2242 -> 114135 | Q33: 188730 | R33: =Q33/K33 -> 0.54501193 | S33: 68629 | T33: 257360 | U33: =T33/K33 -> 0.74320071 | V33: 51472 | W33: 308833 | X33: =W33/K33 -> 0.89184374 | Y33: 21718 | Z33: 330551 | AA33: =Z33/K33 -> 0.95456068 | AB33: 15661 | AC33: 346212 | AD33: =AC33/K33 -> 0.9997863 | AE33: 71.26 | AF33: 346286 | AG33: =AF33/K33 -> 1 | AI33: 346286 | AJ33: =AI33/K33 -> 1 | AL33: =AK33/K33 -> 0 | AM33: 0 | AN33: =(M33+AM33)/K33 -> 1 | AO33: =K33-M33 -> 0
B34: PIVET VELIN | C34: PRLC 0147 | D34: 2013 | E34: 54 | F34: YFR | G34: fin | I34: 9890549 | J34: =I34/E34 -> 183158.31 | K34: =L34*I34 -> 494527.45 | L34: 0.05 | M34: 494527 | N34: =M34/K34 -> 0.99999909 | O34: 42868 | P34: =176082 -> 176082 | Q34: 218950 | R34: =Q34/K34 -> 0.4427459 | S34: 97374 | T34: 316324 | U34: =T34/K34 -> 0.63964902 | V34: 43701 | W34: 360025 | X34: =W34/K34 -> 0.72801823 | Y34: 20543 | Z34: 380568 | AA34: =Z34/K34 -> 0.7695589 | AB34: =32730+13017+29863 -> 75610 | AC34: 456178 | AD34: =AC34/K34 -> 0.92245233 | AE34: 38349 | AF34: =456178+38349 -> 494527 | AG34: =AF34/K34 -> 0.99999909 | AI34: 494527 | AJ34: =AI34/K34 -> 0.99999909 | AL34: =AK34/K34 -> 0 | AM34: 0 | AN34: =(M34+AM34)/K34 -> 0.99999909 | AO34: =K34-M34 -> 0.45
B35: FANFAN | C35: PRLC 0149 | D35: 2013 | E35: 24 | F35: FVA | G35: fin | I35: 3867445 | J35: =I35/E35 -> 161143.54 | K35: =L35*I35 -> 193372.25 | L35: 0.05 | M35: 193372 | N35: =M35/K35 -> 0.99999871 | O35: 16144 | P35: =8072+16144+20008+25872+8624 -> 78720 | Q35: 94864 | R35: =Q35/K35 -> 0.49057711 | S35: 17248 | T35: 112112 | U35: =T35/K35 -> 0.57977295 | V35: =8624+8624+17680 -> 34928 | W35: 147042 | X35: =W35/K35 -> 0.760409 | Y35: =22686+6536 -> 29222 | Z35: 176264 | AA35: =Z35/K35 -> 0.91152686 | AB35: =6573+10537 -> 17110 | AC35: 193372 | AD35: =AC35/K35 -> 0.99999871 | AF35: 193372 | AG35: =AF35/K35 -> 0.99999871 | AI35: 193372 | AJ35: =AI35/K35 -> 0.99999871 | AL35: =AK35/K35 -> 0 | AM35: =9623*0 -> 0 | AN35: =(M35+AM35)/K35 -> 0.99999871 | AO35: =K35-M35 -> 0.25
B36: Rue de l'Eglise | C36: PRLC 0148 | D36: 2013 | E36: 18 | F36: NBL | G36: fin | I36: 3241649 | J36: =I36/E36 -> 180091.61 | K36: =L36*I36 -> 162082.45 | L36: 0.05 | M36: 162085 | N36: =M36/K36 -> 1.0000157 | O36: 14755 | P36: =14755+4453+12951+19295+4540 -> 55994 | Q36: 70749 | R36: =Q36/K36 -> 0.43650007 | S36: 23813 | T36: 94562 | U36: =T36/K36 -> 0.58341912 | V36: =10375+7495 -> 17870 | W36: 112432 | X36: =W36/K36 -> 0.69367165 | Y36: 22068 | Z36: 134500 | AA36: =Z36/K36 -> 0.82982457 | AB36: =2418+8123+8370 -> 18911 | AC36: 153411 | AD36: =AC36/K36 -> 0.94649976 | AE36: 8105 | AF36: 162085 | AG36: =AF36/K36 -> 1.0000157 | AI36: 162085 | AJ36: =AI36/K36 -> 1.0000157 | AL36: =AK36/K36 -> 0 | AM36: 0 | AN36: =(M36+AM36)/K36 -> 1.0000157 | AO36: =K36-M36 -> -2.55
B37: Barrage | C37: PRLC 0140 | D37: 2013 | E37: 110 | F37: BBL | G37: GPA | I37: 19497460 | J37: =I37/E37 -> 177249.64 | K37: =L37*I37 -> 974873 | L37: 0.05 | M37: 916756 | N37: =M37/K37 -> 0.94038506 | O37: 193001 | P37: =48250+96501+144751 -> 289502 | Q37: 482503 | R37: =Q37/K37 -> 0.49493934 | S37: 0 | T37: 482503 | U37: =T37/K37 -> 0.49493934 | V37: =96501+48250+48250 -> 193001 | W37: 675504 | X37: =W37/K37 -> 0.69291487 | Y37: =96501+72375 -> 168876 | Z37: 844380 | AA37: =Z37/K37 -> 0.86614359 | AB37: 72376 | AC37: 916756 | AD37: =AC37/K37 -> 0.94038506 | AE37: 0 | AF37: 916756 | AG37: =AF37/K37 -> 0.94038506 | AI37: 916756 | AJ37: =AI37/K37 -> 0.94038506 | AL37: =AK37/K37 -> 0 | AM37: =58117 -> 58117 | AN37: =(M37+AM37)/K37 -> 1 | AO37: =K37-M37 -> 58117 | AP37: bilan final
B38: LES TAMARINIERS | C38: PRLC 0113 | D38: 2013 | E38: 81 | F38: TQU | G38: fin | I38: 13154943 | J38: =I38/E38 -> 162406.7 | K38: =L38*I38 -> 657747.15 | L38: 0.05 | M38: 657747 | N38: =M38/K38 -> 0.99999977 | O38: 164241 | P38: =65696+121749+98544 -> 285989 | Q38: 328481 | R38: =Q38/K38 -> 0.49940315 | S38: 114968 | T38: 443449 | U38: =T38/K38 -> 0.67419372 | V38: =16427+32848+66361 -> 115636 | W38: 559085 | X38: =W38/K38 -> 0.84999988 | Y38: =32887+19732+13155 -> 65774 | Z38: 624860 | AA38: =Z38/K38 -> 0.95000032 | AB38: 32887 | AC38: 657747 | AD38: =AC38/K38 -> 0.99999977 | AF38: 657747 | AG38: =AF38/K38 -> 0.99999977 | AI38: 657747 | AJ38: =AI38/K38 -> 0.99999977 | AL38: =AK38/K38 -> 0 | AM38: 0 | AN38: =(M38+AM38)/K38 -> 0.99999977 | AO38: =K38-M38 -> 0.15
B39: Parc à Moutons | C39: PRLC 0121 | D39: 2013 | E39: 34 | F39: YFR | G39: fin | I39: 5396489 | J39: =I39/E39 -> 158720.26 | K39: =L39*I39 -> 269824.45 | L39: 0.05 | M39: 274695 | N39: =M39/K39 -> 1.0180508 | O39: 0 | P39: =39806+24327+36491 -> 100624 | Q39: 121637 | R39: =Q39/K39 -> 0.45080051 | S39: 57637 | T39: 179254 | U39: =T39/K39 -> 0.66433564 | V39: =12873+5536 -> 18409 | W39: 197683 | X39: =W39/K39 -> 0.73263561 | Y39: 21261 | Z39: 218944 | AA39: =Z39/K39 -> 0.81143128 | AB39: =9093+42937 -> 52030 | AC39: 270974 | AD39: =AC39/K39 -> 1.0042604 | AE39: 3721 | AF39: =270974 -> 270974 | AG39: =AF39/K39 -> 1.0042604 | AI39: 274695 | AJ39: =AI39/K39 -> 1.0180508 | AL39: =AK39/K39 -> 0 | AM39: 0 | AN39: =(M39+AM39)/K39 -> 1.0180508 | AO39: =K39-M39 -> -4870.55
B40: AMARYLLIS | C40: PRLC 0109 | D40: 2013 | E40: 9 | F40: NBL | G40: fin | I40: 1659203 | J40: =I40/E40 -> 184355.89 | K40: =L40*I40 -> 82960.15 | L40: 0.05 | M40: 82960 | N40: =M40/K40 -> 0.99999819 | O40: =16481*0 -> 0 | P40: 40271 | Q40: 40271 | R40: =Q40/K40 -> 0.48542583 | S40: 7322 | T40: 47593 | U40: =T40/K40 -> 0.57368508 | V40: =11783+3958+7917 -> 23658 | W40: 71251 | X40: =W40/K40 -> 0.85885814 | Y40: 3958 | Z40: 75209 | AA40: =Z40/K40 -> 0.90656779 | AB40: 7751 | AC40: 82960 | AD40: =AC40/K40 -> 0.99999819 | AF40: 82960 | AG40: =AF40/K40 -> 0.99999819 | AI40: 82960 | AJ40: =AI40/K40 -> 0.99999819 | AL40: =AK40/K40 -> 0 | AM40: 0 | AN40: =(M40+AM40)/K40 -> 0.99999819 | AO40: =K40-M40 -> 0.15
B41: Josepha Fontaine | C41: PRLC 0122 | D41: 2012 | E41: 15 | F41: FHO | G41: fin | I41: 2905699 | J41: =I41/E41 -> 193713.27 | K41: =L41*I41 -> 145284.95 | L41: 0.05 | M41: 144741 | N41: =M41/K41 -> 0.99625598 | P41: 17151 | Q41: 17151 | R41: =Q41/K41 -> 0.11805077 | S41: 0 | T41: =57156-29206 -> 27950 | U41: =T41/K41 -> 0.19238056 | V41: =30891+29207 -> 60098 | W41: 88047 | X41: =W41/K41 -> 0.60602974 | Y41: =11897+15584+14437 -> 41918 | Z41: 129965 | AA41: =Z41/K41 -> 0.8945524 | AB41: 7220 | AC41: 137185 | AD41: =AC41/K41 -> 0.94424784 | AE41: 7556 | AF41: 144741 | AG41: =AF41/K41 -> 0.99625598 | AI41: 144741 | AJ41: =AI41/K41 -> 0.99625598 | AL41: =AK41/K41 -> 0 | AM41: 0 | AN41: =(M41+AM41)/K41 -> 0.99625598 | AO41: =K41-M41 -> 543.95
A42: 2014 | D42: =COUNTA(D32:D41) -> 10 | E42: =SUM(E32:E41) -> 403 | I42: =SUM(I32:I41) -> 68914909 | K42: =SUM(K32:K41) -> 3445745.5 | M42: =SUM(M32:M41) -> 3391957 | N42: =M42/K42 -> 0.98438989 | O42: =SUM(O32:O41) -> 505605 | P42: =SUM(P32:P41) -> 1210652 | Q42: =SUM(Q32:Q41) -> 1627279 | R42: =Q42/K42 -> 0.47225746 | S42: =SUM(S32:S41) -> 406071 | T42: =SUM(T32:T41) -> 2044130 | U42: =T42/K42 -> 0.59323303 | V42: =SUM(V32:V41) -> 588405 | W42: =SUM(W32:W41) -> 2632557 | X42: =W42/K42 -> 0.76400217 | Y42: =SUM(Y32:Y41) -> 395338 | Z42: =SUM(Z32:Z41) -> 3027896 | AA42: =Z42/K42 -> 0.87873467 | AB42: =SUM(AB32:AB41) -> 305689 | AC42: =SUM(AC32:AC41) -> 3333583 | AD42: =AC42/K42 -> 0.967449 | AE42: =SUM(AE32:AE41) -> 57802.26 | AF42: =SUM(AF32:AF41) -> 3388236 | AG42: =AF42/K42 -> 0.98331001 | AH42: =SUM(AH32:AH41) -> 0 | AI42: =SUM(AI32:AI41) -> 3391957 | AJ42: =AI42/K42 -> 0.98438989 | AK42: =SUM(AK32:AK41) -> 0 | AL42: =AK42/K42 -> 0 | AM42: =SUM(AM32:AM41) -> 58117 | AN42: =(M42+AM42)/K42 -> 1.0012562 | AO42: =SUM(AO32:AO41) -> 53788.45 | AS42: =AM42-AR42 -> 58117
A43: 2014 | B43: Manapany | C43: PRLC 0111 | D43: 2014 | E43: 21 | F43: FHO | G43: GPA | I43: 3865132 | J43: =I43/E43 -> 184053.9 | K43: =L43*I43 -> 193256.6 | L43: 0.05 | M43: 183594 | N43: =M43/K43 -> 0.95000119 | O43: 11733 | P43: 0 | Q43: 24368 | R43: =Q43/K43 -> 0.12609142 | S43: =55214-11733 -> 43481 | T43: 67849 | U43: =T43/K43 -> 0.35108245 | W43: 67849 | X43: =W43/K43 -> 0.35108245 | Z43: 67849 | AA43: =Z43/K43 -> 0.35108245 | AB43: =49639+3735 -> 53374 | AC43: 139256 | AD43: =AC43/K43 -> 0.72057565 | AE43: =16717+24887 -> 41604 | AF43: 174560 | AG43: =AF43/K43 -> 0.90325505 | AH43: 9034 | AI43: 183594 | AJ43: =AI43/K43 -> 0.95000119 | AL43: =AK43/K43 -> 0 | AM43: =5%*K43 -> 9662.83 | AN43: =(M43+AM43)/K43 -> 1.0000012 | AO43: =K43-M43 -> 9662.6 | AP43: bilan final
B44: Fleurs Jaunes | C44: PRLC 0160 | D44: 2014 | E44: 30 | F44: FHO | G44: fin | I44: 4700405 | J44: =I44/E44 -> 156680.17 | K44: =L44*I44 -> 235020 | L44: 0.049999947 | M44: 235020 | N44: =M44/K44 -> 1 | P44: =60140-12520 -> 47620 | Q44: 47620 | R44: =Q44/K44 -> 0.20262105 | S44: =12520+24983+36513 -> 74016 | T44: 121636 | U44: =T44/K44 -> 0.51755595 | W44: 121636 | X44: =W44/K44 -> 0.51755595 | Y44: 28342 | Z44: 149978 | AA44: =Z44/K44 -> 0.63814994 | AB44: =11537+11375 -> 22912 | AC44: 172890 | AD44: =AC44/K44 -> 0.73563952 | AE44: =12633+11595+11596+6957+5052 -> 47833 | AF44: 220723 | AG44: =AF44/K44 -> 0.93916688 | AH44: 14297 | AI44: 235020 | AJ44: =AI44/K44 -> 1 | AL44: =AK44/K44 -> 0 | AM44: 0 | AN44: =(M44+AM44)/K44 -> 1 | AO44: =K44-M44 -> 0
B45: Z'Ambaville | C45: PRLC 0153 | D45: 2014 | E45: 9 | F45: FVA | G45: fin | I45: 1838801 | J45: =I45/E45 -> 204311.22 | K45: =L45*I45 -> 89357 | L45: 0.048595253 | M45: 89357 | N45: =M45/K45 -> 1 | O45: =60431*0 -> 0 | P45: 7458 | Q45: 7458 | R45: =Q45/K45 -> 0.083462963 | S45: =5456+17627+13089 -> 36172 | T45: 43630 | U45: =T45/K45 -> 0.48826617 | W45: 43630 | X45: =W45/K45 -> 0.48826617 | Y45: =17699+5451 -> 23150 | Z45: 66780 | AA45: =Z45/K45 -> 0.74733932 | AB45: 15909 | AC45: 82689 | AD45: =AC45/K45 -> 0.92537798 | AE45: =3717+2950.88 -> 6667.88 | AF45: 89357 | AG45: =AF45/K45 -> 1 | AI45: 89357 | AJ45: =AI45/K45 -> 1 | AL45: =AK45/K45 -> 0 | AM45: 0 | AN45: =(M45+AM45)/K45 -> 1 | AO45: =K45-M45 -> 0
B46: VEFA LOULOU PITOU (LA SAFRANIERE) | C46: PRLC 0161 | D46: 2014 | E46: 47 | G46: fin | H46: x | I46: 7893608 | J46: =I46/E46 -> 167949.11 | K46: =L46*I46 -> 341117.51 | L46: 0.043214397 | M46: 341117.51 | N46: =M46/K46 -> 1 | P46: 0 | R46: =Q46/K46 -> 0 | S46: 68223.502 | T46: 68224 | U46: =T46/K46 -> 0.20000146 | V46: 170558.76 | W46: 238782.26 | X46: =W46/K46 -> 0.7 | Y46: =68224+8528+8528+17056 -> 102336 | Z46: =324061.640552995+17056 -> 341117.64 | AA46: =Z46/K46 -> 1.0000004 | AB46: 0 | AC46: 341117.51 | AD46: =AC46/K46 -> 1 | AF46: 341117.51 | AG46: =AF46/K46 -> 1 | AI46: 341117.51 | AJ46: =AI46/K46 -> 1 | AL46: =AK46/K46 -> 0 | AM46: 0 | AN46: =(M46+AM46)/K46 -> 1 | AO46: =K46-M46 -> 0.0015207373
B47: VEFA Petunias commerce | H47: x | I47: 145096 | K47: =L47*I47 -> 20563 | L47: 0.14171996 | M47: 19124 | N47: =M47/K47 -> 0.93001994 | P47: 0 | R47: =Q47/K47 -> 0 | S47: 0 | T47: 0 | U47: =T47/K47 -> 0 | X47: =W47/K47 -> 0 | Y47: 0 | Z47: 0 | AA47: =Z47/K47 -> 0 | AB47: =2018+3217+4112+5047 -> 14394 | AC47: 14394 | AD47: =AC47/K47 -> 0.69999514 | AE47: 4730 | AF47: 19124 | AG47: =AF47/K47 -> 0.93001994 | AI47: 19124 | AJ47: =AI47/K47 -> 0.93001994 | AL47: =AK47/K47 -> 0 | AM47: 1439 | AN47: =(M47+AM47)/K47 -> 1 | AO47: =K47-M47 -> 1439 | AP47: bilan final
B48: VEFA Petunias | D48: 2014 | E48: 50 | F48: YFR | G48: fin | I48: 8889709 | J48: =I48/E48 -> 177794.18 | K48: =L48*I48 -> 370260.3 | L48: 0.041650441 | M48: =200866.22/1.085+37026+48207.89/1.085+20086.62/1.085+24103.95/1.085+24103.95/1.085+16069.3/1.085+24103.95/1.085+4017.32/1.085 -> 370260.29 | N48: =M48/K48 -> 0.99999995 | P48: 0 | R48: =Q48/K48 -> 0 | S48: 0 | T48: 0 | U48: =T48/K48 -> 0 | V48: =200866.22/1.085 -> 185130.16 | W48: =200866.22/1.085 -> 185130.16 | X48: =W48/K48 -> 0.50000001 | Y48: =37026+48207.89/1.085 -> 81457.235 | Z48: 266587.39 | AA48: =Z48/K48 -> 0.71999993 | AB48: =20086.62/1.085+24103.95/1.085+24103.95/1.085+16069.3/1.085 -> 77754.673 | AC48: 344342.06 | AD48: =AC48/K48 -> 0.92999995 | AE48: =24103.95/1.085 -> 22215.622 | AF48: 366557.69 | AG48: =AF48/K48 -> 0.98999997 | AH48: =4017.32/1.085 -> 3702.5991 | AI48: 370260.29 | AJ48: =AI48/K48 -> 0.99999995 | AL48: =AK48/K48 -> 0 | AM48: 0 | AN48: =(M48+AM48)/K48 -> 0.99999995 | AO48: =K48-M48 -> 0.01843318
B49: Verveine des Indes | C49: PRLC 0155 | D49: 2014 | E49: 16 | F49: YFR | G49: fin | I49: 2825485 | J49: =I49/E49 -> 176592.81 | K49: =L49*I49 -> 141274 | L49: 0.049999912 | M49: 141274 | N49: =M49/K49 -> 1 | O49: 0 | P49: 0 | Q49: 0 | R49: =Q49/K49 -> 0 | S49: =48746+20852 -> 69598 | T49: 69597 | U49: =T49/K49 -> 0.49263842 | W49: 69597 | X49: =W49/K49 -> 0.49263842 | Y49: =30071+8517 -> 38588 | Z49: 108186 | AA49: =Z49/K49 -> 0.76578847 | AB49: =6635+7555+7198+7429 -> 28817 | AC49: 137003 | AD49: =AC49/K49 -> 0.96976797 | AE49: 4271 | AF49: 141274 | AG49: =AF49/K49 -> 1 | AI49: 141274 | AJ49: =AI49/K49 -> 1 | AL49: =AK49/K49 -> 0 | AM49: 0 | AN49: =(M49+AM49)/K49 -> 1 | AO49: =K49-M49 -> 0
D50: =COUNTA(D43:D49) -> 6 | E50: =SUM(E43:E49) -> 173 | I50: =SUM(I43:I49) -> 30158236 | K50: =SUM(K43:K49) -> 1390848.4 | M50: =SUM(M43:M49) -> 1379746.8 | N50: =M50/K50 -> 0.99201809 | O50: =SUM(O43:O49) -> 11733 | P50: =SUM(P43:P49) -> 55078 | Q50: =SUM(Q43:Q49) -> 79446 | R50: =Q50/K50 -> 0.057120531 | S50: =SUM(S43:S49) -> 291490.5 | T50: =SUM(T43:T49) -> 370936 | U50: =T50/K50 -> 0.26669765 | V50: =SUM(V43:V49) -> 355688.91 | W50: =SUM(W43:W49) -> 726624.41 | X50: =W50/K50 -> 0.5224325 | Y50: =SUM(Y43:Y49) -> 273873.24 | Z50: =SUM(Z43:Z49) -> 1000498 | AA50: =Z50/K50 -> 0.71934369 | AB50: =SUM(AB43:AB49) -> 213160.67 | AC50: =SUM(AC43:AC49) -> 1231691.6 | AD50: =AC50/K50 -> 0.88556852 | AE50: =SUM(AE43:AE49) -> 127321.5 | AF50: =SUM(AF43:AF49) -> 1352713.2 | AG50: =AF50/K50 -> 0.97258133 | AH50: =SUM(AH43:AH49) -> 27033.599 | AI50: =SUM(AI43:AI49) -> 1379746.8 | AJ50: =AI50/K50 -> 0.99201809 | AK50: =SUM(AK43:AK49) -> 0 | AL50: =AK50/K50 -> 0 | AM50: =SUM(AM43:AM49) -> 11101.83 | AN50: =(M50+AM50)/K50 -> 1.0000002 | AO50: =SUM(AO43:AO49) -> 11101.62
A51: 2015 | B51: VEFA Maurice Lebon | C51: PRLC 0163 | D51: 2015 | E51: =55 -> 55 | F51: FHO | G51: GPA | H51: x | I51: 6721849.6 | J51: =I51/E51 -> 122215.45 | K51: =L51*I51 -> 234959.82 | L51: 0.034954639 | M51: =254931.41/1.085 -> 234959.82 | N51: =M51/K51 -> 1 | O51: 0 | P51: 0 | Q51: 0 | R51: =Q51/K51 -> 0 | S51: 0 | T51: 0 | U51: =T51/K51 -> 0 | W51: 0 | X51: =W51/K51 -> 0 | Y51: =140212.27/1.085 -> 129227.9 | Z51: 129227.9 | AA51: =Z51/K51 -> 0.54999998 | AB51: =23495+12746.57/1.085+12746.57/1.085 -> 46990.982 | AC51: 176219.87 | AD51: =AC51/K51 -> 0.75000001 | AE51: 35243.99 | AF51: 211463.95 | AG51: =AF51/K51 -> 0.90000047 | AH51: =(7647.94+17845.2)/1.085 -> 23495.982 | AI51: 234959.82 | AJ51: =AI51/K51 -> 1 | AL51: =AK51/K51 -> 0 | AM51: 0 | AN51: =(M51+AM51)/K51 -> 1 | AO51: =K51-M51 -> 0
B52: Lacaussade 3 | C52: PRLC 0166 | D52: 2015 | E52: 20 | F52: TQU | G52: fin | I52: 2769317 | J52: =I52/E52 -> 138465.85 | K52: =L52*I52 -> 133591 | L52: 0.048239692 | M52: 133591 | N52: =M52/K52 -> 1 | Q52: 0 | R52: =Q52/K52 -> 0 | S52: 32383 | T52: 32383 | U52: =T52/K52 -> 0.24240405 | V52: =13828+19512 -> 33340 | W52: 65723 | X52: =W52/K52 -> 0.49197176 | Y52: 19717 | Z52: 85440 | AA52: =Z52/K52 -> 0.63956404 | AB52: =6573+13144 -> 19717 | AC52: 105157 | AD52: =AC52/K52 -> 0.78715632 | AE52: 19717 | AF52: 124874 | AG52: =AF52/K52 -> 0.9347486 | AH52: 8717 | AI52: 133591 | AJ52: =AI52/K52 -> 1 | AL52: =AK52/K52 -> 0 | AM52: 0 | AN52: =(M52+AM52)/K52 -> 1 | AO52: =K52-M52 -> 0
B53: CD61 et 515 - Rue Bertaut | C53: PRLC 0173 | D53: 2015 | E53: 89 | F53: BBL | G53: Travaux | I53: 14421909 | J53: =I53/E53 -> 162043.92 | K53: =L53*I53 -> 721095.44 | L53: 0.05 | M53: 575720 | N53: =M53/K53 -> 0.79839639 | Q53: 0 | R53: =Q53/K53 -> 0 | S53: 173980 | T53: 173980 | U53: =T53/K53 -> 0.24127181 | V53: =65293+103472 -> 168765 | W53: 342745 | X53: =W53/K53 -> 0.47531156 | Z53: 342745 | AA53: =Z53/K53 -> 0.47531156 | AB53: 68549 | AC53: 411294 | AD53: =AC53/K53 -> 0.57037387 | AE53: =34275+34275 -> 68550 | AF53: =445569+34275 -> 479844 | AG53: =AF53/K53 -> 0.66543757 | AH53: =32010+33866 -> 65876 | AI53: 575720 | AJ53: =AI53/K53 -> 0.79839639 | AL53: =AK53/K53 -> 0 | AM53: =10%*K53 -> 72109.544 | AN53: =(M53+AM53)/K53 -> 0.89839639 | AO53: =K53-M53 -> 145375.44 | AP53: RDC
B54: AMATA | C54: PRLC 0129 | D54: 2015 | E54: 58 | F54: MHO | G54: GPA | I54: 9516142 | J54: =I54/E54 -> 164071.41 | K54: =L54*I54 -> 475807.1 | L54: 0.05 | M54: 452017 | N54: =M54/K54 -> 0.95000054 | O54: 41000 | P54: 0 | Q54: 41000 | R54: =Q54/K54 -> 0.086169374 | S54: 0 | T54: 41000 | U54: =T54/K54 -> 0.086169374 | V54: =81523+46614+72488 -> 200625 | W54: 241625 | X54: =W54/K54 -> 0.50782134 | Y54: 18438 | Z54: 260063 | AA54: =Z54/K54 -> 0.54657234 | AB54: =47284+21278 -> 68562 | AC54: 328625 | AD54: =AC54/K54 -> 0.69066855 | AE54: 113876 | AF54: 442501 | AG54: =AF54/K54 -> 0.93000083 | AH54: 9516 | AI54: 452017 | AJ54: =AI54/K54 -> 0.95000054 | AL54: =AK54/K54 -> 0 | AM54: 23790.1 | AN54: =(M54+AM54)/K54 -> 1 | AO54: =K54-M54 -> 23790.1 | AP54: bilan final
B55: Plaine St Paul | C55: PRLC 0167 | D55: 2015 | E55: 18 | F55: BBL | G55: fin | I55: 3300596 | J55: =I55/E55 -> 183366.44 | K55: =L55*I55 -> 165030 | L55: 0.050000061 | M55: 165030 | N55: =M55/K55 -> 1 | Q55: 0 | R55: =Q55/K55 -> 0 | S55: 48713 | T55: 48713 | U55: =T55/K55 -> 0.29517663 | V55: =10005+25161 -> 35166 | W55: 83879 | X55: =W55/K55 -> 0.50826516 | Y55: 25164 | Z55: 109043 | AA55: =Z55/K55 -> 0.66074653 | AB55: =8388+16776 -> 25164 | AC55: 134207 | AD55: =AC55/K55 -> 0.8132279 | AE55: =21809+3355 -> 25164 | AF55: =156016+3355 -> 159371 | AG55: =AF55/K55 -> 0.96570926 | AH55: 5659 | AI55: 165030 | AJ55: =AI55/K55 -> 1 | AL55: =AK55/K55 -> 0 | AM55: 0 | AN55: =(M55+AM55)/K55 -> 1 | AO55: =K55-M55 -> 0
B56: ILOT 6.2 | C56: PRLC 0157 | D56: 2015 | E56: 18 | F56: RO | G56: GPA | I56: 2921136 | J56: =I56/E56 -> 162285.33 | K56: =L56*I56 -> 144975 | L56: 0.049629665 | M56: 144975 | N56: =M56/K56 -> 1 | O56: 0 | P56: 0 | Q56: 0 | R56: =Q56/K56 -> 0 | S56: 36305 | T56: 36305 | U56: =T56/K56 -> 0.25042249 | V56: =13917+21557 -> 35474 | W56: 71779 | X56: =W56/K56 -> 0.49511295 | Z56: 71779 | AA56: =Z56/K56 -> 0.49511295 | AB56: =7178+14356 -> 21534 | AC56: 93313 | AD56: =AC56/K56 -> 0.6436489 | AE56: =7178+7177+7177.9+14639 -> 36171.9 | AF56: 122307 | AG56: =AF56/K56 -> 0.84364201 | AH56: =7308+4942+2889+7529 -> 22668 | AI56: 144975 | AJ56: =AI56/K56 -> 1 | AL56: =AK56/K56 -> 0 | AM56: 0 | AN56: =(M56+AM56)/K56 -> 1 | AO56: =K56-M56 -> 0
B57: AT 257 RPA St Philippe commerce | C57: PRLC 0174 | D57: 2015 | F57: FHO | G57: GPA | I57: 189107 | K57: =L57*I57 -> 3782 | L57: 0.01999926 | M57: 3782 | N57: =M57/K57 -> 1 | Q57: 0 | R57: =Q57/K57 -> 0 | S57: 0 | T57: 0 | U57: =T57/K57 -> 0 | V57: 0 | W57: 0 | X57: =W57/K57 -> 0 | Y57: 0 | Z57: 0 | AA57: =Z57/K57 -> 0 | AC57: 0 | AD57: =AC57/K57 -> 0 | AE57: 0 | AF57: 0 | AG57: =AF57/K57 -> 0 | AH57: 0 | AI57: 0 | AJ57: =AI57/K57 -> 0 | AK57: 3782 | AL57: =AK57/K57 -> 1 | AM57: 0 | AN57: =(M57+AM57)/K57 -> 1 | AO57: =K57-M57 -> 0 | AP57: cloture | AQ57: cloture
B58: AT 257 RPA St Philippe | C58: PRLC 0174 | D58: 2015 | E58: 19 | F58: FHO | G58: GPA | I58: 2745833 | J58: 144186 | K58: =L58*I58 -> 137292 | L58: 0.050000127 | M58: 137292 | N58: =M58/K58 -> 1 | Q58: 0 | R58: =Q58/K58 -> 0 | S58: 13467 | T58: 13467 | U58: =T58/K58 -> 0.098090202 | V58: =4987+14412+13125 -> 32524 | W58: 45991 | X58: =W58/K58 -> 0.33498674 | Y58: =26102+18387 -> 44489 | Z58: 90480 | AA58: =Z58/K58 -> 0.6590333 | AC58: 90480 | AD58: =AC58/K58 -> 0.6590333 | AE58: =7055+7119+20930+505 -> 35609 | AF58: 126089 | AG58: =AF58/K58 -> 0.9184002 | AH58: 4642 | AI58: 130731 | AJ58: =AI58/K58 -> 0.95221135 | AK58: 6561 | AL58: =AK58/K58 -> 0.047788655 | AM58: 0 | AN58: =(M58+AM58)/K58 -> 1 | AO58: =K58-M58 -> 0 | AP58: cloture | AQ58: cloture
D59: =COUNTA(D51:D58) -> 8 | E59: =SUM(E51:E58) -> 277 | I59: =SUM(I51:I58) -> 42585889 | K59: =SUM(K51:K58) -> 2016532.4 | M59: =SUM(M51:M58) -> 1847366.8 | N59: =M59/K59 -> 0.91611067 | O59: =SUM(O51:O58) -> 41000 | P59: =SUM(P51:P58) -> 0 | Q59: =SUM(Q51:Q58) -> 41000 | R59: =Q59/K59 -> 0.020331933 | S59: =SUM(S51:S58) -> 304848 | T59: =SUM(T51:T58) -> 345848 | U59: =T59/K59 -> 0.1715063 | V59: =SUM(V51:V58) -> 505894 | W59: =SUM(W51:W58) -> 851742 | X59: =W59/K59 -> 0.42237953 | Y59: =SUM(Y51:Y58) -> 237035.9 | Z59: =SUM(Z51:Z58) -> 1088777.9 | AA59: =Z59/K59 -> 0.53992582 | AB59: =SUM(AB51:AB58) -> 250516.98 | AC59: =SUM(AC51:AC58) -> 1339295.9 | AD59: =AC59/K59 -> 0.66415788 | AE59: =SUM(AE51:AE58) -> 334331.89 | AF59: =SUM(AF51:AF58) -> 1666450 | AG59: =AF59/K59 -> 0.82639385 | AH59: =SUM(AH51:AH58) -> 140573.98 | AI59: =SUM(AI51:AI58) -> 1837023.8 | AJ59: =AI59/K59 -> 0.91098157 | AK59: =SUM(AK51:AK58) -> 10343 | AL59: =AK59/K59 -> 0.0051291019 | AM59: =SUM(AM51:AM58) -> 95899.644 | AN59: =(M59+AM59)/K59 -> 0.96366738 | AO59: =SUM(AO51:AO58) -> 169165.54
A60: 2016 | B60: Palissandre | C60: PRLC 0110 | D60: 2016 | E60: 30 | F60: YFR | G60: AO | I60: 3355432.8 | J60: =I60/E60 -> 111847.76 | K60: =L60*I60 -> 100662.98 | L60: 0.03 | M60: 118215 | N60: =M60/K60 -> 1.1743641 | O60: 25155 | P60: 0 | Q60: 83195 | R60: =Q60/K60 -> 0.82647063 | T60: 83195 | U60: =T60/K60 -> 0.82647063 | W60: 83195 | X60: =W60/K60 -> 0.82647063 | Y60: 35020 | Z60: 118215 | AA60: =Z60/K60 -> 1.1743641 | AB60: 0 | AC60: 118215 | AD60: =AC60/K60 -> 1.1743641 | AF60: 118215 | AG60: =AF60/K60 -> 1.1743641 | AI60: 118215 | AJ60: =AI60/K60 -> 1.1743641 | AL60: =AK60/K60 -> 0 | AM60: =0%*K60 -> 0 | AN60: =(M60+AM60)/K60 -> 1.1743641 | AO60: =K60-M60 -> -17552.016 | AP60: NH à rembourser
B61: FAHAM | C61: PRLC 0156 | D61: 2016 | E61: 30 | F61: TQU | G61: fin | I61: 5013752 | J61: =I61/E61 -> 167125.07 | K61: =L61*I61 -> 250688 | L61: 0.05000008 | M61: 250688 | N61: =M61/K61 -> 1 | O61: 0 | P61: 0 | R61: =Q61/K61 -> 0 | S61: 125141 | T61: 125141 | U61: =T61/K61 -> 0.49919023 | W61: 125141 | X61: =W61/K61 -> 0.49919023 | Y61: 39100 | Z61: 164241 | AA61: =Z61/K61 -> 0.655161 | AB61: =12636+12634+8423 -> 33693 | AC61: 197933 | AD61: =AC61/K61 -> 0.78955913 | AE61: =8422+8423+12634+7892+4624 -> 41995 | AF61: =235305+4624 -> 239929 | AG61: =AF61/K61 -> 0.95708211 | AH61: -2012.13 | AI61: 250688 | AJ61: =AI61/K61 -> 1 | AL61: =AK61/K61 -> 0 | AM61: 0 | AN61: =(M61+AM61)/K61 -> 1 | AO61: =K61-M61 -> 0
B62: FAHAM commerce | C62: PRLC 0156 | I62: 178262 | K62: =L62*I62 -> 12478 | L62: 0.069998093 | M62: 12478 | N62: =M62/K62 -> 1 | O62: 0 | P62: 0 | R62: =Q62/K62 -> 0 | S62: 6374 | T62: 6374 | U62: =T62/K62 -> 0.51081904 | W62: 6374 | X62: =W62/K62 -> 0.51081904 | Y62: 1991 | Z62: 8365 | AA62: =Z62/K62 -> 0.67037987 | AB62: =674+930+1255 -> 2859 | AC62: 11224 | AD62: =AC62/K62 -> 0.89950313 | AE62: =660 -> 660 | AF62: =11885 -> 11885 | AG62: =AF62/K62 -> 0.95247636 | AH62: 12703.73 | AI62: 12478 | AJ62: =AI62/K62 -> 1 | AL62: =AK62/K62 -> 0 | AM62: 0 | AN62: =(M62+AM62)/K62 -> 1 | AO62: =K62-M62 -> 0
B63: RPA CLINIFUTUR | C63: PRLC 0176 | D63: 2016 | E63: 40 | F63: FHO | G63: Travaux | I63: 5125866.5 | J63: =I63/E63 -> 128146.66 | K63: =L63*I63 -> 256293.33 | L63: 0.05 | M63: 179201 | N63: =M63/K63 -> 0.69920276 | R63: =Q63/K63 -> 0 | U63: =T63/K63 -> 0 | V63: 21429 | W63: 21429 | X63: =W63/K63 -> 0.083611229 | Y63: =24430+12215+17272 -> 53917 | Z63: 75346 | AA63: =Z63/K63 -> 0.29398347 | AB63: =12557+37673 -> 50230 | AC63: 125576 | AD63: =AC63/K63 -> 0.48996984 | AF63: =125576+12557.65 -> 138133.65 | AG63: =AF63/K63 -> 0.53896702 | AH63: =12558+28267 -> 40825 | AI63: 166401 | AJ63: =AI63/K63 -> 0.64925998 | AK63: 12800 | AL63: =AK63/K63 -> 0.049942775 | AM63: =10%*K63 -> 25629.333 | AN63: =(M63+AM63)/K63 -> 0.79920276 | AO63: =K63-M63 -> 77092.326 | AP63: Plâtres
B64: VEFA Paule & Gaston | C64: PRLC 0191 | D64: 2016 | E64: 23 | G64: fin | H64: x | I64: 3202767 | J64: =I64/E64 -> 139250.74 | K64: =L64*I64 -> 101410.6 | L64: 0.031663432 | M64: 101410.6 | N64: =M64/K64 -> 1 | R64: =Q64/K64 -> 0 | U64: =T64/K64 -> 0 | X64: =W64/K64 -> 0 | Y64: 65917 | Z64: 65917 | AA64: =Z64/K64 -> 0.65000111 | AB64: =(11003.05+5501.53+11003.05)/1.085 -> 25352.654 | AC64: 91269.539 | AD64: =AC64/K64 -> 0.90000003 | AE64: =2750.76/1.085+8252.28/1.085 -> 10141.051 | AF64: 101410.6 | AG64: =AF64/K64 -> 1 | AI64: 101410.6 | AJ64: =AI64/K64 -> 1 | AL64: =AK64/K64 -> 0 | AM64: 0 | AN64: =(M64+AM64)/K64 -> 1 | AO64: =K64-M64 -> 0
B65: Les Platanes | C65: PRLC 0179 | D65: 2016 | E65: 28 | F65: FHO | G65: GPA | I65: 3767200 | J65: =I65/E65 -> 134542.86 | K65: =L65*I65 -> 188360 | L65: 0.05 | M65: 188360 | N65: =M65/K65 -> 1 | R65: =Q65/K65 -> 0 | U65: =T65/K65 -> 0 | V65: 23317 | W65: 23317 | X65: =W65/K65 -> 0.12378955 | Y65: =23306+23065+14934 -> 61305 | Z65: 84622 | AA65: =Z65/K65 -> 0.44925674 | AB65: =14935+7787 -> 22722 | AC65: 107344 | AD65: =AC65/K65 -> 0.56988745 | AE65: =19533+15687 -> 35220 | AF65: 142564 | AG65: =AF65/K65 -> 0.75686982 | AH65: 37490 | AI65: 180054 | AJ65: =AI65/K65 -> 0.95590359 | AK65: 8306 | AL65: =AK65/K65 -> 0.044096411 | AN65: =(M65+AM65)/K65 -> 1 | AO65: =K65-M65 -> 0 | AP65: bilan final | AQ65: bilan final
B66: Les Bras de la Plaine | C66: PRLC 0180 | D66: 2016 | E66: 18 | F66: TQU | G66: AO | I66: 3262728.2 | J66: =I66/E66 -> 181262.68 | K66: =L66*I66 -> 97881.847 | L66: 0.03 | M66: 70074 | N66: =M66/K66 -> 0.71590394 | R66: =Q66/K66 -> 0 | U66: =T66/K66 -> 0 | X66: =W66/K66 -> 0 | Y66: =27162+7875+14015+10511 -> 59563 | Z66: 59563 | AA66: =Z66/K66 -> 0.60851937 | AB66: 10511 | AC66: 70074 | AD66: =AC66/K66 -> 0.71590394 | AF66: 70074 | AG66: =AF66/K66 -> 0.71590394 | AI66: 70074 | AJ66: =AI66/K66 -> 0.71590394 | AL66: =AK66/K66 -> 0 | AM66: =0%*K66 -> 0 | AN66: =(M66+AM66)/K66 -> 0.71590394 | AO66: =K66-M66 -> 27807.847 | AP66: CAO facturation déjà atteinte
B67: Les Kakis | C67: PRLC 0181 | D67: 2016 | E67: 35 | F67: FHO | G67: GPA | I67: 5414135.3 | J67: =I67/E67 -> 154689.58 | K67: =L67*I67 -> 270706.76 | L67: 0.05 | M67: 270706.76 | N67: =M67/K67 -> 1 | U67: =T67/K67 -> 0 | V67: 26176 | W67: 26176 | X67: =W67/K67 -> 0.096695035 | Y67: =20368+17712+25703+19277 -> 83060 | Z67: 109236 | AA67: =Z67/K67 -> 0.4035215 | AB67: =19276+17382 -> 36658 | AC67: 145894 | AD67: =AC67/K67 -> 0.5389374 | AE67: =39789+13263.1 -> 53052.1 | AF67: =185683+13263.1 -> 198946.1 | AG67: =AF67/K67 -> 0.73491366 | AH67: =16398+40377 -> 56775 | AI67: 255721 | AJ67: =AI67/K67 -> 0.94464208 | AK67: 14986 | AL67: =AK67/K67 -> 0.055358794 | AN67: =(M67+AM67)/K67 -> 1 | AO67: =K67-M67 -> 0 | AP67: bilan final
D68: =COUNTA(D60:D67) -> 7 | E68: =SUM(E60:E67) -> 204 | I68: =SUM(I60:I67) -> 29320144 | K68: =SUM(K60:K67) -> 1278481.5 | M68: =SUM(M60:M67) -> 1191133.4 | N68: =M68/K68 -> 0.9316782 | O68: =SUM(O60:O67) -> 25155 | P68: =SUM(P60:P67) -> 0 | Q68: =SUM(Q60:Q67) -> 83195 | R68: =Q68/K68 -> 0.065073291 | S68: =SUM(S60:S67) -> 131515 | T68: =SUM(T60:T67) -> 214710 | U68: =T68/K68 -> 0.16794142 | V68: =SUM(V60:V67) -> 70922 | W68: =SUM(W60:W67) -> 285632 | X68: =W68/K68 -> 0.22341504 | Y68: =SUM(Y60:Y67) -> 399873 | Z68: =SUM(Z60:Z67) -> 685505 | AA68: =Z68/K68 -> 0.53618687 | AB68: =SUM(AB60:AB67) -> 182025.65 | AC68: =SUM(AC60:AC67) -> 867529.54 | AD68: =AC68/K68 -> 0.67856244 | AE68: =SUM(AE60:AE67) -> 141068.15 | AF68: =SUM(AF60:AF67) -> 1021157.3 | AG68: =AF68/K68 -> 0.79872672 | AH68: =SUM(AH60:AH67) -> 145781.6 | AI68: =SUM(AI60:AI67) -> 1155041.6 | AJ68: =AI68/K68 -> 0.90344802 | AK68: =SUM(AK60:AK67) -> 36092 | AL68: =AK68/K68 -> 0.028230365 | AM68: =SUM(AM60:AM67) -> 25629.333 | AN68: =(M68+AM68)/K68 -> 0.9517249 | AO68: =SUM(AO60:AO67) -> 87348.157
A69: 2017 | B69: Dakota EK 250 Tampon CV | C69: PRLC 0187 | D69: 2017 | E69: 26 | F69: TQU | G69: AO | I69: =4052125+273103 -> 4325228 | J69: =I69/E69 -> 166354.92 | K69: =L69*I69 -> 129756.84 | L69: 0.03 | M69: =23880+14653+2769+7277+967+6885+285+20007+750+30667+2722 -> 110862 | N69: =M69/K69 -> 0.85438271 | R69: =Q69/K69 -> 0 | U69: =T69/K69 -> 0 | X69: =W69/K69 -> 0 | Y69: =23880+14653+2769+7277+967 -> 49546 | Z69: 49546 | AA69: =Z69/K69 -> 0.38183729 | AB69: =6885+285+20007+750+30667+2722 -> 61316 | AC69: 110862 | AD69: =AC69/K69 -> 0.85438271 | AF69: 110862 | AG69: =AF69/K69 -> 0.85438271 | AI69: 110862 | AJ69: =AI69/K69 -> 0.85438271 | AL69: =AK69/K69 -> 0 | AN69: =(M69+AM69)/K69 -> 0.85438271 | AO69: =K69-M69 -> 18894.84 | AP69: OS | AR69: OP ANNULEE
B70: INDIGO Tranche 1 | C70: PRLC 0185 | D70: 2017 | E70: 84 | F70: JER | G70: AO | I70: 12400064 | J70: =I70/E70 -> 147619.81 | K70: =L70*I70 -> 372001.92 | L70: =IF(H70="x",1.5%,3%) -> 0.03 | M70: 319371 | N70: =M70/K70 -> 0.85851977 | R70: =Q70/K70 -> 0 | U70: =T70/K70 -> 0 | X70: =W70/K70 -> 0 | Y70: 133744 | Z70: 133744 | AA70: =Z70/K70 -> 0.35952503 | AB70: =22994+62867 -> 85861 | AC70: 219605 | AD70: =AC70/K70 -> 0.59033298 | AE70: 99766 | AF70: 99766 | AG70: =AF70/K70 -> 0.26818679 | AI70: 319371 | AJ70: =AI70/K70 -> 0.85851977 | AL70: =AK70/K70 -> 0 | AM70: =0%*K70 -> 0 | AN70: =(M70+AM70)/K70 -> 0.85851977 | AO70: =K70-M70 -> 52630.917 | AP70: OS facturation déjà atteinte | AV70: CI VEFA
B71: Californie EK 286 Tampon CV | C71: PRLC 0186 | D71: 2017 | E71: 24 | F71: YFR | G71: Travaux | I71: 4002129 | J71: =I71/E71 -> 166755.38 | K71: =L71*I71 -> 200106.45 | L71: 0.05 | M71: 190101 | N71: =M71/K71 -> 0.94999936 | R71: =Q71/K71 -> 0 | U71: =T71/K71 -> 0 | X71: =W71/K71 -> 0 | Y71: =19202+18750+7586 -> 45538 | Z71: 45538 | AA71: =Z71/K71 -> 0.22756888 | AB71: =2159+20121+9695 -> 31975 | AC71: 77514 | AD71: =AC71/K71 -> 0.38736383 | AE71: =20397+9791+9617 -> 39805 | AF71: =97910+9791+9617 -> 117318 | AG71: =AF71/K71 -> 0.58627795 | AH71: =20042+11638+9988 -> 41668 | AI71: 149195 | AJ71: =AI71/K71 -> 0.74557817 | AK71: 40906 | AL71: =AK71/K71 -> 0.2044212 | AM71: 0 | AN71: =(M71+AM71)/K71 -> 0.94999936 | AO71: =K71-M71 -> 10005.45 | AP71: RDC | AQ71: RDC | AT71: programmation | AV71: 0.1 | AW71: =AV71 -> 0.1
B72: VEFA RPA HOPITAL | C72: PRLC 0195 | D72: 2017 | E72: 30 | F72: YFR | G72: Travaux | H72: x | I72: 3564776 | J72: =I72/E72 -> 118825.87 | K72: =L72*I72 -> 178239 | L72: 0.050000056 | M72: 178239 | N72: =M72/K72 -> 1 | R72: =Q72/K72 -> 0 | U72: =T72/K72 -> 0 | X72: =W72/K72 -> 0 | AA72: =Z72/K72 -> 0 | AB72: =43954+54078+17824 -> 115856 | AC72: 98031 | AD72: =AC72/K72 -> 0.54999748 | AE72: 16042 | AF72: 131897 | AG72: =AF72/K72 -> 0.74000079 | AH72: =16041+1783 -> 17824 | AI72: 149721 | AJ72: =AI72/K72 -> 0.84000135 | AK72: 28518 | AL72: =AK72/K72 -> 0.15999865 | AM72: 0 | AN72: =(M72+AM72)/K72 -> 1 | AO72: =K72-M72 -> 0 | AP72: bilan final | AQ72: Bilan final | AR72: =VLOOKUP(AQ72,Listes!$A$2:$C$15,3) -> #N/A | AT72: Dépôt PC | AV72: 0.05 | AW72: =AV72+AW71 -> 0.15
B73: VEFA CROUS St Pierre | C73: PRLC 0193 | D73: 2017 | E73: 200 | F73: RO | G73: GPA | H73: x | I73: 11616560 | J73: =I73/E73 -> 58082.8 | K73: =L73*I73 -> 481692 | L73: 0.041465976 | M73: 481692 | N73: =M73/K73 -> 1 | R73: =Q73/K73 -> 0 | U73: =T73/K73 -> 0 | X73: =W73/K73 -> 0 | Y73: 51495 | Z73: 51495 | AA73: =Z73/K73 -> 0.10690441 | AB73: =34330+41862+54723 -> 130915 | AC73: 182410 | AD73: =AC73/K73 -> 0.37868597 | AE73: =36482+43778+18241+21889 -> 120390 | AF73: =302800+36481.9 -> 339281.9 | AG73: =AF73/K73 -> 0.70435444 | AH73: =21889+14593+21889+3648.19+116873 -> 178892.19 | AI73: 481692 | AJ73: =AI73/K73 -> 1 | AL73: =AK73/K73 -> 0 | AM73: 0 | AN73: =(M73+AM73)/K73 -> 1 | AO73: =K73-M73 -> 0 | AT73: Contrat réservation | AV73: 0.15 | AW73: =AV73+AW72 -> 0.3
B74: VEFA CROUS Tampon | C74: PRLC 0194 | D74: 2017 | E74: 100 | F74: RO | G74: GPA | I74: 6236911 | J74: =I74/E74 -> 62369.11 | K74: =L74*I74 -> 303631 | L74: 0.048682914 | M74: 303631 | N74: =M74/K74 -> 1 | R74: =Q74/K74 -> 0 | U74: =T74/K74 -> 0 | X74: =W74/K74 -> 0 | Y74: 46179 | Z74: 46179 | AA74: =Z74/K74 -> 0.15208921 | AB74: 22525 | AC74: 68704 | AD74: =AC74/K74 -> 0.22627466 | AE74: 82444 | AF74: 151148 | AG74: =AF74/K74 -> 0.49780161 | AH74: =11778+19630+11777+1962.96+107335 -> 152482.96 | AI74: 303631 | AJ74: =AI74/K74 -> 1 | AL74: =AK74/K74 -> 0 | AM74: 0 | AN74: =(M74+AM74)/K74 -> 1 | AO74: =K74-M74 -> 0 | AT74: VEFA | AV74: 0.15 | AW74: =AV74+AW73 -> 0.45
B75: Fourragères | C75: PRLC 0184 | D75: 2017 | E75: 21 | F75: TQU | G75: Travaux | I75: 3951182 | J75: =I75/E75 -> 188151.52 | K75: =L75*I75 -> 195889 | L75: 0.049577316 | M75: 156711 | N75: =M75/K75 -> 0.79999898 | R75: =Q75/K75 -> 0 | U75: =T75/K75 -> 0 | X75: =W75/K75 -> 0 | Y75: 45452 | Z75: 45452 | AA75: =Z75/K75 -> 0.23202936 | AB75: =21612+28742+9580 -> 59934 | AC75: 105386 | AD75: =AC75/K75 -> 0.53798835 | AF75: =105386+9580.6 -> 114966.6 | AG75: =AF75/K75 -> 0.58689666 | AH75: =21235+9740+9740 -> 40715 | AI75: 146102 | AJ75: =AI75/K75 -> 0.74584076 | AK75: 10609 | AL75: =AK75/K75 -> 0.054158222 | AM75: =5%*K75 -> 9794.45 | AN75: =(M75+AM75)/K75 -> 0.84999898 | AO75: =K75-M75 -> 39178 | AP75: HDA | AT75: OS | AV75: 0.05 | AW75: =AV75+AW74 -> 0.5
AL76: =AK76/K76 -> #DIV/0! | AT76: Terrassement | AV76: 0.05 | AW76: =AV76+AW75 -> 0.55
D77: =COUNTA(D69:D76) -> 7 | E77: =SUM(E69:E76) -> 485 | I77: =SUM(I69:I76) -> 46096850 | K77: =SUM(K69:K76) -> 1861316.2 | M77: =SUM(M69:M76) -> 1740607 | N77: =M77/K77 -> 0.93514847 | O77: =SUM(O69:O76) -> 0 | P77: =SUM(P69:P76) -> 0 | Q77: =SUM(Q69:Q76) -> 0 | R77: =Q77/K77 -> 0 | S77: =SUM(S69:S76) -> 0 | T77: =SUM(T69:T76) -> 0 | U77: =T77/K77 -> 0 | V77: =SUM(V69:V76) -> 0 | W77: =SUM(W69:W76) -> 0 | X77: =W77/K77 -> 0 | Y77: =SUM(Y69:Y76) -> 371954 | Z77: =SUM(Z69:Z76) -> 371954 | AA77: =Z77/K77 -> 0.19983386 | AB77: =SUM(AB69:AB76) -> 508382 | AC77: =SUM(AC69:AC76) -> 862512 | AD77: =AC77/K77 -> 0.46338822 | AE77: =SUM(AE69:AE76) -> 358447 | AF77: =SUM(AF69:AF76) -> 1065239.5 | AG77: =AF77/K77 -> 0.57230442 | AH77: =SUM(AH69:AH76) -> 431582.15 | AI77: =SUM(AI69:AI76) -> 1660574 | AJ77: =AI77/K77 -> 0.8921504 | AK77: =SUM(AK69:AK76) -> 80033 | AL77: =AK77/K77 -> 0.042998068 | AM77: =SUM(AM69:AM76) -> 9794.45 | AN77: =(M77+AM77)/K77 -> 0.94041058 | AO77: =SUM(AO69:AO76) -> 120709.21 | AT77: Fondations | AV77: 0.1 | AW77: =AV77+AW76 -> 0.65
A78: 2018 | B78: CANNELLE | C78: PRLC 0200 | E78: 30 | I78: 4926823 | J78: =I78/E78 -> 164227.43 | K78: =L78*I78 -> 147804.69 | L78: =IF(H78="x",1.5%,3%) -> 0.03 | M78: 98536 | N78: =M78/K78 -> 0.66666355 | R78: =Q78/K78 -> 0 | U78: =T78/K78 -> 0 | X78: =W78/K78 -> 0 | AA78: =Z78/K78 -> 0 | AB78: 36530 | AC78: 36530 | AD78: =AC78/K78 -> 0.24715048 | AE78: =24353+13019+24634.1 -> 62006.1 | AF78: =73902+24634.1 -> 98536.1 | AG78: =AF78/K78 -> 0.66666423 | AI78: 98536 | AJ78: =AI78/K78 -> 0.66666355 | AL78: =AK78/K78 -> 0 | AM78: 0 | AN78: =(M78+AM78)/K78 -> 0.66666355 | AO78: =K78-M78 -> 49268.69 | AT78: Plancher bas du R+1 | AV78: 0.05 | AW78: =AV78+AW77 -> 0.7
B79: INDIGO Tranche 2 | C79: PRLC 0192 | D79: 2018 | E79: 56 | F79: JER | G79: AO | I79: 9453797.1 | J79: =I79/E79 -> 168817.8 | K79: =L79*I79 -> 283613.91 | L79: =IF(H79="x",1.5%,3%) -> 0.03 | M79: 230674 | N79: =M79/K79 -> 0.8133381 | R79: =Q79/K79 -> 0 | U79: =T79/K79 -> 0 | X79: =W79/K79 -> 0 | AA79: =Z79/K79 -> 0 | AB79: =99970+13632 -> 113602 | AC79: 113602 | AD79: =AC79/K79 -> 0.40055158 | AE79: 47870 | AF79: 161472 | AG79: =AF79/K79 -> 0.56933737 | AH79: 69202 | AI79: 230674 | AJ79: =AI79/K79 -> 0.8133381 | AL79: =AK79/K79 -> 0 | AM79: =0%*K79 -> 0 | AN79: =(M79+AM79)/K79 -> 0.8133381 | AO79: =K79-M79 -> 52939.912 | AP79: OS facturation déjà atteinte | AT79: HDE | AV79: 0.05 | AW79: =AV79+AW78 -> 0.75
B80: OPALE | C80: PRLC 0197 | D80: 2018 | E80: 17 | F80: RO | G80: Travaux | I80: 3251460.2 | J80: =I80/E80 -> 191262.37 | K80: =L80*I80 -> 162573.01 | L80: 0.05 | M80: 105872 | N80: =M80/K80 -> 0.65122741 | R80: =Q80/K80 -> 0 | U80: =T80/K80 -> 0 | X80: =W80/K80 -> 0 | AA80: =Z80/K80 -> 0 | AB80: =15110+8318+7809 -> 31237 | AC80: 31238 | AD80: =AC80/K80 -> 0.19214751 | AE80: =15619+14463+15330 -> 45412 | AF80: 76649 | AG80: =AF80/K80 -> 0.47147432 | AH80: =4791+24432 -> 29223 | AI80: 105872 | AJ80: =AI80/K80 -> 0.65122741 | AL80: =AK80/K80 -> 0 | AM80: =15%*K80 -> 24385.952 | AN80: =(M80+AM80)/K80 -> 0.80122741 | AO80: =K80-M80 -> 56701.011 | AP80: HDE | AT80: HDA | AV80: 0.05 | AW80: =AV80+AW79 -> 0.8
B81: PAPYRUS | C81: PRLC 0199 | E81: 33 | I81: =5015573+183311 -> 5198884 | J81: =I81/E81 -> 157541.94 | K81: =L81*I81 -> 155966.52 | L81: =IF(H81="x",1.5%,3%) -> 0.03 | M81: =62695+3208 -> 65903 | N81: =M81/K81 -> 0.42254581 | R81: =Q81/K81 -> 0 | U81: =T81/K81 -> 0 | X81: =W81/K81 -> 0 | AA81: =Z81/K81 -> 0 | AB81: 39542 | AC81: 39542 | AD81: =AC81/K81 -> 0.25352877 | AE81: =1283+25078 -> 26361 | AF81: 65903 | AG81: =AF81/K81 -> 0.42254581 | AI81: 65903 | AJ81: =AI81/K81 -> 0.42254581 | AL81: =AK81/K81 -> 0 | AM81: 0 | AN81: =(M81+AM81)/K81 -> 0.42254581 | AO81: =K81-M81 -> 90063.52 | AT81: Plâtres | AV81: 0.05 | AW81: =AV81+AW80 -> 0.85
B82: Turpin Les Cocos | C82: PRLC 0198 | D82: 2018 | E82: 39 | F82: YFR | G82: AO | I82: 7869899.4 | J82: =I82/E82 -> 201792.29 | K82: =L82*I82 -> 236096.98 | L82: =IF(H82="x",1.5%,3%) -> 0.03 | M82: 180970 | N82: =M82/K82 -> 0.76650704 | R82: =Q82/K82 -> 0 | U82: =T82/K82 -> 0 | X82: =W82/K82 -> 0 | AA82: =Z82/K82 -> 0 | AB82: =25896+20695 -> 46591 | AC82: 46592 | AD82: =AC82/K82 -> 0.19734263 | AE82: =31062+24757+36318+42242 -> 134379 | AF82: 180970 | AG82: =AF82/K82 -> 0.76650704 | AI82: 180970 | AJ82: =AI82/K82 -> 0.76650704 | AL82: =AK82/K82 -> 0 | AM82: =0%*K82 -> 0 | AN82: =(M82+AM82)/K82 -> 0.76650704 | AO82: =K82-M82 -> 55126.982 | AP82: CAO facturation déjà atteinte | AT82: DAT | AV82: 0.05 | AW82: =AV82+AW81 -> 0.9
I83: =180000*E83 -> 0 | K83: =L83*I83 -> 0 | R83: =Q83/K83 -> #DIV/0! | U83: =T83/K83 -> #DIV/0! | X83: =W83/K83 -> #DIV/0! | AA83: =Z83/K83 -> #DIV/0! | AD83: =AC83/K83 -> #DIV/0! | AL83: =AK83/K83 -> #DIV/0! | AO83: =K83-M83 -> 0 | AT83: RDC | AV83: 0.05 | AW83: =AV83+AW82 -> 0.95
D84: =COUNTA(D78:D83) -> 3 | E84: =SUM(E78:E83) -> 175 | I84: =SUM(I78:I83) -> 30700864 | K84: =SUM(K78:K83) -> 986055.12 | M84: =SUM(M78:M83) -> 681955 | N84: =M84/K84 -> 0.69159927 | O84: =SUM(O78:O83) -> 0 | P84: =SUM(P78:P83) -> 0 | Q84: =SUM(Q78:Q83) -> 0 | R84: =Q84/K84 -> 0 | S84: =SUM(S78:S83) -> 0 | T84: =SUM(T78:T83) -> 0 | U84: =T84/K84 -> 0 | V84: =SUM(V78:V83) -> 0 | W84: =SUM(W78:W83) -> 0 | X84: =W84/K84 -> 0 | Y84: =SUM(Y78:Y83) -> 0 | Z84: =SUM(Z78:Z83) -> 0 | AA84: =Z84/K84 -> 0 | AB84: =SUM(AB78:AB83) -> 267502 | AC84: =SUM(AC78:AC83) -> 267504 | AD84: =AC84/K84 -> 0.27128707 | AE84: =SUM(AE78:AE83) -> 316028.1 | AF84: =SUM(AF78:AF83) -> 583530.1 | AG84: =AF84/K84 -> 0.59178244 | AH84: =SUM(AH78:AH83) -> 98425 | AI84: =SUM(AI78:AI83) -> 681955 | AJ84: =AI84/K84 -> 0.69159927 | AK84: =SUM(AK78:AK83) -> 0 | AL84: =AK84/K84 -> 0 | AM84: =SUM(AM78:AM83) -> 24385.952 | AN84: =(M84+AM84)/K84 -> 0.71633009 | AO84: =SUM(AO78:AO83) -> 304100.12 | AT84: Bilan final | AV84: 0.05 | AW84: =AV84+AW83 -> 1
A85: 2019 | B85: VEFA BERGAMOTE | C85: PRLC 0210 | D85: 2019 | E85: 66 | F85: YFR | G85: AO | H85: x | I85: 10605600 | J85: =I85/E85 -> 160690.91 | K85: =L85*I85 -> 318168 | L85: 0.03 | M85: 206809 | N85: =M85/K85 -> 0.64999937 | R85: =Q85/K85 -> 0 | U85: =T85/K85 -> 0 | X85: =W85/K85 -> 0 | AA85: =Z85/K85 -> 0 | AD85: =AC85/K85 -> 0 | AE85: 31650 | AF85: 31650 | AG85: =AF85/K85 -> 0.099475749 | AH85: 63800 | AI85: 63800 | AJ85: =AI85/K85 -> 0.20052299 | AK85: 111359 | AL85: =AK85/K85 -> 0.35000063 | AM85: 0 | AN85: =(M85+AM85)/K85 -> 0.64999937 | AO85: =K85-M85 -> 111359 | AP85: OS | AQ85: Fondations | AR85: =VLOOKUP(AQ85,Listes!$A$2:$C$15,3) -> 0.65
B86: VEFA GTOI Roland Garros | C86: PRLC 0207 | D86: 2019 | E86: 58 | F86: RO | G86: Travaux | H86: x | I86: 10763595 | J86: =I86/E86 -> 185579.22 | K86: =L86*I86 -> 374676 | L86: 0.034809559 | M86: 187338 | N86: =M86/K86 -> 0.5 | R86: =Q86/K86 -> 0 | U86: =T86/K86 -> 0 | X86: =W86/K86 -> 0 | AA86: =Z86/K86 -> 0 | AD86: =AC86/K86 -> 0 | AE86: 76954 | AF86: 76954 | AG86: =AF86/K86 -> 0.20538812 | AH86: =15391+94993 -> 110384 | AI86: 187338 | AJ86: =AI86/K86 -> 0.5 | AL86: =AK86/K86 -> 0 | AM86: =15%*K86 -> 56201.4 | AN86: =(M86+AM86)/K86 -> 0.65 | AO86: =K86-M86 -> 187338 | AP86: Fondations | AQ86: Fondations | AR86: =VLOOKUP(AQ86,Listes!$A$2:$C$15,3) -> 0.65
B87: VEFA ACACIAS | C87: PRLC 0209 | D87: 2019 | E87: 35 | F87: FHO | G87: AO | H87: x | I87: 5619288 | J87: =I87/E87 -> 160551.09 | K87: =L87*I87 -> 160500 | L87: 0.028562337 | M87: 48150 | N87: =M87/K87 -> 0.3 | R87: =Q87/K87 -> 0 | U87: =T87/K87 -> 0 | X87: =W87/K87 -> 0 | AA87: =Z87/K87 -> 0 | AD87: =AC87/K87 -> 0 | AE87: 16050 | AF87: 16050 | AG87: =AF87/K87 -> 0.1 | AH87: =8025+24075 -> 32100 | AI87: 48150 | AJ87: =AI87/K87 -> 0.3 | AL87: =AK87/K87 -> 0 | AN87: =(M87+AM87)/K87 -> 0.3 | AO87: =K87-M87 -> 112350 | AP87: OS | AR87: OP ANNULEE
B88: VEFA EPICEA | C88: PRLC 0210 | D88: 2019 | E88: 41 | F88: FHO | G88: AO | H88: x | I88: 6200000 | J88: =I88/E88 -> 151219.51 | K88: =L88*I88 -> 186000 | L88: 0.03 | M88: 55800 | N88: =M88/K88 -> 0.3 | R88: =Q88/K88 -> 0 | U88: =T88/K88 -> 0 | X88: =W88/K88 -> 0 | AA88: =Z88/K88 -> 0 | AD88: =AC88/K88 -> 0 | AE88: 18300 | AF88: 18300 | AG88: =AF88/K88 -> 0.098387097 | AH88: 37500 | AI88: 55800 | AJ88: =AI88/K88 -> 0.3 | AL88: =AK88/K88 -> 0 | AN88: =(M88+AM88)/K88 -> 0.3 | AO88: =K88-M88 -> 130200 | AR88: OP ANNULEE
B89: VEFA MIAMI | C89: PRLC 0205 | D89: 2019 | E89: 60 | F89: RO | G89: OS | H89: x | I89: 11010000 | J89: =I89/E89 -> 183500 | K89: =L89*I89 -> 330300 | L89: 0.03 | M89: 99090 | N89: =M89/K89 -> 0.3 | R89: =Q89/K89 -> 0 | U89: =T89/K89 -> 0 | X89: =W89/K89 -> 0 | AA89: =Z89/K89 -> 0 | AD89: =AC89/K89 -> 0 | AE89: 49545 | AF89: 49545 | AG89: =AF89/K89 -> 0.15 | AH89: =50045 -> 50045 | AI89: 99090 | AJ89: =AI89/K89 -> 0.3 | AL89: =AK89/K89 -> 0 | AM89: =35%*K89 -> 115605 | AN89: =(M89+AM89)/K89 -> 0.65 | AO89: =K89-M89 -> 231210 | AP89: Fondations | AQ89: Fondations | AR89: =VLOOKUP(AQ89,Listes!$A$2:$C$15,3) -> 0.65 | AV89: CI Propre
B90: GORBATCHEV Logement | C90: PRLC 0206 | D90: 2019 | E90: 30 | F90: YFR | G90: APD | I90: 5812746 | J90: =I90/E90 -> 193758.2 | K90: =L90*I90 -> 174382.38 | L90: =IF(H90="x",1.5%,3%) -> 0.03 | M90: 87191 | N90: =M90/K90 -> 0.49999891 | R90: =Q90/K90 -> 0 | U90: =T90/K90 -> 0 | X90: =W90/K90 -> 0 | AA90: =Z90/K90 -> 0 | AD90: =AC90/K90 -> 0 | AE90: 30190 | AF90: 30190 | AG90: =AF90/K90 -> 0.17312529 | AH90: 57001 | AI90: 87191 | AJ90: =AI90/K90 -> 0.49999891 | AL90: =AK90/K90 -> 0 | AM90: =0%*K90 -> 0 | AN90: =(M90+AM90)/K90 -> 0.49999891 | AO90: =K90-M90 -> 87191.38 | AP90: PRO facturation déjà atteinte | AT90: Programmation | AV90: 0.1 | AW90: =AV90 -> 0.1
B91: GORBATCHEV Commerce | C91: PRLC 0206 | D91: 2019 | I91: 598612 | J91: =I91/E91 -> #DIV/0! | K91: =L91*I91 -> 17958.36 | L91: =IF(H91="x",1.5%,3%) -> 0.03 | M91: 8381 | N91: =M91/K91 -> 0.46669072 | R91: =Q91/K91 -> 0 | U91: =T91/K91 -> 0 | X91: =W91/K91 -> 0 | AA91: =Z91/K91 -> 0 | AD91: =AC91/K91 -> 0 | AE91: 30190 | AF91: 30190 | AG91: =AF91/K91 -> 1.6811112 | AH91: 8381 | AI91: 8381 | AJ91: =AI91/K91 -> 0.46669072 | AL91: =AK91/K91 -> 0 | AM91: =0%*K91 -> 0 | AN91: =(M91+AM91)/K91 -> 0.46669072 | AO91: =K91-M91 -> 9577.36 | AP91: PRO facturation déjà atteinte | AT91: ESQ | AV91: 0.05 | AW91: =AV91+AW90 -> 0.15
L92: =K92/I92 -> #DIV/0! | R92: =Q92/K92 -> #DIV/0! | U92: =T92/K92 -> #DIV/0! | X92: =W92/K92 -> #DIV/0! | AA92: =Z92/K92 -> #DIV/0! | AD92: =AC92/K92 -> #DIV/0! | AL92: =AK92/K92 -> #DIV/0! | AM92: =25%*K92 -> 0 | AO92: =K92-M92 -> 0 | AT92: APS | AV92: 0.05 | AW92: =AV92+AW91 -> 0.2
D93: =COUNTA(D85:D92) -> 7 | E93: =SUM(E85:E92) -> 290 | I93: =SUM(I85:I92) -> 50609841 | K93: =SUM(K85:K92) -> 1561984.7 | M93: =SUM(M85:M92) -> 692759 | N93: =M93/K93 -> 0.44351202 | O93: =SUM(O85:O92) -> 0 | P93: =SUM(P85:P92) -> 0 | Q93: =SUM(Q85:Q92) -> 0 | R93: =Q93/K93 -> 0 | S93: =SUM(S85:S92) -> 0 | T93: =SUM(T85:T92) -> 0 | U93: =T93/K93 -> 0 | V93: =SUM(V85:V92) -> 0 | W93: =SUM(W85:W92) -> 0 | X93: =W93/K93 -> 0 | Y93: =SUM(Y85:Y92) -> 0 | Z93: =SUM(Z85:Z92) -> 0 | AA93: =Z93/K93 -> 0 | AB93: =SUM(AB85:AB92) -> 0 | AC93: =SUM(AC85:AC92) -> 0 | AD93: =AC93/K93 -> 0 | AE93: =SUM(AE85:AE92) -> 252879 | AF93: =SUM(AF85:AF92) -> 252879 | AG93: =AF93/K93 -> 0.16189595 | AH93: =SUM(AH85:AH92) -> 359211 | AI93: =SUM(AI85:AI92) -> 549750 | AJ93: =AI93/K93 -> 0.35195606 | AK93: =SUM(AK85:AK92) -> 111359 | AL93: =AK93/K93 -> 0.07129327 | AM93: =SUM(AM85:AM92) -> 171806.4 | AN93: =(M93+AM93)/K93 -> 0.55350438 | AO93: =SUM(AO85:AO92) -> 869225.74 | AT93: PC | AV93: 0.1 | AW93: =AV93+AW92 -> 0.3
A94: 2020 | B94: BOULANGER | C94: PRLC 0212 | D94: 2020 | E94: 35 | F94: TQU | G94: APS | I94: 6044257.7 | J94: =I94/E94 -> 172693.08 | K94: =L94*I94 -> 181327.73 | L94: =IF(H94="x",1.5%,3%) -> 0.03 | M94: 88750 | N94: =M94/K94 -> 0.48944527 | R94: =Q94/K94 -> 0 | U94: =T94/K94 -> 0 | X94: =W94/K94 -> 0 | AA94: =Z94/K94 -> 0 | AD94: =AC94/K94 -> 0 | AG94: =AF94/K94 -> 0 | AH94: =31301+13195+29639 -> 74135 | AI94: 74135 | AJ94: =AI94/K94 -> 0.40884535 | AK94: 14615 | AL94: =AK94/K94 -> 0.080599917 | AM94: 0 | AN94: =(M94+AM94)/K94 -> 0.48944527 | AO94: =K94-M94 -> 92577.73 | AP94: APD | AT94: APD | AV94: 0.1 | AW94: =AV94+AW93 -> 0.4
B95: GINGKO & BILOBA | C95: PRLC 0213 | D95: 2020 | E95: 40 | F95: FHO | G95: PC | I95: 5298260 | J95: =I95/E95 -> 132456.5 | K95: =L95*I95 -> 158947.8 | L95: =IF(H95="x",1.5%,3%) -> 0.03 | M95: 26189 | N95: =M95/K95 -> 0.16476478 | R95: =Q95/K95 -> 0 | U95: =T95/K95 -> 0 | X95: =W95/K95 -> 0 | AA95: =Z95/K95 -> 0 | AD95: =AC95/K95 -> 0 | AG95: =AF95/K95 -> 0 | AH95: 26189 | AI95: 26189 | AJ95: =AI95/K95 -> 0.16476478 | AL95: =AK95/K95 -> 0 | AM95: =14%*K95 -> 22252.692 | AN95: =(M95+AM95)/K95 -> 0.30476478 | AO95: =K95-M95 -> 132758.8 | AP95: PC | AT95: PRO | AV95: 0.1 | AW95: =AV95+AW94 -> 0.5
B96: VEFA ALVERDY | C96: PRLC 0224 | D96: 2020 | E96: 30 | F96: MTG | G96: PC | H96: x | I96: 5000789 | J96: =I96/E96 -> 166692.97 | K96: =L96*I96 -> 75011.835 | L96: =IF(H96="x",1.5%,3%) -> 0.015 | M96: 22504 | N96: =M96/K96 -> 0.30000599 | R96: =Q96/K96 -> 0 | U96: =T96/K96 -> 0 | X96: =W96/K96 -> 0 | AA96: =Z96/K96 -> 0 | AD96: =AC96/K96 -> 0 | AG96: =AF96/K96 -> 0 | AJ96: =AI96/K96 -> 0 | AK96: 22504 | AL96: =AK96/K96 -> 0.30000599 | AN96: =(M96+AM96)/K96 -> 0.30000599 | AO96: =K96-M96 -> 52507.835 | AP96: Réservation | AQ96: Contrat réservation | AR96: =VLOOKUP(AQ96,Listes!$A$2:$C$15,3) -> 0.3 | AW96: =AV96+AW95 -> 0.5
B97: VEFA BERTAUT | C97: PRLC 0219 | D97: 2020 | E97: 123 | F97: TQU | G97: PC | H97: x | I97: 18939550 | J97: =I97/E97 -> 153980.08 | K97: =L97*I97 -> 284093.25 | L97: =IF(H97="x",1.5%,3%) -> 0.015 | M97: 170456 | N97: =M97/K97 -> 0.60000018 | R97: =Q97/K97 -> 0 | U97: =T97/K97 -> 0 | X97: =W97/K97 -> 0 | AA97: =Z97/K97 -> 0 | AD97: =AC97/K97 -> 0 | AG97: =AF97/K97 -> 0 | AH97: 85228 | AI97: 85228 | AJ97: =AI97/K97 -> 0.30000009 | AK97: 85228 | AL97: =AK97/K97 -> 0.30000009 | AM97: =15%*K97 -> 42613.987 | AN97: =(M97+AM97)/K97 -> 0.75000018 | AO97: =K97-M97 -> 113637.25 | AP97: VEFA | AQ97: VEFA | AR97: =VLOOKUP(AQ97,Listes!$A$2:$C$15,3) -> 1 | AT97: CAO | AV97: 0.05 | AW97: =AV97+AW96 -> 0.55
B98: VEFA 23e km | D98: 2020 | E98: 70 | F98: TQU | G98: PC | H98: x | I98: 12479242 | J98: =I98/E98 -> 178274.89 | K98: =L98*I98 -> 187188.63 | L98: =IF(H98="x",1.5%,3%) -> 0.015 | M98: 56157 | N98: =M98/K98 -> 0.3000022 | R98: =Q98/K98 -> 0 | U98: =T98/K98 -> 0 | X98: =W98/K98 -> 0 | AA98: =Z98/K98 -> 0 | AD98: =AC98/K98 -> 0 | AG98: =AF98/K98 -> 0 | AH98: 56157 | AI98: 56157 | AJ98: =AI98/K98 -> 0.3000022 | AL98: =AK98/K98 -> 0 | AN98: =(M98+AM98)/K98 -> 0.3000022 | AO98: =K98-M98 -> 131031.63 | AP98: Réservation | AQ98: Contrat réservation | AR98: =VLOOKUP(AQ98,Listes!$A$2:$C$15,3) -> 0.3 | AT98: OS | AV98: 0.1 | AW98: =AV98+AW97 -> 0.65
B99: IKARIA | C99: PRLC 0214 | D99: 2020 | E99: 56 | F99: FHO | G99: PC | I99: 7671343.5 | J99: =I99/E99 -> 136988.28 | K99: =L99*I99 -> 230140.31 | L99: =IF(H99="x",1.5%,3%) -> 0.03 | M99: 106179 | N99: =M99/K99 -> 0.46136638 | R99: =Q99/K99 -> 0 | U99: =T99/K99 -> 0 | X99: =W99/K99 -> 0 | AA99: =Z99/K99 -> 0 | AD99: =AC99/K99 -> 0 | AG99: =AF99/K99 -> 0 | AH99: =39768+15520+32916 -> 88204 | AI99: 88204 | AJ99: =AI99/K99 -> 0.38326185 | AK99: 17975 | AL99: =AK99/K99 -> 0.078104528 | AN99: =(M99+AM99)/K99 -> 0.46136638 | AO99: =K99-M99 -> 123961.31 | AP99: APD | AT99: Fondations | AV99: 0.05 | AW99: =AV99+AW98 -> 0.7
B100: VEFA ICADE TRANCHE 1 | C100: PRLC 0217 | D100: 2020 | E100: 114 | F100: TQU | G100: PC | H100: x | I100: 14160252 | J100: =I100/E100 -> 124212.74 | K100: =L100*I100 -> 212403.78 | L100: =IF(H100="x",1.5%,3%) -> 0.015 | M100: 63721 | N100: =M100/K100 -> 0.29999937 | R100: =Q100/K100 -> 0 | U100: =T100/K100 -> 0 | X100: =W100/K100 -> 0 | AA100: =Z100/K100 -> 0 | AD100: =AC100/K100 -> 0 | AG100: =AF100/K100 -> 0 | AH100: 63721 | AI100: 63721 | AJ100: =AI100/K100 -> 0.29999937 | AL100: =AK100/K100 -> 0 | AM100: 0 | AN100: =(M100+AM100)/K100 -> 0.29999937 | AO100: =K100-M100 -> 148682.78 | AP100: Réservation | AQ100: Contrat réservation | AR100: =VLOOKUP(AQ100,Listes!$A$2:$C$15,3) -> 0.3 | AT100: Plancher bas du R+1 | AV100: 0.05 | AW100: =AV100+AW99 -> 0.75
...

Sheet Listes
B1: CI VEFA
A2: programmation | B2: 0.1 | C2: =B2 -> 0.1
A3: Dépôt PC | B3: 0.05 | C3: =B3+C2 -> 0.15
A4: Contrat réservation | B4: 0.15 | C4: =B4+C3 -> 0.3
A5: VEFA | B5: 0.15 | C5: =B5+C4 -> 0.45
A6: OS | B6: 0.05 | C6: =B6+C5 -> 0.5
A7: Terrassement | B7: 0.05 | C7: =B7+C6 -> 0.55
A8: Fondations | B8: 0.1 | C8: =B8+C7 -> 0.65
A9: Plancher bas du R+1 | B9: 0.05 | C9: =B9+C8 -> 0.7
A10: HDE | B10: 0.05 | C10: =B10+C9 -> 0.75
A11: HDA | B11: 0.05 | C11: =B11+C10 -> 0.8
A12: Plâtres | B12: 0.05 | C12: =B12+C11 -> 0.85
A13: DAT | B13: 0.05 | C13: =B13+C12 -> 0.9
A14: RDC | B14: 0.05 | C14: =B14+C13 -> 0.95
A15: Bilan final | B15: 0.05 | C15: =B15+C14 -> 1
