Workbook
Name BedragF: #REF!
Name EuroConv: [1]Parameterblad!$C$1
Name FullFormules: [1]Formules!$A$26:$V$39
Name Geldigheid: [1]Parameterblad!$B$4
Name KredietTypes: [1]Parameterblad!$A$25:$B$26
Name looptijdF: #REF!
Name maandenF: #REF!
Name mensF: #REF!
Name nettorvtF: #REF!
Name UitstelF: #REF!

Sheet Crédit foncier
C2: Simulation crédit habitation
C4: Candidat emprunteur | E4: Demandeur 1 | I4: Demandeur 2 | M4: Gage (Habitation à financer) | Q4: Vente de gré à gré | S4: Valeur | W4: Rachat de prêt | AA4: Valeur
C6: Nom | Q6: Prix d'achat bien existant | S6: 100000 | W6: Montant original prêt
C7: Prénom | Q7: Travaux hors Tva | W7: Solde actuel
C8: Adresse | Q8: Tva 21% sur travaux | S8: =S7*21% -> 0 | W8: Taux dans le temps
C9: Code postal + Ville | Q9: Montant total travaux | S9: =S7+S8 -> 0 | W9: Indemnité de réemploi | AA9: =AA7*AA8*3/12 -> 0
C10: Téléphone | Q10: Fonds propres | W10: Frais de main levée | AA10: =IF(AA6="","",CHOOSE(MATCH(AA6,AE$149:AE$165,1),AF151,AF152,AF153,AF154,AF155,AF156,AF157,AF158,AF159,AF160,AF161,AF162,AF163,AF164,AF165,AF166))
C11: Email | Q11: Montant total de l'achat | S11: =SUM(S6:S9)-S10 -> 100000 | W11: Montant total du rachat | AA11: =SUM(AA7:AA10) -> 0
C13: Crédits en cours | Q13: Construction | S13: Montant | U13: Tva 21% | W13: Total
C15: Type de prêt | E15: Emprunt | G15: Durée | I15: Taux | K15: R'boursement | M15: 1 échéance | O15: Solde | Q15: Devis construction | U15: =S15*21% -> 0 | W15: =S15+U15 -> 0
Q16: Devis terrain | U16: =S16*21% -> 0 | W16: =S16+U16 -> 0
Q17: Devis garage / cave | U17: =S17*21% -> 0 | W17: =S17+U17 -> 0
Q18: Devis terrain garage / cave | U18: =S18*21% -> 0 | W18: =S18+U18 -> 0
Q19: Total terrain garage et ou cave | U19: =S19*21% -> 0 | W19: =S19+U19 -> 0
Q20: Honoraires architecte | U20: =S20*21% -> 0 | W20: =S20+U20 -> 0
Q21: Raccordement égouts | U21: =S21*21% -> 0 | W21: =S21+U21 -> 0
Q22: Fonds propres | W22: =S22 -> 0
E23: =SUM(E17:E22) -> 0 | K23: =SUM(K17:K22) -> 0 | O23: =SUM(O17:O22) -> 0 | Q23: Prix total construction neuve | W23: =SUM(W15:W21)-W22 -> 0
C25: Revenus | E25: Revenus / dépenses | K25: Credit foncier | M25: Elantis | Q25: Frais de notaire | S25: Régions
C27: Revenus net employé (e) | K27: =(E27+G27)*1.1392 -> 0 | M27: =(G27+I27)*1.1392 -> 0 | Q27: Frais d'acte d'achat (Barème J - A.R. 16/12/1950) | S27: Bxl 1 achat | U27: Bruxelles | W27: Wallonie | Y27: Wallonie | AA27: Flandre | AC27: Flandre | AE27: Flandre | AG27: Flandre
C28: Revenus net ouvrier (e)/fonctionnaire | K28: =(E28+G28)*1.1255 -> 0 | M28: =(G28+I28)*1.1255 -> 0
C29: Revenu net indépendant | K29: =E29+G29 -> 0 | M29: =G29+I29 -> 0 | Q29: Enregistrement à | S29: =IF($S$11+$AA$11+$W$23=0,"",12.5%) -> 0.125 | U29: =IF($S$11+$AA$11+$W$23=0,"",12.5%) -> 0.125 | W29: =IF($S$11+$AA$11+$W$23=0,"",12.5%) -> 0.125 | Y29: =IF($S$11+$AA$11+$W$23=0,"",6%) -> 0.06 | AA29: =IF($S$11+$AA$11+$W$23=0,"",10%) -> 0.1 | AC29: =IF($S$11+$AA$11+$W$23=0,"",5%) -> 0.05 | AE29: =IF($S$11+$AA$11+$W$23=0,"",10%) -> 0.1 | AG29: =IF($S$11+$AA$11+$W$23=0,"",5%) -> 0.05
C30: Maladie/invalidité | K30: =E30+G30 -> 0 | M30: =G30 -> 0 | Q30: Abattement enregistrement | S30: =IF($S$11+$AA$11+$W$23=0,"",60000) -> 60000 | U30: =IF($S$11+$AA$11+$W$23=0,"","non") -> non | W30: =IF($S$11+$AA$11+$W$23=0,"","non") -> non | Y30: =IF($S$11+$AA$11+$W$23=0,"","non") -> non | AA30: =IF($S$11+$AA$11+$W$23=0,"",15000) -> 15000 | AC30: =IF($S$11+$AA$11+$W$23=0,"",15000) -> 15000 | AE30: =IF($S$11+$AA$11+$W$23=0,"","non") -> non | AG30: =IF($S$11+$AA$11+$W$23=0,"","non") -> non
C31: Pensions | K31: =E31+G31 -> 0 | M31: =G31 -> 0 | Q31: Droits d'enregistrement | S31: =IF(S6>=60000,(S11-60000)*12.5%,0) -> 5000 | U31: =SUM(S6+AA11)*12.5% -> 12500 | W31: =SUM(S6+AA11)*12.5% -> 12500 | Y31: =SUM(S11+AA11)*6% -> 6000 | AA31: =IF(S11>=15000,(S11-15000)*10%,0) -> 8500 | AC31: =IF(S11>15000,(S11-15000)*5%,0) -> 4250 | AE31: =SUM(S6+AA11)*10% -> 10000 | AG31: =SUM(S6+AA11)*5% -> 5000
C32: Revenus de chômage | K32: =MIN(COUNTA(E32:G32)*275,E32+G32) -> 0 | M32: =IF(AND(A6="",B6>630),630,IF(AND(A6>1000,OR(B6="",B6>630)),1000,IF(AND(A6>850,B6=""),"850"))) -> FALSE | Q32: Honoraires du notaire | S32: =SUM(AA148:AA154) -> 1593.663 | U32: =S32 -> 1593.663 | W32: =S32 -> 1593.663 | Y32: =S32 -> 1593.663 | AA32: =S32 -> 1593.663 | AC32: =S32 -> 1593.663 | AE32: =S32 -> 1593.663 | AG32: =S32 -> 1593.663
C33: Total chèque repas par mois | K33: =MIN(COUNTA(E33:G33)*80,E33+G33) -> 0 | M33: NA | Q33: Frais divers d'acte d'achat | S33: =IF($S$11+$AA$11+$W$23=0,"",900) -> 900 | U33: =IF($S$11+$AA$11+$W$23=0,"",900) -> 900 | W33: =IF($S$11+$AA$11+$W$23=0,"",900) -> 900 | Y33: =IF($S$11+$AA$11+$W$23=0,"",900) -> 900 | AA33: =IF($S$11+$AA$11+$W$23=0,"",900) -> 900 | AC33: =IF($S$11+$AA$11+$W$23=0,"",900) -> 900 | AE33: =IF($S$11+$AA$11+$W$23=0,"",900) -> 900 | AG33: =IF($S$11+$AA$11+$W$23=0,"",900) -> 900
C34: Pens. alim. reçues enfants < 15 ans | K34: =IF((E34+G34)/2>(K27+K28+K29+K30+K31+K32)*0.2,(K27+K28+K29+K30+K31+K32)*0.2,(E34+G34)/2) -> 0 | M34: NA | Q34: Total frais de notaires acte d'achat | S34: =SUM(S31:S33) -> 7493.663 | U34: =SUM(U31:U33) -> 14993.663 | W34: =SUM(W31:W33) -> 14993.663 | Y34: =SUM(Y31:Y33) -> 8493.663 | AA34: =SUM(AA31:AA33) -> 10993.663 | AC34: =SUM(AC31:AC33) -> 6743.663 | AE34: =SUM(AE31:AE33) -> 12493.663 | AG34: =SUM(AG31:AG33) -> 7493.663
C35: Nbr d'enfants < 15 ans - Allocations | K35: =IF((E35+G35)*75>(K27+K28+K29+K30+K31+K32)*0.2,(K27+K28+K29+K30+K31+K32)*0.2,(E35+G35)*75) -> 0 | M35: NA
C36: Valeurs locative existant | K36: =(E36+G36)*0.85 -> 0 | M36: =(G36+E36)*0.8 -> 0 | Q36: Frais d'acte de prêt (Barème G - A.R. 16/12/1950)
C37: Valeurs locative future | K37: =(E37+G37)*0.85 -> 0 | M37: =(G37+E37)*0.8 -> 0
C38: Autres positif | M38: =G38+E38 -> 0 | Q38: Droit d'enregistrement, d'hypothèque et conservation | S38: =(((S6+S9+AA11+W23)*110%*1.3%))+300 -> 1730 | U38: =(((U6+U9+AC11+Y23)*110%*1.3%))+300 -> 300 | W38: =(((W6+W9+AE11+AA23)*110%*1.3%))+300 -> #VALUE! | Y38: =(((Y6+Y9+AG11+AC23)*110%*1.3%))+300 -> 300 | AA38: =(((AA6+AA9+AI11+AE23)*110%*1.3%))+300 -> 300 | AC38: =(((AC6+AC9+AK11+AG23)*110%*1.3%))+300 -> 300 | AE38: =(((AE6+AE9+AM11+AI23)*110%*1.3%))+300 -> 300 | AG38: =(((AG6+AG9+AO11+AK23)*110%*1.3%))+300 -> 300
C39: Pension alimentaire payée | K39: =E39+G39 -> 0 | M39: =G39+E39 -> 0 | Q39: Honoraires du notaire | S39: =SUM(AA156:AA162) -> 651.7152 | U39: =S39 -> 651.7152 | W39: =S39 -> 651.7152 | Y39: =S39 -> 651.7152 | AA39: =S39 -> 651.7152 | AC39: =S39 -> 651.7152 | AE39: =S39 -> 651.7152 | AG39: =S39 -> 651.7152 | AK39: Enoncé
C40: Autres négatif | K40: =E40+G40 -> 0 | M40: =G40+E40 -> 0 | Q40: Frais divers d'acte de crédit | S40: =IF($S$11+$AA$11+$W$23=0,"",1000) -> 1000 | U40: =S40 -> 1000 | W40: =S40 -> 1000 | Y40: =S40 -> 1000 | AA40: =S40 -> 1000 | AC40: =S40 -> 1000 | AE40: =S40 -> 1000 | AG40: =S40 -> 1000 | AK40: Considérer le montant perçu avec un maximum de:
C41: Crédits en cours à racheter | K41: =E41+G41 -> 0 | M41: =G41+E41 -> 0 | Q41: Total frais de notaires acte de prêt | S41: =SUM(S38:S40) -> 3381.7152 | U41: =S41 -> 3381.7152 | W41: =S41 -> 3381.7152 | Y41: =S41 -> 3381.7152 | AA41: =S41 -> 3381.7152 | AC41: =S41 -> 3381.7152 | AE41: =S41 -> 3381.7152 | AG41: =S41 -> 3381.7152 | AK41: 630 mois pour cohabitant
C42: Crédits en cours non rachetés | K42: =E42+G42 -> 0 | M42: =G42+E42 -> 0 | AK42: 1000 mois pour chef de famille
C43: Total revenus | E43: =SUM(E27:E36)-E39-E40-E41-E42 -> 0 | G43: =SUM(G27:G36)-G39-G40-G41-G42 -> 0 | I43: =SUM(I27:I36)-I39-I40-I41-I42 -> 0 | K43: =SUM(K27:K38)-K39-K40-K41-K42 -> 0 | M43: =SUM(M27:M38)-M39-M40-M41-M42 -> 0 | Q43: Total frais de notaire | S43: =S41+S34 -> 10875.378 | U43: =U41+U34 -> 18375.378 | W43: =W41+W34 -> 18375.378 | Y43: =Y41+Y34 -> 11875.378 | AA43: =AA41+AA34 -> 14375.378 | AC43: =AC41+AC34 -> 10125.378 | AE43: =AE41+AE34 -> 15875.378 | AG43: =AG41+AG34 -> 10875.378 | AK43: 850 mois pour un isolé
Q44: Montant achat bien/ construction / travaux | S44: =S11+W23+AA11 -> 100000 | U44: =S11+AA11+W23 -> 100000 | W44: =S11+W23+AA11 -> 100000 | Y44: =S11+AA11+W23 -> 100000 | AA44: =S11+W23+AA11 -> 100000 | AC44: =S11+W23+AA11 -> 100000 | AE44: =S11+W23+AA11 -> 100000 | AG44: =S11+W23+AA11 -> 100000 | AK44: Les résultats sont a afficher dans la colonne M
C45: Remboursement maximum | K45: =K43*40% -> 0 | M45: =M43*40% -> 0 | Q45: Montant total nécessaire pour le prêt | S45: =SUM(S43:S44) -> 110875.38 | U45: =SUM(U43:U44) -> 118375.38 | W45: =SUM(W43:W44) -> 118375.38 | Y45: =SUM(Y43:Y44) -> 111875.38 | AA45: =SUM(AA43:AA44) -> 114375.38 | AC45: =SUM(AC43:AC44) -> 110125.38 | AE45: =SUM(AE43:AE44) -> 115875.38 | AG45: =SUM(AG43:AG44) -> 110875.38
AK46: 1000 mois pour chef de famille
E47: 1/1/1 | G47: 3/3/3 | I47: 5/5/5 | K47: 10/5/5 | M47: Fixe | Q47: Crédit foncier - Frais de dossier | S47: =IF(S45<=S49,MAX(250,MIN(1500,S45*0.5%)),IF(S45>S49,MAX(250,MIN(3500,S45*2%)))) -> 2217.5076 | U47: =IF(U45<=U49,MAX(250,MIN(1500,U45*0.5%)),IF(U45>U49,MAX(250,MIN(3500,U45*2%)))) -> 2367.5076 | W47: =IF(W45<=W49,MAX(250,MIN(1500,W45*0.5%)),IF(W45>W49,MAX(250,MIN(3500,W45*2%)))) -> 2367.5076 | Y47: =IF(Y45<=Y49,MAX(250,MIN(1500,Y45*0.5%)),IF(Y45>Y49,MAX(250,MIN(3500,Y45*2%)))) -> 2237.5076 | AA47: =IF(AA45<=AA49,MAX(250,MIN(1500,AA45*0.5%)),IF(AA45>AA49,MAX(250,MIN(3500,AA45*2%)))) -> 2287.5076 | AC47: =IF(AC45<=AC49,MAX(250,MIN(1500,AC45*0.5%)),IF(AC45>AC49,MAX(250,MIN(3500,AC45*2%)))) -> 2202.5076 | AE47: =IF(AE45<=AE49,MAX(250,MIN(1500,AE45*0.5%)),IF(AE45>AE49,MAX(250,MIN(3500,AE45*2%)))) -> 2317.5076 | AG47: =IF(AG45<=AG49,MAX(250,MIN(1500,AG45*0.5%)),IF(AG45>AG49,MAX(250,MIN(3500,AG45*2%)))) -> 2217.5076 | AK47: 850 mois pour un isolé
...
