Workbook

Sheet Feuil1
A1: Client: | F1: Type de construction:
A5: Date de lancemment
L6: peinture
A7: Profils | B7: kg/mm | C7: kg/mm | D7: Désignation | F7: Repère | G7: Longueur(mm) | I7: Quantité | J7: angle / pente | K7: Poids | L7: antirouille | M7: Polyuréthane
A8: IPE 80 | B8: =VLOOKUP(A8,Feuil2!A:B,2,0) -> 0.0062 | C8: =IFERROR(VLOOKUP(A8,Feuil2!A:B,2,0),"") -> 0.0062 | D8: RAIL | F8: T2 | G8: 3053 | I8: 3 | K8: =SUM(A8*#REF!*I8) -> #VALUE!
A9: HEA 320 | B9: =VLOOKUP(A9,Feuil2!A:B,2,0) -> 100 | C9: =IFERROR(VLOOKUP(A9,Feuil2!A:B,2,0),"") -> 100
B10: =VLOOKUP(A10,Feuil2!A:B,2,0) -> #N/A | C10: =IFERROR(VLOOKUP(A10,Feuil2!A:B,2,0),"")
B11: =VLOOKUP(A11,Feuil2!A:B,2,0) -> #N/A | C11: =IFERROR(VLOOKUP(A11,Feuil2!A:B,2,0),"")
B12: =VLOOKUP(A12,Feuil2!A:B,2,0) -> #N/A | C12: =IFERROR(VLOOKUP(A12,Feuil2!A:B,2,0),"")
B13: =VLOOKUP(A13,Feuil2!A:B,2,0) -> #N/A | C13: =IFERROR(VLOOKUP(A13,Feuil2!A:B,2,0),"")
B14: =VLOOKUP(A14,Feuil2!A:B,2,0) -> #N/A | C14: =IFERROR(VLOOKUP(A14,Feuil2!A:B,2,0),"")
B15: =VLOOKUP(A15,Feuil2!A:B,2,0) -> #N/A | C15: =IFERROR(VLOOKUP(A15,Feuil2!A:B,2,0),"")
A16: PLacier30*10 | B16: =VLOOKUP(A16,Feuil2!A:B,2,0) -> 2.4 | C16: =IFERROR(VLOOKUP(A16,Feuil2!A:B,2,0),"") -> 2.4
B17: =VLOOKUP(A17,Feuil2!A:B,2,0) -> #N/A | C17: =IFERROR(VLOOKUP(A17,Feuil2!A:B,2,0),"")
B18: =VLOOKUP(A18,Feuil2!A:B,2,0) -> #N/A | C18: =IFERROR(VLOOKUP(A18,Feuil2!A:B,2,0),"")
B19: =VLOOKUP(A19,Feuil2!A:B,2,0) -> #N/A | C19: =IFERROR(VLOOKUP(A19,Feuil2!A:B,2,0),"")
B20: =VLOOKUP(A20,Feuil2!A:B,2,0) -> #N/A | C20: =IFERROR(VLOOKUP(A20,Feuil2!A:B,2,0),"")
B21: =VLOOKUP(A21,Feuil2!A:B,2,0) -> #N/A | C21: =IFERROR(VLOOKUP(A21,Feuil2!A:B,2,0),"")
J22: Total poids

Sheet Feuil2
A1: Désignation profils | B1: kg/mm
A3: IPE
A4: IPE 80 | B4: 0.0062
A5: IPE 100 | B5: 0.0083
A6: IPE 120 | B6: 0.0107
A7: IPE 140 | B7: 0.0132
A8: IPE 160 | B8: 0.0162
A9: IPE 180 | B9: 0.0193
A10: IPE 200 | B10: 0.023
A11: IPE 220 | B11: 0.0269
A12: IPE 240 | B12: 0.0315
A13: IPE 270 | B13: 0.037
A14: IPE 300 | B14: 0.0433
A15: IPE 330 | B15: 0.0504
... A21: IPE 600 | B21: 0.125
A24: IPN
A25: IPN 80 | B25: 0.0061
A26: IPN 100 | B26: 0.0085
A27: IPN 120 | B27: 0.0115
A28: IPN 140 | B28: 0.0147
A29: IPN 160 | B29: 0.0185
A30: IPN 180 | B30: 0.0225
A31: IPN 200 | B31: 0.027
A32: IPN 220 | B32: 0.032
A33: IPN 240 | B33: 0.037
A34: IPN 260 | B34: 0.043
A35: IPN 300 | B35: 0.056
A36: IPN 320 | B36: 0.063
... A44: IPN 600 | B44: 0.203
A46: HEA
A47: HEA 100 | B47: 0.0171
A48: HEA 120 | B48: 0.0204
A49: HEA 140 | B49: 0.0253
A50: HEA 160 | B50: 0.0312
A51: HEA 180 | B51: 0.0364
A52: HEA 200 | B52: 43
A53: HEA 220 | B53: 52
A54: HEA 240 | B54: 62
A55: HEA 260 | B55: 70
A56: HEA 280 | B56: 78
...

Sheet Feuil3
