Workbook

Sheet Feuil1
A1: Client: | F1: Type de construction:
A5: Date de lancemment
L6: peinture
A7: Profils | B7: kg/mm | C7: kg/mm | D7: Désignation | F7: Repère | G7: Longueur(mm) | I7: Quantité | J7: angle / pente | K7: Poids | L7: antirouille | M7: Polyuréthane
A8: IPE 80 | B8: =VLOOKUP(A8,Feuil2!A:B,2,0) -> 0.0062 | C8: =IFERROR(VLOOKUP(A8,Feuil2!A:B,2,0),"") -> 0.0062 | D8: RAIL | F8: T2 | G8: 3053 | I8: 3 | K8: =SUM(A8*#REF!*I8) -> #VALUE!
A9: HEA 320 | B9: =VLOOKUP(A9,Feuil2!A:B,2,0) -> 100 | C9: =IFERROR(VLOOKUP(A9,Feuil2!A:B,2,0),"") -> 100
B10: =VLOOKUP(A10,Feuil2!A:B,2,0) -> #N/A | C10: =IFERROR(VLOOKUP(A10,Feuil2!A:B,2,0),"")
B11: =VLOOKUP(A11,Feuil2!A:B,2,0) -> #N/A | C11: =IFERROR(VLOOKUP(A11,Feuil2!A:B,2,0),"")
B12: =VLOOKUP(A12,Feuil2!A:B,2,0) -> #N/A | C12: =IFERROR(VLOOKUP(A12,Feuil2!A:B,2,0),"")
B13: =VLOOKUP(A13,Feuil2!A:B,2,0) -> #N/A | C13: =IFERROR(VLOOKUP(A13,Feuil2!A:B,2,0),"")
B14: =VLOOKUP(A14,Feuil2!A:B,2,0) -> #N/A | C14: =IFERROR(VLOOKUP(A14,Feuil2!A:B,2,0),"")
B15: =VLOOKUP(A15,Feuil2!A:B,2,0) -> #N/A | C15: =IFERROR(VLOOKUP(A15,Feuil2!A:B,2,0),"")
A16: PLacier30*10 | B16: =VLOOKUP(A16,Feuil2!A:B,2,0) -> 2.4 | C16: =IFERROR(VLOOKUP(A16,Feuil2!A:B,2,0),"") -> 2.4
B17: =VLOOKUP(A17,Feuil2!A:B,2,0) -> #N/A | C17: =IFERROR(VLOOKUP(A17,Feuil2!A:B,2,0),"")
B18: =VLOOKUP(A18,Feuil2!A:B,2,0) -> #N/A | C18: =IFERROR(VLOOKUP(A18,Feuil2!A:B,2,0),"")
B19: =VLOOKUP(A19,Feuil2!A:B,2,0) -> #N/A | C19: =IFERROR(VLOOKUP(A19,Feuil2!A:B,2,0),"")
B20: =VLOOKUP(A20,Feuil2!A:B,2,0) -> #N/A | C20: =IFERROR(VLOOKUP(A20,Feuil2!A:B,2,0),"")
B21: =VLOOKUP(A21,Feuil2!A:B,2,0) -> #N/A | C21: =IFERROR(VLOOKUP(A21,Feuil2!A:B,2,0),"")
J22: Total poids

Sheet Feuil2
A1: Désignation profils | B1: kg/mm
A3: IPE
A4: IPE 80 | B4: 0.0062
A5: IPE 100 | B5: 0.0083
A6: IPE 120 | B6: 0.0107
A7: IPE 140 | B7: 0.0132
A8: IPE 160 | B8: 0.0162
A9: IPE 180 | B9: 0.0193
A10: IPE 200 | B10: 0.023
A11: IPE 220 | B11: 0.0269
A12: IPE 240 | B12: 0.0315
A13: IPE 270 | B13: 0.037
A14: IPE 300 | B14: 0.0433
A15: IPE 330 | B15: 0.0504
... A21: IPE 600 | B21: 0.125
A24: IPN
A25: IPN 80 | B25: 0.0061
A26: IPN 100 | B26: 0.0085
A27: IPN 120 | B27: 0.0115
A28: IPN 140 | B28: 0.0147
A29: IPN 160 | B29: 0.0185
A30: IPN 180 | B30: 0.0225
A31: IPN 200 | B31: 0.027
A32: IPN 220 | B32: 0.032
A33: IPN 240 | B33: 0.037
A34: IPN 260 | B34: 0.043
A35: IPN 300 | B35: 0.056
A36: IPN 320 | B36: 0.063
... A44: IPN 600 | B44: 0.203
A46: HEA
A47: HEA 100 | B47: 0.0171
A48: HEA 120 | B48: 0.0204
A49: HEA 140 | B49: 0.0253
A50: HEA 160 | B50: 0.0312
A51: HEA 180 | B51: 0.0364
A52: HEA 200 | B52: 43
A53: HEA 220 | B53: 52
A54: HEA 240 | B54: 62
A55: HEA 260 | B55: 70
A56: HEA 280 | B56: 78
A57: HEA 300 | B57: 90
A58: HEA 320 | B58: 100
... A65: HEA 600 | B65: 182
A67: HEB
A68: HEB 100 | B68: 20.9
A69: HEB 120 | B69: 27.4
A70: HEB 140 | B70: 34.5
A71: HEB 160 | B71: 43.7
A72: HEB 180 | B72: 52.2
A73: HEB 200 | B73: 63
A74: HEB 220 | B74: 73
A75: HEB 240 | B75: 85
A76: HEB 260 | B76: 95
A77: HEB 280 | B77: 106
A78: HEB 300 | B78: 120
A79: HEB 320 | B79: 130
... A86: HEB 600 | B86: 217
A88: UPN
A89: UPN80 | B89: 8.9
A90: UPN100 | B90: 10.8
A91: UPN120 | B91: 13.7
A92: UPN140 | B92: 16.4
A93: UPN160 | B93: 19.2
A94: UPN180 | B94: 22.5
A95: UPN200 | B95: 25.8
A96: UPN220 | B96: 30
A97: UPN240 | B97: 33.9
A98: UPN260 | B98: 38.7
A99: UPN280 | B99: 42.6
A100: UPN300 | B100: 47.1
... A103: UPN400 | B103: 73.2
A111: Cornière égale
A112: L16*3 | B112: 0.71
A113: L20*3 | B113: 0.9
A114: L25*3 | B114: 1.15
A115: L30*3 | B115: 1.39
A116: L35*4 | B116: 2.13
A117: L40*4 | B117: 2.48
A118: L45*5 | B118: 3.45
A119: L50*5 | B119: 3.85
A120: L60*6 | B120: 5.53
A121: L70*7 | B121: 7.53
A122: L80*8 | B122: 9.82
A123: L90*9 | B123: 12.4
... A127: L200*20 | B127: 61.1
A132: Cornière inégale
A133: L30*20*3 | B133: 1.15
A134: L40*20*3 | B134: 1.4
A135: L40*25*4 | B135: 1.98
A136: L50*30*5 | B136: 3.03
A137: L60*30*5 | B137: 3.43
A138: L60*40*5 | B138: 3.83
A139: L70*50*6 | B139: 5.51
A140: L75*50*6 | B140: 5.75
A141: L80*40*6 | B141: 5.52
A142: L80*60*7 | B142: 7.51
A143: L100*50*8 | B143: 9.17
A144: L100*65*7 | B144: 8.94
... A151: L200*100*10 | B151: 23.42
A153: Plat acier
...

Sheet Feuil3
