Workbook

Sheet Entrées, tableau MAX MIN
A1: Charge permanentes
C2: Fz | D2: θy
B3: Poids propre | C3: 243.84 | D3: 7
B4: Platelage | C4: 19.57 | D4: 0.6
B5: Superstructures | C5: 18.2 | D5: 0.5
A6: G | C6: =SUM(C3:C5) -> 281.61 | D6: =SUM(D3:D5) -> 8.1
A8: Surcharges d'exploitation
C9: Fz | D9: θy | E9: Fx
A10: Q1 | C10: 154.95 | D10: 4.9 | E10: =(C10*0.1) -> 15.495
A11: Q2 | C11: 140.87 | D11: 12.5 | E11: =(C11*0.1) -> 14.087
A12: Q3 | C12: 100.75 | D12: 2.8 | E12: =(C12*0.1) -> 10.075
A13: Q4 | C13: 93.07 | D13: 6.6 | E13: =(C13*0.1) -> 9.307
C16: Fz+ | D16: Fz- | E16: Fx | F16: Fy
A17: W1 | C17: 122.95 | D17: -122.95 | E17: 0 | F17: 71.5
A18: W2 | C18: 135.04 | D18: -135.04 | E18: 0 | F18: 65.755
C20: θy | D20: Dx
A21: Tk1=1unif+0,75Gradient | C21: 0 | D21: 15
A22: Tk2=0,35Unif+1Gradient | C22: 0 | D22: 5.25

Sheet Coef
A1: Combinaison ELU eurocode
B2: G | C2: Q1 | D2: Q2 | E2: Q3 | F2: Q4 | G2: Hx | H2: Hy(w1) | I2: Hy(W2) | J2: Tk(1) | K2: Tk(2)
A3: 1 | B3: 1.35 | C3: 1.35 | G3: 1.35
A4: 2 | B4: 1.35 | D4: 1.35 | G4: 1.35
A5: 3 | B5: 1.35 | E5: 1.35 | G5: 1.35
A6: 4 | B6: 1.35 | F6: 1.35 | G6: 1.35
A7: 5 | B7: 1.35 | C7: 1.35 | G7: 1.35 | H7: 0.45
A8: 6 | B8: 1.35 | D8: 1.35 | G8: 1.35 | H8: 0.45
A9: 7 | B9: 1.35 | E9: 1.35 | G9: 1.35 | H9: 0.45
A10: 8 | B10: 1.35 | F10: 1.35 | G10: 1.35 | H10: 0.45
A11: 9 | B11: 1.35 | C11: 1.35 | G11: 1.35 | I11: 0.45
A12: 10 | B12: 1.35 | D12: 1.35 | G12: 1.35 | I12: 0.45
A13: 11 | B13: 1.35 | E13: 1.35 | G13: 1.35 | I13: 0.45
A14: 12 | B14: 1.35 | F14: 1.35 | G14: 1.35 | I14: 0.45
A15: 13 | B15: 1.35 | C15: 1.35 | G15: 1.35 | J15: 0.9
A16: 14 | B16: 1.35 | D16: 1.35 | G16: 1.35 | J16: 0.9
A17: 15 | B17: 1.35 | E17: 1.35 | G17: 1.35 | J17: 0.9
A18: 16 | B18: 1.35 | F18: 1.35 | G18: 1.35 | J18: 0.9
A19: 17 | B19: 1.35 | C19: 1.35 | G19: 1.35 | K19: 0.9
A20: 18 | B20: 1.35 | D20: 1.35 | G20: 1.35 | K20: 0.9
A21: 19 | B21: 1.35 | E21: 1.35 | G21: 1.35 | K21: 0.9
A22: 20 | B22: 1.35 | F22: 1.35 | G22: 1.35 | K22: 0.9
A23: 21 | B23: 1.35 | H23: 1.5
A24: 22 | B24: 1.35 | I24: 1.5
A25: 23 | B25: 1.35 | C25: 0.54 | G25: 0.54 | J25: 1.5
A26: 24 | B26: 1.35 | C26: 0.54 | G26: 0.54 | K26: 1.5
A27: 25 | B27: 1.35 | D27: 0.54 | G27: 0.54 | J27: 1.5
A28: 26 | B28: 1.35 | D28: 0.54 | G28: 0.54 | K28: 1.5
A29: 27 | B29: 1.35 | E29: 0.54 | G29: 0.54 | J29: 1.5
A30: 28 | B30: 1.35 | E30: 0.54 | G30: 0.54 | K30: 1.5
A31: 29 | B31: 1.35 | F31: 0.54 | G31: 1.35 | J31: 1.5
A32: 30 | B32: 1.35 | F32: 0.54 | G32: 1.35 | K32: 1.5
A33: 31 | B33: 1.35 | C33: 1.35 | G33: 1.35
A34: 32 | B34: 1.35 | D34: 1.35 | G34: 1.35
A35: 33 | B35: 1.35 | E35: 1.35 | G35: 1.35
A36: 34 | B36: 1.35 | F36: 1.35 | G36: 1.35
A37: 35 | B37: 1.35 | C37: 1.35 | G37: 1.35 | H37: 0.45
A38: 36 | B38: 1.35 | D38: 1.35 | G38: 1.35 | H38: 0.45
A39: 37 | B39: 1.35 | E39: 1.35 | G39: 1.35 | H39: 0.45
A40: 38 | B40: 1.35 | F40: 1.35 | G40: 1.35 | H40: 0.45
...

Sheet tableau
A1: Combinaison des efforts
L2: Vent + | N2: Vent -
B3: FzG | C3: FzQ1 | D3: FzQ2 | E3: FzQ3 | F3: FzQ4 | G3: Fx | H3: FyW1 | I3: FyW2 | J3: DxW1 | K3: DxW2 | L3: FzW1 | M3: FzW2 | N3: FzW1 | O3: FzW2 | P3: θy
A4: 1 | E4: ='Entrées, tableau MAX MIN'!$C$12*Coef!E3 -> 0
A5: 2 | E5: ='Entrées, tableau MAX MIN'!$C$12*Coef!E4 -> 0
A6: 3 | E6: ='Entrées, tableau MAX MIN'!$C$12*Coef!E5 -> 136.0125
A7: 4 | E7: ='Entrées, tableau MAX MIN'!$C$12*Coef!E6 -> 0
A8: 5 | E8: ='Entrées, tableau MAX MIN'!$C$12*Coef!E7 -> 0
A9: 6 | E9: ='Entrées, tableau MAX MIN'!$C$12*Coef!E8 -> 0
A10: 7 | E10: ='Entrées, tableau MAX MIN'!$C$12*Coef!E9 -> 136.0125
A11: 8 | E11: ='Entrées, tableau MAX MIN'!$C$12*Coef!E10 -> 0
A12: 9 | E12: ='Entrées, tableau MAX MIN'!$C$12*Coef!E11 -> 0
A13: 10 | E13: ='Entrées, tableau MAX MIN'!$C$12*Coef!E12 -> 0
A14: 11 | E14: ='Entrées, tableau MAX MIN'!$C$12*Coef!E13 -> 136.0125
A15: 12 | E15: ='Entrées, tableau MAX MIN'!$C$12*Coef!E14 -> 0
... A63: 60 | E63: ='Entrées, tableau MAX MIN'!$C$12*Coef!E62 -> 0
