Workbook

Sheet NDDN
H2: Global Total Average Cost | J2: =SUM(E9:E34,E43:E68,E77:E102,E111:E136,E145:E170,E179:E204,E213:E238,E247:E272,E281:E306,E315:E340) -> 160727.13
H3: Global Total Unit Cost | J3: =SUM(G9:G34,G43:G68,G77:G102,G111:G136,G145:G170,G179:G204,G213:G238,G247:G272,G281:G306,G315:G340) -> 6919.9
H4: Total Inventory Adjustement | J4: =SUM(H9:H34,H43:H68,H77:H102,H111:H136,H145:H170,H179:H204,H213:H238,H247:H272,H281:H306,H315:H340) -> -153807.23
A7: ITEMNO | B7: QTY | C7: LOC | D7: AVERAGE COST | E7: TOTAL AV. COST | F7: UNIT COST | G7: TOTAL UNIT COST | H7: COST INCREASE / COST (DECREASE) | I7: STOCK OR NS(Y/N) | J7: QUOTATION NUMBER / INVOICE NUMBER
A9: 11666 | B9: 21 | C9: 2 | D9: 3885 | E9: =B9*D9 -> 81585 | F9: 185 | G9: =B9*F9 -> 3885 | H9: =G9-E9 -> -77700
A10: 00829 | B10: 88 | C10: 2 | D10: 500.55 | E10: =B10*D10 -> 44048.4 | F10: 14.8 | G10: =B10*F10 -> 1302.4 | H10: =G10-E10 -> -42746 | I10: N | M10: Somme de la colonne F s'il y a un N en colonne I
A11: 01225 | B11: 21 | C11: 2 | D11: 1671.13 | E11: =B11*D11 -> 35093.73 | F11: 82.5 | G11: =B11*F11 -> 1732.5 | H11: =G11-E11 -> -33361.23 | I11: w | M11: =SUMIF(I9:I34,"N",F9:F34) -> 14.8
E12: =B12*D12 -> 0 | G12: =B12*F12 -> 0 | H12: =G12-E12 -> 0
E13: =B13*D13 -> 0 | G13: =B13*F13 -> 0 | H13: =G13-E13 -> 0
E14: =B14*D14 -> 0 | G14: =B14*F14 -> 0 | H14: =G14-E14 -> 0
E15: =B15*D15 -> 0 | G15: =B15*F15 -> 0 | H15: =G15-E15 -> 0
E16: =B16*D16 -> 0 | G16: =B16*F16 -> 0 | H16: =G16-E16 -> 0
E17: =B17*D17 -> 0 | G17: =B17*F17 -> 0 | H17: =G17-E17 -> 0
E18: =B18*D18 -> 0 | G18: =B18*F18 -> 0 | H18: =G18-E18 -> 0
E19: =B19*D19 -> 0 | G19: =B19*F19 -> 0 | H19: =G19-E19 -> 0
E20: =B20*D20 -> 0 | G20: =B20*F20 -> 0 | H20: =G20-E20 -> 0
E21: =B21*D21 -> 0 | G21: =B21*F21 -> 0 | H21: =G21-E21 -> 0
E22: =B22*D22 -> 0 | G22: =B22*F22 -> 0 | H22: =G22-E22 -> 0
E23: =B23*D23 -> 0 | G23: =B23*F23 -> 0 | H23: =G23-E23 -> 0
... E34: =B34*D34 -> 0 | G34: =B34*F34 -> 0 | H34: =G34-E34 -> 0
A41: ITEMNO | B41: QTY | C41: LOC | D41: AVERAGE COST | E41: TOTAL AV. COST | F41: UNIT COST | G41: TOTAL UNIT COST | H41: COST INCREASE / COST DECREASE | I41: STOCK OR NS(Y/N) | J41: QUOTATION NUMBER (COST JUSTIFICATION)
E43: =B43*D43 -> 0 | G43: =B43*F43 -> 0 | H43: =G43-E43 -> 0
E44: =B44*D44 -> 0 | G44: =B44*F44 -> 0 | H44: =G44-E44 -> 0
E45: =B45*D45 -> 0 | G45: =B45*F45 -> 0 | H45: =G45-E45 -> 0
E46: =B46*D46 -> 0 | G46: =B46*F46 -> 0 | H46: =G46-E46 -> 0
E47: =B47*D47 -> 0 | G47: =B47*F47 -> 0 | H47: =G47-E47 -> 0
E48: =B48*D48 -> 0 | G48: =B48*F48 -> 0 | H48: =G48-E48 -> 0
E49: =B49*D49 -> 0 | G49: =B49*F49 -> 0 | H49: =G49-E49 -> 0
E50: =B50*D50 -> 0 | G50: =B50*F50 -> 0 | H50: =G50-E50 -> 0
E51: =B51*D51 -> 0 | G51: =B51*F51 -> 0 | H51: =G51-E51 -> 0
E52: =B52*D52 -> 0 | G52: =B52*F52 -> 0 | H52: =G52-E52 -> 0
E53: =B53*D53 -> 0 | G53: =B53*F53 -> 0 | H53: =G53-E53 -> 0
E54: =B54*D54 -> 0 | G54: =B54*F54 -> 0 | H54: =G54-E54 -> 0
... E61: =B61*D61 -> 0 | G61: =B61*F61 -> 0 | H61: =G61-E61 -> 0
E62: =B62*D63 -> 0 | G62: =B62*F62 -> 0 | H62: =G62-E62 -> 0
E63: =B63*D64 -> 0 | G63: =B63*F63 -> 0 | H63: =G63-E63 -> 0
E64: =B64*D64 -> 0 | G64: =B64*F64 -> 0 | H64: =G64-E64 -> 0
E65: =B65*D65 -> 0 | G65: =B65*F65 -> 0 | H65: =G65-E65 -> 0
E66: =B66*D66 -> 0 | G66: =B66*F66 -> 0 | H66: =G66-E66 -> 0
E67: =B67*D67 -> 0 | G67: =B67*F67 -> 0 | H67: =G67-E67 -> 0
...

Sheet DETOUR GOLD
H2: Global Total Average Cost | J2: =SUM(E9:E34,E43:E68,E77:E102,E111:E136,E145:E170,E179:E204,,E213:E238,E247:E272,E281:E306) -> 0
H3: Global Total Unit Cost | J3: =SUM(G9:G34,G43:G68,G77:G102,G111:G136,G145:G170,G179:G204,G213:G238,G247:G272,G281:G306) -> 0
H4: Total Inventory Adjustement | J4: =SUM(H9:H34,H43:H68,H77:H102,H111:H136,H145:H170,H179:H204,H213:H238,H247:H272,H281:H306) -> 0
A7: ITEMNO | B7: QTY | C7: LOC | D7: AVERAGE COST | E7: TOTAL AV. COST | F7: UNIT COST | G7: TOTAL UNIT COST | H7: COST INCREASE / COST (DECREASE) | I7: STOCK OR NS(Y/N) | J7: QUOTATION NUMBER / INVOICE NUMBER
E9: =B9*D9 -> 0 | G9: =B9*F9 -> 0 | H9: =G9-E9 -> 0
E10: =B10*D10 -> 0 | G10: =B10*F10 -> 0 | H10: =G10-E10 -> 0
E11: =B11*D11 -> 0 | G11: =B11*F11 -> 0 | H11: =G11-E11 -> 0
E12: =B12*D12 -> 0 | G12: =B12*F12 -> 0 | H12: =G12-E12 -> 0
E13: =B13*D13 -> 0 | G13: =B13*F13 -> 0 | H13: =G13-E13 -> 0
E14: =B14*D14 -> 0 | G14: =B14*F14 -> 0 | H14: =G14-E14 -> 0
E15: =B15*D15 -> 0 | G15: =B15*F15 -> 0 | H15: =G15-E15 -> 0
E16: =B16*D16 -> 0 | G16: =B16*F16 -> 0 | H16: =G16-E16 -> 0
E17: =B17*D17 -> 0 | G17: =B17*F17 -> 0 | H17: =G17-E17 -> 0
E18: =B18*D18 -> 0 | G18: =B18*F18 -> 0 | H18: =G18-E18 -> 0
E19: =B19*D19 -> 0 | G19: =B19*F19 -> 0 | H19: =G19-E19 -> 0
E20: =B20*D20 -> 0 | G20: =B20*F20 -> 0 | H20: =G20-E20 -> 0
... E34: =B34*D34 -> 0 | G34: =B34*F34 -> 0 | H34: =G34-E34 -> 0
A41: ITEMNO | B41: QTY | C41: LOC | D41: AVERAGE COST | E41: TOTAL AV. COST | F41: UNIT COST | G41: TOTAL UNIT COST | H41: COST INCREASE / COST DECREASE | I41: STOCK OR NS(Y/N) | J41: QUOTATION NUMBER (COST JUSTIFICATION)
E43: =B43*D43 -> 0 | G43: =B43*F43 -> 0 | H43: =G43-E43 -> 0
E44: =B44*D44 -> 0 | G44: =B44*F44 -> 0 | H44: =G44-E44 -> 0
E45: =B45*D45 -> 0 | G45: =B45*F45 -> 0 | H45: =G45-E45 -> 0
E46: =B46*D46 -> 0 | G46: =B46*F46 -> 0 | H46: =G46-E46 -> 0
E47: =B47*D47 -> 0 | G47: =B47*F47 -> 0 | H47: =G47-E47 -> 0
E48: =B48*D48 -> 0 | G48: =B48*F48 -> 0 | H48: =G48-E48 -> 0
E49: =B49*D49 -> 0 | G49: =B49*F49 -> 0 | H49: =G49-E49 -> 0
E50: =B50*D50 -> 0 | G50: =B50*F50 -> 0 | H50: =G50-E50 -> 0
E51: =B51*D51 -> 0 | G51: =B51*F51 -> 0 | H51: =G51-E51 -> 0
E52: =B52*D52 -> 0 | G52: =B52*F52 -> 0 | H52: =G52-E52 -> 0
E53: =B53*D53 -> 0 | G53: =B53*F53 -> 0 | H53: =G53-E53 -> 0
E54: =B54*D54 -> 0 | G54: =B54*F54 -> 0 | H54: =G54-E54 -> 0
... E68: =B68*D68 -> 0 | G68: =B68*F68 -> 0 | H68: =G68-E68 -> 0
A75: ITEMNO | B75: QTY | C75: LOC | D75: AVERAGE COST | E75: TOTAL AV. COST | F75: UNIT COST | G75: TOTAL UNIT COST | H75: COST INCREASE / COST DECREASE | I75: STOCK OR NS(Y/N) | J75: QUOTATION NUMBER (COST JUSTIFICATION)
E77: =B77*D77 -> 0 | G77: =B77*F77 -> 0 | H77: =G77-E77 -> 0
E78: =B78*D78 -> 0 | G78: =B78*F78 -> 0 | H78: =G78-E78 -> 0
E79: =B79*D79 -> 0 | G79: =B79*F79 -> 0 | H79: =G79-E79 -> 0
E80: =B80*D80 -> 0 | G80: =B80*F80 -> 0 | H80: =G80-E80 -> 0
E81: =B81*D81 -> 0 | G81: =B81*F81 -> 0 | H81: =G81-E81 -> 0
E82: =B82*D82 -> 0 | G82: =B82*F82 -> 0 | H82: =G82-E82 -> 0
E83: =B83*D83 -> 0 | G83: =B83*F83 -> 0 | H83: =G83-E83 -> 0
E84: =B84*D84 -> 0 | G84: =B84*F84 -> 0 | H84: =G84-E84 -> 0
...

Sheet SUMMARY
D2: Print date | E2: =NOW() -> 40832.709
A7: Warehouse Localisation | B7: Warehouse Name | C7: Global Total Average Cost before Adjustment | D7: Global Total Unit Cost After Revision | E7: Global Inventory Adjustment | F7: INVENTORY COST
A8: 2 | B8: =IF(A8=2,"NOTRE-DAME-DU-NORD",IF(A8=3,"DETOUR GOLD",IF(A8="","","UNKNOWN WAREHOUSE"))) -> NOTRE-DAME-DU-NORD | C8: =IF(A8=2,NDDN!J2,IF(A8=3,'DETOUR GOLD'!J2,IF(A8=0,"",""))) -> 160727.13 | D8: =IF(A8=2,NDDN!J3,IF(A8=3,'DETOUR GOLD'!J3,IF(A8=0,"",""))) -> 6919.9 | E8: =IF(A8=2,NDDN!J4,IF(A8=3,'DETOUR GOLD'!J4,IF(A8=0,"",""))) -> -153807.23 | F8: =IF(OR(E8=0,AND(A8<2,A8>3)),"",IF(E8="","",IF(E8>0,"INCREASE","DECREASE"))) -> DECREASE
A9: 3 | B9: =IF(A9=2,"NOTRE-DAME-DU-NORD",IF(A9=3,"DETOUR GOLD",IF(A9="","","UNKNOWN WAREHOUSE"))) -> DETOUR GOLD | C9: =IF(A9=2,NDDN!J2,IF(A9=3,'DETOUR GOLD'!J2,IF(A9=0,"",""))) -> 0 | D9: =IF(A9=2,NDDN!J3,IF(A9=3,'DETOUR GOLD'!J3,IF(A9=0,"",""))) -> 0 | E9: =IF(A9=2,NDDN!J4,IF(A9=3,'DETOUR GOLD'!J4,IF(A9=0,"",""))) -> 0 | F9: =IF(OR(E9=0,AND(A9<2,A9>3)),"",IF(E9="","",IF(E9>0,"INCREASE","DECREASE")))
A10: Total | B10: =IF(OR(AND(A8=2,A9=3),AND(A8=3,A9=2)),"NOTRE-DAME AND DETOUR GOLD",IF(OR(AND(A8=2,A9=0),AND(A8=0,A9=2)),"NOTRE-DAME-DU-NORD",IF(OR(AND(A8=3,A9=0),AND(A8=0,A9=3)),"DETOUR GOLD",IF(AND(A8="",A9=""),"",IF(A8=A9,"LOCATION IN DOUBLE","ERROR IN LOCATIONS"))))) -> NOTRE-DAME AND DETOUR GOLD | C10: =IF(B10="ERROR IN LOCATIONS","",IF(B10="LOCATION IN DOUBLE","",SUM(C8:C9))) -> 160727.13 | D10: =IF(B10="ERROR IN LOCATIONS","",IF(B10="LOCATION IN DOUBLE","",SUM(D8:D9))) -> 6919.9 | E10: =IF(B10="ERROR IN LOCATIONS","",IF(B10="LOCATION IN DOUBLE","",SUM(E8:E9))) -> -153807.23 | F10: =IF(B10="ERROR IN LOCATIONS","",IF(B10="LOCATION IN DOUBLE","",IF(E10=0,"",IF(E10>0,"INCREASE","DECREASE")))) -> DECREASE
A12: Warehouse Localisation | B12: Warehouse Name | C12: Number of items excluded | D12: Unit Cost | E12: Amount excluded of inventory | F12: GL Account
A13: 2 | B13: =IF(A13=2,"NOTRE-DAME-DU-NORD",IF(A13=3,"DETOUR GOLD",IF(A13="","","UNKNOWN WAREHOUSE"))) -> NOTRE-DAME-DU-NORD
A14: 3 | B14: =IF(A14=2,"NOTRE-DAME-DU-NORD",IF(A14=3,"DETOUR GOLD",IF(A14="","","UNKNOWN WAREHOUSE"))) -> DETOUR GOLD
A15: Total | B15: =IF(OR(AND(A13=2,A14=3),AND(A13=3,A14=2)),"NOTRE-DAME AND DETOUR GOLD",IF(OR(AND(A13=2,A14=0),AND(A13=0,A14=2)),"NOTRE-DAME-DU-NORD",IF(OR(AND(A13=3,A14=0),AND(A13=0,A14=3)),"DETOUR GOLD",IF(AND(A13="",A14=""),"",IF(A13=A14,"LOCATION IN DOUBLE","ERROR IN LOCATIONS"))))) -> NOTRE-DAME AND DETOUR GOLD

Sheet REMOVED ITEMS
A8: Warehouse Localisation | B8: Warehouse Name | C8: Item Numer Excluded | D8: Unit Cost | E8: Amount excluded of inventory | F8: GL Account
A9: 2 | B9: =IF(A9=2,"NOTRE-DAME-DU-NORD",IF(A9=3,"DETOUR GOLD",IF(A9="","","UNKNOWN WAREHOUSE"))) -> NOTRE-DAME-DU-NORD
A10: 3 | B10: =IF(A10=2,"NOTRE-DAME-DU-NORD",IF(A10=3,"DETOUR GOLD",IF(A10="","","UNKNOWN WAREHOUSE"))) -> DETOUR GOLD
A11: Total | B11: =IF(OR(AND(A9=2,A10=3),AND(A9=3,A10=2)),"NOTRE-DAME AND DETOUR GOLD",IF(OR(AND(A9=2,A10=0),AND(A9=0,A10=2)),"NOTRE-DAME-DU-NORD",IF(OR(AND(A9=3,A10=0),AND(A9=0,A10=3)),"DETOUR GOLD",IF(AND(A9="",A10=""),"",IF(A9=A10,"LOCATION IN DOUBLE","ERROR IN LOCATIONS"))))) -> NOTRE-DAME AND DETOUR GOLD
