Workbook

Sheet NDDN
H2: Global Total Average Cost | J2: =SUM(E9:E34,E43:E68,E77:E102,E111:E136,E145:E170,E179:E204,E213:E238,E247:E272,E281:E306,E315:E340) -> 160727.13
H3: Global Total Unit Cost | J3: =SUM(G9:G34,G43:G68,G77:G102,G111:G136,G145:G170,G179:G204,G213:G238,G247:G272,G281:G306,G315:G340) -> 6919.9
H4: Total Inventory Adjustement | J4: =SUM(H9:H34,H43:H68,H77:H102,H111:H136,H145:H170,H179:H204,H213:H238,H247:H272,H281:H306,H315:H340) -> -153807.23
A7: ITEMNO | B7: QTY | C7: LOC | D7: AVERAGE COST | E7: TOTAL AV. COST | F7: UNIT COST | G7: TOTAL UNIT COST | H7: COST INCREASE / COST (DECREASE) | I7: STOCK OR NS(Y/N) | J7: QUOTATION NUMBER / INVOICE NUMBER
A9: 11666 | B9: 21 | C9: 2 | D9: 3885 | E9: =B9*D9 -> 81585 | F9: 185 | G9: =B9*F9 -> 3885 | H9: =G9-E9 -> -77700
A10: 00829 | B10: 88 | C10: 2 | D10: 500.55 | E10: =B10*D10 -> 44048.4 | F10: 14.8 | G10: =B10*F10 -> 1302.4 | H10: =G10-E10 -> -42746 | I10: N | M10: Somme de la colonne F s'il y a un N en colonne I
A11: 01225 | B11: 21 | C11: 2 | D11: 1671.13 | E11: =B11*D11 -> 35093.73 | F11: 82.5 | G11: =B11*F11 -> 1732.5 | H11: =G11-E11 -> -33361.23 | I11: w | M11: =SUMIF(I9:I34,"N",F9:F34) -> 14.8
E12: =B12*D12 -> 0 | G12: =B12*F12 -> 0 | H12: =G12-E12 -> 0
E13: =B13*D13 -> 0 | G13: =B13*F13 -> 0 | H13: =G13-E13 -> 0
E14: =B14*D14 -> 0 | G14: =B14*F14 -> 0 | H14: =G14-E14 -> 0
E15: =B15*D15 -> 0 | G15: =B15*F15 -> 0 | H15: =G15-E15 -> 0
E16: =B16*D16 -> 0 | G16: =B16*F16 -> 0 | H16: =G16-E16 -> 0
E17: =B17*D17 -> 0 | G17: =B17*F17 -> 0 | H17: =G17-E17 -> 0
E18: =B18*D18 -> 0 | G18: =B18*F18 -> 0 | H18: =G18-E18 -> 0
E19: =B19*D19 -> 0 | G19: =B19*F19 -> 0 | H19: =G19-E19 -> 0
E20: =B20*D20 -> 0 | G20: =B20*F20 -> 0 | H20: =G20-E20 -> 0
E21: =B21*D21 -> 0 | G21: =B21*F21 -> 0 | H21: =G21-E21 -> 0
E22: =B22*D22 -> 0 | G22: =B22*F22 -> 0 | H22: =G22-E22 -> 0
E23: =B23*D23 -> 0 | G23: =B23*F23 -> 0 | H23: =G23-E23 -> 0
... E34: =B34*D34 -> 0 | G34: =B34*F34 -> 0 | H34: =G34-E34 -> 0
A41: ITEMNO | B41: QTY | C41: LOC | D41: AVERAGE COST | E41: TOTAL AV. COST | F41: UNIT COST | G41: TOTAL UNIT COST | H41: COST INCREASE / COST DECREASE | I41: STOCK OR NS(Y/N) | J41: QUOTATION NUMBER (COST JUSTIFICATION)
E43: =B43*D43 -> 0 | G43: =B43*F43 -> 0 | H43: =G43-E43 -> 0
E44: =B44*D44 -> 0 | G44: =B44*F44 -> 0 | H44: =G44-E44 -> 0
E45: =B45*D45 -> 0 | G45: =B45*F45 -> 0 | H45: =G45-E45 -> 0
E46: =B46*D46 -> 0 | G46: =B46*F46 -> 0 | H46: =G46-E46 -> 0
E47: =B47*D47 -> 0 | G47: =B47*F47 -> 0 | H47: =G47-E47 -> 0
E48: =B48*D48 -> 0 | G48: =B48*F48 -> 0 | H48: =G48-E48 -> 0
E49: =B49*D49 -> 0 | G49: =B49*F49 -> 0 | H49: =G49-E49 -> 0
E50: =B50*D50 -> 0 | G50: =B50*F50 -> 0 | H50: =G50-E50 -> 0
E51: =B51*D51 -> 0 | G51: =B51*F51 -> 0 | H51: =G51-E51 -> 0
E52: =B52*D52 -> 0 | G52: =B52*F52 -> 0 | H52: =G52-E52 -> 0
E53: =B53*D53 -> 0 | G53: =B53*F53 -> 0 | H53: =G53-E53 -> 0
E54: =B54*D54 -> 0 | G54: =B54*F54 -> 0 | H54: =G54-E54 -> 0
... E61: =B61*D61 -> 0 | G61: =B61*F61 -> 0 | H61: =G61-E61 -> 0
E62: =B62*D63 -> 0 | G62: =B62*F62 -> 0 | H62: =G62-E62 -> 0
E63: =B63*D64 -> 0 | G63: =B63*F63 -> 0 | H63: =G63-E63 -> 0
E64: =B64*D64 -> 0 | G64: =B64*F64 -> 0 | H64: =G64-E64 -> 0
E65: =B65*D65 -> 0 | G65: =B65*F65 -> 0 | H65: =G65-E65 -> 0
E66: =B66*D66 -> 0 | G66: =B66*F66 -> 0 | H66: =G66-E66 -> 0
E67: =B67*D67 -> 0 | G67: =B67*F67 -> 0 | H67: =G67-E67 -> 0
E68: =B68*D68 -> 0 | G68: =B68*F68 -> 0 | H68: =G68-E68 -> 0
A75: ITEMNO | B75: QTY | C75: LOC | D75: AVERAGE COST | E75: TOTAL AV. COST | F75: UNIT COST | G75: TOTAL UNIT COST | H75: COST INCREASE / COST DECREASE | I75: STOCK OR NS(Y/N) | J75: QUOTATION NUMBER (COST JUSTIFICATION)
E77: =B77*D77 -> 0 | G77: =B77*F77 -> 0 | H77: =G77-E77 -> 0
E78: =B78*D78 -> 0 | G78: =B78*F78 -> 0 | H78: =G78-E78 -> 0
E79: =B79*D79 -> 0 | G79: =B79*F79 -> 0 | H79: =G79-E79 -> 0
E80: =B80*D80 -> 0 | G80: =B80*F80 -> 0 | H80: =G80-E80 -> 0
E81: =B81*D81 -> 0 | G81: =B81*F81 -> 0 | H81: =G81-E81 -> 0
E82: =B82*D82 -> 0 | G82: =B82*F82 -> 0 | H82: =G82-E82 -> 0
E83: =B83*D83 -> 0 | G83: =B83*F83 -> 0 | H83: =G83-E83 -> 0
E84: =B84*D84 -> 0 | G84: =B84*F84 -> 0 | H84: =G84-E84 -> 0
E85: =B85*D85 -> 0 | G85: =B85*F85 -> 0 | H85: =G85-E85 -> 0
E86: =B86*D86 -> 0 | G86: =B86*F86 -> 0 | H86: =G86-E86 -> 0
E87: =B87*D87 -> 0 | G87: =B87*F87 -> 0 | H87: =G87-E87 -> 0
E88: =B88*D88 -> 0 | G88: =B88*F88 -> 0 | H88: =G88-E88 -> 0
... E96: =B96*D96 -> 0 | G96: =B96*F96 -> 0 | H96: =G96-E96 -> 0
E97: =B97*D97 -> 0 | G97: =B97*F97 -> 0 | H97: =G96-E96 -> 0
E98: =B98*D98 -> 0 | G98: =B98*F98 -> 0 | H98: =G97-E97 -> 0
E99: =B99*D99 -> 0 | G99: =B99*F99 -> 0 | H99: =G99-E99 -> 0
E100: =B100*D100 -> 0 | G100: =B100*F100 -> 0 | H100: =G100-E100 -> 0
E101: =B101*D101 -> 0 | G101: =B101*F101 -> 0 | H101: =G101-E101 -> 0
E102: =B102*D102 -> 0 | G102: =B102*F102 -> 0 | H102: =G102-E102 -> 0
A109: ITEMNO | B109: QTY | C109: LOC | D109: AVERAGE COST | E109: TOTAL AV. COST | F109: UNIT COST | G109: TOTAL UNIT COST | H109: COST INCREASE / COST DECREASE | I109: STOCK OR NS(Y/N) | J109: QUOTATION NUMBER (COST JUSTIFICATION)
E111: =B111*D111 -> 0 | G111: =B111*F111 -> 0 | H111: =G111-E111 -> 0
E112: =B112*D112 -> 0 | G112: =B112*F112 -> 0 | H112: =G112-E112 -> 0
E113: =B113*D113 -> 0 | G113: =B113*F113 -> 0 | H113: =G113-E113 -> 0
E114: =B114*D114 -> 0 | G114: =B114*F114 -> 0 | H114: =G114-E114 -> 0
E115: =B115*D115 -> 0 | G115: =B115*F115 -> 0 | H115: =G115-E115 -> 0
E116: =B116*D116 -> 0 | G116: =B116*F116 -> 0 | H116: =G116-E116 -> 0
E117: =B117*D117 -> 0 | G117: =B117*F117 -> 0 | H117: =G117-E117 -> 0
E118: =B118*D118 -> 0 | G118: =B118*F118 -> 0 | H118: =G118-E118 -> 0
E119: =B119*D119 -> 0 | G119: =B119*F119 -> 0 | H119: =G119-E119 -> 0
E120: =B120*D120 -> 0 | G120: =B120*F120 -> 0 | H120: =G120-E120 -> 0
E121: =B121*D121 -> 0 | G121: =B121*F121 -> 0 | H121: =G121-E121 -> 0
E122: =B122*D122 -> 0 | G122: =B122*F122 -> 0 | H122: =G122-E122 -> 0
... E136: =B136*D136 -> 0 | G136: =B136*F136 -> 0 | H136: =G136-E136 -> 0
A143: ITEMNO | B143: QTY | C143: LOC | D143: AVERAGE COST | E143: TOTAL AV. COST | F143: UNIT COST | G143: TOTAL UNIT COST | H143: COST INCREASE / COST DECREASE | I143: STOCK OR NS(Y/N) | J143: QUOTATION NUMBER (COST JUSTIFICATION)
E145: =B145*D145 -> 0 | G145: =B145*F145 -> 0 | H145: =G145-E145 -> 0
E146: =B146*D146 -> 0 | G146: =B146*F146 -> 0 | H146: =G146-E146 -> 0
E147: =B147*D147 -> 0 | G147: =B147*F147 -> 0 | H147: =G147-E147 -> 0
E148: =B148*D148 -> 0 | G148: =B148*F148 -> 0 | H148: =G148-E148 -> 0
E149: =B149*D149 -> 0 | G149: =B149*F149 -> 0 | H149: =G149-E149 -> 0
E150: =B150*D150 -> 0 | G150: =B150*F150 -> 0 | H150: =G150-E150 -> 0
E151: =B151*D151 -> 0 | G151: =B151*F151 -> 0 | H151: =G151-E151 -> 0
E152: =B152*D152 -> 0 | G152: =B152*F152 -> 0 | H152: =G152-E152 -> 0
E153: =B153*D153 -> 0 | G153: =B153*F153 -> 0 | H153: =G153-E153 -> 0
E154: =B154*D154 -> 0 | G154: =B154*F154 -> 0 | H154: =G154-E154 -> 0
E155: =B155*D155 -> 0 | G155: =B155*F155 -> 0 | H155: =G155-E155 -> 0
E156: =B156*D156 -> 0 | G156: =B156*F156 -> 0 | H156: =G156-E156 -> 0
... E170: =B170*D170 -> 0 | G170: =B170*F170 -> 0 | H170: =G170-E170 -> 0
A177: ITEMNO | B177: QTY | C177: LOC | D177: AVERAGE COST | E177: TOTAL AV. COST | F177: UNIT COST | G177: TOTAL UNIT COST | H177: COST INCREASE / COST DECREASE | I177: STOCK OR NS(Y/N) | J177: QUOTATION NUMBER (COST JUSTIFICATION)
E179: =B179*D179 -> 0 | G179: =B179*F179 -> 0 | H179: =G179-E179 -> 0
E180: =B180*D180 -> 0 | G180: =B180*F180 -> 0 | H180: =G180-E180 -> 0
E181: =B181*D181 -> 0 | G181: =B181*F181 -> 0 | H181: =G181-E181 -> 0
E182: =B182*D182 -> 0 | G182: =B182*F182 -> 0 | H182: =G182-E182 -> 0
E183: =B183*D183 -> 0 | G183: =B183*F183 -> 0 | H183: =G183-E183 -> 0
E184: =B184*D184 -> 0 | G184: =B184*F184 -> 0 | H184: =G184-E184 -> 0
E185: =B185*D185 -> 0 | G185: =B185*F185 -> 0 | H185: =G185-E185 -> 0
E186: =B186*D186 -> 0 | G186: =B186*F186 -> 0 | H186: =G186-E186 -> 0
E187: =B187*D187 -> 0 | G187: =B187*F187 -> 0 | H187: =G187-E187 -> 0
E188: =B188*D188 -> 0 | G188: =B188*F188 -> 0 | H188: =G188-E188 -> 0
...

Sheet DETOUR GOLD
H2: Global Total Average Cost | J2: =SUM(E9:E34,E43:E68,E77:E102,E111:E136,E145:E170,E179:E204,,E213:E238,E247:E272,E281:E306) -> 0
H3: Global Total Unit Cost | J3: =SUM(G9:G34,G43:G68,G77:G102,G111:G136,G145:G170,G179:G204,G213:G238,G247:G272,G281:G306) -> 0
H4: Total Inventory Adjustement | J4: =SUM(H9:H34,H43:H68,H77:H102,H111:H136,H145:H170,H179:H204,H213:H238,H247:H272,H281:H306) -> 0
A7: ITEMNO | B7: QTY | C7: LOC | D7: AVERAGE COST | E7: TOTAL AV. COST | F7: UNIT COST | G7: TOTAL UNIT COST | H7: COST INCREASE / COST (DECREASE) | I7: STOCK OR NS(Y/N) | J7: QUOTATION NUMBER / INVOICE NUMBER
E9: =B9*D9 -> 0 | G9: =B9*F9 -> 0 | H9: =G9-E9 -> 0
E10: =B10*D10 -> 0 | G10: =B10*F10 -> 0 | H10: =G10-E10 -> 0
E11: =B11*D11 -> 0 | G11: =B11*F11 -> 0 | H11: =G11-E11 -> 0
E12: =B12*D12 -> 0 | G12: =B12*F12 -> 0 | H12: =G12-E12 -> 0
E13: =B13*D13 -> 0 | G13: =B13*F13 -> 0 | H13: =G13-E13 -> 0
E14: =B14*D14 -> 0 | G14: =B14*F14 -> 0 | H14: =G14-E14 -> 0
E15: =B15*D15 -> 0 | G15: =B15*F15 -> 0 | H15: =G15-E15 -> 0
E16: =B16*D16 -> 0 | G16: =B16*F16 -> 0 | H16: =G16-E16 -> 0
E17: =B17*D17 -> 0 | G17: =B17*F17 -> 0 | H17: =G17-E17 -> 0
E18: =B18*D18 -> 0 | G18: =B18*F18 -> 0 | H18: =G18-E18 -> 0
E19: =B19*D19 -> 0 | G19: =B19*F19 -> 0 | H19: =G19-E19 -> 0
E20: =B20*D20 -> 0 | G20: =B20*F20 -> 0 | H20: =G20-E20 -> 0
... E34: =B34*D34 -> 0 | G34: =B34*F34 -> 0 | H34: =G34-E34 -> 0
A41: ITEMNO | B41: QTY | C41: LOC | D41: AVERAGE COST | E41: TOTAL AV. COST | F41: UNIT COST | G41: TOTAL UNIT COST | H41: COST INCREASE / COST DECREASE | I41: STOCK OR NS(Y/N) | J41: QUOTATION NUMBER (COST JUSTIFICATION)
E43: =B43*D43 -> 0 | G43: =B43*F43 -> 0 | H43: =G43-E43 -> 0
E44: =B44*D44 -> 0 | G44: =B44*F44 -> 0 | H44: =G44-E44 -> 0
E45: =B45*D45 -> 0 | G45: =B45*F45 -> 0 | H45: =G45-E45 -> 0
E46: =B46*D46 -> 0 | G46: =B46*F46 -> 0 | H46: =G46-E46 -> 0
E47: =B47*D47 -> 0 | G47: =B47*F47 -> 0 | H47: =G47-E47 -> 0
E48: =B48*D48 -> 0 | G48: =B48*F48 -> 0 | H48: =G48-E48 -> 0
E49: =B49*D49 -> 0 | G49: =B49*F49 -> 0 | H49: =G49-E49 -> 0
E50: =B50*D50 -> 0 | G50: =B50*F50 -> 0 | H50: =G50-E50 -> 0
E51: =B51*D51 -> 0 | G51: =B51*F51 -> 0 | H51: =G51-E51 -> 0
E52: =B52*D52 -> 0 | G52: =B52*F52 -> 0 | H52: =G52-E52 -> 0
E53: =B53*D53 -> 0 | G53: =B53*F53 -> 0 | H53: =G53-E53 -> 0
E54: =B54*D54 -> 0 | G54: =B54*F54 -> 0 | H54: =G54-E54 -> 0
... E68: =B68*D68 -> 0 | G68: =B68*F68 -> 0 | H68: =G68-E68 -> 0
A75: ITEMNO | B75: QTY | C75: LOC | D75: AVERAGE COST | E75: TOTAL AV. COST | F75: UNIT COST | G75: TOTAL UNIT COST | H75: COST INCREASE / COST DECREASE | I75: STOCK OR NS(Y/N) | J75: QUOTATION NUMBER (COST JUSTIFICATION)
E77: =B77*D77 -> 0 | G77: =B77*F77 -> 0 | H77: =G77-E77 -> 0
E78: =B78*D78 -> 0 | G78: =B78*F78 -> 0 | H78: =G78-E78 -> 0
E79: =B79*D79 -> 0 | G79: =B79*F79 -> 0 | H79: =G79-E79 -> 0
E80: =B80*D80 -> 0 | G80: =B80*F80 -> 0 | H80: =G80-E80 -> 0
E81: =B81*D81 -> 0 | G81: =B81*F81 -> 0 | H81: =G81-E81 -> 0
E82: =B82*D82 -> 0 | G82: =B82*F82 -> 0 | H82: =G82-E82 -> 0
E83: =B83*D83 -> 0 | G83: =B83*F83 -> 0 | H83: =G83-E83 -> 0
E84: =B84*D84 -> 0 | G84: =B84*F84 -> 0 | H84: =G84-E84 -> 0
E85: =B85*D85 -> 0 | G85: =B85*F85 -> 0 | H85: =G85-E85 -> 0
E86: =B86*D86 -> 0 | G86: =B86*F86 -> 0 | H86: =G86-E86 -> 0
E87: =B87*D87 -> 0 | G87: =B87*F87 -> 0 | H87: =G87-E87 -> 0
E88: =B88*D88 -> 0 | G88: =B88*F88 -> 0 | H88: =G88-E88 -> 0
... E102: =B102*D102 -> 0 | G102: =B102*F102 -> 0 | H102: =G102-E102 -> 0
A109: ITEMNO | B109: QTY | C109: LOC | D109: AVERAGE COST | E109: TOTAL AV. COST | F109: UNIT COST | G109: TOTAL UNIT COST | H109: COST INCREASE / COST DECREASE | I109: STOCK OR NS(Y/N) | J109: QUOTATION NUMBER (COST JUSTIFICATION)
E111: =B111*D111 -> 0 | G111: =B111*F111 -> 0 | H111: =G111-E111 -> 0
E112: =B112*D112 -> 0 | G112: =B112*F112 -> 0 | H112: =G112-E112 -> 0
E113: =B113*D113 -> 0 | G113: =B113*F113 -> 0 | H113: =G113-E113 -> 0
E114: =B114*D114 -> 0 | G114: =B114*F114 -> 0 | H114: =G114-E114 -> 0
E115: =B115*D115 -> 0 | G115: =B115*F115 -> 0 | H115: =G115-E115 -> 0
E116: =B116*D116 -> 0 | G116: =B116*F116 -> 0 | H116: =G116-E116 -> 0
E117: =B117*D117 -> 0 | G117: =B117*F117 -> 0 | H117: =G117-E117 -> 0
E118: =B118*D118 -> 0 | G118: =B118*F118 -> 0 | H118: =G118-E118 -> 0
E119: =B119*D119 -> 0 | G119: =B119*F119 -> 0 | H119: =G119-E119 -> 0
E120: =B120*D120 -> 0 | G120: =B120*F120 -> 0 | H120: =G120-E120 -> 0
E121: =B121*D121 -> 0 | G121: =B121*F121 -> 0 | H121: =G121-E121 -> 0
E122: =B122*D122 -> 0 | G122: =B122*F122 -> 0 | H122: =G122-E122 -> 0
... E136: =B136*D136 -> 0 | G136: =B136*F136 -> 0 | H136: =G136-E136 -> 0
A143: ITEMNO | B143: QTY | C143: LOC | D143: AVERAGE COST | E143: TOTAL AV. COST | F143: UNIT COST | G143: TOTAL UNIT COST | H143: COST INCREASE / COST DECREASE | I143: STOCK OR NS(Y/N) | J143: QUOTATION NUMBER (COST JUSTIFICATION)
E145: =B145*D145 -> 0 | G145: =B145*F145 -> 0 | H145: =G145-E145 -> 0
E146: =B146*D146 -> 0 | G146: =B146*F146 -> 0 | H146: =G146-E146 -> 0
E147: =B147*D147 -> 0 | G147: =B147*F147 -> 0 | H147: =G147-E147 -> 0
E148: =B148*D148 -> 0 | G148: =B148*F148 -> 0 | H148: =G148-E148 -> 0
E149: =B149*D149 -> 0 | G149: =B149*F149 -> 0 | H149: =G149-E149 -> 0
E150: =B150*D150 -> 0 | G150: =B150*F150 -> 0 | H150: =G150-E150 -> 0
E151: =B151*D151 -> 0 | G151: =B151*F151 -> 0 | H151: =G151-E151 -> 0
E152: =B152*D152 -> 0 | G152: =B152*F152 -> 0 | H152: =G152-E152 -> 0
E153: =B153*D153 -> 0 | G153: =B153*F153 -> 0 | H153: =G153-E153 -> 0
E154: =B154*D154 -> 0 | G154: =B154*F154 -> 0 | H154: =G154-E154 -> 0
E155: =B155*D155 -> 0 | G155: =B155*F155 -> 0 | H155: =G155-E155 -> 0
E156: =B156*D156 -> 0 | G156: =B156*F156 -> 0 | H156: =G156-E156 -> 0
... E170: =B170*D170 -> 0 | G170: =B170*F170 -> 0 | H170: =G170-E170 -> 0
A177: ITEMNO | B177: QTY | C177: LOC | D177: AVERAGE COST | E177: TOTAL AV. COST | F177: UNIT COST | G177: TOTAL UNIT COST | H177: COST INCREASE / COST DECREASE | I177: STOCK OR NS(Y/N) | J177: QUOTATION NUMBER (COST JUSTIFICATION)
E179: =B179*D179 -> 0 | G179: =B179*F179 -> 0 | H179: =G179-E179 -> 0
E180: =B180*D180 -> 0 | G180: =B180*F180 -> 0 | H180: =G180-E180 -> 0
E181: =B181*D181 -> 0 | G181: =B181*F181 -> 0 | H181: =G181-E181 -> 0
E182: =B182*D182 -> 0 | G182: =B182*F182 -> 0 | H182: =G182-E182 -> 0
E183: =B183*D183 -> 0 | G183: =B183*F183 -> 0 | H183: =G183-E183 -> 0
E184: =B184*D184 -> 0 | G184: =B184*F184 -> 0 | H184: =G184-E184 -> 0
E185: =B185*D185 -> 0 | G185: =B185*F185 -> 0 | H185: =G185-E185 -> 0
E186: =B186*D186 -> 0 | G186: =B186*F186 -> 0 | H186: =G186-E186 -> 0
E187: =B187*D187 -> 0 | G187: =B187*F187 -> 0 | H187: =G187-E187 -> 0
E188: =B188*D188 -> 0 | G188: =B188*F188 -> 0 | H188: =G188-E188 -> 0
E189: =B189*D189 -> 0 | G189: =B189*F189 -> 0 | H189: =G189-E189 -> 0
E190: =B190*D190 -> 0 | G190: =B190*F190 -> 0 | H190: =G190-E190 -> 0
... E204: =B204*D204 -> 0 | G204: =B204*F204 -> 0 | H204: =G204-E204 -> 0
A211: ITEMNO | B211: QTY | C211: LOC | D211: AVERAGE COST | E211: TOTAL AV. COST | F211: UNIT COST | G211: TOTAL UNIT COST | H211: COST INCREASE / COST DECREASE | I211: STOCK OR NS(Y/N) | J211: QUOTATION NUMBER (COST JUSTIFICATION)
E213: =B213*D213 -> 0 | G213: =B213*F213 -> 0 | H213: =G213-E213 -> 0
E214: =B214*D214 -> 0 | G214: =B214*F214 -> 0 | H214: =G214-E214 -> 0
E215: =B215*D215 -> 0 | G215: =B215*F215 -> 0 | H215: =G215-E215 -> 0
E216: =B216*D216 -> 0 | G216: =B216*F216 -> 0 | H216: =G216-E216 -> 0
E217: =B217*D217 -> 0 | G217: =B217*F217 -> 0 | H217: =G217-E217 -> 0
E218: =B218*D218 -> 0 | G218: =B218*F218 -> 0 | H218: =G218-E218 -> 0
E219: =B219*D219 -> 0 | G219: =B219*F219 -> 0 | H219: =G219-E219 -> 0
E220: =B220*D220 -> 0 | G220: =B220*F220 -> 0 | H220: =G220-E220 -> 0
E221: =B221*D221 -> 0 | G221: =B221*F221 -> 0 | H221: =G221-E221 -> 0
E222: =B222*D222 -> 0 | G222: =B222*F222 -> 0 | H222: =G222-E222 -> 0
E223: =B223*D223 -> 0 | G223: =B223*F223 -> 0 | H223: =G223-E223 -> 0
E224: =B224*D224 -> 0 | G224: =B224*F224 -> 0 | H224: =G224-E224 -> 0
...

Sheet SUMMARY
D2: Print date | E2: =NOW() -> 40832.709
A7: Warehouse Localisation | B7: Warehouse Name | C7: Global Total Average Cost before Adjustment | D7: Global Total Unit Cost After Revision | E7: Global Inventory Adjustment | F7: INVENTORY COST
A8: 2 | B8: =IF(A8=2,"NOTRE-DAME-DU-NORD",IF(A8=3,"DETOUR GOLD",IF(A8="","","UNKNOWN WAREHOUSE"))) -> NOTRE-DAME-DU-NORD | C8: =IF(A8=2,NDDN!J2,IF(A8=3,'DETOUR GOLD'!J2,IF(A8=0,"",""))) -> 160727.13 | D8: =IF(A8=2,NDDN!J3,IF(A8=3,'DETOUR GOLD'!J3,IF(A8=0,"",""))) -> 6919.9 | E8: =IF(A8=2,NDDN!J4,IF(A8=3,'DETOUR GOLD'!J4,IF(A8=0,"",""))) -> -153807.23 | F8: =IF(OR(E8=0,AND(A8<2,A8>3)),"",IF(E8="","",IF(E8>0,"INCREASE","DECREASE"))) -> DECREASE
A9: 3 | B9: =IF(A9=2,"NOTRE-DAME-DU-NORD",IF(A9=3,"DETOUR GOLD",IF(A9="","","UNKNOWN WAREHOUSE"))) -> DETOUR GOLD | C9: =IF(A9=2,NDDN!J2,IF(A9=3,'DETOUR GOLD'!J2,IF(A9=0,"",""))) -> 0 | D9: =IF(A9=2,NDDN!J3,IF(A9=3,'DETOUR GOLD'!J3,IF(A9=0,"",""))) -> 0 | E9: =IF(A9=2,NDDN!J4,IF(A9=3,'DETOUR GOLD'!J4,IF(A9=0,"",""))) -> 0 | F9: =IF(OR(E9=0,AND(A9<2,A9>3)),"",IF(E9="","",IF(E9>0,"INCREASE","DECREASE")))
A10: Total | B10: =IF(OR(AND(A8=2,A9=3),AND(A8=3,A9=2)),"NOTRE-DAME AND DETOUR GOLD",IF(OR(AND(A8=2,A9=0),AND(A8=0,A9=2)),"NOTRE-DAME-DU-NORD",IF(OR(AND(A8=3,A9=0),AND(A8=0,A9=3)),"DETOUR GOLD",IF(AND(A8="",A9=""),"",IF(A8=A9,"LOCATION IN DOUBLE","ERROR IN LOCATIONS"))))) -> NOTRE-DAME AND DETOUR GOLD | C10: =IF(B10="ERROR IN LOCATIONS","",IF(B10="LOCATION IN DOUBLE","",SUM(C8:C9))) -> 160727.13 | D10: =IF(B10="ERROR IN LOCATIONS","",IF(B10="LOCATION IN DOUBLE","",SUM(D8:D9))) -> 6919.9 | E10: =IF(B10="ERROR IN LOCATIONS","",IF(B10="LOCATION IN DOUBLE","",SUM(E8:E9))) -> -153807.23 | F10: =IF(B10="ERROR IN LOCATIONS","",IF(B10="LOCATION IN DOUBLE","",IF(E10=0,"",IF(E10>0,"INCREASE","DECREASE")))) -> DECREASE
A12: Warehouse Localisation | B12: Warehouse Name | C12: Number of items excluded | D12: Unit Cost | E12: Amount excluded of inventory | F12: GL Account
A13: 2 | B13: =IF(A13=2,"NOTRE-DAME-DU-NORD",IF(A13=3,"DETOUR GOLD",IF(A13="","","UNKNOWN WAREHOUSE"))) -> NOTRE-DAME-DU-NORD
A14: 3 | B14: =IF(A14=2,"NOTRE-DAME-DU-NORD",IF(A14=3,"DETOUR GOLD",IF(A14="","","UNKNOWN WAREHOUSE"))) -> DETOUR GOLD
A15: Total | B15: =IF(OR(AND(A13=2,A14=3),AND(A13=3,A14=2)),"NOTRE-DAME AND DETOUR GOLD",IF(OR(AND(A13=2,A14=0),AND(A13=0,A14=2)),"NOTRE-DAME-DU-NORD",IF(OR(AND(A13=3,A14=0),AND(A13=0,A14=3)),"DETOUR GOLD",IF(AND(A13="",A14=""),"",IF(A13=A14,"LOCATION IN DOUBLE","ERROR IN LOCATIONS"))))) -> NOTRE-DAME AND DETOUR GOLD

Sheet REMOVED ITEMS
A8: Warehouse Localisation | B8: Warehouse Name | C8: Item Numer Excluded | D8: Unit Cost | E8: Amount excluded of inventory | F8: GL Account
A9: 2 | B9: =IF(A9=2,"NOTRE-DAME-DU-NORD",IF(A9=3,"DETOUR GOLD",IF(A9="","","UNKNOWN WAREHOUSE"))) -> NOTRE-DAME-DU-NORD
A10: 3 | B10: =IF(A10=2,"NOTRE-DAME-DU-NORD",IF(A10=3,"DETOUR GOLD",IF(A10="","","UNKNOWN WAREHOUSE"))) -> DETOUR GOLD
A11: Total | B11: =IF(OR(AND(A9=2,A10=3),AND(A9=3,A10=2)),"NOTRE-DAME AND DETOUR GOLD",IF(OR(AND(A9=2,A10=0),AND(A9=0,A10=2)),"NOTRE-DAME-DU-NORD",IF(OR(AND(A9=3,A10=0),AND(A9=0,A10=3)),"DETOUR GOLD",IF(AND(A9="",A10=""),"",IF(A9=A10,"LOCATION IN DOUBLE","ERROR IN LOCATIONS"))))) -> NOTRE-DAME AND DETOUR GOLD
