Workbook

Sheet Info générale
A1: Saison | B1: Zone | C1: Dates | E1: Rack | F1: New
AB3: Tarif
F4: 90% - 100% | H4: sgl | I4: dble | J4: tple | K4: 70% - 90% | M4: sgl | N4: dble | O4: tple | P4: 50% -70% | R4: sgl | S4: dble | T4: tple | U4: 30% - 50% | W4: sgl | X4: dble | Y4: tple | Z4: 30% - < 10% | AB4: sgl | AC4: dble | AD4: tple | AE4: Formule
A5: Basse | B5: A | C5: 01 November 2014 > 29 December 2014 01 January 2015 > 29 March 2015 | E5: Rates | F5: Bar1 | G5: A | H5: 10 | I5: 10 | K5: Bar2 | L5: A | M5: 5 | P5: Bar3 | Q5: A | R5: 10 | T5: =O5-10 -> -10 | U5: Bar4 | V5: A | W5: 5 | Z5: Bar5 | AA5: A | AB5: 59 | AC5: 61 | AD5: 92 | AE5: =IF(AND(R20>=0,R20<=0.2999),$AC$5,IF(AND(R20>=0.3,R20<=0.4999),$X$5,IF(AND(R20>=0.5,R20<=0.6999),$R$5,IF(AND(R20>=0.7,R20<=0.8999),$M$5,$I$5)))) -> 61 | AF5: =IF(AND(T4>=0,T4<=0.2999),'[1]Info générale'!$X$5,IF(AND(T4>=0.3,T4<=0.4999),'[1]Info générale'!$T$5,IF(AND(T4>=0.5,T4<=0.6999),'[1]Info générale'!$P$5,IF(AND(T4>=0.7,T4<=0.8999),'[1]Info générale'!$L$5,'[1]Info générale'!$H$5)))) -> 95
B6: E | C6: 10 July > 30 August 2015 30 October 2015 > 30 December 2015 | G6: B | L6: B | Q6: B | R6: =M6-10 -> -10 | T6: =O6-10 -> -10 | V6: B | AA6: B | AB6: 73 | AC6: 75 | AD6: 113 | AE6: =IF(AND(R21>=0,R21<=0.2999),$AC$6,IF(AND(R21>=0.3,R21<=0.4999),$X$6,IF(AND(R21>=0.5,R21<=0.6999),$R$6,IF(AND(R21>=0.7,R21<=0.8999),$M$6,$I$6)))) -> 75 | AF6: =IF(AND(T5>=0,T5<=0.2999),'[1]Info générale'!$X$6,IF(AND(T5>=0.3,T5<=0.4999),'[1]Info générale'!$T$6,IF(AND(T5>=0.5,T5<=0.6999),'[1]Info générale'!$P$6,IF(AND(T5>=0.7,T5<=0.8999),'[1]Info générale'!$L$6,'[1]Info générale'!$H$6)))) -> 115
A7: Moyenne | B7: B | C7: 30 March > 30 April | G7: C | L7: C | Q7: C | V7: C | AA7: C | AB7: 90 | AC7: 93 | AD7: 140
B8: C | C8: 1 May > 31 May 2015 | G8: D | L8: D | Q8: D | R8: =M8-10 -> -10 | T8: =O8-10 -> -10 | V8: D | AA8: D | AB8: 110 | AC8: 113 | AD8: 170 | AE8: =IF(AND(AJ8>=0,AJ8<=0.2999),'[1]Info générale'!$W$8,IF(AND(AJ8>=0.3,AJ8<=0.4999),'[1]Info générale'!$S$8,IF(AND(AJ8>=0.5,AJ8<=0.6999),'[1]Info générale'!$O$8,IF(AND(AJ8>=0.7,AJ8<=0.8999),'[1]Info générale'!$K$8,'[1]Info générale'!$G$8)))) -> 110 | AF8: =IF(AND(T8>=0,T6<=0.2999),'[1]Info générale'!$X$8,IF(AND(T6>=0.3,T6<=0.4999),'[1]Info générale'!$T$6,IF(AND(T6>=0.5,T6<=0.6999),'[1]Info générale'!$P$6,IF(AND(T6>=0.7,T6<=0.8999),'[1]Info générale'!$L$8,'[1]Info générale'!$H$8)))) -> 120
A9: Haute | B9: B | C9: 30 December > 31 December 2014 | G9: E | L9: E | Q9: E | R9: =M9-10 -> -10 | T9: =O9-10 -> -10 | V9: E | AA9: E | AB9: 80 | AC9: 83.5 | AD9: 125.5 | AE9: =IF(AND(AJ9>=0,AJ9<=0.2999),'Info générale'!$W$9,IF(AND(AJ9>=0.3,AJ9<=0.4999),'[1]Info générale'!$S$9,IF(AND(AJ9>=0.5,AJ9<=0.6999),'[1]Info générale'!$O$9,IF(AND(AJ9>=0.7,AJ9<=0.8999),'[1]Info générale'!$K$9,'[1]Info générale'!$G$9)))) -> 0 | AF9: =IF(AND(#REF!>=0,#REF!<=0.2999),'[1]Info générale'!$X$9,IF(AND(#REF!>=0.3,#REF!<=0.4999),'[1]Info générale'!$T$9,IF(AND(#REF!>=0.5,#REF!<=0.6999),'[1]Info générale'!$P$9,IF(AND(#REF!>=0.7,#REF!<=0.8999),'[1]Info générale'!$L$9,'[1]Info générale'!$H$9)))) -> #REF!
B10: D | C10: 01 June > 09 July 2015 31 August 2015 > 29 October 2015 31 December > 31 December 2015 | G10: F | L10: F | Q10: F | V10: F | AA10: F | AB10: 104 | AC10: 114 | AD10: 171
A11: Salons | B11: F | C11: From 16 to 19 November 2014 included | D11: Emballage | G11: G | L11: G | Q11: G | V11: G | AA11: G | AB11: 123.5 | AC11: 136 | AD11: 204
C12: From 24 to 28 November 2014 included | D12: Congrès des Maires
C13: From 09 to 11 February 2015 included | D13: 1ère Vision
C14: From 19 to 24 April 2015 included | D14: Intermat | S14: =IF(AND(S18>=0,S18<=0.2999),'Info générale'!AB5,IF(AND(S18>=0.3,S18<=0.4999),'Info générale'!$W$5,IF(AND(S18>=0.5,S18<=0.6999),'Info générale'!$R$5,IF(AND(S18>=0.7,S18<=0.8999),'Info générale'!$M$5,'Info générale'!$I$5)))) -> 59
B15: G | C15: From 14 to 20 June 2015 included | D15: Air Show
C16: TBA | D16: 1ère Vision
C17: TBA | D17: Silmo
C18: From 12 to 16 October 2015 included | D18: Equip Auto
C19: TBA | D19: Sial | E19: Prix
E20: sgl | F20: dble | G20: tple
C21: 42005 | D21: 42043 | E21: 59 | F21: 61 | G21: 92
C22: 42044 | D22: 42046 | E22: 104 | F22: 114 | G22: 171
C23: 42047 | D23: 42092 | E23: 59 | F23: 61 | G23: 92
C24: 42093 | D24: 42112 | E24: 73 | F24: 75 | G24: 113
C25: 42113 | D25: 42118 | E25: 104 | F25: 114 | G25: 171
C26: 42119 | D26: 42124 | E26: 73 | F26: 75 | G26: 113
C27: 42125 | D27: 42155 | E27: 90 | F27: 93 | G27: 140
C28: 42156 | D28: 42168 | E28: 110 | F28: 113 | G28: 170
C29: 42169 | D29: 42175 | E29: 123.5 | F29: 136 | G29: 204
C30: 42176 | D30: 42194 | E30: 110 | F30: 113 | G30: 170
C31: 42195 | D31: 42246 | E31: 80 | F31: 83.5 | G31: 125.5
C32: 42247 | D32: 42288 | E32: 110 | F32: 113 | G32: 170
... C36: 42369 | D36: 42369 | E36: 110 | F36: 113 | G36: 170

Sheet Quotation
B2: Quotation
C5: Date | D5: 42005
D7: sgl | E7: dble | F7: tple
C8: Prix à appliquer | D8: =VLOOKUP($D$5,'Info générale'!$C$21:$G$36,3) -> 59 | E8: =VLOOKUP($D$5,'Info générale'!$C$21:$G$36,4) -> 61 | F8: =VLOOKUP($D$5,'Info générale'!$C$21:$G$36,5) -> 92
E10: =E8/2 -> 30.5 | F10: =F8/3 -> 30.666667
C12: En fonction du To | D12: 0.9
D15: =IF(AND(D12>=0,D12<=0.2999),D8,IF(AND(D12>=0.3,D12<=0.4999),'Info générale'!$W$5,IF(AND(D12>=0.5,D12<=0.6999),'Info générale'!$R$5,IF(AND(D12>=0.7,D12<=0.8999),'Info générale'!$M$5,'Info générale'!$I$5)))) -> 10 | E15: =IF(AND(E12>=0,E12<=0.2999),E8,IF(AND(E12>=0.3,E12<=0.4999),'Info générale'!$W$5,IF(AND(E12>=0.5,E12<=0.6999),'Info générale'!$R$5,IF(AND(E12>=0.7,E12<=0.8999),'Info générale'!$M$5,'Info générale'!$I$5)))) -> 61 | F15: =IF(AND(F12>=0,F12<=0.2999),F8,IF(AND(F12>=0.3,F12<=0.4999),'Info générale'!$W$5,IF(AND(F12>=0.5,F12<=0.6999),'Info générale'!$R$5,IF(AND(F12>=0.7,F12<=0.8999),'Info générale'!$M$5,'Info générale'!$I$5)))) -> 92
C16: Prix à final | D16: =D8+D15 -> 69 | E16: =E8+E15 -> 122 | F16: =F8+F15 -> 184
