Workbook

Sheet Recherche
A1: NOM DU CLIENT | B1: Suzanne Brognon | F1: Jean-Christophe Bel
F2: Gérard Aouate
F3: Brazil
F4: Danièle et François Tanty
A5: Property | B5: Address | C5: Unit / Apt / Suite | D5: Type | E5: Owner | F5: LLC | G5: Owner's address | H5: Phone/Email | I5: HOA | K5: Residential | L5: Commercial | M5: Investissement | N5: Insurance | O5: Basic Service | P5: Full service | Q5: Reminder Insurance | R5: Reminder Rent | S5: Active | T5: Expected | U5: Archived | V5: RENT AUGUST | W5: RENT SEPTEMBER | X5: RENT OCTOBER | Y5: RENT NOVEMBER | Z5: RENT DECEMBER | AA5: Tenant | AB5: Phone & email | AC5: Monthly rent | AD5: Security Deposit | AE5: Other guarantees (ast month, cleaning deposit) | AF5: Rent Start | AG5: Rent End | AH5: Work to be done | AI5: Comments | AJ5: % | AK5: Expected yearly rent | AL5: Yearly expected invoicing | AM5: Monthly equivalent | AN5: Invoicing Monthly Quarterly
A6: =INDEX(Database!1:1048576,MATCH($B$1,Database!$E:$E,0),COLUMN(A1)) -> Trump | B6: =INDEX(Database!1:1048576,MATCH($B$1,Database!$E:$E,0),COLUMN(B1)) -> Trump Way drive 34 | C6: =INDEX(Database!1:1048576,MATCH($B$1,Database!$E:$E,0),COLUMN(C1)) -> 0 | D6: =INDEX(Database!1:1048576,MATCH($B$1,Database!$E:$E,0),COLUMN(D1)) -> 0 | E6: =INDEX(Database!1:1048576,MATCH($B$1,Database!$E:$E,0),COLUMN(E1)) -> Suzanne Brognon | F6: =INDEX(Database!1:1048576,MATCH($B$1,Database!$E:$E,0),COLUMN(F1)) -> TRCX Limited Partnership | G6: =INDEX(Database!1:1048576,MATCH($B$1,Database!$E:$E,0),COLUMN(G1)) -> 34 Rue de la Libération, 32545 Antwerp Belgique | H6: =INDEX(Database!1:1048576,MATCH($B$1,Database!$E:$E,0),COLUMN(H1)) -> itewn@sympatico.ca | ... AN6: =INDEX(Database!1:1048576,MATCH($B$1,Database!$E:$E,0),COLUMN(AN1)) -> 0

Sheet Database
A3: Property Management Recap | D3: Date | E3: =TODAY() -> 41851 | AL3: Total
AK4: =SUM(AK6:AK97) -> 151810 | AL4: =SUM(AL6:AL97) -> 15698.2 | AM4: =SUM(AM6:AM97) -> 1308.1833 | AN4: =AL4/12 -> 1308.1833
A5: Property | B5: Address | C5: Unit / Apt / Suite | D5: Type | E5: Owner | F5: LLC | G5: Owner's address | H5: Phone/Email | I5: HOA | K5: Residential | L5: Commercial | M5: Investissement | N5: Insurance | O5: Basic Service | P5: Full service | Q5: Reminder Insurance | R5: Reminder Rent | S5: Active | T5: Expected | U5: Archived | V5: RENT AUGUST | W5: RENT SEPTEMBER | X5: RENT OCTOBER | Y5: RENT NOVEMBER | Z5: RENT DECEMBER | AA5: Tenant | AB5: Phone & email | AC5: Monthly rent | AD5: Security Deposit | AE5: Other guarantees (ast month, cleaning deposit) | AF5: Rent Start | AG5: Rent End | AH5: Work to be done | AI5: Comments | AJ5: % | AK5: Expected yearly rent | AL5: Yearly expected invoicing | AM5: Monthly equivalent | AN5: Invoicing Monthly Quarterly | AP5: REFERENCE DATABASE SEARCH
A6: City View by the River | B6: 1235 NW 6th, Miami, Florida 33125 | C6: 6 | E6: Franck Leblond | F6: FL Florida LLC | H6: jean-christophe.bel@hispeed.ch | K6: V | M6: V | N6: V | O6: V | U6: V | V6: ! | AC6: 925 | AD6: 975 | AH6: cleaning | AJ6: 7 | AK6: =AC6*12 -> 11100 | AL6: =AK6*$AJ$6/100 -> 777 | AM6: =AL6/12 -> 64.75 | AN6: Q | AP6: =E6 -> Franck Leblond
A7: City View by the River | B7: 1235 NW 6th, Miami, Florida 33125 | C7: 8 | E7: Franck Leblond | F7: FL Florida LLC | H7: jean-christophe.bel@hispeed.ch | K7: V | M7: V | N7: V | O7: V | U7: V | V7: ! | AC7: 975 | AD7: 975 | AH7: none | AJ7: 7 | AK7: =AC7*12 -> 11700 | AL7: =AK7*$AJ$6/100 -> 819 | AM7: =AL7/12 -> 68.25 | AN7: Q
A8: Mint Riverfront | B8: 92 SW 3 St, Miami, Florida 33130 | C8: 789 | E8: Franck Leblond | F8: FL Florida LLC | H8: jean-christophe.bel@hispeed.ch | K8: V | M8: V | N8: V | O8: V | U8: V | V8: ! | AA8: Zach Roof | AC8: 1925 | AD8: 1900 | AF8: 41518 | AI8: No pets allowed, Community boat facilities, Community swimming pool(s), On-site guard | AJ8: 7 | AK8: =AC8*12 -> 23100 | AL8: =AK8*$AJ$6/100 -> 1617 | AM8: =AL8/12 -> 134.75 | AN8: Q
A9: River Breeze II | B9: 1453 SW 3 St, Miami, Florida 33125 | C9: 54 | E9: Franck Leblond | F9: FL Florida LLC | G9: Paris 14ème | H9: Travel@hsipeed.ch | I9: 25 | K9: V | M9: V | N9: V | O9: V | U9: V | V9: ! | AC9: 1100 | AD9: 925 | AJ9: 7 | AK9: =AC9*12 -> 13200 | AL9: =AK9*$AJ$6/100 -> 924 | AM9: =AL9/12 -> 77 | AN9: Q
A10: Villa Rosada | B10: 428SW 9th Street, Miami, Florida 33130 | C10: 67 | D10: 1/1 | E10: Franck Leblond | F10: FL Florida LLC | G10: Paris 14ème | H10: Travel@hsipeed.ch | I10: 235 | K10: V | M10: V | N10: V | O10: V | U10: V | V10: ! | AC10: 850 | AD10: 850 | AJ10: 5 | AK10: =AC10*12 -> 10200 | AL10: =AK10*$AJ$6/100 -> 714 | AM10: =AL10/12 -> 59.5 | AN10: Q
A11: Washington Ave | B11: 110 Washington Ave, Miami Beach , Florida 33139 | C11: 657 | E11: Albert Levert | F11: Nom propre | G11: New York USA | H11: asdfsage@hotmail.com | I11: 615 | U11: ? | AJ11: 5 | AK11: =AC11*12 -> 0 | AL11: =AK11*$AJ$6/100 -> 0 | AM11: =AL11/12 -> 0 | AP11: =E11 -> Albert Levert
A12: Brazil | E12: Client Brazil | F12: ?? | G12: Rio de Janeiro | I12: 235 | T12: V | AJ12: F | AK12: 550 | AL12: =AK12 -> 550 | AM12: =AK12/12 -> 45.833333 | AP12: =E12 -> Client Brazil
A13: Piece of land | E13: Mr Amstra | F13: TPC LLC | I13: 235 | U13: ? | AC13: 0 | AD13: 0 | AJ13: F | AK13: =AC13*12 -> 0 | AL13: =AK13*$AJ$6/100 -> 0 | AM13: =AL13/12 -> 0 | AP13: =E13 -> Mr Amstra
A14: Inconnue pour le moment | B14: Inconnue | E14: Mr Philippe | F14: ?? | I14: 235 | T14: V | AK14: =AC14*12 -> 0 | AL14: =AK14*$AJ$6/100 -> 0 | AM14: =AL14/12 -> 0 | AP14: =E14 -> Mr Philippe
A15: 101 E.Flagler Street | B15: 101 E.Flagler Street | C15: 5 | E15: Sandrine et Serge Bigoteau | F15: FIDO LLC | G15: 34 Blauenstrasse, 1234 Zurich Suisse | I15: 324 | AC15: 1500 | AD15: 1500 | AE15: 3000 | AK15: =AC15*12 -> 18000 | AL15: =AK15*$AJ$6/100 -> 1260 | AM15: =AL15/12 -> 105 | AP15: =E15 -> Sandrine et Serge Bigoteau
A16: 111 E.Flagler Street | B16: 111 E.Flagler Street | C16: 67 | D16: 2/2 | E16: Sandrine et Serge Bigoteau | F16: FIDO LLC | I16: 32 | R16: v | AA16: Hasani Wharton | AC16: 1130 | AD16: 1130 | AE16: 1060 | AF16: 41609 | AG16: 41973 | AK16: =AC16*12 -> 13560 | AL16: =AK16*$AJ$6/100 -> 949.2 | AM16: =AL16/12 -> 79.1
A17: 2107 SE 10th Ave Ft Lauderdale, Village East | B17: 2107 SE 10th Ave Ft Lauderdale, Village East, Florida 33136 | C17: 76 | E17: Sandrine et Serge Bigoteau | F17: FIDO LLC | I17: 42 | AA17: Jillian Sanchez | AC17: 1400 | AD17: 1400 | AE17: 1450 | AF17: 41525 | AG17: 41889 | AK17: =AC17*12 -> 16800 | AL17: =AK17*$AJ$6/100 -> 1176 | AM17: =AL17/12 -> 98
A18: Icon Brickell | B18: 485 Brickell Avenue, Miami, Florida 33131 | C18: 743 | E18: Danièle et François Frampton | F18: ABC Corp. | G18: Rue de la Fedri 34, 3254 Bordeaux | I18: 234 | AC18: 2800 | AD18: 2800 | AE18: 2800 | AJ18: 7 | AK18: =AC18*12 -> 33600 | AL18: =AK18*$AJ$6/100 -> 2352 | AM18: =AL18/12 -> 196 | AN18: Q | AP18: =E18 -> Danièle et François Frampton
A19: Trump | B19: Trump Way drive 34 | E19: Suzanne Brognon | F19: TRCX Limited Partnership | G19: 34 Rue de la Libération, 32545 Antwerp Belgique | H19: itewn@sympatico.ca | I19: 235 | K19: v | AJ19: F | AK19: 0 | AL19: =AM19*12 -> 1120 | AM19: =280/3 -> 93.333333 | AP19: =E19 -> Suzanne Brognon
A20: Icon Brickell | B20: ICB Road 214 | C20: 34 | E20: Suzanne Brognon | F20: TRCX Limited Partnership | G20: 34 Rue de la Libération, 32545 Antwerp Belgique | H20: itewn@sympatico.ca | I20: 45 | AJ20: F | AK20: 0 | AL20: =AM20*12 -> 1120 | AM20: =280/3 -> 93.333333
A21: Collins | B21: Collins Avenue | C21: 45 | E21: Suzanne Brognon | F21: TRCX Limited Partnership | G21: 34 Rue de la Libération, 32545 Antwerp Belgique | H21: itewn@sympatico.ca | I21: 23 | M21: v | AK21: 0 | AL21: 0 | AM21: 0
A22: Biscayne | B22: Biscayne Blvd 2435 | C22: 5 | E22: Suzanne Brognon | F22: TRCX Limited Partnership | G22: 34 Rue de la Libération, 32545 Antwerp Belgique | H22: itewn@sympatico.ca | I22: 5425 | AJ22: F | AK22: 0 | AL22: =AM22*12 -> 1120 | AM22: =280/3 -> 93.333333
A23: Icon Brickell | B23: 485 Brickell Avenue, Miami, Florida 33131 | C23: 567 | E23: M. Burglay | F23: Clintwood International Inc. | AC23: 0 | AJ23: 7 | AK23: =AC23*12 -> 0 | AL23: =AK23*$AJ$6/100 -> 0 | AM23: =AL23/12 -> 0 | AN23: Q | AO23: Rented? | AP23: =E23 -> M. Burglay
A24: Cutler Bay | B24: 7786 SW 193 Lane, Cutler Bay, Florida 33157 | C24: 7 | E24: M. Burglay | F24: Clintwood International Inc. | I24: 235 | AJ24: F | AK24: 0 | AL24: =AM24*12 -> 1200 | AM24: 100
A25: Beach Garden | B25: Funston Street, Hollywood, Florida 32423 | C25: 345 | E25: Roger Federer | F25: Brodway LLC | I25: 42 | AJ25: 7 | AP25: =E25 -> Roger Federer
A26: Coconut Groove | C26: 3 | E26: Roger Federer | F26: Brodway LLC | I26: 32 | AJ26: F
