Workbook

Sheet Juin
A1: CONGES PAYES - JUIN 2011 -
A2: Prêt
A3: Emprunt
A4: Férié
A5: RTTS
G6: ASCENSION | H6: RTTS | Q6: PENTECOTE
A7: Nom | B7: Prénom | C7: Date d'entrée | D7: Congés Ancienneté | E7: Réouverture | F7: 1 | G7: 2 | H7: 3 | I7: 4 | J7: 5 | K7: 6 | L7: 7 | M7: 8 | N7: 9 | O7: 10 | P7: 11 | Q7: 12 | R7: 13 | S7: 14 | T7: 15 | U7: 16 | V7: 17 | W7: 18 | X7: 19 | Y7: 20 | Z7: 21 | AA7: 22 | AB7: 23 | AC7: 24 | AD7: 25 | AE7: 26 | AF7: 27 | AG7: 28 | AH7: 29 | AI7: 30 | AJ7: Total | AK7: SOLDE avec ancienneté | AL7: En cours d'acquisition
A8: ALAZARD | B8: Jean-Marie | C8: 27509 | E8: 25 | AJ8: =SUM(F8:AI8) -> 0 | AK8: =D8+E8-AJ8 -> 25 | AL8: 2.08
A9: ANGLEYS | B9: Anne | C9: 29346 | E9: 25 | K9: 1 | U9: 1 | V9: 1 | AJ9: =SUM(F9:AI9) -> 3 | AK9: =D9+E9-AJ9 -> 22 | AL9: 2.08
A10: ARBONVILLE | B10: Catherine | C10: 35877 | E10: 25 | AJ10: =SUM(F10:AI10) -> 0 | AK10: =D10+E10-AJ10 -> 25 | AL10: 2.08
A11: AURIOL | B11: Françoise | C11: 32916 | E11: 25 | AJ11: =SUM(F11:AI11) -> 0 | AK11: =D11+E11-AJ11 -> 25 | AL11: 2.08
A12: BARDOUX | B12: Michel | C12: 29241 | E12: 2.67 | AJ12: =SUM(F12:AI12) -> 0 | AK12: =D12+E12-AJ12 -> 2.67 | AL12: 2.08
A13: BERGEAUD | B13: Jean-Pierre | C13: 39524 | E13: 25 | O13: 1 | AJ13: =SUM(F13:AI13) -> 1 | AK13: =D13+E13-AJ13 -> 24 | AL13: 2.08
A14: BERNADET | B14: Grégory | C14: 39174 | E14: 25 | AJ14: =SUM(F14:AI14) -> 0 | AK14: =D14+E14-AJ14 -> 25 | AL14: 2.08
A15: BISPO | B15: Paulo Jorge | C15: 38460 | E15: 25 | S15: 1 | T15: 1 | U15: 1 | Y15: 1 | AB15: 1 | AC15: 1 | AF15: 1 | AJ15: =SUM(F15:AI15) -> 7 | AK15: =D15+E15-AJ15 -> 18 | AL15: 2.08
A16: BORZEIX | B16: Julien | C16: 40637 | E16: 5 | AJ16: =SUM(F16:AI16) -> 0 | AK16: =D16+E16-AJ16 -> 5 | AL16: 2.08
A17: BOUAZZA | B17: Slim | C17: 39216 | E17: 25 | AJ17: =SUM(F17:AI17) -> 0 | AK17: =D17+E17-AJ17 -> 25 | AL17: 2.08
A18: BOUJNAH | B18: Sandra | C18: 40070 | E18: 25 | F18: 1 | AI18: 1 | AJ18: =SUM(F18:AI18) -> 2 | AK18: =D18+E18-AJ18 -> 23 | AL18: 2.08
A19: BOYER | B19: Bertrand | C19: 38117 | E19: 25 | AJ19: =SUM(F19:AI19) -> 0 | AK19: =D19+E19-AJ19 -> 25 | AL19: 2.08
A20: BROGI | B20: Thierry | C20: 32349 | E20: 25 | K20: 1 | L20: 1 | AJ20: =SUM(F20:AI20) -> 2 | AK20: =D20+E20-AJ20 -> 23 | AL20: 2.08
A21: BROUSSE | B21: Julien | C21: 39867 | E21: 25 | Y21: 1 | Z21: 1 | AA21: 1 | AB21: 1 | AC21: 1 | AF21: 1 | AG21: 1 | AH21: 1 | AI21: 1 | AJ21: =SUM(F21:AI21) -> 9 | AK21: =D21+E21-AJ21 -> 16 | AL21: 2.08
A22: BRULE | B22: Jean-Luc | C22: 26912 | E22: 25 | V22: 1 | Y22: 1 | Z22: 1 | AJ22: =SUM(F22:AI22) -> 3 | AK22: =D22+E22-AJ22 -> 22 | AL22: 2.08
A23: BRUNEAU | B23: Loïc | C23: 39342 | E23: 25 | V23: 1 | Y23: 1 | Z23: 0.5 | AF23: 1 | AJ23: =SUM(F23:AI23) -> 3.5 | AK23: =D23+E23-AJ23 -> 21.5 | AL23: 2.08
A24: CAMPOURCY | B24: Annie | C24: 29683 | E24: 25 | S24: 1 | T24: 1 | U24: 1 | V24: 1 | AH24: 1 | AJ24: =SUM(F24:AI24) -> 5 | AK24: =D24+E24-AJ24 -> 20 | AL24: 2.08
A25: CAZAUX | B25: Jean-Baptiste | C25: 38972 | E25: 25 | V25: 1 | Y25: 1 | AJ25: =SUM(F25:AI25) -> 2 | AK25: =D25+E25-AJ25 -> 23 | AL25: 2.08
A26: CAZY | B26: Thomas | C26: 40462 | E26: 17 | AJ26: =SUM(F26:AI26) -> 0 | AK26: =D26+E26-AJ26 -> 17 | AL26: 2.08
A27: CERNAY | B27: Cyril | C27: 40371 | E27: 23 | F27: 1 | K27: 1 | L27: 1 | M27: 1 | N27: 1 | O27: 1 | AJ27: =SUM(F27:AI27) -> 6 | AK27: =D27+E27-AJ27 -> 17 | AL27: 2.08
A28: CHAILLOT | B28: Davy | C28: 39118 | E28: 25 | O28: 0.5 | S28: 1 | T28: 1 | U28: 1 | V28: 1 | Y28: 1 | Z28: 1 | AA28: 1 | AB28: 1 | AC28: 1 | AJ28: =SUM(F28:AI28) -> 9.5 | AK28: =D28+E28-AJ28 -> 15.5 | AL28: 2.08
A29: CHEMALI | B29: Rehda | C29: 40462 | E29: 17 | AJ29: =SUM(F29:AI29) -> 0 | AK29: =D29+E29-AJ29 -> 17 | AL29: 2.08
A30: CLEMONT | B30: Bastien | C30: 39958 | E30: 25 | K30: 1 | L30: 1 | M30: 1 | N30: 1 | O30: 1 | S30: 1 | T30: 1 | U30: 1 | V30: 1 | AJ30: =SUM(F30:AI30) -> 9 | AK30: =D30+E30-AJ30 -> 16 | AL30: 2.08
A31: COELHO | B31: Julien | C31: 38777 | E31: 25 | AJ31: =SUM(F31:AI31) -> 0 | AK31: =D31+E31-AJ31 -> 25 | AL31: 2.08
A32: COLLET | B32: Mathieu | C32: 40700 | E32: 0 | AJ32: =SUM(F32:AI32) -> 0 | AK32: =D32+E32-AJ32 -> 0 | AL32: 2.08
A33: CONDE | B33: Michel | C33: 39713 | E33: 25 | Z33: 1 | AB33: 1 | AC33: 1 | AJ33: =SUM(F33:AI33) -> 3 | AK33: =D33+E33-AJ33 -> 22 | AL33: 2.08
A34: CZERWINSKI | AJ34: =SUM(F34:AI34) -> 0 | AK34: =D34+E34-AJ34 -> 0 | AL34: 2.08
A35: DALMAU | B35: Emmanuel | C35: 36000 | AJ35: =SUM(F35:AI35) -> 0 | AK35: =D35+E35-AJ35 -> 0 | AL35: 2.08
A36: DENBY WILKES | B36: Guillaume | C36: 38642 | E36: 25 | Z36: 1 | AA36: 1 | AB36: 1 | AC36: 1 | AF36: 1 | AG36: 1 | AH36: 1 | AI36: 1 | AJ36: =SUM(F36:AI36) -> 8 | AK36: =D36+E36-AJ36 -> 17 | AL36: 2.08
A37: DJUROVIC | B37: Alain | C37: 39482 | E37: 25 | AJ37: =SUM(F37:AI37) -> 0 | AK37: =D37+E37-AJ37 -> 25 | AL37: 2.08
A38: DOMINGUES | B38: Sergio | C38: 38628 | E38: 25 | L38: 1 | M38: 1 | AJ38: =SUM(F38:AI38) -> 2 | AK38: =D38+E38-AJ38 -> 23 | AL38: 2.08
A39: DUPRE | B39: Mathieu | AJ39: =SUM(F39:AI39) -> 0 | AK39: =D39+E39-AJ39 -> 0 | AL39: 2.08
A40: DURAND | B40: Xavier | C40: 39419 | E40: 25 | F40: 1 | K40: 1 | L40: 1 | M40: 1 | N40: 1 | O40: 1 | AJ40: =SUM(F40:AI40) -> 6 | AK40: =D40+E40-AJ40 -> 19 | AL40: 2.08
...

Sheet Juill
A1: CONGES PAYES - JUILLET 2011 -
A2: Prêt
A3: Emprunt
A4: Férié
R6: FETE NATIONALE
A7: Nom | B7: Prénom | C7: Date d'entrée | D7: Congés Ancienneté | E7: 1 | F7: 2 | G7: 3 | H7: 4 | I7: 5 | J7: 6 | K7: 7 | L7: 8 | M7: 9 | N7: 10 | O7: 11 | P7: 12 | Q7: 13 | R7: 14 | S7: 15 | T7: 16 | U7: 17 | V7: 18 | W7: 19 | X7: 20 | Y7: 21 | Z7: 22 | AA7: 23 | AB7: 24 | AC7: 25 | AD7: 26 | AE7: 27 | AF7: 28 | AG7: 29 | AH7: 30 | AI7: 31 | AJ7: Total | AK7: SOLDE avec ancienneté | AL7: En cours d'acquisition
A8: ALAZARD | B8: Jean-Marie | C8: 27509 | AJ8: =SUM(E8:AI8) -> 0 | AL8: =Juin!AL8+2.08 -> 4.16
A9: ANGLEYS | B9: Anne | C9: 29346 | AJ9: =SUM(E9:AI9) -> 0 | AL9: =Juin!AL9+2.08 -> 4.16
A10: ARBONVILLE | B10: Catherine | C10: 35877 | AJ10: =SUM(E10:AI10) -> 0 | AL10: =Juin!AL10+2.08 -> 4.16
A11: AURIOL | B11: Françoise | C11: 32916 | AJ11: =SUM(E11:AI11) -> 0 | AL11: =Juin!AL11+2.08 -> 4.16
A12: BARDOUX | B12: Michel | C12: 29241 | AJ12: =SUM(E12:AI12) -> 0 | AL12: =Juin!AL12+2.08 -> 4.16
A13: BERGEAUD | B13: Jean-Pierre | C13: 39524 | AJ13: =SUM(E13:AI13) -> 0 | AL13: =Juin!AL13+2.08 -> 4.16
A14: BERNADET | B14: Grégory | C14: 39174 | AJ14: =SUM(E14:AI14) -> 0 | AL14: =Juin!AL14+2.08 -> 4.16
A15: BISPO | B15: Paulo Jorge | C15: 38460 | AJ15: =SUM(E15:AI15) -> 0 | AL15: =Juin!AL15+2.08 -> 4.16
A16: BORZEIX | B16: Julien | C16: 40637 | AJ16: =SUM(E16:AI16) -> 0 | AL16: =Juin!AL16+2.08 -> 4.16
A17: BOUAZZA | B17: Slim | C17: 39216 | AJ17: =SUM(E17:AI17) -> 0 | AL17: =Juin!AL17+2.08 -> 4.16
A18: BOUJNAH | B18: Sandra | C18: 40070 | AJ18: =SUM(E18:AI18) -> 0 | AL18: =Juin!AL18+2.08 -> 4.16
A19: BOYER | B19: Bertrand | C19: 38117 | AJ19: =SUM(E19:AI19) -> 0 | AL19: =Juin!AL19+2.08 -> 4.16
... A34: CORNU | B34: Sébastien | C34: 40736 | AJ34: =SUM(E34:AI34) -> 0 | AL34: =Juin!AL34+2.08 -> 4.16
A35: CZERWINSKI | AJ35: =SUM(E35:AI35) -> 0 | AL35: =Juin!AL35+2.08 -> 4.16
A36: DALMAU | B36: Emmanuel | C36: 36000 | AJ36: =SUM(E36:AI36) -> 0 | AL36: =Juin!AL36+2.08 -> 4.16
A37: DENBY WILKES | B37: Guillaume | C37: 38642 | AJ37: =SUM(E37:AI37) -> 0 | AL37: =Juin!AL37+2.08 -> 4.16
A38: DJUROVIC | B38: Alain | C38: 39482 | AJ38: =SUM(E38:AI38) -> 0 | AL38: =Juin!AL38+2.08 -> 4.16
A39: DOMINGUES | B39: Sergio | C39: 38628 | AJ39: =SUM(E39:AI39) -> 0 | AL39: =Juin!AL39+2.08 -> 4.16
A40: DUPRE | B40: Mathieu | AJ40: =SUM(E40:AI40) -> 0 | AL40: =Juin!AL40+2.08 -> 4.16
A41: DURAND | B41: Xavier | C41: 39419 | AJ41: =SUM(E41:AI41) -> 0 | AL41: =Juin!AL41+2.08 -> 4.16
A42: DUVAUCHELLE | B42: Bernard | C42: 27842 | AJ42: =SUM(E42:AI42) -> 0 | AL42: =Juin!AL42+2.08 -> 4.16
A43: EL OUADEH | B43: Mostafa | C43: 40452 | AJ43: =SUM(E43:AI43) -> 0 | AL43: =Juin!AL43+2.08 -> 4.16
A44: FURET | B44: Luc | C44: 39405 | AJ44: =SUM(E44:AI44) -> 0 | AL44: =Juin!AL44+2.08 -> 4.16
A45: GABRY | B45: Thibaut | C45: 40525 | AJ45: =SUM(E45:AI45) -> 0 | AL45: =Juin!AL45+2.08 -> 4.16
A46: GENIN | B46: Eric | C46: 33224 | AJ46: =SUM(E46:AI46) -> 0 | AL46: =Juin!AL46+2.08 -> 4.16
A47: GENTIL | B47: Benoît | C47: 38810 | AJ47: =SUM(E47:AI47) -> 0 | AL47: =Juin!AL47+2.08 -> 4.16
A48: GENTILE | B48: Marc | C48: 38231 | AJ48: =SUM(E48:AI48) -> 0 | AL48: =Juin!AL48+2.08 -> 4.16
A49: GHOUZI | B49: Nicolas | C49: 40478 | AJ49: =SUM(E49:AI49) -> 0 | AL49: =Juin!AL49+2.08 -> 4.16
A50: GLENAT | B50: Bertrand | C50: 32580 | AJ50: =SUM(E50:AI50) -> 0 | AL50: =Juin!AL50+2.08 -> 4.16
A51: GODEFROY | B51: Bertrand | C51: 36283 | AJ51: =SUM(E51:AI51) -> 0 | AL51: =Juin!AL51+2.08 -> 4.16
A52: GUILLO | B52: Pierre | C52: 29864 | AJ52: =SUM(E52:AI52) -> 0 | AL52: =Juin!AL52+2.08 -> 4.16
... A105: VIGOUROUS | B105: Florence | C105: 40042 | AJ105: =SUM(E105:AI105) -> 0 | AL105: =Juin!AL105+2.08 -> 2.08

Sheet Août
A1: CONGES PAYES - AOUT 2011 -
A2: Prêt
A3: Emprunt
A4: Férié
S6: ASSOMPTION
A7: Nom | B7: Prénom | C7: Date d'entrée | D7: Congés Ancienneté | E7: 1 | F7: 2 | G7: 3 | H7: 4 | I7: 5 | J7: 6 | K7: 7 | L7: 8 | M7: 9 | N7: 10 | O7: 11 | P7: 12 | Q7: 13 | R7: 14 | S7: 15 | T7: 16 | U7: 17 | V7: 18 | W7: 19 | X7: 20 | Y7: 21 | Z7: 22 | AA7: 23 | AB7: 24 | AC7: 25 | AD7: 26 | AE7: 27 | AF7: 28 | AG7: 29 | AH7: 30 | AI7: 31 | AJ7: Total | AK7: SOLDE avec ancienneté | AL7: En cours d'acquisition
A8: ALAZARD | B8: Jean-Marie | C8: 27509 | AJ8: =SUM(E8:AI8) -> 0 | AL8: =Juill!AL8+2.08 -> 6.24
A9: ANGLEYS | B9: Anne | C9: 29346 | AJ9: =SUM(E9:AI9) -> 0 | AL9: =Juill!AL9+2.08 -> 6.24
A10: ARBONVILLE | B10: Catherine | C10: 35877 | AJ10: =SUM(E10:AI10) -> 0 | AL10: =Juill!AL10+2.08 -> 6.24
A11: AURIOL | B11: Françoise | C11: 32916 | AJ11: =SUM(E11:AI11) -> 0 | AL11: =Juill!AL11+2.08 -> 6.24
A12: BARDOUX | B12: Michel | C12: 29241 | AJ12: =SUM(E12:AI12) -> 0 | AL12: =Juill!AL12+2.08 -> 6.24
A13: BERGEAUD | B13: Jean-Pierre | C13: 39524 | AJ13: =SUM(E13:AI13) -> 0 | AL13: =Juill!AL13+2.08 -> 6.24
A14: BERNADET | B14: Grégory | C14: 39174 | AJ14: =SUM(E14:AI14) -> 0 | AL14: =Juill!AL14+2.08 -> 6.24
A15: BISPO | B15: Paulo Jorge | C15: 38460 | AJ15: =SUM(E15:AI15) -> 0 | AL15: =Juill!AL15+2.08 -> 6.24
A16: BORZEIX | B16: Julien | C16: 40637 | AJ16: =SUM(E16:AI16) -> 0 | AL16: =Juill!AL16+2.08 -> 6.24
A17: BOUAZZA | B17: Slim | C17: 39216 | AJ17: =SUM(E17:AI17) -> 0 | AL17: =Juill!AL17+2.08 -> 6.24
A18: BOUJNAH | B18: Sandra | C18: 40070 | AJ18: =SUM(E18:AI18) -> 0 | AL18: =Juill!AL18+2.08 -> 6.24
A19: BOYER | B19: Bertrand | C19: 38117 | AJ19: =SUM(E19:AI19) -> 0 | AL19: =Juill!AL19+2.08 -> 6.24
... A34: CORNU | B34: Sébastien | C34: 40736 | AJ34: =SUM(E34:AI34) -> 0 | AL34: =Juill!AL34+2.08 -> 6.24
A35: CZERWINSKI | AJ35: =SUM(E35:AI35) -> 0 | AL35: =Juill!AL35+2.08 -> 6.24
A36: DALMAU | B36: Emmanuel | C36: 36000 | AJ36: =SUM(E36:AI36) -> 0 | AL36: =Juill!AL36+2.08 -> 6.24
A37: DENBY WILKES | B37: Guillaume | C37: 38642 | AJ37: =SUM(E37:AI37) -> 0 | AL37: =Juill!AL37+2.08 -> 6.24
A38: DJUROVIC | B38: Alain | C38: 39482 | AJ38: =SUM(E38:AI38) -> 0 | AL38: =Juill!AL38+2.08 -> 6.24
A39: DOMINGUES | B39: Sergio | C39: 38628 | AJ39: =SUM(E39:AI39) -> 0 | AL39: =Juill!AL39+2.08 -> 6.24
A40: DUPRE | B40: Mathieu | AJ40: =SUM(E40:AI40) -> 0 | AL40: =Juill!AL40+2.08 -> 6.24
A41: DURAND | B41: Xavier | C41: 39419 | AJ41: =SUM(E41:AI41) -> 0 | AL41: =Juill!AL41+2.08 -> 6.24
A42: DUVAUCHELLE | B42: Bernard | C42: 27842 | AJ42: =SUM(E42:AI42) -> 0 | AL42: =Juill!AL42+2.08 -> 6.24
A43: EL OUADEH | B43: Mostafa | C43: 40452 | AJ43: =SUM(E43:AI43) -> 0 | AL43: =Juill!AL43+2.08 -> 6.24
A44: FURET | B44: Luc | C44: 39405 | AJ44: =SUM(E44:AI44) -> 0 | AL44: =Juill!AL44+2.08 -> 6.24
A45: GABRY | B45: Thibaut | C45: 40525 | AJ45: =SUM(E45:AI45) -> 0 | AL45: =Juill!AL45+2.08 -> 6.24
A46: GENIN | B46: Eric | C46: 33224 | AJ46: =SUM(E46:AI46) -> 0 | AL46: =Juill!AL46+2.08 -> 6.24
A47: GENTIL | B47: Benoît | C47: 38810 | AJ47: =SUM(E47:AI47) -> 0 | AL47: =Juill!AL47+2.08 -> 6.24
A48: GENTILE | B48: Marc | C48: 38231 | AJ48: =SUM(E48:AI48) -> 0 | AL48: =Juill!AL48+2.08 -> 6.24
A49: GHOUZI | B49: Nicolas | C49: 40478 | AJ49: =SUM(E49:AI49) -> 0 | AL49: =Juill!AL49+2.08 -> 6.24
A50: GLENAT | B50: Bertrand | C50: 32580 | AJ50: =SUM(E50:AI50) -> 0 | AL50: =Juill!AL50+2.08 -> 6.24
A51: GODEFROY | B51: Bertrand | C51: 36283 | AJ51: =SUM(E51:AI51) -> 0 | AL51: =Juill!AL51+2.08 -> 6.24
A52: GUILLO | B52: Pierre | C52: 29864 | AJ52: =SUM(E52:AI52) -> 0 | AL52: =Juill!AL52+2.08 -> 6.24
... A104: VIGOUROUS | B104: Florence | C104: 40042 | AJ104: =SUM(E104:AI104) -> 0 | AL104: =Juill!AL104+2.08 -> 4.16
AJ105: =SUM(E105:AI105) -> 0 | AL105: =Juill!AL105+2.08 -> 4.16

Sheet Sept
A1: CONGES PAYES - SEPTEMBRE 2011 -
A2: Prêt
A3: Emprunt
A4: Férié
A7: Nom | B7: Prénom | C7: Date d'entrée | D7: Congés Ancienneté | E7: 1 | F7: 2 | G7: 3 | H7: 4 | I7: 5 | J7: 6 | K7: 7 | L7: 8 | M7: 9 | N7: 10 | O7: 11 | P7: 12 | Q7: 13 | R7: 14 | S7: 15 | T7: 16 | U7: 17 | V7: 18 | W7: 19 | X7: 20 | Y7: 21 | Z7: 22 | AA7: 23 | AB7: 24 | AC7: 25 | AD7: 26 | AE7: 27 | AF7: 28 | AG7: 29 | AH7: 30 | AJ7: Total | AK7: SOLDE avec Ancienneté | AL7: En cours d'acquisition
A8: ALAZARD | B8: Jean-Marie | C8: 27509 | AJ8: =SUM(E8:AI8) -> 0 | AL8: =Août!AL8+2.08 -> 8.32
A9: ANGLEYS | B9: Anne | C9: 29346 | AJ9: =SUM(E9:AI9) -> 0 | AL9: =Août!AL9+2.08 -> 8.32
A10: ARBONVILLE | B10: Catherine | C10: 35877 | AJ10: =SUM(E10:AI10) -> 0 | AL10: =Août!AL10+2.08 -> 8.32
A11: AURIOL | B11: Françoise | C11: 32916 | AJ11: =SUM(E11:AI11) -> 0 | AL11: =Août!AL11+2.08 -> 8.32
A12: BARDOUX | B12: Michel | C12: 29241 | AJ12: =SUM(E12:AI12) -> 0 | AL12: =Août!AL12+2.08 -> 8.32
A13: BARIDA | B13: Yohann | C13: 40791 | AJ13: =SUM(E13:AI13) -> 0 | AL13: =Août!AL13+2.08 -> 8.32
A14: BERGEAUD | B14: Jean-Pierre | C14: 39524 | AJ14: =SUM(E14:AI14) -> 0 | AL14: =Août!AL14+2.08 -> 8.32
A15: BERNADET | B15: Grégory | C15: 39174 | AJ15: =SUM(E15:AI15) -> 0 | AL15: =Août!AL15+2.08 -> 8.32
A16: BISPO | B16: Paulo Jorge | C16: 38460 | AJ16: =SUM(E16:AI16) -> 0 | AL16: =Août!AL16+2.08 -> 8.32
A17: BORZEIX | B17: Julien | C17: 40637 | AJ17: =SUM(E17:AI17) -> 0 | AL17: =Août!AL17+2.08 -> 8.32
A18: BOUAZZA | B18: Slim | C18: 39216 | AJ18: =SUM(E18:AI18) -> 0 | AL18: =Août!AL18+2.08 -> 8.32
A19: BOUJNAH | B19: Sandra | C19: 40070 | AJ19: =SUM(E19:AI19) -> 0 | AL19: =Août!AL19+2.08 -> 8.32
... A35: CORNU | B35: Sébastien | C35: 40736 | AJ35: =SUM(E35:AI35) -> 0 | AL35: =Août!AL35+2.08 -> 8.32
A36: CZERWINSKI | AJ36: =SUM(E36:AI36) -> 0 | AL36: =Août!AL36+2.08 -> 8.32
A37: DALMAU | B37: Emmanuel | C37: 36000 | AJ37: =SUM(E37:AI37) -> 0 | AL37: =Août!AL37+2.08 -> 8.32
A38: DENBY WILKES | B38: Guillaume | C38: 38642 | AJ38: =SUM(E38:AI38) -> 0 | AL38: =Août!AL38+2.08 -> 8.32
A39: DJUROVIC | B39: Alain | C39: 39482 | AJ39: =SUM(E39:AI39) -> 0 | AL39: =Août!AL39+2.08 -> 8.32
A40: DOMINGUES | B40: Sergio | C40: 38628 | AJ40: =SUM(E40:AI40) -> 0 | AL40: =Août!AL40+2.08 -> 8.32
A41: DUPRE | B41: Mathieu | AJ41: =SUM(E41:AI41) -> 0 | AL41: =Août!AL41+2.08 -> 8.32
A42: DURAND | B42: Xavier | C42: 39419 | AJ42: =SUM(E42:AI42) -> 0 | AL42: =Août!AL42+2.08 -> 8.32
A43: DUVAUCHELLE | B43: Bernard | C43: 27842 | AJ43: =SUM(E43:AI43) -> 0 | AL43: =Août!AL43+2.08 -> 8.32
A44: EL OUADEH | B44: Mostafa | C44: 40452 | AJ44: =SUM(E44:AI44) -> 0 | AL44: =Août!AL44+2.08 -> 8.32
A45: FRETARD | B45: Dominique | C45: 40791 | AJ45: =SUM(E45:AI45) -> 0 | AL45: =Août!AL45+2.08 -> 8.32
A46: FURET | B46: Luc | C46: 39405 | AJ46: =SUM(E46:AI46) -> 0 | AL46: =Août!AL46+2.08 -> 8.32
A47: GABRY | B47: Thibaut | C47: 40525 | AJ47: =SUM(E47:AI47) -> 0 | AL47: =Août!AL47+2.08 -> 8.32
A48: GENIN | B48: Eric | C48: 33224 | AJ48: =SUM(E48:AI48) -> 0 | AL48: =Août!AL48+2.08 -> 8.32
A49: GENTIL | B49: Benoît | C49: 38810 | AJ49: =SUM(E49:AI49) -> 0 | AL49: =Août!AL49+2.08 -> 8.32
A50: GENTILE | B50: Marc | C50: 38231 | AJ50: =SUM(E50:AI50) -> 0 | AL50: =Août!AL50+2.08 -> 8.32
A51: GHOUZI | B51: Nicolas | C51: 40478 | AJ51: =SUM(E51:AI51) -> 0 | AL51: =Août!AL51+2.08 -> 8.32
A52: GLENAT | B52: Bertrand | C52: 32580 | AJ52: =SUM(E52:AI52) -> 0 | AL52: =Août!AL52+2.08 -> 8.32
A53: GODEFROY | B53: Bertrand | C53: 36283 | AJ53: =SUM(E53:AI53) -> 0 | AL53: =Août!AL53+2.08 -> 8.32
... A105: TOURTELOT | B105: Jean-Marie | C105: 38642 | AJ105: =SUM(E105:AI105) -> 0 | AL105: =Août!AL105+2.08 -> 6.24
A106: URBANCZYK | B106: Florian | C106: 40553
A107: VASSE | B107: Pascal | C107: 34015
A108: VENUAT | B108: Clément | C108: 40347
...

Sheet Oct
A1: CONGES PAYES - OCTOBRE 2011 -
A2: Prêt
A3: Emprunt
A4: Férié
A7: NOM | B7: PRENOM | C7: Date d'entrée | D7: Congés Ancienneté | E7: 1 | F7: 2 | G7: 3 | H7: 4 | I7: 5 | J7: 6 | K7: 7 | L7: 8 | M7: 9 | N7: 10 | O7: 11 | P7: 12 | Q7: 13 | R7: 14 | S7: 15 | T7: 16 | U7: 17 | V7: 18 | W7: 19 | X7: 20 | Y7: 21 | Z7: 22 | AA7: 23 | AB7: 24 | AC7: 25 | AD7: 26 | AE7: 27 | AF7: 28 | AG7: 29 | AH7: 30 | AI7: 31 | AJ7: Total | AK7: SOLDE avec Ancienneté | AL7: En cours d'acquisition
A8: ALAZARD | B8: Jean-Marie | C8: 27509 | AJ8: =SUM(E8:AI8) -> 0 | AL8: =Sept!AL8+2.08 -> 10.4
A9: ANGLEYS | B9: Anne | C9: 29346 | AJ9: =SUM(E9:AI9) -> 0 | AL9: =Sept!AL9+2.08 -> 10.4
A10: ARBONVILLE | B10: Catherine | C10: 35877 | AJ10: =SUM(E10:AI10) -> 0 | AL10: =Sept!AL10+2.08 -> 10.4
A11: AURIOL | B11: Françoise | C11: 32916 | AJ11: =SUM(E11:AI11) -> 0 | AL11: =Sept!AL11+2.08 -> 10.4
A12: BARDOUX | B12: Michel | C12: 29241 | AJ12: =SUM(E12:AI12) -> 0 | AL12: =Sept!AL12+2.08 -> 10.4
A13: BARIDA | B13: Yohann | C13: 40791 | AJ13: =SUM(E13:AI13) -> 0 | AL13: =Sept!AL13+2.08 -> 10.4
A14: BERGEAUD | B14: Jean-Pierre | C14: 39524 | AJ14: =SUM(E14:AI14) -> 0 | AL14: =Sept!AL14+2.08 -> 10.4
A15: BERNADET | B15: Grégory | C15: 39174 | AJ15: =SUM(E15:AI15) -> 0 | AL15: =Sept!AL15+2.08 -> 10.4
A16: BISPO | B16: Paulo Jorge | C16: 38460 | AJ16: =SUM(E16:AI16) -> 0 | AL16: =Sept!AL16+2.08 -> 10.4
A17: BORZEIX | B17: Julien | C17: 40637 | AJ17: =SUM(E17:AI17) -> 0 | AL17: =Sept!AL17+2.08 -> 10.4
A18: BOUAZZA | B18: Slim | C18: 39216 | AJ18: =SUM(E18:AI18) -> 0 | AL18: =Sept!AL18+2.08 -> 10.4
A19: BOUJNAH | B19: Sandra | C19: 40070 | AJ19: =SUM(E19:AI19) -> 0 | AL19: =Sept!AL19+2.08 -> 10.4
... A35: CORNU | B35: Sébastien | C35: 40736 | AJ35: =SUM(E35:AI35) -> 0 | AL35: =Sept!AL35+2.08 -> 10.4
A36: CZERWINSKI | AJ36: =SUM(E36:AI36) -> 0 | AL36: =Sept!AL36+2.08 -> 10.4
A37: DALMAU | B37: Emmanuel | C37: 36000 | AJ37: =SUM(E37:AI37) -> 0 | AL37: =Sept!AL37+2.08 -> 10.4
A38: DENBY WILKES | B38: Guillaume | C38: 38642 | AJ38: =SUM(E38:AI38) -> 0 | AL38: =Sept!AL38+2.08 -> 10.4
A39: DJUROVIC | B39: Alain | C39: 39482 | AJ39: =SUM(E39:AI39) -> 0 | AL39: =Sept!AL39+2.08 -> 10.4
A40: DOMINGUES | B40: Sergio | C40: 38628 | AJ40: =SUM(E40:AI40) -> 0 | AL40: =Sept!AL40+2.08 -> 10.4
A41: DUPRE | B41: Mathieu | AJ41: =SUM(E41:AI41) -> 0 | AL41: =Sept!AL41+2.08 -> 10.4
A42: DURAND | B42: Xavier | C42: 39419 | AJ42: =SUM(E42:AI42) -> 0 | AL42: =Sept!AL42+2.08 -> 10.4
A43: DUVAUCHELLE | B43: Bernard | C43: 27842 | AJ43: =SUM(E43:AI43) -> 0 | AL43: =Sept!AL43+2.08 -> 10.4
A44: EL OUADEH | B44: Mostafa | C44: 40452 | AJ44: =SUM(E44:AI44) -> 0 | AL44: =Sept!AL44+2.08 -> 10.4
A45: FRETARD | B45: Dominique | C45: 40791 | AJ45: =SUM(E45:AI45) -> 0 | AL45: =Sept!AL45+2.08 -> 10.4
A46: FURET | B46: Luc | C46: 39405 | AJ46: =SUM(E46:AI46) -> 0 | AL46: =Sept!AL46+2.08 -> 10.4
A47: GABRY | B47: Thibaut | C47: 40525 | AJ47: =SUM(E47:AI47) -> 0 | AL47: =Sept!AL47+2.08 -> 10.4
A48: GENIN | B48: Eric | C48: 33224 | AJ48: =SUM(E48:AI48) -> 0 | AL48: =Sept!AL48+2.08 -> 10.4
A49: GENTIL | B49: Benoît | C49: 38810 | AJ49: =SUM(E49:AI49) -> 0 | AL49: =Sept!AL49+2.08 -> 10.4
A50: GENTILE | B50: Marc | C50: 38231 | AJ50: =SUM(E50:AI50) -> 0 | AL50: =Sept!AL50+2.08 -> 10.4
A51: GHOUZI | B51: Nicolas | C51: 40478 | AJ51: =SUM(E51:AI51) -> 0 | AL51: =Sept!AL51+2.08 -> 10.4
A52: GLENAT | B52: Bertrand | C52: 32580 | AJ52: =SUM(E52:AI52) -> 0 | AL52: =Sept!AL52+2.08 -> 10.4
A53: GODEFROY | B53: Bertrand | C53: 36283 | AJ53: =SUM(E53:AI53) -> 0 | AL53: =Sept!AL53+2.08 -> 10.4
... A105: TOURREUIL | B105: François | C105: 40323 | AJ105: =SUM(E105:AI105) -> 0 | AL105: =Sept!AL105+2.08 -> 8.32
A106: TOURTELOT | B106: Jean-Marie | C106: 38642
A107: URBANCZYK | B107: Florian | C107: 40553
A108: VASSE | B108: Pascal | C108: 34015
...

Sheet Nov
A1: CONGES PAYES - NOVEMBRE 2011 -
A2: Prêt
A3: Emprunt
A4: Férié
E6: TOUSSAINT | O6: ARMISTICE
A7: Nom | B7: Prénom | C7: Date d'entrée | D7: Congés Ancienneté | E7: 1 | F7: 2 | G7: 3 | H7: 4 | I7: 5 | J7: 6 | K7: 7 | L7: 8 | M7: 9 | N7: 10 | O7: 11 | P7: 12 | Q7: 13 | R7: 14 | S7: 15 | T7: 16 | U7: 17 | V7: 18 | W7: 19 | X7: 20 | Y7: 21 | Z7: 22 | AA7: 23 | AB7: 24 | AC7: 25 | AD7: 26 | AE7: 27 | AF7: 28 | AG7: 29 | AH7: 30 | AJ7: Total | AK7: SOLDE avec Ancienneté | AL7: En cours d'acquisition
A8: ALAZARD | B8: Jean-Marie | C8: 27509 | AJ8: =SUM(E8:AI8) -> 0 | AL8: =Oct!AL8+2.08 -> 12.48
A9: ANGLEYS | B9: Anne | C9: 29346 | AJ9: =SUM(E9:AI9) -> 0 | AL9: =Oct!AL9+2.08 -> 12.48
A10: ARBONVILLE | B10: Catherine | C10: 35877 | AJ10: =SUM(E10:AI10) -> 0 | AL10: =Oct!AL10+2.08 -> 12.48
A11: AURIOL | B11: Françoise | C11: 32916 | AJ11: =SUM(E11:AI11) -> 0 | AL11: =Oct!AL11+2.08 -> 12.48
A12: BARDOUX | B12: Michel | C12: 29241 | AJ12: =SUM(E12:AI12) -> 0 | AL12: =Oct!AL12+2.08 -> 12.48
A13: BARIDA | B13: Yohann | C13: 40791 | AJ13: =SUM(E13:AI13) -> 0 | AL13: =Oct!AL13+2.08 -> 12.48
A14: BERGEAUD | B14: Jean-Pierre | C14: 39524 | AJ14: =SUM(E14:AI14) -> 0 | AL14: =Oct!AL14+2.08 -> 12.48
A15: BERNADET | B15: Grégory | C15: 39174 | AJ15: =SUM(E15:AI15) -> 0 | AL15: =Oct!AL15+2.08 -> 12.48
A16: BISPO | B16: Paulo Jorge | C16: 38460 | AJ16: =SUM(E16:AI16) -> 0 | AL16: =Oct!AL16+2.08 -> 12.48
A17: BORZEIX | B17: Julien | C17: 40637 | AJ17: =SUM(E17:AI17) -> 0 | AL17: =Oct!AL17+2.08 -> 12.48
A18: BOUAZZA | B18: Slim | C18: 39216 | AJ18: =SUM(E18:AI18) -> 0 | AL18: =Oct!AL18+2.08 -> 12.48
A19: BOUJNAH | B19: Sandra | C19: 40070 | AJ19: =SUM(E19:AI19) -> 0 | AL19: =Oct!AL19+2.08 -> 12.48
... A35: CORNU | B35: Sébastien | C35: 40736 | AJ35: =SUM(E35:AI35) -> 0 | AL35: =Oct!AL35+2.08 -> 12.48
A36: CZERWINSKI | AJ36: =SUM(E36:AI36) -> 0 | AL36: =Oct!AL36+2.08 -> 12.48
A37: DALMAU | B37: Emmanuel | C37: 36000 | AJ37: =SUM(E37:AI37) -> 0 | AL37: =Oct!AL37+2.08 -> 12.48
A38: DENBY WILKES | B38: Guillaume | C38: 38642 | AJ38: =SUM(E38:AI38) -> 0 | AL38: =Oct!AL38+2.08 -> 12.48
A39: DJUROVIC | B39: Alain | C39: 39482 | AJ39: =SUM(E39:AI39) -> 0 | AL39: =Oct!AL39+2.08 -> 12.48
A40: DOMINGUES | B40: Sergio | C40: 38628 | AJ40: =SUM(E40:AI40) -> 0 | AL40: =Oct!AL40+2.08 -> 12.48
A41: DUPRE | B41: Mathieu | AJ41: =SUM(E41:AI41) -> 0 | AL41: =Oct!AL41+2.08 -> 12.48
A42: DURAND | B42: Xavier | C42: 39419 | AJ42: =SUM(E42:AI42) -> 0 | AL42: =Oct!AL42+2.08 -> 12.48
A43: DUVAUCHELLE | B43: Bernard | C43: 27842 | AJ43: =SUM(E43:AI43) -> 0 | AL43: =Oct!AL43+2.08 -> 12.48
A44: EL OUADEH | B44: Mostafa | C44: 40452 | AJ44: =SUM(E44:AI44) -> 0 | AL44: =Oct!AL44+2.08 -> 12.48
A45: FRETARD | B45: Dominique | C45: 40791 | AJ45: =SUM(E45:AI45) -> 0 | AL45: =Oct!AL45+2.08 -> 12.48
A46: FURET | B46: Luc | C46: 39405 | AJ46: =SUM(E46:AI46) -> 0 | AL46: =Oct!AL46+2.08 -> 12.48
A47: GABRY | B47: Thibaut | C47: 40525 | AJ47: =SUM(E47:AI47) -> 0 | AL47: =Oct!AL47+2.08 -> 12.48
A48: GENIN | B48: Eric | C48: 33224 | AJ48: =SUM(E48:AI48) -> 0 | AL48: =Oct!AL48+2.08 -> 12.48
A49: GENTIL | B49: Benoît | C49: 38810 | AJ49: =SUM(E49:AI49) -> 0 | AL49: =Oct!AL49+2.08 -> 12.48
A50: GENTILE | B50: Marc | C50: 38231 | AJ50: =SUM(E50:AI50) -> 0 | AL50: =Oct!AL50+2.08 -> 12.48
A51: GHOUZI | B51: Nicolas | C51: 40478 | AJ51: =SUM(E51:AI51) -> 0 | AL51: =Oct!AL51+2.08 -> 12.48
A52: GLENAT | B52: Bertrand | C52: 32580 | AJ52: =SUM(E52:AI52) -> 0 | AL52: =Oct!AL52+2.08 -> 12.48
A53: GODEFROY | B53: Bertrand | C53: 36283 | AJ53: =SUM(E53:AI53) -> 0 | AL53: =Oct!AL53+2.08 -> 12.48
... A105: TOURREUIL | B105: François | C105: 40323 | AJ105: =SUM(E105:AI105) -> 0 | AL105: =Oct!AL105+2.08 -> 10.4
A106: TOURTELOT | B106: Jean-Marie | C106: 38642
A107: URBANCZYK | B107: Florian | C107: 40553
...

Sheet Dec
A1: CONGES PAYES - DECEMBRE 2011 -
A2: Prêt
A3: Emprunt
A4: Férié
AC6: NOEL | AD6: FERMETURE ANNUELLE
A7: Nom | B7: Prénom | C7: Date d'entrée | D7: Congés Ancienneté | E7: 1 | F7: 2 | G7: 3 | H7: 4 | I7: 5 | J7: 6 | K7: 7 | L7: 8 | M7: 9 | N7: 10 | O7: 11 | P7: 12 | Q7: 13 | R7: 14 | S7: 15 | T7: 16 | U7: 17 | V7: 18 | W7: 19 | X7: 20 | Y7: 21 | Z7: 22 | AA7: 23 | AB7: 24 | AC7: 25 | AD7: 26 | AE7: 27 | AF7: 28 | AG7: 29 | AH7: 30 | AI7: 31 | AJ7: Total | AK7: SOLDE avec Ancienneté | AL7: En cours d'acquisition
A8: ALAZARD | B8: Jean-Marie | C8: 27509 | AJ8: =SUM(E8:AI8) -> 0 | AL8: =Nov!AL8+2.08 -> 14.56
A9: ANGLEYS | B9: Anne | C9: 29346 | AJ9: =SUM(E9:AI9) -> 0 | AL9: =Nov!AL9+2.08 -> 14.56
A10: ARBONVILLE | B10: Catherine | C10: 35877 | AJ10: =SUM(E10:AI10) -> 0 | AL10: =Nov!AL10+2.08 -> 14.56
A11: AURIOL | B11: Françoise | C11: 32916 | AJ11: =SUM(E11:AI11) -> 0 | AL11: =Nov!AL11+2.08 -> 14.56
A12: BARDOUX | B12: Michel | C12: 29241 | AJ12: =SUM(E12:AI12) -> 0 | AL12: =Nov!AL12+2.08 -> 14.56
A13: BARIDA | B13: Yohann | C13: 40791 | AJ13: =SUM(E13:AI13) -> 0 | AL13: =Nov!AL13+2.08 -> 14.56
A14: BERGEAUD | B14: Jean-Pierre | C14: 39524 | AJ14: =SUM(E14:AI14) -> 0 | AL14: =Nov!AL14+2.08 -> 14.56
A15: BERNADET | B15: Grégory | C15: 39174 | AJ15: =SUM(E15:AI15) -> 0 | AL15: =Nov!AL15+2.08 -> 14.56
A16: BISPO | B16: Paulo Jorge | C16: 38460 | AJ16: =SUM(E16:AI16) -> 0 | AL16: =Nov!AL16+2.08 -> 14.56
A17: BORZEIX | B17: Julien | C17: 40637 | AJ17: =SUM(E17:AI17) -> 0 | AL17: =Nov!AL17+2.08 -> 14.56
A18: BOUAZZA | B18: Slim | C18: 39216 | AJ18: =SUM(E18:AI18) -> 0 | AL18: =Nov!AL18+2.08 -> 14.56
A19: BOUJNAH | B19: Sandra | C19: 40070 | AJ19: =SUM(E19:AI19) -> 0 | AL19: =Nov!AL19+2.08 -> 14.56
... A35: CORNU | B35: Sébastien | C35: 40736 | AJ35: =SUM(E35:AI35) -> 0 | AL35: =Nov!AL35+2.08 -> 14.56
A36: CZERWINSKI | AJ36: =SUM(E36:AI36) -> 0 | AL36: =Nov!AL36+2.08 -> 14.56
A37: DALMAU | B37: Emmanuel | C37: 36000 | AJ37: =SUM(E37:AI37) -> 0 | AL37: =Nov!AL37+2.08 -> 14.56
A38: DENBY WILKES | B38: Guillaume | C38: 38642 | AJ38: =SUM(E38:AI38) -> 0 | AL38: =Nov!AL38+2.08 -> 14.56
A39: DJUROVIC | B39: Alain | C39: 39482 | AJ39: =SUM(E39:AI39) -> 0 | AL39: =Nov!AL39+2.08 -> 14.56
A40: DOMINGUES | B40: Sergio | C40: 38628 | AJ40: =SUM(E40:AI40) -> 0 | AL40: =Nov!AL40+2.08 -> 14.56
A41: DUPRE | B41: Mathieu | AJ41: =SUM(E41:AI41) -> 0 | AL41: =Nov!AL41+2.08 -> 14.56
A42: DURAND | B42: Xavier | C42: 39419 | AJ42: =SUM(E42:AI42) -> 0 | AL42: =Nov!AL42+2.08 -> 14.56
A43: DUVAUCHELLE | B43: Bernard | C43: 27842 | AJ43: =SUM(E43:AI43) -> 0 | AL43: =Nov!AL43+2.08 -> 14.56
A44: EL OUADEH | B44: Mostafa | C44: 40452 | AJ44: =SUM(E44:AI44) -> 0 | AL44: =Nov!AL44+2.08 -> 14.56
A45: FRETARD | B45: Dominique | C45: 40791 | AJ45: =SUM(E45:AI45) -> 0 | AL45: =Nov!AL45+2.08 -> 14.56
A46: FURET | B46: Luc | C46: 39405 | AJ46: =SUM(E46:AI46) -> 0 | AL46: =Nov!AL46+2.08 -> 14.56
A47: GABRY | B47: Thibaut | C47: 40525 | AJ47: =SUM(E47:AI47) -> 0 | AL47: =Nov!AL47+2.08 -> 14.56
A48: GENIN | B48: Eric | C48: 33224 | AJ48: =SUM(E48:AI48) -> 0 | AL48: =Nov!AL48+2.08 -> 14.56
A49: GENTIL | B49: Benoît | C49: 38810 | AJ49: =SUM(E49:AI49) -> 0 | AL49: =Nov!AL49+2.08 -> 14.56
A50: GENTILE | B50: Marc | C50: 38231 | AJ50: =SUM(E50:AI50) -> 0 | AL50: =Nov!AL50+2.08 -> 14.56
A51: GHOUZI | B51: Nicolas | C51: 40478 | AJ51: =SUM(E51:AI51) -> 0 | AL51: =Nov!AL51+2.08 -> 14.56
A52: GLENAT | B52: Bertrand | C52: 32580 | AJ52: =SUM(E52:AI52) -> 0 | AL52: =Nov!AL52+2.08 -> 14.56
A53: GODEFROY | B53: Bertrand | C53: 36283 | AJ53: =SUM(E53:AI53) -> 0 | AL53: =Nov!AL53+2.08 -> 14.56
... A105: TOURREUIL | B105: François | C105: 40323 | AJ105: =SUM(E105:AI105) -> 0 | AL105: =Nov!AL105+2.08 -> 12.48
A106: TOURTELOT | B106: Jean-Marie | C106: 38642
A107: URBANCZYK | B107: Florian | C107: 40553
...
