Workbook

Sheet Juin
A1: CONGES PAYES - JUIN 2011 -
A2: Prêt
A3: Emprunt
A4: Férié
A5: RTTS
G6: ASCENSION | H6: RTTS | Q6: PENTECOTE
A7: Nom | B7: Prénom | C7: Date d'entrée | D7: Congés Ancienneté | E7: Réouverture | F7: 1 | G7: 2 | H7: 3 | I7: 4 | J7: 5 | K7: 6 | L7: 7 | M7: 8 | N7: 9 | O7: 10 | P7: 11 | Q7: 12 | R7: 13 | S7: 14 | T7: 15 | U7: 16 | V7: 17 | W7: 18 | X7: 19 | Y7: 20 | Z7: 21 | AA7: 22 | AB7: 23 | AC7: 24 | AD7: 25 | AE7: 26 | AF7: 27 | AG7: 28 | AH7: 29 | AI7: 30 | AJ7: Total | AK7: SOLDE avec ancienneté | AL7: En cours d'acquisition
A8: ALAZARD | B8: Jean-Marie | C8: 27509 | E8: 25 | AJ8: =SUM(F8:AI8) -> 0 | AK8: =D8+E8-AJ8 -> 25 | AL8: 2.08
A9: ANGLEYS | B9: Anne | C9: 29346 | E9: 25 | K9: 1 | U9: 1 | V9: 1 | AJ9: =SUM(F9:AI9) -> 3 | AK9: =D9+E9-AJ9 -> 22 | AL9: 2.08
A10: ARBONVILLE | B10: Catherine | C10: 35877 | E10: 25 | AJ10: =SUM(F10:AI10) -> 0 | AK10: =D10+E10-AJ10 -> 25 | AL10: 2.08
A11: AURIOL | B11: Françoise | C11: 32916 | E11: 25 | AJ11: =SUM(F11:AI11) -> 0 | AK11: =D11+E11-AJ11 -> 25 | AL11: 2.08
A12: BARDOUX | B12: Michel | C12: 29241 | E12: 2.67 | AJ12: =SUM(F12:AI12) -> 0 | AK12: =D12+E12-AJ12 -> 2.67 | AL12: 2.08
A13: BERGEAUD | B13: Jean-Pierre | C13: 39524 | E13: 25 | O13: 1 | AJ13: =SUM(F13:AI13) -> 1 | AK13: =D13+E13-AJ13 -> 24 | AL13: 2.08
A14: BERNADET | B14: Grégory | C14: 39174 | E14: 25 | AJ14: =SUM(F14:AI14) -> 0 | AK14: =D14+E14-AJ14 -> 25 | AL14: 2.08
A15: BISPO | B15: Paulo Jorge | C15: 38460 | E15: 25 | S15: 1 | T15: 1 | U15: 1 | Y15: 1 | AB15: 1 | AC15: 1 | AF15: 1 | AJ15: =SUM(F15:AI15) -> 7 | AK15: =D15+E15-AJ15 -> 18 | AL15: 2.08
A16: BORZEIX | B16: Julien | C16: 40637 | E16: 5 | AJ16: =SUM(F16:AI16) -> 0 | AK16: =D16+E16-AJ16 -> 5 | AL16: 2.08
A17: BOUAZZA | B17: Slim | C17: 39216 | E17: 25 | AJ17: =SUM(F17:AI17) -> 0 | AK17: =D17+E17-AJ17 -> 25 | AL17: 2.08
A18: BOUJNAH | B18: Sandra | C18: 40070 | E18: 25 | F18: 1 | AI18: 1 | AJ18: =SUM(F18:AI18) -> 2 | AK18: =D18+E18-AJ18 -> 23 | AL18: 2.08
A19: BOYER | B19: Bertrand | C19: 38117 | E19: 25 | AJ19: =SUM(F19:AI19) -> 0 | AK19: =D19+E19-AJ19 -> 25 | AL19: 2.08
A20: BROGI | B20: Thierry | C20: 32349 | E20: 25 | K20: 1 | L20: 1 | AJ20: =SUM(F20:AI20) -> 2 | AK20: =D20+E20-AJ20 -> 23 | AL20: 2.08
A21: BROUSSE | B21: Julien | C21: 39867 | E21: 25 | Y21: 1 | Z21: 1 | AA21: 1 | AB21: 1 | AC21: 1 | AF21: 1 | AG21: 1 | AH21: 1 | AI21: 1 | AJ21: =SUM(F21:AI21) -> 9 | AK21: =D21+E21-AJ21 -> 16 | AL21: 2.08
A22: BRULE | B22: Jean-Luc | C22: 26912 | E22: 25 | V22: 1 | Y22: 1 | Z22: 1 | AJ22: =SUM(F22:AI22) -> 3 | AK22: =D22+E22-AJ22 -> 22 | AL22: 2.08
A23: BRUNEAU | B23: Loïc | C23: 39342 | E23: 25 | V23: 1 | Y23: 1 | Z23: 0.5 | AF23: 1 | AJ23: =SUM(F23:AI23) -> 3.5 | AK23: =D23+E23-AJ23 -> 21.5 | AL23: 2.08
A24: CAMPOURCY | B24: Annie | C24: 29683 | E24: 25 | S24: 1 | T24: 1 | U24: 1 | V24: 1 | AH24: 1 | AJ24: =SUM(F24:AI24) -> 5 | AK24: =D24+E24-AJ24 -> 20 | AL24: 2.08
A25: CAZAUX | B25: Jean-Baptiste | C25: 38972 | E25: 25 | V25: 1 | Y25: 1 | AJ25: =SUM(F25:AI25) -> 2 | AK25: =D25+E25-AJ25 -> 23 | AL25: 2.08
A26: CAZY | B26: Thomas | C26: 40462 | E26: 17 | AJ26: =SUM(F26:AI26) -> 0 | AK26: =D26+E26-AJ26 -> 17 | AL26: 2.08
A27: CERNAY | B27: Cyril | C27: 40371 | E27: 23 | F27: 1 | K27: 1 | L27: 1 | M27: 1 | N27: 1 | O27: 1 | AJ27: =SUM(F27:AI27) -> 6 | AK27: =D27+E27-AJ27 -> 17 | AL27: 2.08
A28: CHAILLOT | B28: Davy | C28: 39118 | E28: 25 | O28: 0.5 | S28: 1 | T28: 1 | U28: 1 | V28: 1 | Y28: 1 | Z28: 1 | AA28: 1 | AB28: 1 | AC28: 1 | AJ28: =SUM(F28:AI28) -> 9.5 | AK28: =D28+E28-AJ28 -> 15.5 | AL28: 2.08
A29: CHEMALI | B29: Rehda | C29: 40462 | E29: 17 | AJ29: =SUM(F29:AI29) -> 0 | AK29: =D29+E29-AJ29 -> 17 | AL29: 2.08
A30: CLEMONT | B30: Bastien | C30: 39958 | E30: 25 | K30: 1 | L30: 1 | M30: 1 | N30: 1 | O30: 1 | S30: 1 | T30: 1 | U30: 1 | V30: 1 | AJ30: =SUM(F30:AI30) -> 9 | AK30: =D30+E30-AJ30 -> 16 | AL30: 2.08
A31: COELHO | B31: Julien | C31: 38777 | E31: 25 | AJ31: =SUM(F31:AI31) -> 0 | AK31: =D31+E31-AJ31 -> 25 | AL31: 2.08
A32: COLLET | B32: Mathieu | C32: 40700 | E32: 0 | AJ32: =SUM(F32:AI32) -> 0 | AK32: =D32+E32-AJ32 -> 0 | AL32: 2.08
A33: CONDE | B33: Michel | C33: 39713 | E33: 25 | Z33: 1 | AB33: 1 | AC33: 1 | AJ33: =SUM(F33:AI33) -> 3 | AK33: =D33+E33-AJ33 -> 22 | AL33: 2.08
A34: CZERWINSKI | AJ34: =SUM(F34:AI34) -> 0 | AK34: =D34+E34-AJ34 -> 0 | AL34: 2.08
A35: DALMAU | B35: Emmanuel | C35: 36000 | AJ35: =SUM(F35:AI35) -> 0 | AK35: =D35+E35-AJ35 -> 0 | AL35: 2.08
A36: DENBY WILKES | B36: Guillaume | C36: 38642 | E36: 25 | Z36: 1 | AA36: 1 | AB36: 1 | AC36: 1 | AF36: 1 | AG36: 1 | AH36: 1 | AI36: 1 | AJ36: =SUM(F36:AI36) -> 8 | AK36: =D36+E36-AJ36 -> 17 | AL36: 2.08
A37: DJUROVIC | B37: Alain | C37: 39482 | E37: 25 | AJ37: =SUM(F37:AI37) -> 0 | AK37: =D37+E37-AJ37 -> 25 | AL37: 2.08
A38: DOMINGUES | B38: Sergio | C38: 38628 | E38: 25 | L38: 1 | M38: 1 | AJ38: =SUM(F38:AI38) -> 2 | AK38: =D38+E38-AJ38 -> 23 | AL38: 2.08
A39: DUPRE | B39: Mathieu | AJ39: =SUM(F39:AI39) -> 0 | AK39: =D39+E39-AJ39 -> 0 | AL39: 2.08
A40: DURAND | B40: Xavier | C40: 39419 | E40: 25 | F40: 1 | K40: 1 | L40: 1 | M40: 1 | N40: 1 | O40: 1 | AJ40: =SUM(F40:AI40) -> 6 | AK40: =D40+E40-AJ40 -> 19 | AL40: 2.08
A41: DUVAUCHELLE | B41: Bernard | C41: 27842 | E41: 25 | AJ41: =SUM(F41:AI41) -> 0 | AK41: =D41+E41-AJ41 -> 25 | AL41: 2.08
A42: EL OUADEH | B42: Mostafa | C42: 40452 | E42: 17 | AJ42: =SUM(F42:AI42) -> 0 | AK42: =D42+E42-AJ42 -> 17 | AL42: 2.08
A43: FURET | B43: Luc | C43: 39405 | E43: 25 | AF43: 1 | AG43: 1 | AJ43: =SUM(F43:AI43) -> 2 | AK43: =D43+E43-AJ43 -> 23 | AL43: 2.08
A44: GABRY | B44: Thibaut | C44: 40525 | E44: 13 | AG44: 1 | AH44: 1 | AJ44: =SUM(F44:AI44) -> 2 | AK44: =D44+E44-AJ44 -> 11 | AL44: 2.08
A45: GENIN | B45: Eric | C45: 33224 | E45: 25 | AJ45: =SUM(F45:AI45) -> 0 | AK45: =D45+E45-AJ45 -> 25 | AL45: 2.08
A46: GENTIL | B46: Benoît | C46: 38810 | E46: 25 | AJ46: =SUM(F46:AI46) -> 0 | AK46: =D46+E46-AJ46 -> 25 | AL46: 2.08
A47: GENTILE | B47: Marc | C47: 38231 | E47: 25 | AJ47: =SUM(F47:AI47) -> 0 | AK47: =D47+E47-AJ47 -> 25 | AL47: 2.08
A48: GHOUZI | B48: Nicolas | C48: 40478 | E48: 15 | AJ48: =SUM(F48:AI48) -> 0 | AK48: =D48+E48-AJ48 -> 15 | AL48: 2.08
A49: GLENAT | B49: Bertrand | C49: 32580 | E49: 25 | K49: 1 | L49: 1 | M49: 1 | N49: 1 | O49: 1 | AF49: 1 | AG49: 1 | AH49: 1 | AI49: 1 | AJ49: =SUM(F49:AI49) -> 9 | AK49: =D49+E49-AJ49 -> 16 | AL49: 2.08
A50: GODEFROY | B50: Bertrand | C50: 36283 | E50: 23 | AJ50: =SUM(F50:AI50) -> 0 | AK50: =D50+E50-AJ50 -> 23 | AL50: 2.08
A51: GUILLO | B51: Pierre | C51: 29864 | E51: 25 | AJ51: =SUM(F51:AI51) -> 0 | AK51: =D51+E51-AJ51 -> 25 | AL51: 2.08
A52: HAKIM | B52: Georges | C52: 36434 | E52: 25 | O52: 1 | Y52: 1 | AF52: 1 | AG52: 1 | AH52: 1 | AI52: 1 | AJ52: =SUM(F52:AI52) -> 6 | AK52: =D52+E52-AJ52 -> 19 | AL52: 2.08
A53: HOENIG | B53: Florent | C53: 38085 | E53: 25 | F53: 1 | T53: 1 | AC53: 1 | AJ53: =SUM(F53:AI53) -> 3 | AK53: =D53+E53-AJ53 -> 22 | AL53: 2.08
A54: LACROIX | B54: Alexandre | C54: 40455 | E54: 17 | AJ54: =SUM(F54:AI54) -> 0 | AK54: =D54+E54-AJ54 -> 17 | AL54: 2.08
A55: LAMY | B55: Samuel | C55: 38840 | E55: 25 | F55: 1 | AJ55: =SUM(F55:AI55) -> 1 | AK55: =D55+E55-AJ55 -> 24 | AL55: 2.08
A56: LAZIOU | B56: Olivier | C56: 40329 | E56: 25.5 | AF56: 1 | AG56: 1 | AH56: 1 | AI56: 1 | AJ56: =SUM(F56:AI56) -> 4 | AK56: =D56+E56-AJ56 -> 21.5 | AL56: 2.08
A57: LE HELLAYE | B57: Olivier | C57: 40182 | E57: 25 | AJ57: =SUM(F57:AI57) -> 0 | AK57: =D57+E57-AJ57 -> 25 | AL57: 2.08
A58: LE PAPE | B58: Vincent | C58: 31929 | E58: 25 | AJ58: =SUM(F58:AI58) -> 0 | AK58: =D58+E58-AJ58 -> 25 | AL58: 2.08
A59: LEBOUCHER | B59: Cyril | C59: 36655 | E59: 25 | F59: 1 | K59: 1 | L59: 1 | M59: 1 | N59: 1 | O59: 1 | S59: 1 | T59: 1 | U59: 1 | V59: 1 | Y59: 1 | AJ59: =SUM(F59:AI59) -> 11 | AK59: =D59+E59-AJ59 -> 14 | AL59: 2.08
A60: LEBRUN | B60: Jean | C60: 32309 | E60: 25 | F60: 1 | AF60: 1 | AJ60: =SUM(F60:AI60) -> 2 | AK60: =D60+E60-AJ60 -> 23 | AL60: 2.08
A61: LEFEVRE | B61: Damien | C61: 40442 | E61: 25 | H61: 1 | AF61: 1 | AJ61: =SUM(F61:AI61) -> 2 | AK61: =D61+E61-AJ61 -> 23 | AL61: 2.08
A62: LELONG | B62: Jean-François | C62: 39966 | E62: 25 | AJ62: =SUM(F62:AI62) -> 0 | AK62: =D62+E62-AJ62 -> 25 | AL62: 2.08
A63: LENFANT | B63: Jean-Paul | C63: 32721 | E63: 25 | K63: 1 | L63: 1 | M63: 1 | N63: 1 | O63: 1 | AC63: 1 | AJ63: =SUM(F63:AI63) -> 6 | AK63: =D63+E63-AJ63 -> 19 | AL63: 2.08
A64: LINHARD | B64: Pierre | C64: 31079 | E64: 25 | AJ64: =SUM(F64:AI64) -> 0 | AK64: =D64+E64-AJ64 -> 25 | AL64: 2.08
A65: LOSSENT | B65: Christophe | C65: 30446 | E65: 25 | F65: 1 | S65: 1 | T65: 1 | U65: 1 | V65: 1 | AJ65: =SUM(F65:AI65) -> 5 | AK65: =D65+E65-AJ65 -> 20 | AL65: 2.08
A66: MAGNAUD | B66: Thomas | C66: 39454 | E66: 25 | AJ66: =SUM(F66:AI66) -> 0 | AK66: =D66+E66-AJ66 -> 25 | AL66: 2.08
A67: MARY | B67: Nicolas | C67: 36227 | E67: 25 | AJ67: =SUM(F67:AI67) -> 0 | AK67: =D67+E67-AJ67 -> 25 | AL67: 2.08
A68: MAUREY | B68: Jérôme | C68: 36990 | E68: 25 | AF68: 1 | AJ68: =SUM(F68:AI68) -> 1 | AK68: =D68+E68-AJ68 -> 24 | AL68: 2.08
A69: MEXMAIN | B69: Olivier | C69: 39587 | E69: 25 | F69: 1 | T69: 0.5 | AJ69: =SUM(F69:AI69) -> 1.5 | AK69: =D69+E69-AJ69 -> 23.5 | AL69: 2.08
A70: MISEROTTI | B70: Romain | C70: 40374 | E70: 23 | AJ70: =SUM(F70:AI70) -> 0 | AK70: =D70+E70-AJ70 -> 23 | AL70: 2.08
A71: MOONSAMY | B71: Yoan | C71: 40679 | E71: 0 | AJ71: =SUM(F71:AI71) -> 0 | AK71: =D71+E71-AJ71 -> 0 | AL71: 2.08
A72: MOURAREAU | B72: Stéphane | C72: 32323 | E72: 25 | Y72: 1 | Z72: 1 | AA72: 1 | AB72: 1 | AC72: 1 | AF72: 1 | AG72: 1 | AJ72: =SUM(F72:AI72) -> 7 | AK72: =D72+E72-AJ72 -> 18 | AL72: 2.08
A73: NADER | B73: Kenz Bernard | C73: 40441 | E73: 18 | AJ73: =SUM(F73:AI73) -> 0 | AK73: =D73+E73-AJ73 -> 18 | AL73: 2.08
A74: NAJAC | B74: Nathacha | C74: 39118 | E74: 25 | AJ74: =SUM(F74:AI74) -> 0 | AK74: =D74+E74-AJ74 -> 25 | AL74: 2.08
A75: NIOCHE | B75: Loïg | C75: 38831 | E75: 25 | AJ75: =SUM(F75:AI75) -> 0 | AK75: =D75+E75-AJ75 -> 25 | AL75: 2.08
A76: OLIVA | B76: David | C76: 39132 | E76: 25 | K76: 1 | AJ76: =SUM(F76:AI76) -> 1 | AK76: =D76+E76-AJ76 -> 24 | AL76: 2.08
A77: OUDRY | B77: Yannick | C77: 40413 | E77: 19 | AJ77: =SUM(F77:AI77) -> 0 | AK77: =D77+E77-AJ77 -> 19 | AL77: 2.08
A78: PAOLETTI | B78: Guy | C78: 31199 | E78: 25 | AJ78: =SUM(F78:AI78) -> 0 | AK78: =D78+E78-AJ78 -> 25 | AL78: 2.08
A79: PASCAL | B79: Rémi | C79: 39265 | E79: 25 | F79: 1 | Y79: 1 | AJ79: =SUM(F79:AI79) -> 2 | AK79: =D79+E79-AJ79 -> 23 | AL79: 2.08
A80: PATTIANADANE | B80: Eric Lourde | C80: 39237 | E80: 12.5 | AJ80: =SUM(F80:AI80) -> 0 | AK80: =D80+E80-AJ80 -> 12.5 | AL80: 2.08
A81: PAUTRE | B81: Pierre | C81: 40182 | E81: 25 | T81: 1 | U81: 1 | V81: 1 | Y81: 1 | Z81: 1 | AA81: 1 | AB81: 1 | AC81: 1 | AJ81: =SUM(F81:AI81) -> 8 | AK81: =D81+E81-AJ81 -> 17 | AL81: 2.08
A82: PIERRE | B82: Vincent | C82: 39391 | E82: 25 | AJ82: =SUM(F82:AI82) -> 0 | AK82: =D82+E82-AJ82 -> 25 | AL82: 2.08
A83: PODEUR | B83: Maxime | C83: 40504 | E83: 14 | AJ83: =SUM(F83:AI83) -> 0 | AK83: =D83+E83-AJ83 -> 14 | AL83: 2.08
A84: POUJADE | B84: Bertrand | C84: 38020 | E84: 25 | AA84: 1 | AB84: 1 | AF84: 1 | AJ84: =SUM(F84:AI84) -> 3 | AK84: =D84+E84-AJ84 -> 22 | AL84: 2.08
A85: RABOUL | B85: Denis | C85: 40232 | E85: 25 | AJ85: =SUM(F85:AI85) -> 0 | AK85: =D85+E85-AJ85 -> 25 | AL85: 2.08
A86: ROQUIER | B86: Adeline | C86: 39706 | E86: 25 | AJ86: =SUM(F86:AI86) -> 0 | AK86: =D86+E86-AJ86 -> 25 | AL86: 2.08
A87: ROUDIER | B87: Jérôme | C87: 40634 | E87: 0 | AJ87: =SUM(F87:AI87) -> 0 | AK87: =D87+E87-AJ87 -> 0 | AL87: 2.08
A88: SAUX | B88: Pascale | C88: 36207 | E88: 25 | S88: 1 | T88: 1 | U88: 1 | V88: 1 | AA88: 1 | AJ88: =SUM(F88:AI88) -> 5 | AK88: =D88+E88-AJ88 -> 20 | AL88: 2.08
A89: SEGALL | B89: Mathieu | C89: 39244 | E89: 25 | AJ89: =SUM(F89:AI89) -> 0 | AK89: =D89+E89-AJ89 -> 25 | AL89: 2.08
A90: SUAUDEAU | B90: Tony | C90: 39391 | E90: 25 | AJ90: =SUM(F90:AI90) -> 0 | AK90: =D90+E90-AJ90 -> 25 | AL90: 2.08
A91: TASSART | B91: Michaël | C91: 40330 | E91: 25 | Y91: 1 | AJ91: =SUM(F91:AI91) -> 1 | AK91: =D91+E91-AJ91 -> 24 | AL91: 2.08
A92: TEXIER | B92: Jérôme | C92: 40148 | E92: 25 | AJ92: =SUM(F92:AI92) -> 0 | AK92: =D92+E92-AJ92 -> 25 | AL92: 2.08
A93: TOLA | B93: Manuel | C93: 40462 | E93: 17 | AG93: 0.5 | AJ93: =SUM(F93:AI93) -> 0.5 | AK93: =D93+E93-AJ93 -> 16.5 | AL93: 2.08
A94: TOURREUIL | B94: François | C94: 40323 | E94: 25 | AJ94: =SUM(F94:AI94) -> 0 | AK94: =D94+E94-AJ94 -> 25 | AL94: 2.08
A95: TOURTELOT | B95: Jean-Marie | C95: 38642 | E95: 25 | AJ95: =SUM(F95:AI95) -> 0 | AK95: =D95+E95-AJ95 -> 25 | AL95: 2.08
A96: URBANCZYK | B96: Florian | C96: 40553 | E96: 11 | AJ96: =SUM(F96:AI96) -> 0 | AK96: =D96+E96-AJ96 -> 11 | AL96: 2.08
A97: VASSE | B97: Pascal | C97: 34015 | E97: 25 | F97: 1 | AF97: 1 | AJ97: =SUM(F97:AI97) -> 2 | AK97: =D97+E97-AJ97 -> 23 | AL97: 2.08
A98: VENUAT | B98: Clément | C98: 40347 | E98: 24 | AJ98: =SUM(F98:AI98) -> 0 | AK98: =D98+E98-AJ98 -> 24 | AL98: 2.08
A99: VERGIER | B99: Romain | C99: 40196 | E99: 25 | AF99: 1 | AG99: 1 | AH99: 1 | AI99: 1 | AJ99: =SUM(F99:AI99) -> 4 | AK99: =D99+E99-AJ99 -> 21 | AL99: 2.08
A100: VIGOUROUS | B100: Florence | C100: 40042 | E100: 25 | AJ100: =SUM(F100:AI100) -> 0 | AK100: =D100+E100-AJ100 -> 25 | AL100: 2.08

Sheet Juill
A1: CONGES PAYES - JUILLET 2011 -
A2: Prêt
A3: Emprunt
A4: Férié
R6: FETE NATIONALE
A7: Nom | B7: Prénom | C7: Date d'entrée | D7: Congés Ancienneté | E7: 1 | F7: 2 | G7: 3 | H7: 4 | I7: 5 | J7: 6 | K7: 7 | L7: 8 | M7: 9 | N7: 10 | O7: 11 | P7: 12 | Q7: 13 | R7: 14 | S7: 15 | T7: 16 | U7: 17 | V7: 18 | W7: 19 | X7: 20 | Y7: 21 | Z7: 22 | AA7: 23 | AB7: 24 | AC7: 25 | AD7: 26 | AE7: 27 | AF7: 28 | AG7: 29 | AH7: 30 | AI7: 31 | AJ7: Total | AK7: SOLDE avec ancienneté | AL7: En cours d'acquisition
A8: ALAZARD | B8: Jean-Marie | C8: 27509 | AJ8: =SUM(E8:AI8) -> 0 | AL8: =Juin!AL8+2.08 -> 4.16
A9: ANGLEYS | B9: Anne | C9: 29346 | AJ9: =SUM(E9:AI9) -> 0 | AL9: =Juin!AL9+2.08 -> 4.16
A10: ARBONVILLE | B10: Catherine | C10: 35877 | AJ10: =SUM(E10:AI10) -> 0 | AL10: =Juin!AL10+2.08 -> 4.16
A11: AURIOL | B11: Françoise | C11: 32916 | AJ11: =SUM(E11:AI11) -> 0 | AL11: =Juin!AL11+2.08 -> 4.16
A12: BARDOUX | B12: Michel | C12: 29241 | AJ12: =SUM(E12:AI12) -> 0 | AL12: =Juin!AL12+2.08 -> 4.16
A13: BERGEAUD | B13: Jean-Pierre | C13: 39524 | AJ13: =SUM(E13:AI13) -> 0 | AL13: =Juin!AL13+2.08 -> 4.16
A14: BERNADET | B14: Grégory | C14: 39174 | AJ14: =SUM(E14:AI14) -> 0 | AL14: =Juin!AL14+2.08 -> 4.16
A15: BISPO | B15: Paulo Jorge | C15: 38460 | AJ15: =SUM(E15:AI15) -> 0 | AL15: =Juin!AL15+2.08 -> 4.16
A16: BORZEIX | B16: Julien | C16: 40637 | AJ16: =SUM(E16:AI16) -> 0 | AL16: =Juin!AL16+2.08 -> 4.16
A17: BOUAZZA | B17: Slim | C17: 39216 | AJ17: =SUM(E17:AI17) -> 0 | AL17: =Juin!AL17+2.08 -> 4.16
A18: BOUJNAH | B18: Sandra | C18: 40070 | AJ18: =SUM(E18:AI18) -> 0 | AL18: =Juin!AL18+2.08 -> 4.16
A19: BOYER | B19: Bertrand | C19: 38117 | AJ19: =SUM(E19:AI19) -> 0 | AL19: =Juin!AL19+2.08 -> 4.16
... A34: CORNU | B34: Sébastien | C34: 40736 | AJ34: =SUM(E34:AI34) -> 0 | AL34: =Juin!AL34+2.08 -> 4.16
A35: CZERWINSKI | AJ35: =SUM(E35:AI35) -> 0 | AL35: =Juin!AL35+2.08 -> 4.16
A36: DALMAU | B36: Emmanuel | C36: 36000 | AJ36: =SUM(E36:AI36) -> 0 | AL36: =Juin!AL36+2.08 -> 4.16
A37: DENBY WILKES | B37: Guillaume | C37: 38642 | AJ37: =SUM(E37:AI37) -> 0 | AL37: =Juin!AL37+2.08 -> 4.16
A38: DJUROVIC | B38: Alain | C38: 39482 | AJ38: =SUM(E38:AI38) -> 0 | AL38: =Juin!AL38+2.08 -> 4.16
A39: DOMINGUES | B39: Sergio | C39: 38628 | AJ39: =SUM(E39:AI39) -> 0 | AL39: =Juin!AL39+2.08 -> 4.16
A40: DUPRE | B40: Mathieu | AJ40: =SUM(E40:AI40) -> 0 | AL40: =Juin!AL40+2.08 -> 4.16
A41: DURAND | B41: Xavier | C41: 39419 | AJ41: =SUM(E41:AI41) -> 0 | AL41: =Juin!AL41+2.08 -> 4.16
A42: DUVAUCHELLE | B42: Bernard | C42: 27842 | AJ42: =SUM(E42:AI42) -> 0 | AL42: =Juin!AL42+2.08 -> 4.16
A43: EL OUADEH | B43: Mostafa | C43: 40452 | AJ43: =SUM(E43:AI43) -> 0 | AL43: =Juin!AL43+2.08 -> 4.16
A44: FURET | B44: Luc | C44: 39405 | AJ44: =SUM(E44:AI44) -> 0 | AL44: =Juin!AL44+2.08 -> 4.16
A45: GABRY | B45: Thibaut | C45: 40525 | AJ45: =SUM(E45:AI45) -> 0 | AL45: =Juin!AL45+2.08 -> 4.16
A46: GENIN | B46: Eric | C46: 33224 | AJ46: =SUM(E46:AI46) -> 0 | AL46: =Juin!AL46+2.08 -> 4.16
A47: GENTIL | B47: Benoît | C47: 38810 | AJ47: =SUM(E47:AI47) -> 0 | AL47: =Juin!AL47+2.08 -> 4.16
A48: GENTILE | B48: Marc | C48: 38231 | AJ48: =SUM(E48:AI48) -> 0 | AL48: =Juin!AL48+2.08 -> 4.16
A49: GHOUZI | B49: Nicolas | C49: 40478 | AJ49: =SUM(E49:AI49) -> 0 | AL49: =Juin!AL49+2.08 -> 4.16
A50: GLENAT | B50: Bertrand | C50: 32580 | AJ50: =SUM(E50:AI50) -> 0 | AL50: =Juin!AL50+2.08 -> 4.16
A51: GODEFROY | B51: Bertrand | C51: 36283 | AJ51: =SUM(E51:AI51) -> 0 | AL51: =Juin!AL51+2.08 -> 4.16
A52: GUILLO | B52: Pierre | C52: 29864 | AJ52: =SUM(E52:AI52) -> 0 | AL52: =Juin!AL52+2.08 -> 4.16
... A105: VIGOUROUS | B105: Florence | C105: 40042 | AJ105: =SUM(E105:AI105) -> 0 | AL105: =Juin!AL105+2.08 -> 2.08

Sheet Août
A1: CONGES PAYES - AOUT 2011 -
A2: Prêt
A3: Emprunt
A4: Férié
S6: ASSOMPTION
A7: Nom | B7: Prénom | C7: Date d'entrée | D7: Congés Ancienneté | E7: 1 | F7: 2 | G7: 3 | H7: 4 | I7: 5 | J7: 6 | K7: 7 | L7: 8 | M7: 9 | N7: 10 | O7: 11 | P7: 12 | Q7: 13 | R7: 14 | S7: 15 | T7: 16 | U7: 17 | V7: 18 | W7: 19 | X7: 20 | Y7: 21 | Z7: 22 | AA7: 23 | AB7: 24 | AC7: 25 | AD7: 26 | AE7: 27 | AF7: 28 | AG7: 29 | AH7: 30 | AI7: 31 | AJ7: Total | AK7: SOLDE avec ancienneté | AL7: En cours d'acquisition
A8: ALAZARD | B8: Jean-Marie | C8: 27509 | AJ8: =SUM(E8:AI8) -> 0 | AL8: =Juill!AL8+2.08 -> 6.24
A9: ANGLEYS | B9: Anne | C9: 29346 | AJ9: =SUM(E9:AI9) -> 0 | AL9: =Juill!AL9+2.08 -> 6.24
A10: ARBONVILLE | B10: Catherine | C10: 35877 | AJ10: =SUM(E10:AI10) -> 0 | AL10: =Juill!AL10+2.08 -> 6.24
A11: AURIOL | B11: Françoise | C11: 32916 | AJ11: =SUM(E11:AI11) -> 0 | AL11: =Juill!AL11+2.08 -> 6.24
A12: BARDOUX | B12: Michel | C12: 29241 | AJ12: =SUM(E12:AI12) -> 0 | AL12: =Juill!AL12+2.08 -> 6.24
A13: BERGEAUD | B13: Jean-Pierre | C13: 39524 | AJ13: =SUM(E13:AI13) -> 0 | AL13: =Juill!AL13+2.08 -> 6.24
A14: BERNADET | B14: Grégory | C14: 39174 | AJ14: =SUM(E14:AI14) -> 0 | AL14: =Juill!AL14+2.08 -> 6.24
A15: BISPO | B15: Paulo Jorge | C15: 38460 | AJ15: =SUM(E15:AI15) -> 0 | AL15: =Juill!AL15+2.08 -> 6.24
A16: BORZEIX | B16: Julien | C16: 40637 | AJ16: =SUM(E16:AI16) -> 0 | AL16: =Juill!AL16+2.08 -> 6.24
A17: BOUAZZA | B17: Slim | C17: 39216 | AJ17: =SUM(E17:AI17) -> 0 | AL17: =Juill!AL17+2.08 -> 6.24
A18: BOUJNAH | B18: Sandra | C18: 40070 | AJ18: =SUM(E18:AI18) -> 0 | AL18: =Juill!AL18+2.08 -> 6.24
A19: BOYER | B19: Bertrand | C19: 38117 | AJ19: =SUM(E19:AI19) -> 0 | AL19: =Juill!AL19+2.08 -> 6.24
... A34: CORNU | B34: Sébastien | C34: 40736 | AJ34: =SUM(E34:AI34) -> 0 | AL34: =Juill!AL34+2.08 -> 6.24
A35: CZERWINSKI | AJ35: =SUM(E35:AI35) -> 0 | AL35: =Juill!AL35+2.08 -> 6.24
A36: DALMAU | B36: Emmanuel | C36: 36000 | AJ36: =SUM(E36:AI36) -> 0 | AL36: =Juill!AL36+2.08 -> 6.24
A37: DENBY WILKES | B37: Guillaume | C37: 38642 | AJ37: =SUM(E37:AI37) -> 0 | AL37: =Juill!AL37+2.08 -> 6.24
A38: DJUROVIC | B38: Alain | C38: 39482 | AJ38: =SUM(E38:AI38) -> 0 | AL38: =Juill!AL38+2.08 -> 6.24
A39: DOMINGUES | B39: Sergio | C39: 38628 | AJ39: =SUM(E39:AI39) -> 0 | AL39: =Juill!AL39+2.08 -> 6.24
A40: DUPRE | B40: Mathieu | AJ40: =SUM(E40:AI40) -> 0 | AL40: =Juill!AL40+2.08 -> 6.24
A41: DURAND | B41: Xavier | C41: 39419 | AJ41: =SUM(E41:AI41) -> 0 | AL41: =Juill!AL41+2.08 -> 6.24
A42: DUVAUCHELLE | B42: Bernard | C42: 27842 | AJ42: =SUM(E42:AI42) -> 0 | AL42: =Juill!AL42+2.08 -> 6.24
A43: EL OUADEH | B43: Mostafa | C43: 40452 | AJ43: =SUM(E43:AI43) -> 0 | AL43: =Juill!AL43+2.08 -> 6.24
A44: FURET | B44: Luc | C44: 39405 | AJ44: =SUM(E44:AI44) -> 0 | AL44: =Juill!AL44+2.08 -> 6.24
A45: GABRY | B45: Thibaut | C45: 40525 | AJ45: =SUM(E45:AI45) -> 0 | AL45: =Juill!AL45+2.08 -> 6.24
A46: GENIN | B46: Eric | C46: 33224 | AJ46: =SUM(E46:AI46) -> 0 | AL46: =Juill!AL46+2.08 -> 6.24
A47: GENTIL | B47: Benoît | C47: 38810 | AJ47: =SUM(E47:AI47) -> 0 | AL47: =Juill!AL47+2.08 -> 6.24
A48: GENTILE | B48: Marc | C48: 38231 | AJ48: =SUM(E48:AI48) -> 0 | AL48: =Juill!AL48+2.08 -> 6.24
A49: GHOUZI | B49: Nicolas | C49: 40478 | AJ49: =SUM(E49:AI49) -> 0 | AL49: =Juill!AL49+2.08 -> 6.24
A50: GLENAT | B50: Bertrand | C50: 32580 | AJ50: =SUM(E50:AI50) -> 0 | AL50: =Juill!AL50+2.08 -> 6.24
A51: GODEFROY | B51: Bertrand | C51: 36283 | AJ51: =SUM(E51:AI51) -> 0 | AL51: =Juill!AL51+2.08 -> 6.24
A52: GUILLO | B52: Pierre | C52: 29864 | AJ52: =SUM(E52:AI52) -> 0 | AL52: =Juill!AL52+2.08 -> 6.24
... A104: VIGOUROUS | B104: Florence | C104: 40042 | AJ104: =SUM(E104:AI104) -> 0 | AL104: =Juill!AL104+2.08 -> 4.16
AJ105: =SUM(E105:AI105) -> 0 | AL105: =Juill!AL105+2.08 -> 4.16

Sheet Sept
A1: CONGES PAYES - SEPTEMBRE 2011 -
A2: Prêt
A3: Emprunt
A4: Férié
A7: Nom | B7: Prénom | C7: Date d'entrée | D7: Congés Ancienneté | E7: 1 | F7: 2 | G7: 3 | H7: 4 | I7: 5 | J7: 6 | K7: 7 | L7: 8 | M7: 9 | N7: 10 | O7: 11 | P7: 12 | Q7: 13 | R7: 14 | S7: 15 | T7: 16 | U7: 17 | V7: 18 | W7: 19 | X7: 20 | Y7: 21 | Z7: 22 | AA7: 23 | AB7: 24 | AC7: 25 | AD7: 26 | AE7: 27 | AF7: 28 | AG7: 29 | AH7: 30 | AJ7: Total | AK7: SOLDE avec Ancienneté | AL7: En cours d'acquisition
A8: ALAZARD | B8: Jean-Marie | C8: 27509 | AJ8: =SUM(E8:AI8) -> 0 | AL8: =Août!AL8+2.08 -> 8.32
A9: ANGLEYS | B9: Anne | C9: 29346 | AJ9: =SUM(E9:AI9) -> 0 | AL9: =Août!AL9+2.08 -> 8.32
A10: ARBONVILLE | B10: Catherine | C10: 35877 | AJ10: =SUM(E10:AI10) -> 0 | AL10: =Août!AL10+2.08 -> 8.32
A11: AURIOL | B11: Françoise | C11: 32916 | AJ11: =SUM(E11:AI11) -> 0 | AL11: =Août!AL11+2.08 -> 8.32
A12: BARDOUX | B12: Michel | C12: 29241 | AJ12: =SUM(E12:AI12) -> 0 | AL12: =Août!AL12+2.08 -> 8.32
A13: BARIDA | B13: Yohann | C13: 40791 | AJ13: =SUM(E13:AI13) -> 0 | AL13: =Août!AL13+2.08 -> 8.32
A14: BERGEAUD | B14: Jean-Pierre | C14: 39524 | AJ14: =SUM(E14:AI14) -> 0 | AL14: =Août!AL14+2.08 -> 8.32
A15: BERNADET | B15: Grégory | C15: 39174 | AJ15: =SUM(E15:AI15) -> 0 | AL15: =Août!AL15+2.08 -> 8.32
A16: BISPO | B16: Paulo Jorge | C16: 38460 | AJ16: =SUM(E16:AI16) -> 0 | AL16: =Août!AL16+2.08 -> 8.32
A17: BORZEIX | B17: Julien | C17: 40637 | AJ17: =SUM(E17:AI17) -> 0 | AL17: =Août!AL17+2.08 -> 8.32
A18: BOUAZZA | B18: Slim | C18: 39216 | AJ18: =SUM(E18:AI18) -> 0 | AL18: =Août!AL18+2.08 -> 8.32
A19: BOUJNAH | B19: Sandra | C19: 40070 | AJ19: =SUM(E19:AI19) -> 0 | AL19: =Août!AL19+2.08 -> 8.32
... A35: CORNU | B35: Sébastien | C35: 40736 | AJ35: =SUM(E35:AI35) -> 0 | AL35: =Août!AL35+2.08 -> 8.32
A36: CZERWINSKI | AJ36: =SUM(E36:AI36) -> 0 | AL36: =Août!AL36+2.08 -> 8.32
A37: DALMAU | B37: Emmanuel | C37: 36000 | AJ37: =SUM(E37:AI37) -> 0 | AL37: =Août!AL37+2.08 -> 8.32
A38: DENBY WILKES | B38: Guillaume | C38: 38642 | AJ38: =SUM(E38:AI38) -> 0 | AL38: =Août!AL38+2.08 -> 8.32
A39: DJUROVIC | B39: Alain | C39: 39482 | AJ39: =SUM(E39:AI39) -> 0 | AL39: =Août!AL39+2.08 -> 8.32
A40: DOMINGUES | B40: Sergio | C40: 38628 | AJ40: =SUM(E40:AI40) -> 0 | AL40: =Août!AL40+2.08 -> 8.32
A41: DUPRE | B41: Mathieu | AJ41: =SUM(E41:AI41) -> 0 | AL41: =Août!AL41+2.08 -> 8.32
A42: DURAND | B42: Xavier | C42: 39419 | AJ42: =SUM(E42:AI42) -> 0 | AL42: =Août!AL42+2.08 -> 8.32
A43: DUVAUCHELLE | B43: Bernard | C43: 27842 | AJ43: =SUM(E43:AI43) -> 0 | AL43: =Août!AL43+2.08 -> 8.32
A44: EL OUADEH | B44: Mostafa | C44: 40452 | AJ44: =SUM(E44:AI44) -> 0 | AL44: =Août!AL44+2.08 -> 8.32
A45: FRETARD | B45: Dominique | C45: 40791 | AJ45: =SUM(E45:AI45) -> 0 | AL45: =Août!AL45+2.08 -> 8.32
A46: FURET | B46: Luc | C46: 39405 | AJ46: =SUM(E46:AI46) -> 0 | AL46: =Août!AL46+2.08 -> 8.32
A47: GABRY | B47: Thibaut | C47: 40525 | AJ47: =SUM(E47:AI47) -> 0 | AL47: =Août!AL47+2.08 -> 8.32
A48: GENIN | B48: Eric | C48: 33224 | AJ48: =SUM(E48:AI48) -> 0 | AL48: =Août!AL48+2.08 -> 8.32
A49: GENTIL | B49: Benoît | C49: 38810 | AJ49: =SUM(E49:AI49) -> 0 | AL49: =Août!AL49+2.08 -> 8.32
A50: GENTILE | B50: Marc | C50: 38231 | AJ50: =SUM(E50:AI50) -> 0 | AL50: =Août!AL50+2.08 -> 8.32
A51: GHOUZI | B51: Nicolas | C51: 40478 | AJ51: =SUM(E51:AI51) -> 0 | AL51: =Août!AL51+2.08 -> 8.32
A52: GLENAT | B52: Bertrand | C52: 32580 | AJ52: =SUM(E52:AI52) -> 0 | AL52: =Août!AL52+2.08 -> 8.32
A53: GODEFROY | B53: Bertrand | C53: 36283 | AJ53: =SUM(E53:AI53) -> 0 | AL53: =Août!AL53+2.08 -> 8.32
... A105: TOURTELOT | B105: Jean-Marie | C105: 38642 | AJ105: =SUM(E105:AI105) -> 0 | AL105: =Août!AL105+2.08 -> 6.24
A106: URBANCZYK | B106: Florian | C106: 40553
A107: VASSE | B107: Pascal | C107: 34015
A108: VENUAT | B108: Clément | C108: 40347
A109: VERGIER | B109: Romain | C109: 40196
A110: VIGOUROUS | B110: Florence | C110: 40042

Sheet Oct
A1: CONGES PAYES - OCTOBRE 2011 -
A2: Prêt
A3: Emprunt
A4: Férié
A7: NOM | B7: PRENOM | C7: Date d'entrée | D7: Congés Ancienneté | E7: 1 | F7: 2 | G7: 3 | H7: 4 | I7: 5 | J7: 6 | K7: 7 | L7: 8 | M7: 9 | N7: 10 | O7: 11 | P7: 12 | Q7: 13 | R7: 14 | S7: 15 | T7: 16 | U7: 17 | V7: 18 | W7: 19 | X7: 20 | Y7: 21 | Z7: 22 | AA7: 23 | AB7: 24 | AC7: 25 | AD7: 26 | AE7: 27 | AF7: 28 | AG7: 29 | AH7: 30 | AI7: 31 | AJ7: Total | AK7: SOLDE avec Ancienneté | AL7: En cours d'acquisition
A8: ALAZARD | B8: Jean-Marie | C8: 27509 | AJ8: =SUM(E8:AI8) -> 0 | AL8: =Sept!AL8+2.08 -> 10.4
A9: ANGLEYS | B9: Anne | C9: 29346 | AJ9: =SUM(E9:AI9) -> 0 | AL9: =Sept!AL9+2.08 -> 10.4
A10: ARBONVILLE | B10: Catherine | C10: 35877 | AJ10: =SUM(E10:AI10) -> 0 | AL10: =Sept!AL10+2.08 -> 10.4
A11: AURIOL | B11: Françoise | C11: 32916 | AJ11: =SUM(E11:AI11) -> 0 | AL11: =Sept!AL11+2.08 -> 10.4
A12: BARDOUX | B12: Michel | C12: 29241 | AJ12: =SUM(E12:AI12) -> 0 | AL12: =Sept!AL12+2.08 -> 10.4
A13: BARIDA | B13: Yohann | C13: 40791 | AJ13: =SUM(E13:AI13) -> 0 | AL13: =Sept!AL13+2.08 -> 10.4
A14: BERGEAUD | B14: Jean-Pierre | C14: 39524 | AJ14: =SUM(E14:AI14) -> 0 | AL14: =Sept!AL14+2.08 -> 10.4
A15: BERNADET | B15: Grégory | C15: 39174 | AJ15: =SUM(E15:AI15) -> 0 | AL15: =Sept!AL15+2.08 -> 10.4
A16: BISPO | B16: Paulo Jorge | C16: 38460 | AJ16: =SUM(E16:AI16) -> 0 | AL16: =Sept!AL16+2.08 -> 10.4
A17: BORZEIX | B17: Julien | C17: 40637 | AJ17: =SUM(E17:AI17) -> 0 | AL17: =Sept!AL17+2.08 -> 10.4
A18: BOUAZZA | B18: Slim | C18: 39216 | AJ18: =SUM(E18:AI18) -> 0 | AL18: =Sept!AL18+2.08 -> 10.4
A19: BOUJNAH | B19: Sandra | C19: 40070 | AJ19: =SUM(E19:AI19) -> 0 | AL19: =Sept!AL19+2.08 -> 10.4
... A35: CORNU | B35: Sébastien | C35: 40736 | AJ35: =SUM(E35:AI35) -> 0 | AL35: =Sept!AL35+2.08 -> 10.4
A36: CZERWINSKI | AJ36: =SUM(E36:AI36) -> 0 | AL36: =Sept!AL36+2.08 -> 10.4
A37: DALMAU | B37: Emmanuel | C37: 36000 | AJ37: =SUM(E37:AI37) -> 0 | AL37: =Sept!AL37+2.08 -> 10.4
A38: DENBY WILKES | B38: Guillaume | C38: 38642 | AJ38: =SUM(E38:AI38) -> 0 | AL38: =Sept!AL38+2.08 -> 10.4
A39: DJUROVIC | B39: Alain | C39: 39482 | AJ39: =SUM(E39:AI39) -> 0 | AL39: =Sept!AL39+2.08 -> 10.4
A40: DOMINGUES | B40: Sergio | C40: 38628 | AJ40: =SUM(E40:AI40) -> 0 | AL40: =Sept!AL40+2.08 -> 10.4
A41: DUPRE | B41: Mathieu | AJ41: =SUM(E41:AI41) -> 0 | AL41: =Sept!AL41+2.08 -> 10.4
A42: DURAND | B42: Xavier | C42: 39419 | AJ42: =SUM(E42:AI42) -> 0 | AL42: =Sept!AL42+2.08 -> 10.4
A43: DUVAUCHELLE | B43: Bernard | C43: 27842 | AJ43: =SUM(E43:AI43) -> 0 | AL43: =Sept!AL43+2.08 -> 10.4
A44: EL OUADEH | B44: Mostafa | C44: 40452 | AJ44: =SUM(E44:AI44) -> 0 | AL44: =Sept!AL44+2.08 -> 10.4
A45: FRETARD | B45: Dominique | C45: 40791 | AJ45: =SUM(E45:AI45) -> 0 | AL45: =Sept!AL45+2.08 -> 10.4
A46: FURET | B46: Luc | C46: 39405 | AJ46: =SUM(E46:AI46) -> 0 | AL46: =Sept!AL46+2.08 -> 10.4
A47: GABRY | B47: Thibaut | C47: 40525 | AJ47: =SUM(E47:AI47) -> 0 | AL47: =Sept!AL47+2.08 -> 10.4
A48: GENIN | B48: Eric | C48: 33224 | AJ48: =SUM(E48:AI48) -> 0 | AL48: =Sept!AL48+2.08 -> 10.4
A49: GENTIL | B49: Benoît | C49: 38810 | AJ49: =SUM(E49:AI49) -> 0 | AL49: =Sept!AL49+2.08 -> 10.4
A50: GENTILE | B50: Marc | C50: 38231 | AJ50: =SUM(E50:AI50) -> 0 | AL50: =Sept!AL50+2.08 -> 10.4
A51: GHOUZI | B51: Nicolas | C51: 40478 | AJ51: =SUM(E51:AI51) -> 0 | AL51: =Sept!AL51+2.08 -> 10.4
A52: GLENAT | B52: Bertrand | C52: 32580 | AJ52: =SUM(E52:AI52) -> 0 | AL52: =Sept!AL52+2.08 -> 10.4
A53: GODEFROY | B53: Bertrand | C53: 36283 | AJ53: =SUM(E53:AI53) -> 0 | AL53: =Sept!AL53+2.08 -> 10.4
... A105: TOURREUIL | B105: François | C105: 40323 | AJ105: =SUM(E105:AI105) -> 0 | AL105: =Sept!AL105+2.08 -> 8.32
A106: TOURTELOT | B106: Jean-Marie | C106: 38642
A107: URBANCZYK | B107: Florian | C107: 40553
A108: VASSE | B108: Pascal | C108: 34015
A109: VENUAT | B109: Clément | C109: 40347
A110: VERCOUTERE | B110: Julien | C110: 40833
A111: VERGIER | B111: Romain | C111: 40196
A112: VIGOUROUS | B112: Florence | C112: 40042

Sheet Nov
A1: CONGES PAYES - NOVEMBRE 2011 -
A2: Prêt
A3: Emprunt
A4: Férié
E6: TOUSSAINT | O6: ARMISTICE
A7: Nom | B7: Prénom | C7: Date d'entrée | D7: Congés Ancienneté | E7: 1 | F7: 2 | G7: 3 | H7: 4 | I7: 5 | J7: 6 | K7: 7 | L7: 8 | M7: 9 | N7: 10 | O7: 11 | P7: 12 | Q7: 13 | R7: 14 | S7: 15 | T7: 16 | U7: 17 | V7: 18 | W7: 19 | X7: 20 | Y7: 21 | Z7: 22 | AA7: 23 | AB7: 24 | AC7: 25 | AD7: 26 | AE7: 27 | AF7: 28 | AG7: 29 | AH7: 30 | AJ7: Total | AK7: SOLDE avec Ancienneté | AL7: En cours d'acquisition
A8: ALAZARD | B8: Jean-Marie | C8: 27509 | AJ8: =SUM(E8:AI8) -> 0 | AL8: =Oct!AL8+2.08 -> 12.48
A9: ANGLEYS | B9: Anne | C9: 29346 | AJ9: =SUM(E9:AI9) -> 0 | AL9: =Oct!AL9+2.08 -> 12.48
A10: ARBONVILLE | B10: Catherine | C10: 35877 | AJ10: =SUM(E10:AI10) -> 0 | AL10: =Oct!AL10+2.08 -> 12.48
A11: AURIOL | B11: Françoise | C11: 32916 | AJ11: =SUM(E11:AI11) -> 0 | AL11: =Oct!AL11+2.08 -> 12.48
A12: BARDOUX | B12: Michel | C12: 29241 | AJ12: =SUM(E12:AI12) -> 0 | AL12: =Oct!AL12+2.08 -> 12.48
A13: BARIDA | B13: Yohann | C13: 40791 | AJ13: =SUM(E13:AI13) -> 0 | AL13: =Oct!AL13+2.08 -> 12.48
A14: BERGEAUD | B14: Jean-Pierre | C14: 39524 | AJ14: =SUM(E14:AI14) -> 0 | AL14: =Oct!AL14+2.08 -> 12.48
A15: BERNADET | B15: Grégory | C15: 39174 | AJ15: =SUM(E15:AI15) -> 0 | AL15: =Oct!AL15+2.08 -> 12.48
A16: BISPO | B16: Paulo Jorge | C16: 38460 | AJ16: =SUM(E16:AI16) -> 0 | AL16: =Oct!AL16+2.08 -> 12.48
A17: BORZEIX | B17: Julien | C17: 40637 | AJ17: =SUM(E17:AI17) -> 0 | AL17: =Oct!AL17+2.08 -> 12.48
A18: BOUAZZA | B18: Slim | C18: 39216 | AJ18: =SUM(E18:AI18) -> 0 | AL18: =Oct!AL18+2.08 -> 12.48
A19: BOUJNAH | B19: Sandra | C19: 40070 | AJ19: =SUM(E19:AI19) -> 0 | AL19: =Oct!AL19+2.08 -> 12.48
... A35: CORNU | B35: Sébastien | C35: 40736 | AJ35: =SUM(E35:AI35) -> 0 | AL35: =Oct!AL35+2.08 -> 12.48
A36: CZERWINSKI | AJ36: =SUM(E36:AI36) -> 0 | AL36: =Oct!AL36+2.08 -> 12.48
A37: DALMAU | B37: Emmanuel | C37: 36000 | AJ37: =SUM(E37:AI37) -> 0 | AL37: =Oct!AL37+2.08 -> 12.48
A38: DENBY WILKES | B38: Guillaume | C38: 38642 | AJ38: =SUM(E38:AI38) -> 0 | AL38: =Oct!AL38+2.08 -> 12.48
A39: DJUROVIC | B39: Alain | C39: 39482 | AJ39: =SUM(E39:AI39) -> 0 | AL39: =Oct!AL39+2.08 -> 12.48
A40: DOMINGUES | B40: Sergio | C40: 38628 | AJ40: =SUM(E40:AI40) -> 0 | AL40: =Oct!AL40+2.08 -> 12.48
A41: DUPRE | B41: Mathieu | AJ41: =SUM(E41:AI41) -> 0 | AL41: =Oct!AL41+2.08 -> 12.48
A42: DURAND | B42: Xavier | C42: 39419 | AJ42: =SUM(E42:AI42) -> 0 | AL42: =Oct!AL42+2.08 -> 12.48
A43: DUVAUCHELLE | B43: Bernard | C43: 27842 | AJ43: =SUM(E43:AI43) -> 0 | AL43: =Oct!AL43+2.08 -> 12.48
A44: EL OUADEH | B44: Mostafa | C44: 40452 | AJ44: =SUM(E44:AI44) -> 0 | AL44: =Oct!AL44+2.08 -> 12.48
A45: FRETARD | B45: Dominique | C45: 40791 | AJ45: =SUM(E45:AI45) -> 0 | AL45: =Oct!AL45+2.08 -> 12.48
A46: FURET | B46: Luc | C46: 39405 | AJ46: =SUM(E46:AI46) -> 0 | AL46: =Oct!AL46+2.08 -> 12.48
A47: GABRY | B47: Thibaut | C47: 40525 | AJ47: =SUM(E47:AI47) -> 0 | AL47: =Oct!AL47+2.08 -> 12.48
A48: GENIN | B48: Eric | C48: 33224 | AJ48: =SUM(E48:AI48) -> 0 | AL48: =Oct!AL48+2.08 -> 12.48
A49: GENTIL | B49: Benoît | C49: 38810 | AJ49: =SUM(E49:AI49) -> 0 | AL49: =Oct!AL49+2.08 -> 12.48
A50: GENTILE | B50: Marc | C50: 38231 | AJ50: =SUM(E50:AI50) -> 0 | AL50: =Oct!AL50+2.08 -> 12.48
A51: GHOUZI | B51: Nicolas | C51: 40478 | AJ51: =SUM(E51:AI51) -> 0 | AL51: =Oct!AL51+2.08 -> 12.48
A52: GLENAT | B52: Bertrand | C52: 32580 | AJ52: =SUM(E52:AI52) -> 0 | AL52: =Oct!AL52+2.08 -> 12.48
A53: GODEFROY | B53: Bertrand | C53: 36283 | AJ53: =SUM(E53:AI53) -> 0 | AL53: =Oct!AL53+2.08 -> 12.48
... A105: TOURREUIL | B105: François | C105: 40323 | AJ105: =SUM(E105:AI105) -> 0 | AL105: =Oct!AL105+2.08 -> 10.4
A106: TOURTELOT | B106: Jean-Marie | C106: 38642
A107: URBANCZYK | B107: Florian | C107: 40553
A108: VASSE | B108: Pascal | C108: 34015
A109: VENUAT | B109: Clément | C109: 40347
A110: VERCOUTERE | B110: Julien | C110: 40833
A111: VERGIER | B111: Romain | C111: 40196
A112: VIGOUROUS | B112: Florence | C112: 40042

Sheet Dec
A1: CONGES PAYES - DECEMBRE 2011 -
A2: Prêt
A3: Emprunt
A4: Férié
AC6: NOEL | AD6: FERMETURE ANNUELLE
A7: Nom | B7: Prénom | C7: Date d'entrée | D7: Congés Ancienneté | E7: 1 | F7: 2 | G7: 3 | H7: 4 | I7: 5 | J7: 6 | K7: 7 | L7: 8 | M7: 9 | N7: 10 | O7: 11 | P7: 12 | Q7: 13 | R7: 14 | S7: 15 | T7: 16 | U7: 17 | V7: 18 | W7: 19 | X7: 20 | Y7: 21 | Z7: 22 | AA7: 23 | AB7: 24 | AC7: 25 | AD7: 26 | AE7: 27 | AF7: 28 | AG7: 29 | AH7: 30 | AI7: 31 | AJ7: Total | AK7: SOLDE avec Ancienneté | AL7: En cours d'acquisition
A8: ALAZARD | B8: Jean-Marie | C8: 27509 | AJ8: =SUM(E8:AI8) -> 0 | AL8: =Nov!AL8+2.08 -> 14.56
A9: ANGLEYS | B9: Anne | C9: 29346 | AJ9: =SUM(E9:AI9) -> 0 | AL9: =Nov!AL9+2.08 -> 14.56
A10: ARBONVILLE | B10: Catherine | C10: 35877 | AJ10: =SUM(E10:AI10) -> 0 | AL10: =Nov!AL10+2.08 -> 14.56
A11: AURIOL | B11: Françoise | C11: 32916 | AJ11: =SUM(E11:AI11) -> 0 | AL11: =Nov!AL11+2.08 -> 14.56
A12: BARDOUX | B12: Michel | C12: 29241 | AJ12: =SUM(E12:AI12) -> 0 | AL12: =Nov!AL12+2.08 -> 14.56
A13: BARIDA | B13: Yohann | C13: 40791 | AJ13: =SUM(E13:AI13) -> 0 | AL13: =Nov!AL13+2.08 -> 14.56
A14: BERGEAUD | B14: Jean-Pierre | C14: 39524 | AJ14: =SUM(E14:AI14) -> 0 | AL14: =Nov!AL14+2.08 -> 14.56
A15: BERNADET | B15: Grégory | C15: 39174 | AJ15: =SUM(E15:AI15) -> 0 | AL15: =Nov!AL15+2.08 -> 14.56
A16: BISPO | B16: Paulo Jorge | C16: 38460 | AJ16: =SUM(E16:AI16) -> 0 | AL16: =Nov!AL16+2.08 -> 14.56
A17: BORZEIX | B17: Julien | C17: 40637 | AJ17: =SUM(E17:AI17) -> 0 | AL17: =Nov!AL17+2.08 -> 14.56
A18: BOUAZZA | B18: Slim | C18: 39216 | AJ18: =SUM(E18:AI18) -> 0 | AL18: =Nov!AL18+2.08 -> 14.56
A19: BOUJNAH | B19: Sandra | C19: 40070 | AJ19: =SUM(E19:AI19) -> 0 | AL19: =Nov!AL19+2.08 -> 14.56
... A35: CORNU | B35: Sébastien | C35: 40736 | AJ35: =SUM(E35:AI35) -> 0 | AL35: =Nov!AL35+2.08 -> 14.56
A36: CZERWINSKI | AJ36: =SUM(E36:AI36) -> 0 | AL36: =Nov!AL36+2.08 -> 14.56
A37: DALMAU | B37: Emmanuel | C37: 36000 | AJ37: =SUM(E37:AI37) -> 0 | AL37: =Nov!AL37+2.08 -> 14.56
A38: DENBY WILKES | B38: Guillaume | C38: 38642 | AJ38: =SUM(E38:AI38) -> 0 | AL38: =Nov!AL38+2.08 -> 14.56
A39: DJUROVIC | B39: Alain | C39: 39482 | AJ39: =SUM(E39:AI39) -> 0 | AL39: =Nov!AL39+2.08 -> 14.56
A40: DOMINGUES | B40: Sergio | C40: 38628 | AJ40: =SUM(E40:AI40) -> 0 | AL40: =Nov!AL40+2.08 -> 14.56
A41: DUPRE | B41: Mathieu | AJ41: =SUM(E41:AI41) -> 0 | AL41: =Nov!AL41+2.08 -> 14.56
A42: DURAND | B42: Xavier | C42: 39419 | AJ42: =SUM(E42:AI42) -> 0 | AL42: =Nov!AL42+2.08 -> 14.56
A43: DUVAUCHELLE | B43: Bernard | C43: 27842 | AJ43: =SUM(E43:AI43) -> 0 | AL43: =Nov!AL43+2.08 -> 14.56
A44: EL OUADEH | B44: Mostafa | C44: 40452 | AJ44: =SUM(E44:AI44) -> 0 | AL44: =Nov!AL44+2.08 -> 14.56
A45: FRETARD | B45: Dominique | C45: 40791 | AJ45: =SUM(E45:AI45) -> 0 | AL45: =Nov!AL45+2.08 -> 14.56
A46: FURET | B46: Luc | C46: 39405 | AJ46: =SUM(E46:AI46) -> 0 | AL46: =Nov!AL46+2.08 -> 14.56
A47: GABRY | B47: Thibaut | C47: 40525 | AJ47: =SUM(E47:AI47) -> 0 | AL47: =Nov!AL47+2.08 -> 14.56
A48: GENIN | B48: Eric | C48: 33224 | AJ48: =SUM(E48:AI48) -> 0 | AL48: =Nov!AL48+2.08 -> 14.56
A49: GENTIL | B49: Benoît | C49: 38810 | AJ49: =SUM(E49:AI49) -> 0 | AL49: =Nov!AL49+2.08 -> 14.56
A50: GENTILE | B50: Marc | C50: 38231 | AJ50: =SUM(E50:AI50) -> 0 | AL50: =Nov!AL50+2.08 -> 14.56
A51: GHOUZI | B51: Nicolas | C51: 40478 | AJ51: =SUM(E51:AI51) -> 0 | AL51: =Nov!AL51+2.08 -> 14.56
A52: GLENAT | B52: Bertrand | C52: 32580 | AJ52: =SUM(E52:AI52) -> 0 | AL52: =Nov!AL52+2.08 -> 14.56
A53: GODEFROY | B53: Bertrand | C53: 36283 | AJ53: =SUM(E53:AI53) -> 0 | AL53: =Nov!AL53+2.08 -> 14.56
... A105: TOURREUIL | B105: François | C105: 40323 | AJ105: =SUM(E105:AI105) -> 0 | AL105: =Nov!AL105+2.08 -> 12.48
A106: TOURTELOT | B106: Jean-Marie | C106: 38642
A107: URBANCZYK | B107: Florian | C107: 40553
A108: VASSE | B108: Pascal | C108: 34015
A109: VENUAT | B109: Clément | C109: 40347
A110: VERCOUTERE | B110: Julien | C110: 40833
A111: VERGIER | B111: Romain | C111: 40196
A112: VIGOUROUS | B112: Florence | C112: 40042
