Workbook
Name table.asp?league_france_tid_c: 'Ligue 1'!$A$1:$J$24

Sheet Ligue 1
A1: Matchs de... | B1: Joués | C1: Total de buts dans le match (buts de l'équipe + buts de l'adversaire)
C2: Moyenne | E2: + de 0,5 | F2: + de 1,5 | G2: + de 2,5 | H2: + de 3,5 | I2: + de 4,5 | L2: + de 0,5 | M2: + de 1,5 | N2: + de 2,5 | O2: + de 3,5
A3: Ajaccio | B3: 30 | D3: 2.77 | E3: 0.933 | F3: 0.833 | G3: 0.533 | H3: 0.333 | I3: 0.133
A4: Bastia | B4: 30 | D4: 2.53 | E4: 0.9 | F4: 0.767 | G4: 0.433 | H4: 0.267 | I4: 0.133 | K4: Ajaccio | L4: =IF(E3>$E$24,"JOUEZ","STOP") -> JOUEZ | M4: =IF(F3>$F$24,"JOUEZ","STOP") -> JOUEZ | N4: =IF(G3>$G$26,"PRUDENCE","STOP") -> PRUDENCE | O4: =IF(H3>$G$24,"JOUEZ","STOP") -> STOP
A5: Bordeaux | B5: 30 | D5: 2.4 | E5: 0.967 | F5: 0.767 | G5: 0.367 | H5: 0.167 | I5: 0.1 | K5: Bastia | L5: =IF(E4>$E$24,"JOUEZ","STOP") -> STOP | M5: =IF(F4>$F$24,"JOUEZ","STOP") -> JOUEZ | N5: =IF(G4>$G$24,"PRUDENCE","STOP") -> PRUDENCE | O5: =IF(H4>$G$24,"JOUEZ","STOP") -> STOP
A6: Evian TG | B6: 30 | D6: 2.47 | E6: 0.967 | F6: 0.833 | G6: 0.467 | H6: 0.167 | I6: 0.033 | K6: Bordeaux | L6: =IF(E5>$E$24,"JOUEZ","STOP") -> JOUEZ | M6: =IF(F5>$F$24,"JOUEZ","STOP") -> JOUEZ | N6: =IF(G5>$G$24,"PRUDENCE","STOP") -> STOP | O6: =IF(H5>$G$24,"JOUEZ","STOP") -> STOP
A7: Guingamp | B7: 30 | D7: 1.97 | E7: 0.9 | F7: 0.633 | G7: 0.233 | H7: 0.1 | I7: 0.067 | K7: Evian TG | L7: =IF(E6>$E$24,"JOUEZ","STOP") -> JOUEZ | M7: =IF(F6>$F$24,"JOUEZ","STOP") -> JOUEZ | N7: =IF(G6>$G$24,"PRUDENCE","STOP") -> PRUDENCE | O7: =IF(H6>$G$24,"JOUEZ","STOP") -> STOP
A8: Lille | B8: 29 | D8: 1.76 | E8: 0.828 | F8: 0.517 | G8: 0.276 | H8: 0.103 | I8: 0.034 | K8: Guingamp | L8: =IF(E7>$E$24,"JOUEZ","STOP") -> STOP | M8: =IF(F7>$F$24,"JOUEZ","STOP") -> STOP | N8: =IF(G7>$G$24,"PRUDENCE","STOP") -> STOP | O8: =IF(H7>$G$24,"JOUEZ","STOP") -> STOP
A9: Lorient | B9: 30 | D9: 2.57 | E9: 0.967 | F9: 0.7 | G9: 0.433 | H9: 0.3 | I9: 0.133 | K9: Lille | L9: =IF(E8>$E$24,"JOUEZ","STOP") -> STOP | M9: =IF(F8>$F$24,"JOUEZ","STOP") -> STOP | N9: =IF(G8>$G$24,"PRUDENCE","STOP") -> STOP | O9: =IF(H8>$G$24,"JOUEZ","STOP") -> STOP
A10: Lyon | B10: 30 | D10: 2.67 | E10: 0.867 | F10: 0.8 | G10: 0.567 | H10: 0.333 | I10: 0.067 | K10: Lorient | L10: =IF(E9>$E$24,"JOUEZ","STOP") -> JOUEZ | M10: =IF(F9>$F$24,"JOUEZ","STOP") -> STOP | N10: =IF(G9>$G$24,"PRUDENCE","STOP") -> PRUDENCE | O10: =IF(H9>$G$24,"JOUEZ","STOP") -> STOP
A11: Marseille | B11: 30 | D11: 2.37 | E11: 0.967 | F11: 0.733 | G11: 0.433 | H11: 0.2 | I11: 0.033 | K11: Lyon | L11: =IF(E10>$E$24,"JOUEZ","STOP") -> STOP | M11: =IF(F10>$F$24,"JOUEZ","STOP") -> JOUEZ | N11: =IF(G10>$G$24,"PRUDENCE","STOP") -> PRUDENCE | O11: =IF(H10>$G$24,"JOUEZ","STOP") -> STOP
A12: Monaco | B12: 29 | D12: 2.52 | E12: 0.966 | F12: 0.862 | G12: 0.414 | H12: 0.172 | I12: 0.103 | K12: Marseille | L12: =IF(E11>$E$24,"JOUEZ","STOP") -> JOUEZ | M12: =IF(F11>$F$24,"JOUEZ","STOP") -> STOP | N12: =IF(G11>$G$24,"PRUDENCE","STOP") -> PRUDENCE | O12: =IF(H11>$G$24,"JOUEZ","STOP") -> STOP
A13: Montpellier | B13: 30 | D13: 2.37 | E13: 0.867 | F13: 0.8 | G13: 0.3 | H13: 0.233 | I13: 0.1 | K13: Monaco | L13: =IF(E12>$E$24,"JOUEZ","STOP") -> JOUEZ | M13: =IF(F12>$F$24,"JOUEZ","STOP") -> JOUEZ | N13: =IF(G12>$G$24,"PRUDENCE","STOP") -> STOP | O13: =IF(H12>$G$24,"JOUEZ","STOP") -> STOP
A14: Nantes | B14: 30 | D14: 2 | E14: 0.833 | F14: 0.567 | G14: 0.433 | H14: 0.133 | I14: 0.033 | K14: Montpellier | L14: =IF(E13>$E$24,"JOUEZ","STOP") -> STOP | M14: =IF(F13>$F$24,"JOUEZ","STOP") -> JOUEZ | N14: =IF(G13>$G$24,"PRUDENCE","STOP") -> STOP | O14: =IF(H13>$G$24,"JOUEZ","STOP") -> STOP
A15: Nice | B15: 30 | D15: 2.03 | E15: 0.9 | F15: 0.567 | G15: 0.367 | H15: 0.2 | I15: 0 | K15: Nantes | L15: =IF(E14>$E$24,"JOUEZ","STOP") -> STOP | M15: =IF(F14>$F$24,"JOUEZ","STOP") -> STOP | N15: =IF(G14>$G$24,"PRUDENCE","STOP") -> PRUDENCE | O15: =IF(H14>$G$24,"JOUEZ","STOP") -> STOP
A16: Paris SG | B16: 30 | D16: 2.93 | E16: 1 | F16: 0.933 | G16: 0.533 | H16: 0.333 | I16: 0.1 | K16: Nice | L16: =IF(E15>$E$24,"JOUEZ","STOP") -> STOP | M16: =IF(F15>$F$24,"JOUEZ","STOP") -> STOP | N16: =IF(G15>$G$24,"PRUDENCE","STOP") -> STOP | O16: =IF(H15>$G$24,"JOUEZ","STOP") -> STOP
A17: Reims | B17: 30 | D17: 2.57 | E17: 0.833 | F17: 0.733 | G17: 0.467 | H17: 0.267 | I17: 0.2 | K17: Paris SG | L17: =IF(E16>$E$24,"STOP","JOUEZ") -> STOP | M17: =IF(F16>$F$24,"JOUEZ","STOP") -> JOUEZ | N17: =IF(G16>$G$24,"PRUDENCE","STOP") -> PRUDENCE | O17: =IF(H16>$G$24,"JOUEZ","STOP") -> STOP
A18: Rennes | B18: 30 | D18: 2.4 | E18: 0.833 | F18: 0.767 | G18: 0.467 | H18: 0.267 | I18: 0.067 | K18: Reims | L18: =IF(E17>$E$24,"JOUEZ","STOP") -> STOP | M18: =IF(F17>$F$24,"JOUEZ","STOP") -> STOP | N18: =IF(G17>$G$24,"PRUDENCE","STOP") -> PRUDENCE | O18: =IF(H17>$G$24,"JOUEZ","STOP") -> STOP
A19: Saint-Etienne | B19: 30 | D19: 2.27 | E19: 0.9 | F19: 0.667 | G19: 0.433 | H19: 0.233 | I19: 0.033 | K19: Rennes | L19: =IF(E18>$E$24,"JOUEZ","STOP") -> STOP | M19: =IF(F18>$F$24,"JOUEZ","STOP") -> JOUEZ | N19: =IF(G18>$G$24,"PRUDENCE","STOP") -> PRUDENCE | O19: =IF(H18>$G$24,"JOUEZ","STOP") -> STOP
A20: Sochaux | B20: 30 | D20: 2.63 | E20: 0.933 | F20: 0.8 | G20: 0.433 | H20: 0.267 | I20: 0.133 | K20: Saint-Etienne | L20: =IF(E19>$E$24,"JOUEZ","STOP") -> STOP | M20: =IF(F19>$F$24,"JOUEZ","STOP") -> STOP | N20: =IF(G19>$G$24,"PRUDENCE","STOP") -> PRUDENCE | O20: =IF(H19>$G$24,"JOUEZ","STOP") -> STOP
A21: Toulouse | B21: 30 | D21: 2.63 | E21: 0.9 | F21: 0.767 | G21: 0.467 | H21: 0.267 | I21: 0.167 | K21: Sochaux | L21: =IF(E20>$E$24,"JOUEZ","STOP") -> JOUEZ | M21: =IF(F20>$F$24,"JOUEZ","STOP") -> JOUEZ | N21: =IF(G20>$G$24,"PRUDENCE","STOP") -> PRUDENCE | O21: =IF(H20>$G$24,"JOUEZ","STOP") -> STOP
A22: Valenciennes | B22: 30 | D22: 2.7 | E22: 1 | F22: 0.8 | G22: 0.567 | H22: 0.267 | I22: 0.067 | K22: Toulouse | L22: =IF(E21>$E$24,"JOUEZ","STOP") -> STOP | M22: =IF(F21>$F$24,"JOUEZ","STOP") -> JOUEZ | N22: =IF(G21>$G$24,"PRUDENCE","STOP") -> PRUDENCE | O22: =IF(H21>$G$24,"JOUEZ","STOP") -> STOP
K23: Valenciennes | L23: =IF(E22>$E$24,"STOP","JOUEZ") -> STOP | M23: =IF(F22>$F$24,"JOUEZ","STOP") -> JOUEZ | N23: =IF(G22>$G$24,"PRUDENCE","STOP") -> PRUDENCE | O23: =IF(H22>$G$24,"JOUEZ","STOP") -> STOP
A24: Moy. championnat | E24: 0.913 | F24: 0.742 | G24: 0.431 | H24: 0.231 | I24: 0.087
G27: =G24+H24 -> 0.662

Sheet Prono + 0,5
A1: + de 0,5 | B1: Ajaccio | C1: Bastia | D1: Bordeaux | E1: Evian TG | F1: Guingamp | G1: Lille | H1: Lorient | I1: Lyon | J1: Marseille | K1: Monaco | L1: Montpellier | M1: Nantes | N1: Nice | O1: Paris SG | P1: Reims | Q1: Rennes | R1: Saint-Etienne | S1: Sochaux | T1: Toulouse | U1: Valenciennes
A3: Ajaccio | C3: =IF('Ligue 1'!$L$4='Ligue 1'!$L5,"JOUEZ","STOP") -> STOP | D3: =IF('Ligue 1'!$L$4='Ligue 1'!$L6,"JOUEZ","STOP") -> JOUEZ | E3: =IF('Ligue 1'!$L$4='Ligue 1'!$L7,"JOUEZ","STOP") -> JOUEZ | F3: =IF('Ligue 1'!$L$4='Ligue 1'!$L8,"JOUEZ","STOP") -> STOP | G3: =IF('Ligue 1'!$L$4='Ligue 1'!$L9,"JOUEZ","STOP") -> STOP | H3: =IF('Ligue 1'!$L$4='Ligue 1'!$L10,"JOUEZ","STOP") -> JOUEZ | I3: =IF('Ligue 1'!$L$4='Ligue 1'!$L11,"JOUEZ","STOP") -> STOP | J3: =IF('Ligue 1'!$L$4='Ligue 1'!$L12,"JOUEZ","STOP") -> JOUEZ | K3: =IF('Ligue 1'!$L$4='Ligue 1'!$L13,"JOUEZ","STOP") -> JOUEZ | L3: =IF('Ligue 1'!$L$4='Ligue 1'!$L14,"JOUEZ","STOP") -> STOP | M3: =IF('Ligue 1'!$L$4='Ligue 1'!$L15,"JOUEZ","STOP") -> STOP | N3: =IF('Ligue 1'!$L$4='Ligue 1'!$L16,"JOUEZ","STOP") -> STOP | O3: =IF('Ligue 1'!$L$4='Ligue 1'!$L17,"JOUEZ","STOP") -> STOP | P3: =IF('Ligue 1'!$L$4='Ligue 1'!$L18,"JOUEZ","STOP") -> STOP | Q3: =IF('Ligue 1'!$L$4='Ligue 1'!$L19,"JOUEZ","STOP") -> STOP | R3: =IF('Ligue 1'!$L$4='Ligue 1'!$L20,"JOUEZ","STOP") -> STOP | S3: =IF('Ligue 1'!$L$4='Ligue 1'!$L21,"JOUEZ","STOP") -> JOUEZ | T3: =IF('Ligue 1'!$L$4='Ligue 1'!$L22,"JOUEZ","STOP") -> STOP | U3: =IF('Ligue 1'!$L$4='Ligue 1'!$L23,"JOUEZ","STOP") -> STOP
A4: Bastia | D4: =IF('Ligue 1'!$L$5='Ligue 1'!$L6,"JOUEZ","STOP") -> STOP | E4: =IF('Ligue 1'!$L$5='Ligue 1'!$L7,"JOUEZ","STOP") -> STOP | F4: =IF('Ligue 1'!$L$5='Ligue 1'!$L8,"JOUEZ","STOP") -> JOUEZ | G4: =IF('Ligue 1'!$L$5='Ligue 1'!$L9,"JOUEZ","STOP") -> JOUEZ | H4: =IF('Ligue 1'!$L$5='Ligue 1'!$L10,"JOUEZ","STOP") -> STOP | I4: =IF('Ligue 1'!$L$5='Ligue 1'!$L11,"JOUEZ","STOP") -> JOUEZ | J4: =IF('Ligue 1'!$L$5='Ligue 1'!$L12,"JOUEZ","STOP") -> STOP | K4: =IF('Ligue 1'!$L$5='Ligue 1'!$L13,"JOUEZ","STOP") -> STOP | L4: =IF('Ligue 1'!$L$5='Ligue 1'!$L14,"JOUEZ","STOP") -> JOUEZ | M4: =IF('Ligue 1'!$L$5='Ligue 1'!$L15,"JOUEZ","STOP") -> JOUEZ | N4: =IF('Ligue 1'!$L$5='Ligue 1'!$L16,"JOUEZ","STOP") -> JOUEZ | O4: =IF('Ligue 1'!$L$5='Ligue 1'!$L17,"JOUEZ","STOP") -> JOUEZ | P4: =IF('Ligue 1'!$L$5='Ligue 1'!$L18,"JOUEZ","STOP") -> JOUEZ | Q4: =IF('Ligue 1'!$L$5='Ligue 1'!$L19,"JOUEZ","STOP") -> JOUEZ | R4: =IF('Ligue 1'!$L$5='Ligue 1'!$L20,"JOUEZ","STOP") -> JOUEZ | S4: =IF('Ligue 1'!$L$5='Ligue 1'!$L21,"JOUEZ","STOP") -> STOP | T4: =IF('Ligue 1'!$L$5='Ligue 1'!$L22,"JOUEZ","STOP") -> JOUEZ | U4: =IF('Ligue 1'!$L$5='Ligue 1'!$L23,"JOUEZ","STOP") -> JOUEZ
A5: Bordeaux | E5: =IF('Ligue 1'!$L$6='Ligue 1'!$L7,"JOUEZ","STOP") -> JOUEZ | F5: =IF('Ligue 1'!$L$6='Ligue 1'!$L8,"JOUEZ","STOP") -> STOP | G5: =IF('Ligue 1'!$L$6='Ligue 1'!$L9,"JOUEZ","STOP") -> STOP | H5: =IF('Ligue 1'!$L$6='Ligue 1'!$L10,"JOUEZ","STOP") -> JOUEZ | I5: =IF('Ligue 1'!$L$6='Ligue 1'!$L11,"JOUEZ","STOP") -> STOP | J5: =IF('Ligue 1'!$L$6='Ligue 1'!$L12,"JOUEZ","STOP") -> JOUEZ | K5: =IF('Ligue 1'!$L$6='Ligue 1'!$L13,"JOUEZ","STOP") -> JOUEZ | L5: =IF('Ligue 1'!$L$6='Ligue 1'!$L14,"JOUEZ","STOP") -> STOP | M5: =IF('Ligue 1'!$L$6='Ligue 1'!$L15,"JOUEZ","STOP") -> STOP | N5: =IF('Ligue 1'!$L$6='Ligue 1'!$L16,"JOUEZ","STOP") -> STOP | O5: =IF('Ligue 1'!$L$6='Ligue 1'!$L17,"JOUEZ","STOP") -> STOP | P5: =IF('Ligue 1'!$L$6='Ligue 1'!$L18,"JOUEZ","STOP") -> STOP | Q5: =IF('Ligue 1'!$L$6='Ligue 1'!$L19,"JOUEZ","STOP") -> STOP | R5: =IF('Ligue 1'!$L$6='Ligue 1'!$L20,"JOUEZ","STOP") -> STOP | S5: =IF('Ligue 1'!$L$6='Ligue 1'!$L21,"JOUEZ","STOP") -> JOUEZ | T5: =IF('Ligue 1'!$L$6='Ligue 1'!$L22,"JOUEZ","STOP") -> STOP | U5: =IF('Ligue 1'!$L$6='Ligue 1'!$L23,"JOUEZ","STOP") -> STOP
A6: Evian TG | F6: =IF('Ligue 1'!$L$7='Ligue 1'!$L8,"JOUEZ","STOP") -> STOP | G6: =IF('Ligue 1'!$L$7='Ligue 1'!$L9,"JOUEZ","STOP") -> STOP | H6: =IF('Ligue 1'!$L$7='Ligue 1'!$L10,"JOUEZ","STOP") -> JOUEZ | I6: =IF('Ligue 1'!$L$7='Ligue 1'!$L11,"JOUEZ","STOP") -> STOP | J6: =IF('Ligue 1'!$L$7='Ligue 1'!$L12,"JOUEZ","STOP") -> JOUEZ | K6: =IF('Ligue 1'!$L$7='Ligue 1'!$L13,"JOUEZ","STOP") -> JOUEZ | L6: =IF('Ligue 1'!$L$7='Ligue 1'!$L14,"JOUEZ","STOP") -> STOP | M6: =IF('Ligue 1'!$L$7='Ligue 1'!$L15,"JOUEZ","STOP") -> STOP | N6: =IF('Ligue 1'!$L$7='Ligue 1'!$L16,"JOUEZ","STOP") -> STOP | O6: =IF('Ligue 1'!$L$7='Ligue 1'!$L17,"JOUEZ","STOP") -> STOP | P6: =IF('Ligue 1'!$L$7='Ligue 1'!$L18,"JOUEZ","STOP") -> STOP | Q6: =IF('Ligue 1'!$L$7='Ligue 1'!$L19,"JOUEZ","STOP") -> STOP | R6: =IF('Ligue 1'!$L$7='Ligue 1'!$L20,"JOUEZ","STOP") -> STOP | S6: =IF('Ligue 1'!$L$7='Ligue 1'!$L21,"JOUEZ","STOP") -> JOUEZ | T6: =IF('Ligue 1'!$L$7='Ligue 1'!$L22,"JOUEZ","STOP") -> STOP | U6: =IF('Ligue 1'!$L$7='Ligue 1'!$L23,"JOUEZ","STOP") -> STOP
A7: Guingamp | G7: =IF('Ligue 1'!$L$8='Ligue 1'!$L9,"JOUEZ","STOP") -> JOUEZ | H7: =IF('Ligue 1'!$L$8='Ligue 1'!$L10,"JOUEZ","STOP") -> STOP | I7: =IF('Ligue 1'!$L$8='Ligue 1'!$L11,"JOUEZ","STOP") -> JOUEZ | J7: =IF('Ligue 1'!$L$8='Ligue 1'!$L12,"JOUEZ","STOP") -> STOP | K7: =IF('Ligue 1'!$L$8='Ligue 1'!$L13,"JOUEZ","STOP") -> STOP | L7: =IF('Ligue 1'!$L$8='Ligue 1'!$L14,"JOUEZ","STOP") -> JOUEZ | M7: =IF('Ligue 1'!$L$8='Ligue 1'!$L15,"JOUEZ","STOP") -> JOUEZ | N7: =IF('Ligue 1'!$L$8='Ligue 1'!$L16,"JOUEZ","STOP") -> JOUEZ | O7: =IF('Ligue 1'!$L$8='Ligue 1'!$L17,"JOUEZ","STOP") -> JOUEZ | P7: =IF('Ligue 1'!$L$8='Ligue 1'!$L18,"JOUEZ","STOP") -> JOUEZ | Q7: =IF('Ligue 1'!$L$8='Ligue 1'!$L19,"JOUEZ","STOP") -> JOUEZ | R7: =IF('Ligue 1'!$L$8='Ligue 1'!$L20,"JOUEZ","STOP") -> JOUEZ | S7: =IF('Ligue 1'!$L$8='Ligue 1'!$L21,"JOUEZ","STOP") -> STOP | T7: =IF('Ligue 1'!$L$8='Ligue 1'!$L22,"JOUEZ","STOP") -> JOUEZ | U7: =IF('Ligue 1'!$L$8='Ligue 1'!$L23,"JOUEZ","STOP") -> JOUEZ
A8: Lille | H8: =IF('Ligue 1'!$L$9='Ligue 1'!$L10,"JOUEZ","STOP") -> STOP | I8: =IF('Ligue 1'!$L$9='Ligue 1'!$L11,"JOUEZ","STOP") -> JOUEZ | J8: =IF('Ligue 1'!$L$9='Ligue 1'!$L12,"JOUEZ","STOP") -> STOP | K8: =IF('Ligue 1'!$L$9='Ligue 1'!$L13,"JOUEZ","STOP") -> STOP | L8: =IF('Ligue 1'!$L$9='Ligue 1'!$L14,"JOUEZ","STOP") -> JOUEZ | M8: =IF('Ligue 1'!$L$9='Ligue 1'!$L15,"JOUEZ","STOP") -> JOUEZ | N8: =IF('Ligue 1'!$L$9='Ligue 1'!$L16,"JOUEZ","STOP") -> JOUEZ | O8: =IF('Ligue 1'!$L$9='Ligue 1'!$L17,"JOUEZ","STOP") -> JOUEZ | P8: =IF('Ligue 1'!$L$9='Ligue 1'!$L18,"JOUEZ","STOP") -> JOUEZ | Q8: =IF('Ligue 1'!$L$9='Ligue 1'!$L19,"JOUEZ","STOP") -> JOUEZ | R8: =IF('Ligue 1'!$L$9='Ligue 1'!$L20,"JOUEZ","STOP") -> JOUEZ | S8: =IF('Ligue 1'!$L$9='Ligue 1'!$L21,"JOUEZ","STOP") -> STOP | T8: =IF('Ligue 1'!$L$9='Ligue 1'!$L22,"JOUEZ","STOP") -> JOUEZ | U8: =IF('Ligue 1'!$L$9='Ligue 1'!$L23,"JOUEZ","STOP") -> JOUEZ
A9: Lorient | I9: =IF('Ligue 1'!$L$10='Ligue 1'!$L11,"JOUEZ","STOP") -> STOP | J9: =IF('Ligue 1'!$L$10='Ligue 1'!$L12,"JOUEZ","STOP") -> JOUEZ | K9: =IF('Ligue 1'!$L$10='Ligue 1'!$L13,"JOUEZ","STOP") -> JOUEZ | L9: =IF('Ligue 1'!$L$10='Ligue 1'!$L14,"JOUEZ","STOP") -> STOP | M9: =IF('Ligue 1'!$L$10='Ligue 1'!$L15,"JOUEZ","STOP") -> STOP | N9: =IF('Ligue 1'!$L$10='Ligue 1'!$L16,"JOUEZ","STOP") -> STOP | O9: =IF('Ligue 1'!$L$10='Ligue 1'!$L17,"JOUEZ","STOP") -> STOP | P9: =IF('Ligue 1'!$L$10='Ligue 1'!$L18,"JOUEZ","STOP") -> STOP | Q9: =IF('Ligue 1'!$L$10='Ligue 1'!$L19,"JOUEZ","STOP") -> STOP | R9: =IF('Ligue 1'!$L$10='Ligue 1'!$L20,"JOUEZ","STOP") -> STOP | S9: =IF('Ligue 1'!$L$10='Ligue 1'!$L21,"JOUEZ","STOP") -> JOUEZ | T9: =IF('Ligue 1'!$L$10='Ligue 1'!$L22,"JOUEZ","STOP") -> STOP | U9: =IF('Ligue 1'!$L$10='Ligue 1'!$L23,"JOUEZ","STOP") -> STOP
A10: Lyon | J10: =IF('Ligue 1'!$L$11='Ligue 1'!$L12,"JOUEZ","STOP") -> STOP | K10: =IF('Ligue 1'!$L$11='Ligue 1'!$L13,"JOUEZ","STOP") -> STOP | L10: =IF('Ligue 1'!$L$11='Ligue 1'!$L14,"JOUEZ","STOP") -> JOUEZ | M10: =IF('Ligue 1'!$L$11='Ligue 1'!$L15,"JOUEZ","STOP") -> JOUEZ | N10: =IF('Ligue 1'!$L$11='Ligue 1'!$L16,"JOUEZ","STOP") -> JOUEZ | O10: =IF('Ligue 1'!$L$11='Ligue 1'!$L17,"JOUEZ","STOP") -> JOUEZ | P10: =IF('Ligue 1'!$L$11='Ligue 1'!$L18,"JOUEZ","STOP") -> JOUEZ | Q10: =IF('Ligue 1'!$L$11='Ligue 1'!$L19,"JOUEZ","STOP") -> JOUEZ | R10: =IF('Ligue 1'!$L$11='Ligue 1'!$L20,"JOUEZ","STOP") -> JOUEZ | S10: =IF('Ligue 1'!$L$11='Ligue 1'!$L21,"JOUEZ","STOP") -> STOP | T10: =IF('Ligue 1'!$L$11='Ligue 1'!$L22,"JOUEZ","STOP") -> JOUEZ | U10: =IF('Ligue 1'!$L$11='Ligue 1'!$L23,"JOUEZ","STOP") -> JOUEZ
A11: Marseille | K11: =IF('Ligue 1'!$L$12='Ligue 1'!$L13,"JOUEZ","STOP") -> JOUEZ | L11: =IF('Ligue 1'!$L$12='Ligue 1'!$L14,"JOUEZ","STOP") -> STOP | M11: =IF('Ligue 1'!$L$12='Ligue 1'!$L15,"JOUEZ","STOP") -> STOP | N11: =IF('Ligue 1'!$L$12='Ligue 1'!$L16,"JOUEZ","STOP") -> STOP | O11: =IF('Ligue 1'!$L$12='Ligue 1'!$L17,"JOUEZ","STOP") -> STOP | P11: =IF('Ligue 1'!$L$12='Ligue 1'!$L18,"JOUEZ","STOP") -> STOP | Q11: =IF('Ligue 1'!$L$12='Ligue 1'!$L19,"JOUEZ","STOP") -> STOP | R11: =IF('Ligue 1'!$L$12='Ligue 1'!$L20,"JOUEZ","STOP") -> STOP | S11: =IF('Ligue 1'!$L$12='Ligue 1'!$L21,"JOUEZ","STOP") -> JOUEZ | T11: =IF('Ligue 1'!$L$12='Ligue 1'!$L22,"JOUEZ","STOP") -> STOP | U11: =IF('Ligue 1'!$L$12='Ligue 1'!$L23,"JOUEZ","STOP") -> STOP
A12: Monaco | L12: =IF('Ligue 1'!$L$13='Ligue 1'!$L14,"JOUEZ","STOP") -> STOP | M12: =IF('Ligue 1'!$L$13='Ligue 1'!$L15,"JOUEZ","STOP") -> STOP | N12: =IF('Ligue 1'!$L$13='Ligue 1'!$L16,"JOUEZ","STOP") -> STOP | O12: =IF('Ligue 1'!$L$13='Ligue 1'!$L17,"JOUEZ","STOP") -> STOP | P12: =IF('Ligue 1'!$L$13='Ligue 1'!$L18,"JOUEZ","STOP") -> STOP | Q12: =IF('Ligue 1'!$L$13='Ligue 1'!$L19,"JOUEZ","STOP") -> STOP | R12: =IF('Ligue 1'!$L$13='Ligue 1'!$L20,"JOUEZ","STOP") -> STOP | S12: =IF('Ligue 1'!$L$13='Ligue 1'!$L21,"JOUEZ","STOP") -> JOUEZ | T12: =IF('Ligue 1'!$L$13='Ligue 1'!$L22,"JOUEZ","STOP") -> STOP | U12: =IF('Ligue 1'!$L$13='Ligue 1'!$L23,"JOUEZ","STOP") -> STOP
A13: Montpellier | M13: =IF('Ligue 1'!$L$14='Ligue 1'!$L15,"JOUEZ","STOP") -> JOUEZ | N13: =IF('Ligue 1'!$L$14='Ligue 1'!$L16,"JOUEZ","STOP") -> JOUEZ | O13: =IF('Ligue 1'!$L$14='Ligue 1'!$L17,"JOUEZ","STOP") -> JOUEZ | P13: =IF('Ligue 1'!$L$14='Ligue 1'!$L18,"JOUEZ","STOP") -> JOUEZ | Q13: =IF('Ligue 1'!$L$14='Ligue 1'!$L19,"JOUEZ","STOP") -> JOUEZ | R13: =IF('Ligue 1'!$L$14='Ligue 1'!$L20,"JOUEZ","STOP") -> JOUEZ | S13: =IF('Ligue 1'!$L$14='Ligue 1'!$L21,"JOUEZ","STOP") -> STOP | T13: =IF('Ligue 1'!$L$14='Ligue 1'!$L22,"JOUEZ","STOP") -> JOUEZ | U13: =IF('Ligue 1'!$L$14='Ligue 1'!$L23,"JOUEZ","STOP") -> JOUEZ
A14: Nantes | N14: =IF('Ligue 1'!$L$15='Ligue 1'!$L16,"JOUEZ","STOP") -> JOUEZ | O14: =IF('Ligue 1'!$L$15='Ligue 1'!$L17,"JOUEZ","STOP") -> JOUEZ | P14: =IF('Ligue 1'!$L$15='Ligue 1'!$L18,"JOUEZ","STOP") -> JOUEZ | Q14: =IF('Ligue 1'!$L$15='Ligue 1'!$L19,"JOUEZ","STOP") -> JOUEZ | R14: =IF('Ligue 1'!$L$15='Ligue 1'!$L20,"JOUEZ","STOP") -> JOUEZ | S14: =IF('Ligue 1'!$L$15='Ligue 1'!$L21,"JOUEZ","STOP") -> STOP | T14: =IF('Ligue 1'!$L$15='Ligue 1'!$L22,"JOUEZ","STOP") -> JOUEZ | U14: =IF('Ligue 1'!$L$15='Ligue 1'!$L23,"JOUEZ","STOP") -> JOUEZ
A15: Nice | O15: =IF('Ligue 1'!$L$16='Ligue 1'!$L17,"JOUEZ","STOP") -> JOUEZ | P15: =IF('Ligue 1'!$L$16='Ligue 1'!$L18,"JOUEZ","STOP") -> JOUEZ | Q15: =IF('Ligue 1'!$L$16='Ligue 1'!$L19,"JOUEZ","STOP") -> JOUEZ | R15: =IF('Ligue 1'!$L$16='Ligue 1'!$L20,"JOUEZ","STOP") -> JOUEZ | S15: =IF('Ligue 1'!$L$16='Ligue 1'!$L21,"JOUEZ","STOP") -> STOP | T15: =IF('Ligue 1'!$L$16='Ligue 1'!$L22,"JOUEZ","STOP") -> JOUEZ | U15: =IF('Ligue 1'!$L$16='Ligue 1'!$L23,"JOUEZ","STOP") -> JOUEZ
A16: Paris SG | P16: =IF('Ligue 1'!$L$17='Ligue 1'!$L18,"JOUEZ","STOP") -> JOUEZ | Q16: =IF('Ligue 1'!$L$17='Ligue 1'!$L19,"JOUEZ","STOP") -> JOUEZ | R16: =IF('Ligue 1'!$L$17='Ligue 1'!$L20,"JOUEZ","STOP") -> JOUEZ | S16: =IF('Ligue 1'!$L$17='Ligue 1'!$L21,"JOUEZ","STOP") -> STOP | T16: =IF('Ligue 1'!$L$17='Ligue 1'!$L22,"JOUEZ","STOP") -> JOUEZ | U16: =IF('Ligue 1'!$L$17='Ligue 1'!$L23,"JOUEZ","STOP") -> JOUEZ
A17: Reims | Q17: =IF('Ligue 1'!$L$18='Ligue 1'!$L19,"JOUEZ","STOP") -> JOUEZ | R17: =IF('Ligue 1'!$L$18='Ligue 1'!$L20,"JOUEZ","STOP") -> JOUEZ | S17: =IF('Ligue 1'!$L$18='Ligue 1'!$L21,"JOUEZ","STOP") -> STOP | T17: =IF('Ligue 1'!$L$18='Ligue 1'!$L22,"JOUEZ","STOP") -> JOUEZ | U17: =IF('Ligue 1'!$L$18='Ligue 1'!$L23,"JOUEZ","STOP") -> JOUEZ
A18: Rennes | R18: =IF('Ligue 1'!$L$19='Ligue 1'!$L20,"JOUEZ","STOP") -> JOUEZ | S18: =IF('Ligue 1'!$L$19='Ligue 1'!$L21,"JOUEZ","STOP") -> STOP | T18: =IF('Ligue 1'!$L$19='Ligue 1'!$L22,"JOUEZ","STOP") -> JOUEZ | U18: =IF('Ligue 1'!$L$19='Ligue 1'!$L23,"JOUEZ","STOP") -> JOUEZ
A19: Saint-Etienne | S19: =IF('Ligue 1'!$L$20='Ligue 1'!$L21,"JOUEZ","STOP") -> STOP | T19: =IF('Ligue 1'!$L$20='Ligue 1'!$L22,"JOUEZ","STOP") -> JOUEZ | U19: =IF('Ligue 1'!$L$20='Ligue 1'!$L23,"JOUEZ","STOP") -> JOUEZ
A20: Sochaux | T20: =IF('Ligue 1'!$L$21='Ligue 1'!$L22,"JOUEZ","STOP") -> STOP | U20: =IF('Ligue 1'!$L$21='Ligue 1'!$L23,"JOUEZ","STOP") -> STOP
A21: Toulouse | U21: =IF('Ligue 1'!$L$22='Ligue 1'!$L23,"JOUEZ","STOP") -> JOUEZ
A22: Valenciennes

Sheet Feuil3
