Workbook

Sheet Planning
A1: x
A2: Sem. | B2: MOIS | C2: POS | D2: Date | E2: Nbr jours | F2: Animation | G2: Magasin / Lieu | H2: Promoteur | I2: N° promoteur | J2: Contrat | K2: Brief | L2: Matériel | M2: Nombre d'heures | N2: Frais 2.5% Promoteur | O2: Frais 2.5% Tapiooca | P2: Frais 7.7% Promoteur | Q2: Frais 7.7% Tapiooca | R2: Frais Poste | S2: Facture
A3: JANVIER
A5: 1 | B5: JAN | C5: EV | D5: Jeudi 2 janvier | E5: 1 | F5: Pop-up Démontage | G5: Genève | H5: Prénom 3 | I5: =IFERROR(INDEX(listedessalariÈs!A:C,MATCH(H5,listedessalariÈs!B:B,0),1),"") -> 54 | J5: OK | K5: OK | M5: 3 | N5: 0 | O5: 0 | P5: 0 | Q5: 0 | R5: 0
A6: 1 | B6: JAN | C6: EV | D6: Jeudi 2 janvier | E6: 1 | F6: Pop-up Démontage | G6: Genève | H6: Prénom 11 | I6: =IFERROR(INDEX(listedessalariÈs!A:C,MATCH(H6,listedessalariÈs!B:B,0),1),"") -> 406 | J6: OK | K6: OK | M6: 3 | N6: 0 | O6: 0 | P6: 0 | Q6: 0 | R6: 0
I7: =IFERROR(INDEX(listedessalariÈs!A:C,MATCH(H7,listedessalariÈs!B:B,0),1),"")
A8: 1 | B8: JAN | C8: MI | D8: Samedi 4 janvier | E8: 1 | F8: Galette des Rois | G8: Migros Conthey Forum des Alpes | H8: Prénom 1 | I8: =IFERROR(INDEX(listedessalariÈs!A:C,MATCH(H8,listedessalariÈs!B:B,0),1),"") -> 811 | J8: OK | K8: OK
A9: 1 | B9: JAN | C9: MI | D9: Samedi 4 janvier | E9: 1 | F9: Galette des Rois | G9: Migros Conthey Forum des Alpes | H9: Prénom 2 | I9: =IFERROR(INDEX(listedessalariÈs!A:C,MATCH(H9,listedessalariÈs!B:B,0),1),"") -> 965 | J9: OK | K9: OK | M9: 8 | N9: 0 | O9: 0 | P9: 0 | Q9: 0 | R9: 0
I10: =IFERROR(INDEX(listedessalariÈs!A:C,MATCH(H10,listedessalariÈs!B:B,0),1),"")
A11: 2 | B11: JAN | C11: EV | D11: Vendredi 10 janvier | E11: 1 | F11: Raclette | G11: Martigny | H11: Marina | I11: =IFERROR(INDEX(listedessalariÈs!A:C,MATCH(H11,listedessalariÈs!B:B,0),1),"") | J11: OK | L11: OK | M11: 3 | N11: 0 | O11: 0 | P11: 0 | Q11: 0 | R11: 0
A12: 2 | B12: JAN | C12: EV | D12: Vendredi 10 janvier | E12: 1 | F12: Raclette | G12: Martigny | I12: =IFERROR(INDEX(listedessalariÈs!A:C,MATCH(H12,listedessalariÈs!B:B,0),1),"") | J12: OK | L12: OK | M12: 3 | N12: 0 | O12: 0 | P12: 0 | Q12: 0 | R12: 0
A13: 2 | B13: JAN | C13: EV | D13: Vendredi 10 janvier | E13: 1 | F13: Raclette | G13: Martigny | H13: Prénom 444 | I13: =IFERROR(INDEX(listedessalariÈs!A:C,MATCH(H13,listedessalariÈs!B:B,0),1),"") | L13: OK | M13: 3 | N13: 0 | O13: 0 | P13: 0 | Q13: 0 | R13: 0
I14: =IFERROR(INDEX(listedessalariÈs!A:C,MATCH(H14,listedessalariÈs!B:B,0),1),"")
A15: 2 | B15: JAN | C15: MI | D15: Vendredi 10 et samedi 11 janvier | E15: 2 | F15: Endives | G15: Migros Yverdon | I15: =IFERROR(INDEX(listedessalariÈs!A:C,MATCH(H15,listedessalariÈs!B:B,0),1),"") | J15: OK | K15: OK
I16: =IFERROR(INDEX(listedessalariÈs!A:C,MATCH(H16,listedessalariÈs!B:B,0),1),"")
A17: 3 | B17: JAN | C17: EV | D17: Vendredi 17 janvier | E17: 1 | F17: Raclette | G17: Martigny | I17: =IFERROR(INDEX(listedessalariÈs!A:C,MATCH(H17,listedessalariÈs!B:B,0),1),"") | J17: OK | L17: OK
A18: 3 | B18: JAN | C18: EV | D18: Vendredi 17 janvier | E18: 1 | F18: Raclette | G18: Martigny | I18: =IFERROR(INDEX(listedessalariÈs!A:C,MATCH(H18,listedessalariÈs!B:B,0),1),"") | J18: OK | L18: OK
A19: 3 | B19: JAN | C19: EV | D19: Vendredi 17 janvier | E19: 1 | F19: Raclette | G19: Martigny | I19: =IFERROR(INDEX(listedessalariÈs!A:C,MATCH(H19,listedessalariÈs!B:B,0),1),"") | L19: OK
I20: =IFERROR(INDEX(listedessalariÈs!A:C,MATCH(H20,listedessalariÈs!B:B,0),1),"")
A21: 3 | B21: JAN | C21: MI | D21: Vendredi 17 et samedi 18 janvier | E21: 2 | F21: Bananes | G21: Migros Bulle | I21: =IFERROR(INDEX(listedessalariÈs!A:C,MATCH(H21,listedessalariÈs!B:B,0),1),"") | J21: OK | K21: OK
A22: 3 | B22: JAN | C22: MI | D22: Vendredi 17 et samedi 18 janvier | E22: 2 | F22: Bananes | G22: Migros Avry | I22: =IFERROR(INDEX(listedessalariÈs!A:C,MATCH(H22,listedessalariÈs!B:B,0),1),"") | J22: OK | K22: OK
A23: 3 | B23: JAN | C23: MI | D23: Vendredi 17 et samedi 18 janvier | E23: 2 | F23: Bananes | G23: Migros Marin | I23: =IFERROR(INDEX(listedessalariÈs!A:C,MATCH(H23,listedessalariÈs!B:B,0),1),"") | J23: OK | K23: OK
I24: =IFERROR(INDEX(listedessalariÈs!A:C,MATCH(H24,listedessalariÈs!B:B,0),1),"")
I25: =IFERROR(INDEX(listedessalariÈs!A:C,MATCH(H25,listedessalariÈs!B:B,0),1),"")
A26: 5 | B26: JAN | C26: EV | D26: Vendredi 31 janvier | E26: 1 | F26: Raclette | G26: Martigny | I26: =IFERROR(INDEX(listedessalariÈs!A:C,MATCH(H26,listedessalariÈs!B:B,0),1),"") | J26: OK | L26: OK
A27: 5 | B27: JAN | C27: EV | D27: Vendredi 31 janvier | E27: 1 | F27: Raclette | G27: Martigny | I27: =IFERROR(INDEX(listedessalariÈs!A:C,MATCH(H27,listedessalariÈs!B:B,0),1),"") | L27: OK
A28: 5 | B28: JAN | C28: EV | D28: Vendredi 31 janvier | E28: 1 | F28: Raclette | G28: Martigny | I28: =IFERROR(INDEX(listedessalariÈs!A:C,MATCH(H28,listedessalariÈs!B:B,0),1),"") | L28: OK
I29: =IFERROR(INDEX(listedessalariÈs!A:C,MATCH(H29,listedessalariÈs!B:B,0),1),"")
I30: =IFERROR(INDEX(listedessalariÈs!A:C,MATCH(H30,listedessalariÈs!B:B,0),1),"")
I31: =IFERROR(INDEX(listedessalariÈs!A:C,MATCH(H31,listedessalariÈs!B:B,0),1),"")
E32: =SUM(E4:E31) -> 21

Sheet listedessalariÈs
A1: sa_numero | B1: sa_prenom | C1: sa_pays
A2: 811 | B2: Prénom 1 | C2: Suisse
A3: 965 | B3: Prénom 2 | C3: Suisse
A4: 54 | B4: Prénom 3 | C4: Suisse
A5: 922 | B5: Prénom 4 | C5: Suisse
A6: 575 | B6: Prénom 5 | C6: Suisse
A7: 452 | B7: Prénom 6 | C7: Suisse
A8: 1013 | B8: Prénom 7 | C8: Suisse
A9: 997 | B9: Prénom 8 | C9: Suisse
A10: 998 | B10: Prénom 9 | C10: Suisse
A11: 776 | B11: Prénom 10 | C11: Suisse
A12: 406 | B12: Prénom 11 | C12: Suisse
