Workbook

Sheet F0
A1: Nom 1 | B1: Valeur 1
A2: Nom 2 | B2: Valeur 2
A3: Nom 5 | B3: Valeur 5
A4: Nom 6 | B4: Valeur 6
A5: Nom 3 | B5: Valeur 3
A6: Nom 4 | B6: Valeur 4
A7: Nom 7 | B7: Valeur 7
A8: Nom 8 | B8: Valeur 8
A9: Nom 11 | B9: Valeur 11
A10: Nom 9 | B10: Valeur 9
A11: Nom 10 | B11: Valeur 10
A12: Nom 12 | B12: Valeur 12

Sheet F1
A1: =F0!A1 -> Nom 1 | B1: =VLOOKUP(A1,F0!A1:B12,2,FALSE) -> Valeur 1
A2: =F0!A2 -> Nom 2 | B2: =VLOOKUP(A2,F0!A2:B13,2,FALSE) -> Valeur 2
A3: =F0!A3 -> Nom 5 | B3: =VLOOKUP(A3,F0!A3:B14,2,FALSE) -> Valeur 5
A4: =F0!A4 -> Nom 6 | B4: =VLOOKUP(A4,F0!A4:B15,2,FALSE) -> Valeur 6
A5: =F0!A5 -> Nom 3 | B5: =VLOOKUP(A5,F0!A5:B16,2,FALSE) -> Valeur 3
A6: =F0!A6 -> Nom 4 | B6: =VLOOKUP(A6,F0!A6:B17,2,FALSE) -> Valeur 4
A7: =F0!A7 -> Nom 7 | B7: =VLOOKUP(A7,F0!A7:B18,2,FALSE) -> Valeur 7
A8: =F0!A8 -> Nom 8 | B8: =VLOOKUP(A8,F0!A8:B19,2,FALSE) -> Valeur 8
A9: =F0!A9 -> Nom 11 | B9: =VLOOKUP(A9,F0!A9:B20,2,FALSE) -> Valeur 11
A10: =F0!A10 -> Nom 9 | B10: =VLOOKUP(A10,F0!A10:B21,2,FALSE) -> Valeur 9
A11: =F0!A11 -> Nom 10 | B11: =VLOOKUP(A11,F0!A11:B22,2,FALSE) -> Valeur 10
A12: =F0!A12 -> Nom 12 | B12: =VLOOKUP(A12,F0!A12:B23,2,FALSE) -> Valeur 12

Sheet F2
A1: =F0!A1 -> Nom 1 | B1: xx | C1: yy | D1: zz | E1: =VLOOKUP(A1,F0!A1:B12,2,FALSE) -> Valeur 1
A2: =F0!A2 -> Nom 2 | B2: xx | C2: yy | D2: zz | E2: =VLOOKUP(A2,F0!A2:B13,2,FALSE) -> Valeur 2
A3: =F0!A3 -> Nom 5 | B3: xx | C3: yy | D3: zz | E3: =VLOOKUP(A3,F0!A3:B14,2,FALSE) -> Valeur 5
A4: =F0!A4 -> Nom 6 | B4: xx | C4: yy | D4: zz | E4: =VLOOKUP(A4,F0!A4:B15,2,FALSE) -> Valeur 6
A5: =F0!A5 -> Nom 3 | B5: xx | C5: yy | D5: zz | E5: =VLOOKUP(A5,F0!A5:B16,2,FALSE) -> Valeur 3
A6: =F0!A6 -> Nom 4 | B6: xx | C6: yy | D6: zz | E6: =VLOOKUP(A6,F0!A6:B17,2,FALSE) -> Valeur 4
A7: =F0!A7 -> Nom 7 | B7: xx | C7: yy | D7: zz | E7: =VLOOKUP(A7,F0!A7:B18,2,FALSE) -> Valeur 7
A8: =F0!A8 -> Nom 8 | B8: xx | C8: yy | D8: zz | E8: =VLOOKUP(A8,F0!A8:B19,2,FALSE) -> Valeur 8
A9: =F0!A9 -> Nom 11 | B9: xx | C9: yy | D9: zz | E9: =VLOOKUP(A9,F0!A9:B20,2,FALSE) -> Valeur 11
A10: =F0!A10 -> Nom 9 | B10: xx | C10: yy | D10: zz | E10: =VLOOKUP(A10,F0!A10:B21,2,FALSE) -> Valeur 9
A11: =F0!A11 -> Nom 10 | B11: xx | C11: yy | D11: zz | E11: =VLOOKUP(A11,F0!A11:B22,2,FALSE) -> Valeur 10
A12: =F0!A12 -> Nom 12 | B12: xx | C12: yy | D12: zz | E12: =VLOOKUP(A12,F0!A12:B23,2,FALSE) -> Valeur 12
