Workbook

Sheet FAM 2014 - cycle 3
A2: Cycle 3 : base 35
A3: 23 | B3: Emploi | C3: Base | D3: ETP | E3: 41792 | H3: =E3+1 -> 41793 | K3: =H3+1 -> 41794 | N3: =K3+1 -> 41795 | Q3: =N3+1 -> 41796 | T3: =Q3+1 -> 41797 | W3: =T3+1 -> 41798 | Z3: Total | AA3: =A3 -> 23 | AB3: =AA3+2 -> 25 | AC3: 1
A4: A | B4: AMP | C4: 37 | D4: 1 | E4: 0.083333333 | F4: 0.125 | G4: =F4-E4 -> 0.041666667 | J4: =I4-H4 -> 0 | M4: =L4-K4 -> 0 | P4: =O4-N4 -> 0 | S4: =R4-Q4 -> 0 | V4: =U4-T4 -> 0 | Y4: =X4-W4 -> 0 | Z4: =(Y4+V4+S4+P4+J4+G4+M4)*24 -> 1
A6: B | B6: AS | C6: 37 | D6: 1 | E6: 0.39583333 | F6: 0.47916667 | G6: =F6-E6 -> 0.083333333 | J6: =I6-H6 -> 0 | M6: =L6-K6 -> 0 | P6: =O6-N6 -> 0 | S6: =R6-Q6 -> 0 | V6: =U6-T6 -> 0 | Y6: =X6-W6 -> 0 | Z6: =(Y6+V6+S6+P6+J6+G6+M6)*24 -> 2
A8: C | B8: MM | C8: 37 | D8: 1 | E8: 0.33333333 | F8: 0.45833333 | G8: =F8-E8 -> 0.125 | J8: =I8-H8 -> 0 | M8: =L8-K8 -> 0 | P8: =O8-N8 -> 0 | S8: =R8-Q8 -> 0 | V8: =U8-T8 -> 0 | Y8: =X8-W8 -> 0 | Z8: =(Y8+V8+S8+P8+J8+G8+M8)*24 -> 3
A10: D | B10: AMP | C10: 37 | D10: 1 | G10: =F10-E10 -> 0 | J10: =I10-H10 -> 0 | M10: =L10-K10 -> 0 | P10: =O10-N10 -> 0 | S10: =R10-Q10 -> 0 | V10: =U10-T10 -> 0 | Y10: =X10-W10 -> 0 | Z10: =(Y10+V10+S10+P10+J10+G10+M10)*24 -> 0
A12: E | B12: CAE | C12: 37 | D12: 1 | G12: =F12-E12 -> 0 | J12: =I12-H12 -> 0 | M12: =L12-K12 -> 0 | P12: =O12-N12 -> 0 | S12: =R12-Q12 -> 0 | V12: =U12-T12 -> 0 | Y12: =X12-W12 -> 0 | Z12: =(Y12+V12+S12+P12+J12+G12+M12)*24 -> 0
A14: F | B14: CA | C14: 37 | D14: 1 | G14: =F14-E14 -> 0 | J14: =I14-H14 -> 0 | M14: =L14-K14 -> 0 | P14: =O14-N14 -> 0 | S14: =R14-Q14 -> 0 | V14: =U14-T14 -> 0 | Y14: =X14-W14 -> 0 | Z14: =(Y14+V14+S14+P14+J14+G14+M14)*24 -> 0
A15: Contrat d'avenir du 01/10/2013 au 30/09/2014
A16: G | B16: AS | C16: 37 | D16: 1 | G16: =F16-E16 -> 0 | J16: =I16-H16 -> 0 | M16: =L16-K16 -> 0 | P16: =O16-N16 -> 0 | S16: =R16-Q16 -> 0 | V16: =U16-T16 -> 0 | Y16: =X16-W16 -> 0 | Z16: =(Y16+V16+S16+P16+J16+G16+M16)*24 -> 0
A18: H | B18: AS | C18: 37 | D18: 1 | G18: =F18-E18 -> 0 | J18: =I18-H18 -> 0 | M18: =L18-K18 -> 0 | P18: =O18-N18 -> 0 | S18: =R18-Q18 -> 0 | V18: =U18-T18 -> 0 | Y18: =X18-W18 -> 0 | Z18: =(Y18+V18+S18+P18+J18+G18+M18)*24 -> 0
A20: I | B20: CDD | C20: 37 | D20: 0.5 | G20: =F20-E20 -> 0 | J20: =I20-H20 -> 0 | M20: =L20-K20 -> 0 | P20: =O20-N20 -> 0 | S20: =R20-Q20 -> 0 | V20: =U20-T20 -> 0 | Y20: =X20-W20 -> 0 | Z20: =(Y20+V20+S20+P20+J20+G20+M20)*24 -> 0
A21: Candidat élève
A22: J | B22: AMP | C22: 37 | D22: 0.75 | G22: =F22-E22 -> 0 | J22: =I22-H22 -> 0 | M22: =L22-K22 -> 0 | P22: =O22-N22 -> 0 | S22: =R22-Q22 -> 0 | V22: =U22-T22 -> 0 | Y22: =X22-W22 -> 0 | Z22: =(Y22+V22+S22+P22+J22+G22+M22)*24 -> 0
A24: K | B24: AS | C24: 37 | D24: 1 | G24: =F24-E24 -> 0 | J24: =I24-H24 -> 0 | M24: =L24-K24 -> 0 | P24: =O24-N24 -> 0 | S24: =R24-Q24 -> 0 | V24: =U24-T24 -> 0 | Y24: =X24-W24 -> 0 | Z24: =(Y24+V24+S24+P24+J24+G24+M24)*24 -> 0
A26: L | B26: AMP | C26: 37 | D26: 1 | G26: =F26-E26 -> 0 | J26: =I26-H26 -> 0 | M26: =L26-K26 -> 0 | P26: =O26-N26 -> 0 | S26: =R26-Q26 -> 0 | V26: =U26-T26 -> 0 | Y26: =X26-W26 -> 0 | Z26: =(Y26+V26+S26+P26+J26+G26+M26)*24 -> 0
A28: M | B28: AN2 | C28: 37 | D28: 1 | G28: =F28-E28 -> 0 | J28: =I28-H28 -> 0 | M28: =L28-K28 -> 0 | P28: =O28-N28 -> 0 | S28: =R28-Q28 -> 0 | V28: =U28-T28 -> 0 | Y28: =X28-W28 -> 0 | Z28: =(Y28+V28+S28+P28+J28+G28+M28)*24 -> 0
A30: N | B30: CDD | C30: 37 | D30: 0.5 | G30: =F30-E30 -> 0 | J30: =I30-H30 -> 0 | M30: =L30-K30 -> 0 | P30: =O30-N30 -> 0 | S30: =R30-Q30 -> 0 | V30: =U30-T30 -> 0 | Y30: =X30-W30 -> 0 | Z30: =(Y30+V30+S30+P30+J30+G30+M30)*24 -> 0
A31: Candidat élève
A32: O | B32: AMP | C32: 37 | D32: 1 | G32: =F32-E32 -> 0 | J32: =I32-H32 -> 0 | M32: =L32-K32 -> 0 | P32: =O32-N32 -> 0 | S32: =R32-Q32 -> 0 | V32: =U32-T32 -> 0 | Y32: =X32-W32 -> 0 | Z32: =(G32+J32+M32+P32+S32+V32+Y32)*24 -> 0
A34: P | B34: AS | C34: 37 | D34: 1 | G34: =F34-E34 -> 0 | J34: =I34-H34 -> 0 | M34: =L34-K34 -> 0 | P34: =O34-N34 -> 0 | S34: =R34-Q34 -> 0 | V34: =U34-T34 -> 0 | Y34: =X34-W34 -> 0 | Z34: =(Y34+V34+S34+P34+J34+G34+M34)*24 -> 0
A36: Q | B36: AS | C36: 37 | D36: 1 | G36: =F36-E36 -> 0 | J36: =I36-H36 -> 0 | M36: =L36-K36 -> 0 | P36: =O36-N36 -> 0 | S36: =R36-Q36 -> 0 | V36: =U36-T36 -> 0 | Y36: =X36-W36 -> 0 | Z36: =(Y36+V36+S36+P36+J36+G36+M36)*24 -> 0
A38: R | B38: AVS | C38: 37 | D38: 1 | G38: =F38-E38 -> 0 | J38: =I38-H38 -> 0 | M38: =L38-K38 -> 0 | P38: =O38-N38 -> 0 | S38: =R38-Q38 -> 0 | V38: =U38-T38 -> 0 | Y38: =X38-W38 -> 0 | Z38: =(G38+J38+M38+P38+S38+V38+Y38)*24 -> 0
A40: S | B40: AS | C40: 37 | D40: 0.8 | G40: =F40-E40 -> 0 | J40: =I40-H40 -> 0 | M40: =L40-K40 -> 0 | P40: =O40-N40 -> 0 | S40: =R40-Q40 -> 0 | V40: =U40-T40 -> 0 | Y40: =X40-W40 -> 0 | Z40: =(Y40+V40+S40+P40+J40+G40+M40)*24 -> 0
A42: T | B42: CAE | C42: 37 | D42: 0.75 | G42: =F42-E42 -> 0 | J42: =I42-H42 -> 0 | M42: =L42-K42 -> 0 | P42: =O42-N42 -> 0 | S42: =R42-Q42 -> 0 | V42: =U42-T42 -> 0 | Y42: =X42-W42 -> 0 | Z42: =(Y42+V42+S42+P42+J42+G42+M42)*24 -> 0
A44: U | B44: AMP | C44: 37 | D44: 1 | G44: =F44-E44 -> 0 | J44: =I44-H44 -> 0 | M44: =L44-K44 -> 0 | P44: =O44-N44 -> 0 | S44: =R44-Q44 -> 0 | V44: =U44-T44 -> 0 | Y44: =X44-W44 -> 0 | Z44: =(Y44+V44+S44+P44+J44+G44+M44)*24 -> 0
A46: Remplacement CDD - | G46: =F46-E46 -> 0 | J46: =I46-H46 -> 0 | M46: =L46-K46 -> 0 | P46: =O46-N46 -> 0 | S46: =R46-Q46 -> 0 | V46: =U46-T46 -> 0 | Y46: =X46-W46 -> 0 | Z46: =(Y46+V46+S46+P46+J46+G46+M46)*24 -> 0
A48: Remplacement CDD - | E48: 0.46597222 | F48: 0.64791667 | G48: =F48-E48 -> 0.18194444 | J48: =I48-H48 -> 0 | M48: =L48-K48 -> 0 | P48: =O48-N48 -> 0 | S48: =R48-Q48 -> 0 | V48: =U48-T48 -> 0 | Y48: =X48-W48 -> 0 | Z48: =(Y48+V48+S48+P48+J48+G48+M48)*24 -> 4.3666667
A50: Remplacement CDD - | G50: =F50-E50 -> 0 | J50: =I50-H50 -> 0 | M50: =L50-K50 -> 0 | P50: =O50-N50 -> 0 | S50: =R50-Q50 -> 0 | V50: =U50-T50 -> 0 | Y50: =X50-W50 -> 0 | Z50: =(Y50+V50+S50+P50+J50+G50+M50)*24 -> 0
A52: Remplacement CDD - | G52: =F52-E52 -> 0 | J52: =I52-H52 -> 0 | M52: =L52-K52 -> 0 | P52: =O52-N52 -> 0 | S52: =R52-Q52 -> 0 | V52: =U52-T52 -> 0 | Y52: =X52-W52 -> 0 | Z52: =(Y52+V52+S52+P52+J52+G52+M52)*24 -> 0
A54: Remplacement CDD - | G54: =F54-E54 -> 0 | J54: =I54-H54 -> 0 | M54: =L54-K54 -> 0 | P54: =O54-N54 -> 0 | S54: =R54-Q54 -> 0 | V54: =U54-T54 -> 0 | Y54: =X54-W54 -> 0 | Z54: =(Y54+V54+S54+P54+J54+G54+M54)*24 -> 0
A56: Remplacement CDD - | G56: =F56-E56 -> 0 | J56: =I56-H56 -> 0 | M56: =L56-K56 -> 0 | P56: =O56-N56 -> 0 | S56: =R56-Q56 -> 0 | V56: =U56-T56 -> 0 | Y56: =X56-W56 -> 0 | Z56: =(Y56+V56+S56+P56+J56+G56+M56)*24 -> 0
D58: M | E58: =SUMPRODUCT((E4:E57>=7.25/24)*(E4:E57<=9.49/24))-SUMPRODUCT(--(E4:E57={"CP","FORM","AT","MAT","AM","EM"})) -> 1 | H58: =SUMPRODUCT((H4:H57>=7.25/24)*(H4:H57<=9.49/24))-SUMPRODUCT(--(H4:H57={"CP","FORM","AT","MAT","AM","EM"})) -> 0 | K58: =SUMPRODUCT((K4:K57>=7.25/24)*(K4:K57<=9.49/24))-SUMPRODUCT(--(K4:K57={"CP","FORM","AT","MAT","AM","EM"})) -> 0 | N58: =SUMPRODUCT((N4:N57>=7.25/24)*(N4:N57<=9.49/24))-SUMPRODUCT(--(N4:N57={"CP","FORM","AT","MAT","AM","EM"})) -> 0 | Q58: =SUMPRODUCT((Q4:Q57>=7.25/24)*(Q4:Q57<=9.49/24))-SUMPRODUCT(--(Q4:Q57={"CP","FORM","AT","MAT","AM","EM"})) -> 0 | T58: =SUMPRODUCT((T4:T57>=7.25/24)*(T4:T57<=9.49/24))-SUMPRODUCT(--(T4:T57={"CP","FORM","AT","MAT","AM","EM"})) -> 0 | W58: =SUMPRODUCT((W4:W57>=7.25/24)*(W4:W57<=9.49/24))-SUMPRODUCT(--(W4:W57={"CP","FORM","AT","MAT","AM","EM"})) -> 0
D59: S | E59: =SUMPRODUCT((E4:E57>=14/24)*(E4:E57<=16/24))-SUMPRODUCT(--(F4:F57={"CP","FORM","AT","MAT","AM","EM"})) -> 0 | H59: =SUMPRODUCT((H4:H57>=14/24)*(H4:H57<=16/24))-SUMPRODUCT(--(I4:I57={"CP","FORM","AT","MAT","AM","EM"})) -> 0 | K59: =SUMPRODUCT((K4:K57>=14/24)*(K4:K57<=16/24))-SUMPRODUCT(--(L4:L57={"CP","FORM","AT","MAT","AM","EM"})) -> 0 | N59: =SUMPRODUCT((N4:N57>=14/24)*(N4:N57<=16/24))-SUMPRODUCT(--(O4:O57={"CP","FORM","AT","MAT","AM","EM"})) -> 0 | Q59: =SUMPRODUCT((Q4:Q57>=14/24)*(Q4:Q57<=16/24))-SUMPRODUCT(--(R4:R57={"CP","FORM","AT","MAT","AM","EM"})) -> 0 | T59: =SUMPRODUCT((T4:T57>=14/24)*(T4:T57<=16/24))-SUMPRODUCT(--(U4:U57={"CP","FORM","AT","MAT","AM","EM"})) -> 0 | W59: =SUMPRODUCT((W4:W57>=14/24)*(W4:W57<=16/24))-SUMPRODUCT(--(X4:X57={"CP","FORM","AT","MAT","AM","EM"})) -> 0
A61: Cycle 3 : base 35
A62: =A3+1 -> 24 | B62: Emploi | C62: Base | D62: ETP | E62: =W3+1 -> 41799 | H62: =E62+1 -> 41800 | K62: =H62+1 -> 41801 | N62: =K62+1 -> 41802 | Q62: =N62+1 -> 41803 | T62: =Q62+1 -> 41804 | W62: =T62+1 -> 41805 | Z62: Total | AA62: =A62 -> 24 | AB62: =AA62+2 -> 26 | AC62: =AC3+1 -> 2
A63: A | B63: AMP | C63: 37 | D63: 1 | G63: =F63-E63 -> 0 | J63: =I63-H63 -> 0 | M63: =L63-K63 -> 0 | P63: =O63-N63 -> 0 | S63: =R63-Q63 -> 0 | V63: =U63-T63 -> 0 | Y63: =X63-W63 -> 0 | Z63: =(Y63+V63+S63+P63+J63+G63+M63)*24 -> 0
A65: B | B65: AS | C65: 37 | D65: 1 | G65: =F65-E65 -> 0 | J65: =I65-H65 -> 0 | M65: =L65-K65 -> 0 | P65: =O65-N65 -> 0 | S65: =R65-Q65 -> 0 | V65: =U65-T65 -> 0 | Y65: =X65-W65 -> 0 | Z65: =(Y65+V65+S65+P65+J65+G65+M65)*24 -> 0
A67: C | B67: MM | C67: 37 | D67: 1 | G67: =F67-E67 -> 0 | J67: =I67-H67 -> 0 | M67: =L67-K67 -> 0 | P67: =O67-N67 -> 0 | S67: =R67-Q67 -> 0 | V67: =U67-T67 -> 0 | Y67: =X67-W67 -> 0 | Z67: =(Y67+V67+S67+P67+J67+G67+M67)*24 -> 0
A69: D | B69: AMP | C69: 37 | D69: 1 | G69: =F69-E69 -> 0 | J69: =I69-H69 -> 0 | M69: =L69-K69 -> 0 | P69: =O69-N69 -> 0 | S69: =R69-Q69 -> 0 | V69: =U69-T69 -> 0 | Y69: =X69-W69 -> 0 | Z69: =(Y69+V69+S69+P69+J69+G69+M69)*24 -> 0
...

Sheet Cycle 3 2014
A1: BANQUE D'HEURES CYCLE 1 2014
A2: 35 | C2: =SUM(C7:E22) -> 1 | F2: =SUM(F7:H22) -> 2 | I2: =SUM(I7:K22) -> 3 | L2: =SUM(O7:Q22) -> 0 | O2: =SUM(R7:T22) -> 0 | U2: =SUM(X7:Z22) -> 0 | X2: =SUM(AA7:AC22) -> 0 | AA2: =SUM(AD7:AF22) -> 0 | AD2: =SUM(AG7:AI22) -> 0 | AG2: =SUM(AJ7:AL22) -> 0 | AJ2: =SUM(AM7:AO22) -> 0 | AM2: =SUM(AP7:AR22) -> 0 | AP2: =SUM(AS7:AU22) -> 0 | AS2: =SUM(AV7:AX22) -> 0 | AV2: =SUM(AY7:BA22) -> 0 | AY2: =SUM(BB7:BD22) -> 0 | BB2: =SUM(BE7:BG22) -> 0 | BE2: =SUM(BH7:BJ22) -> 0 | BH2: =SUM(BK7:BM22) -> 0 | BK2: =SUM(BN7:BP22) -> 0 | BN2: =SUM(BQ7:BS22) -> 4.3666667
C3: ='FAM 2014 - cycle 3'!A4 -> A | F3: B | I3: C | U3: D | X3: E | AA3: F | AD3: G | AG3: H | AJ3: I | AM3: J | AP3: K | AS3: L | AV3: M | AY3: N | BB3: O | BE3: P | BH3: Q | BK3: R | BN3: S | BQ3: T
A4: Base Hebdo. | C4: 35 | F4: 35 | I4: 35 | L4: 37 | O4: 37 | R4: 37 | U4: 35 | X4: 35 | AA4: 35 | AD4: 35 | AG4: 35 | AJ4: 35 | AM4: 35 | AP4: 35 | AS4: 35 | AV4: 35 | AY4: 35 | BB4: 35 | BE4: 35 | BH4: 35 | BK4: 35 | BN4: 35 | BQ4: 35
A5: ETP | C5: =#REF! -> #REF! | F5: =#REF! -> #REF! | I5: =#REF! -> #REF! | L5: 1 | O5: =#REF! -> #REF! | R5: =#REF! -> #REF! | U5: 1 | X5: =#REF! -> #REF! | AA5: 1 | AD5: =#REF! -> #REF! | AG5: =#REF! -> #REF! | AJ5: =#REF! -> #REF! | AM5: =#REF! -> #REF! | AP5: =#REF! -> #REF! | AS5: =#REF! -> #REF! | AV5: =#REF! -> #REF! | AY5: =#REF! -> #REF! | BB5: =#REF! -> #REF! | BE5: =#REF! -> #REF! | BH5: 1 | BK5: =#REF! -> #REF! | BN5: 0.75 | BQ5: =#REF! -> #REF!
A6: Heures payées | C6: =$A2*C5*16 -> #REF! | F6: =$A2*F5*16 -> #REF! | I6: =$A2*I5*16 -> #REF! | L6: =$A2*L5*12 -> 420 | O6: =$A2*O5*12 -> #REF! | R6: =$A2*R5*5 -> #REF! | U6: =$A2*U5*16 -> 560 | X6: =$A2*X5*16 -> #REF! | AA6: =$A2*AA5*16 -> 560 | AD6: =$A2*AD5*16 -> #REF! | AG6: =$A2*AG5*16 -> #REF! | AJ6: =$A2*AJ5*16 -> #REF! | AM6: =$A2*AM5*16 -> #REF! | AP6: =$A2*AP5*16 -> #REF! | AS6: =$A2*AS5*16 -> #REF! | AV6: =$A2*AV5*16 -> #REF! | AY6: =$A2*AY5*16 -> #REF! | BB6: =$A2*BB5*16 -> #REF! | BE6: =$A2*BE5*16 -> #REF! | BH6: =$A2*BH5*16 -> 560 | BK6: =$A2*BK5*16 -> #REF! | BN6: =$A2*BN5*16 -> 420 | BQ6: =$A2*BQ5*16 -> #REF!
B7: 1 | C7: =INDIRECT("'FAM 2014 - cycle 3'!"&ADDRESS((COLUMN(C1)/3+1)*2,26)) -> 1 | F7: =INDIRECT("'FAM 2014 - cycle 3'!"&ADDRESS((COLUMN(F1)/3+1)*2,26)) -> 2 | I7: =INDIRECT("'FAM 2014 - cycle 3'!"&ADDRESS((COLUMN(I1)/3+1)*2,26)) -> 3 | L7: =INDIRECT("'FAM 2014 - cycle 3'!"&ADDRESS((COLUMN(L1)/3+1)*2,26)) -> 0 | O7: =INDIRECT("'FAM 2014 - cycle 3'!"&ADDRESS((COLUMN(O1)/3+1)*2,26)) -> 0 | R7: =INDIRECT("'FAM 2014 - cycle 3'!"&ADDRESS((COLUMN(R1)/3+1)*2,26)) -> 0 | U7: =INDIRECT("'FAM 2014 - cycle 3'!"&ADDRESS((COLUMN(U1)/3+1)*2,26)) -> 0 | X7: =INDIRECT("'FAM 2014 - cycle 3'!"&ADDRESS((COLUMN(X1)/3+1)*2,26)) -> 0 | AA7: =INDIRECT("'FAM 2014 - cycle 3'!"&ADDRESS((COLUMN(AA1)/3+1)*2,26)) -> 0 | AD7: =INDIRECT("'FAM 2014 - cycle 3'!"&ADDRESS((COLUMN(AD1)/3+1)*2,26)) -> 0 | AG7: =INDIRECT("'FAM 2014 - cycle 3'!"&ADDRESS((COLUMN(AG1)/3+1)*2,26)) -> 0 | AJ7: =INDIRECT("'FAM 2014 - cycle 3'!"&ADDRESS((COLUMN(AJ1)/3+1)*2,26)) -> 0 | AM7: =INDIRECT("'FAM 2014 - cycle 3'!"&ADDRESS((COLUMN(AM1)/3+1)*2,26)) -> 0 | AP7: =INDIRECT("'FAM 2014 - cycle 3'!"&ADDRESS((COLUMN(AP1)/3+1)*2,26)) -> 0 | AS7: =INDIRECT("'FAM 2014 - cycle 3'!"&ADDRESS((COLUMN(AS1)/3+1)*2,26)) -> 0 | AV7: =INDIRECT("'FAM 2014 - cycle 3'!"&ADDRESS((COLUMN(AV1)/3+1)*2,26)) -> 0 | AY7: =INDIRECT("'FAM 2014 - cycle 3'!"&ADDRESS((COLUMN(AY1)/3+1)*2,26)) -> 0 | BB7: =INDIRECT("'FAM 2014 - cycle 3'!"&ADDRESS((COLUMN(BB1)/3+1)*2,26)) -> 0 | BE7: =INDIRECT("'FAM 2014 - cycle 3'!"&ADDRESS((COLUMN(BE1)/3+1)*2,26)) -> 0 | BH7: =INDIRECT("'FAM 2014 - cycle 3'!"&ADDRESS((COLUMN(BH1)/3+1)*2,26)) -> 0 | BK7: =INDIRECT("'FAM 2014 - cycle 3'!"&ADDRESS((COLUMN(BK1)/3+1)*2,26)) -> 0 | BN7: =INDIRECT("'FAM 2014 - cycle 3'!"&ADDRESS((COLUMN(BN1)/3+1)*2,26)) -> 0 | BQ7: =INDIRECT("'FAM 2014 - cycle 3'!"&ADDRESS((COLUMN(BQ1)/3+1)*2,26)) -> 4.3666667
B8: 2 | C8: ='FAM 2014 - cycle 3'!Z63 -> 0
B9: 3 | C9: ='FAM 2014 - cycle 3'!Z122 -> 0
B10: 4 | C10: ='FAM 2014 - cycle 3'!Z181 -> 0
B11: 5 | C11: ='FAM 2014 - cycle 3'!Z240 -> 0
B12: 6 | C12: ='FAM 2014 - cycle 3'!Z299 -> 0
B13: 7 | C13: ='FAM 2014 - cycle 3'!Z358 -> 0
A14: INDIRECT("'" & $F8 & "'!"&ADRESSE(4;COLONNE()-2)) | B14: 8 | C14: ='FAM 2014 - cycle 3'!Z417 -> 0
B15: 9 | C15: ='FAM 2014 - cycle 3'!Z477 -> 0
B16: 10 | C16: ='FAM 2014 - cycle 3'!Z536 -> 0
B17: 11 | C17: ='FAM 2014 - cycle 3'!Z595 -> 0
B18: 12 | C18: ='FAM 2014 - cycle 3'!Z654 -> 0
B19: 13 | C19: ='FAM 2014 - cycle 3'!Z713 -> 0
B20: 14 | C20: ='FAM 2014 - cycle 3'!Z772 -> 0
B21: 15 | C21: ='FAM 2014 - cycle 3'!Z831 -> 0
B22: 16 | C22: ='FAM 2014 - cycle 3'!Z890 -> 0
A23: Heures comptabilisées | C23: =SUM(C7:E22) -> 1 | F23: =SUM(F7:H22) -> 2 | I23: =SUM(I7:K22) -> 3 | L23: =SUM(L7:N22) -> 0 | O23: =SUM(O7:Q22) -> 0 | R23: =SUM(R7:T22) -> 0 | U23: =SUM(U7:W22) -> 0 | X23: =SUM(X7:Z22) -> 0 | AA23: =SUM(AA7:AC22) -> 0 | AD23: =SUM(AD7:AF22) -> 0 | AG23: =SUM(AG7:AI22) -> 0 | AJ23: =SUM(AJ7:AL22) -> 0 | AM23: =SUM(AM7:AO22) -> 0 | AP23: =SUM(AP7:AR22) -> 0 | AS23: =SUM(AS7:AU22) -> 0 | AV23: =SUM(AV7:AX22) -> 0 | AY23: =SUM(AY7:BA22) -> 0 | BB23: =SUM(BB7:BD22)+42 -> 42 | BE23: =SUM(BE7:BG22) -> 0 | BH23: =SUM(BH7:BJ22) -> 0 | BK23: =SUM(BK7:BM22) -> 0 | BN23: =SUM(BN7:BP22) -> 0 | BQ23: =SUM(BQ7:BS22) -> 4.3666667
A24: Solde heures fin cycle 4 2013
A25: Compteur heures / Dates
A54: Total heures supplémentaires | C54: =SUM(E25:E53) -> 0 | F54: =SUM(H25:H53) -> 0 | I54: =SUM(K25:K53) -> 0 | L54: =SUM(N25:N53) -> 0 | O54: =SUM(Q25:Q53) -> 0 | R54: =SUM(T25:T53) -> 0 | U54: =SUM(W25:W53) -> 0 | X54: =SUM(Z25:Z53) -> 0 | AA54: =SUM(AC25:AC53) -> 0 | AD54: =SUM(AF25:AF53) -> 0 | AG54: =SUM(AI25:AI53) -> 0 | AJ54: =SUM(AL25:AL53) -> 0 | AM54: =SUM(AO25:AO53) -> 0 | AP54: =SUM(AR25:AR53) -> 0 | AS54: =SUM(AU25:AU53) -> 0 | AV54: =SUM(AX25:AX53) -> 0 | AY54: =SUM(BA25:BA53) -> 0 | BB54: =SUM(BD25:BD53) -> 0 | BE54: =SUM(BG25:BG53) -> 0 | BH54: =SUM(BJ25:BJ53) -> 0 | BK54: =SUM(BM25:BM53) -> 0 | BN54: =SUM(BP25:BP53) -> 0 | BQ54: =SUM(BS25:BS53) -> 0
A55: Heures réellement travaillées | C55: =C23+C24+C54 -> 1 | F55: =F23+F24+F54 -> 2 | I55: =I23+I24+I54 -> 3 | L55: =L23+L24+L54 -> 0 | O55: =O23+O24+O54 -> 0 | R55: =R23+R24+R54 -> 0 | U55: =U23+U24+U54 -> 0 | X55: =X23+X24+X54 -> 0 | AA55: =AA23+AA24+AA54 -> 0 | AD55: =AD23+AD24+AD54 -> 0 | AG55: =AG23+AG24+AG54 -> 0 | AJ55: =AJ23+AJ24+AJ54 -> 0 | AM55: =AM23+AM24+AM54 -> 0 | AP55: =AP23+AP24+AP54 -> 0 | AS55: =AS23+AS24+AS54 -> 0 | AV55: =AV23+AV24+AV54 -> 0 | AY55: =AY23+AY24+AY54 -> 0 | BB55: =BB23+BB24+BB54 -> 42 | BE55: =BE23+BE24+BE54 -> 0 | BH55: =BH23+BH24+BH54 -> 0 | BK55: =BK23+BK24+BK54 -> 0 | BN55: =BN23+BN24+BN54 -> 0 | BQ55: =BQ23+BQ24+BQ54 -> 4.3666667
A56: Banque d'heures fin cycle 1 2014 | C56: =C55-C6 -> #REF! | F56: =F55-F6 -> #REF! | I56: =I55-I6 -> #REF! | L56: =L55-L6 -> -420 | O56: =O55-O6 -> #REF! | R56: =R55-R6 -> #REF! | U56: =U55-U6 -> -560 | X56: =X55-X6 -> #REF! | AA56: =AA55-AA6 -> -560 | AD56: =AD55-AD6 -> #REF! | AG56: =AG55-AG6-AI85 -> #REF! | AJ56: =AJ55-AJ6 -> #REF! | AM56: =AM55-AM6 -> #REF! | AP56: =AP55-AP6 -> #REF! | AS56: =AS55-AS6 -> #REF! | AV56: =AV55-AV6-AU85 -> #REF! | AY56: =AY55-AY6 -> #REF! | BB56: =BB55-BB6 -> #REF! | BE56: =BE55-BE6 -> #REF! | BH56: =BH55-BH6 -> -560 | BK56: =BK55-BK6 -> #REF! | BN56: =BN55-BN6-BM85 -> -420 | BQ56: =BQ55-BQ6 -> #REF!
A57: RTT restants cycle 1 | C57: 0 | F57: 4 | I57: 0 | L57: 0 | R57: 0 | U57: 0 | X57: 0 | AA57: 1 | AD57: 1 | AG57: 0 | AJ57: 3 | AM57: 1 | AP57: 1 | AS57: 6 | AV57: 0 | AY57: 1 | BB57: 4 | BE57: 2 | BH57: -1 | BK57: 0 | BN57: 0 | BQ57: 0
A58: RTT à prendre cycle 2 | C58: 4 | F58: 4 | I58: 4 | L58: 4 | O58: 4 | R58: 4 | U58: 4 | X58: 4 | AA58: 4 | AD58: 4 | AG58: 2 | AJ58: 3 | AM58: 4 | AP58: 4 | AS58: 4 | AV58: 2 | AY58: 4 | BB58: 4 | BE58: 4 | BH58: 4 | BK58: 3 | BN58: 3 | BQ58: 4
A59: RTT pris cycle 2 | C59: 1 | D59: 41729 | F59: 1 | G59: 41764 | I59: 1 | J59: 41736 | U59: 1 | V59: 41717 | X59: 1 | Y59: 41743 | AA59: 1 | AB59: 41743 | AD59: 1 | AE59: 41729 | AG59: 1 | AH59: 41764 | AJ59: 1 | AK59: 41722 | AM59: 1 | AN59: 41764 | AP59: 1 | AQ59: 41736 | AV59: 1 | AW59: 41757 | AY59: 1 | AZ59: 41778 | BB59: 1 | BC59: 41771 | BE59: 1 | BF59: 41736 | BH59: 1 | BI59: 41778 | BK59: 1 | BL59: 41719 | BN59: 1 | BO59: 41718 | BQ59: 1 | BR59: 41743
C60: 1 | D60: 41730 | F60: 1 | G60: 41765 | I60: 1 | J60: 41737 | U60: 1 | V60: 41722 | X60: 1 | Y60: 41744 | AA60: 1 | AB60: 41744 | AD60: 1 | AE60: 41730 | AG60: 1 | AH60: 41765 | AJ60: 1 | AK60: 41723 | AM60: 1 | AN60: 41765 | AP60: 1 | AQ60: 41737 | AV60: 1 | AW60: 41758 | AY60: 1 | AZ60: 41779 | BB60: 1 | BC60: 41772 | BE60: 1 | BF60: 41737 | BH60: 1 | BI60: 41779 | BK60: 1 | BL60: 41722 | BN60: 1 | BO60: 41722 | BQ60: 1 | BR60: 41744
C61: 1 | D61: 41732 | F61: 1 | G61: 41766 | I61: 1 | J61: 41739 | U61: 1 | V61: 41723 | X61: 1 | Y61: 41746 | AA61: 1 | AB61: 41746 | AD61: 1 | AE61: 41732 | AJ61: 1 | AK61: 41724 | AM61: 1 | AN61: 41766 | AP61: 1 | AQ61: 41739 | AY61: 1 | AZ61: 41781 | BB61: 1 | BC61: 41774 | BE61: 1 | BF61: 41739 | BH61: 1 | BI61: 41781 | BK61: 1 | BL61: 41723 | BN61: 1 | BO61: 41723 | BQ61: 1 | BR61: 41746
C62: 1 | D62: 41733 | F62: 1 | G62: 41768 | I62: 1 | J62: 41740 | U62: 1 | V62: 41724 | X62: 1 | Y62: 41747 | AA62: 1 | AB62: 41747 | AD62: 1 | AE62: 41733 | AJ62: 1 | AK62: 41786 | AM62: 1 | AN62: 41768 | AP62: 1 | AQ62: 41740 | AY62: 1 | AZ62: 41782 | BB62: 1 | BC62: 41775 | BE62: 1 | BF62: 41740 | BQ62: 1 | BR62: 41747
F63: 1 | G63: 41786 | AA63: 1 | AB63: 41739 | AD63: 1 | AE63: 41738 | AJ63: 1 | AK63: 41787 | AM63: 1 | AN63: 41786 | AP63: 1 | AQ63: 41743 | AY63: 1 | AZ63: 41726 | BB63: 1 | BC63: 41778 | BE63: 1 | BF63: 41744
F64: 1 | G64: 41787 | AJ64: 1 | AK64: 41789 | BB64: 1 | BC64: 41779 | BE64: 1 | BF64: 41745
BB65: 1 | BC65: 41780
BB66: 1 | BC66: 41781
A68: RTT restants fin cycle 1 | C68: =C58+C57-C59-C60-C61-C62-C63-C64-C65-C66-C67 -> 0 | F68: =F58+F57-F59-F60-F61-F62-F63-F64-F65-F66-F67 -> 2 | I68: =I58+I57-I59-I60-I61-I62-I63-I64-I65-I66-I67 -> 0 | L68: =L58+L57-L59-L60-L61-L62-L63-L64-L65-L66-L67 -> 4 | O68: =O58+O57-O59-O60-O61-O62-O63-O64-O65-O66-O67 -> 4 | R68: =R58+R57-R59-R60-R61-R62-R63-R64-R65-R66-R67 -> 4 | U68: =U58+U57-U59-U60-U61-U62-U63-U64-U65-U66-U67 -> 0 | X68: =X58+X57-X59-X60-X61-X62-X63-X64-X65-X66-X67 -> 0 | AA68: =AA58+AA57-AA59-AA60-AA61-AA62-AA63-AA64-AA65-AA66-AA67 -> 0 | AD68: =AD58+AD57-AD59-AD60-AD61-AD62-AD63-AD64-AD65-AD66-AD67 -> 0 | AG68: =AG58+AG57-AG59-AG60-AG61-AG62-AG63-AG64-AG65-AG66-AG67 -> 0 | AJ68: =AJ58+AJ57-AJ59-AJ60-AJ61-AJ62-AJ63-AJ64-AJ65-AJ66-AJ67 -> 0 | AM68: =AM58+AM57-AM59-AM60-AM61-AM62-AM63-AM64-AM65-AM66-AM67 -> 0 | AP68: =AP58+AP57-AP59-AP60-AP61-AP62-AP63-AP64-AP65-AP66-AP67 -> 0 | AS68: =AS58+AS57-AS59-AS60-AS61-AS62-AS63-AS64-AS65-AS66-AS67 -> 10 | AV68: =AV58+AV57-AV59-AV60-AV61-AV62-AV63-AV64-AV65-AV66-AV67 -> 0 | AY68: =AY58+AY57-AY59-AY60-AY61-AY62-AY63-AY64-AY65-AY66-AY67 -> 0 | BB68: =BB58+BB57-BB59-BB60-BB61-BB62-BB63-BB64-BB65-BB66-BB67 -> 0 | BE68: =BE58+BE57-BE59-BE60-BE61-BE62-BE63-BE64-BE65-BE66-BE67 -> 0 | BH68: =BH58+BH57-BH59-BH60-BH61-BH62-BH63-BH64-BH65-BH66-BH67 -> 0 | BK68: =BK58+BK57-BK59-BK60-BK61-BK62-BK63-BK64-BK65-BK66-BK67 -> 0 | BN68: =BN58+BN57-BN59-BN60-BN61-BN62-BN63-BN64-BN65-BN66-BN67 -> 0 | BQ68: =BQ58+BQ57-BQ59-BQ60-BQ61-BQ62-BQ63-BQ64-BQ65-BQ66-BQ67 -> 0
AG71: Avenants | AS71: Avenants | BK71: Avenants
...

Sheet Récup fériés
A1: FERIES 2013 + SOLDE 2012
B5: Solde | C5: Date Férié travaillé | D5: Total heures travaillées | E5: Date récup Férié | F5: Total heures travaillées | G5: Date Férié travaillé | H5: Total heures travaillées | I5: Date récup Férié | J5: Total heures travaillées | K5: Date Férié travaillé | L5: Total heures travaillées | M5: Date récup Férié | N5: Total heures travaillées | O5: Date Férié travaillé | P5: Total heures travaillées | Q5: Date récup Férié | R5: Total heures travaillées | S5: Date Férié travaillé | T5: Total heures travaillées | U5: Date récup Férié | V5: Total heures travaillées | W5: Date Férié travaillé | X5: Total heures travaillées | Y5: Date récup Férié | Z5: Total heures travaillées | AA5: Date Férié travaillé | AB5: Total heures travaillées | AC5: Date récup Férié | AD5: Total heures travaillées | AE5: Date Férié travaillé | AF5: Total heures travaillées | AG5: Date récup Férié | AH5: Total heures travaillées | AI5: Date Férié travaillé | AJ5: Total heures travaillées | AK5: Date récup Férié | AL5: Total heures travaillées | AM5: Date Férié travaillé | AN5: Total heures travaillées | AO5: Date récup Férié | AP5: Total heures travaillées
A6: =#REF! -> #REF! | B6: =D6+H6+L6+P6+T6+X6+AB6+AF6+AJ6+AN6-F6-J6-N6-R6-V6-Z6-AD6-AH6-AL6-AP6 -> 0
A7: =#REF! -> #REF! | B7: =D7+H7+L7+P7+T7+X7+AB7+AF7+AJ7+AN7-F7-J7-N7-R7-V7-Z7-AD7-AH7-AL7-AP7 -> 0
A8: =#REF! -> #REF! | B8: =D8+H8+L8+P8+T8+X8+AB8+AF8+AJ8+AN8-F8-J8-N8-R8-V8-Z8-AD8-AH8-AL8-AP8 -> 0
A9: =#REF! -> #REF! | B9: =D9+H9+L9+P9+T9+X9+AB9+AF9+AJ9+AN9-F9-J9-N9-R9-V9-Z9-AD9-AH9-AL9-AP9 -> 0
A10: =#REF! -> #REF! | B10: =D10+H10+L10+P10+T10+X10+AB10+AF10+AJ10+AN10-F10-J10-N10-R10-V10-Z10-AD10-AH10-AL10-AP10 -> 0
A11: =#REF! -> #REF! | B11: =D11+H11+L11+P11+T11+X11+AB11+AF11+AJ11+AN11-F11-J11-N11-R11-V11-Z11-AD11-AH11-AL11-AP11 -> 0
A12: =#REF! -> #REF! | B12: =D12+H12+L12+P12+T12+X12+AB12+AF12+AJ12+AN12-F12-J12-N12-R12-V12-Z12-AD12-AH12-AL12-AP12 -> 0
A13: =#REF! -> #REF! | B13: =D13+H13+L13+P13+T13+X13+AB13+AF13+AJ13+AN13-F13-J13-N13-R13-V13-Z13-AD13-AH13-AL13-AP13 -> 7.25 | C13: 41268 | D13: 7.25 | E13: 41298
A14: =#REF! -> #REF! | B14: =D14+H14+L14+P14+T14+X14+AB14+AF14+AJ14+AN14-F14-J14-N14-R14-V14-Z14-AD14-AH14-AL14-AP14 -> 0
A15: =#REF! -> #REF! | B15: =D15+H15+L15+P15+T15+X15+AB15+AF15+AJ15+AN15-F15-J15-N15-R15-V15-Z15-AD15-AH15-AL15-AP15 -> 0
A16: =#REF! -> #REF! | B16: =D16+H16+L16+P16+T16+X16+AB16+AF16+AJ16+AN16-F16-J16-N16-R16-V16-Z16-AD16-AH16-AL16-AP16 -> 0
A17: =#REF! -> #REF! | B17: =D17+H17+L17+P17+T17+X17+AB17+AF17+AJ17+AN17-F17-J17-N17-R17-V17-Z17-AD17-AH17-AL17-AP17 -> 0
A18: =#REF! -> #REF! | B18: =D18+H18+L18+P18+T18+X18+AB18+AF18+AJ18+AN18-F18-J18-N18-R18-V18-Z18-AD18-AH18-AL18-AP18 -> 0
A19: =#REF! -> #REF! | B19: =D19+H19+L19+P19+T19+X19+AB19+AF19+AJ19+AN19-F19-J19-N19-R19-V19-Z19-AD19-AH19-AL19-AP19 -> 0
A20: =#REF! -> #REF! | B20: =D20+H20+L20+P20+T20+X20+AB20+AF20+AJ20+AN20-F20-J20-N20-R20-V20-Z20-AD20-AH20-AL20-AP20 -> 0
A21: =#REF! -> #REF! | B21: =D21+H21+L21+P21+T21+X21+AB21+AF21+AJ21+AN21-F21-J21-N21-R21-V21-Z21-AD21-AH21-AL21-AP21 -> 0
A22: =#REF! -> #REF! | B22: =D22+H22+L22+P22+T22+X22+AB22+AF22+AJ22+AN22-F22-J22-N22-R22-V22-Z22-AD22-AH22-AL22-AP22 -> 0

Sheet Feuil1
A2: 3 | B2: =A2/3 -> 1 | C2: =B2+1 -> 2 | D2: =C2*2 -> 4 | H2: 4
A3: 6 | B3: =A3/3 -> 2 | C3: =B3+1 -> 3 | D3: =C3*2 -> 6 | H3: 6
A4: 9 | B4: =A4/3 -> 3 | C4: =B4+1 -> 4 | D4: =C4*2 -> 8 | H4: 8
A5: 12 | B5: =A5/3 -> 4 | C5: =B5+1 -> 5 | D5: =C5*2 -> 10 | H5: 10
A6: 15 | B6: =A6/3 -> 5 | C6: =B6+1 -> 6 | D6: =C6*2 -> 12 | H6: 12
A7: 18 | B7: =A7/3 -> 6 | C7: =B7+1 -> 7 | D7: =C7*2 -> 14 | H7: 14
A8: 21 | B8: =A8/3 -> 7 | C8: =B8+1 -> 8 | D8: =C8*2 -> 16 | H8: 16
A9: 24 | B9: =A9/3 -> 8 | C9: =B9+1 -> 9 | D9: =C9*2 -> 18 | H9: 18
A10: 27 | B10: =A10/3 -> 9 | C10: =B10+1 -> 10 | D10: =C10*2 -> 20 | H10: 20
A11: 30 | B11: =A11/3 -> 10 | C11: =B11+1 -> 11 | D11: =C11*2 -> 22 | H11: 22
A12: 33 | B12: =A12/3 -> 11 | C12: =B12+1 -> 12 | D12: =C12*2 -> 24 | H12: 24
A13: 36 | B13: =A13/3 -> 12 | C13: =B13+1 -> 13 | D13: =C13*2 -> 26 | H13: 26
... A15: 42 | B15: =A15/3 -> 14 | C15: =B15+1 -> 15 | D15: =C15*2 -> 30 | H15: 30
