Workbook
Name Chantiers: #REF!
Name Chantiers: #REF!
Name Chantiers: #REF!
Name Chantiers: #REF!
Name Jours: #REF!
Name Jours: #REF!
Name Jours: #REF!
Name Jours: #REF!
Name Nom: #REF!
Name Nom: #REF!
Name Nom: #REF!
Name Nom: #REF!

Sheet Technicien 1
F1: RELEVE D'HEURES HEBDOMADAIRE
A4: NOM | F4: PRENOM | I4: SEMAINE N° | L4: 47
A8: VEHICULE SOCIETE | E8: IMMATRICULATION | K8: Km au Compteur
A10: VEHICULE LOCATION | E10: IMMATRICULATION
A13: Code Chantier | C13: 393154 | E13: 383132 | F13: 353358 | G13: 353355 | I13: 353342 | J13: 353341 | K13: 353339 | L13: 353332 | M13: 353331 | N13: 353327 | O13: 343322 | P13: 343320 | Q13: 93 | R13: 91 | S13: 92 | T13: 91 | U13: TOTAL Heures / Jour | V13: Hotel | W13: Sans Découché
C14: DIVERS ELEC ALIX | E14: MAIRIE DE TOURS | F14: RABATERIE | G14: Genillé LA VARENNE | I14: MESANGERIE | J14: BASCLOS 9-10 | K14: BOIS AJONC 3 | L14: LES MISTRAIS 3&5 | M14: BEAUVERGER 3-4 | N14: AUTHON | O14: ETUDIANTS | P14: ROCHECORBON
A15: Lieu | Q15: Absences | W15: TR | X15: M | Y15: S
A16: JOUR | B16: DATE | Q16: Mal | R16: Rtt | S16: CP | T16: Férié | V16: O/N
A17: LUNDI | B17: 42324 | C17: 3 | E17: 4 | F17: 5 | G17: 6 | I17: 7 | J17: 8 | K17: 9 | L17: 10 | M17: 11 | N17: 12 | O17: 13 | P17: 14 | U17: =SUM(C17:T17) -> 102 | X17: 1
A18: MARDI | B18: 42325 | U18: =SUM(C18:T18) -> 0 | X18: 1
A19: MERCREDI | B19: 42326 | U19: =SUM(C19:T19) -> 0 | X19: 1
A20: JEUDI | B20: 42327 | U20: =SUM(C20:T20) -> 0 | X20: 1
A21: VENDREDI | B21: 42328 | C21: 3 | E21: 4 | F21: 5 | G21: 6 | I21: 7 | J21: 8 | K21: 9 | L21: 10 | M21: 11 | N21: 12 | O21: 13 | P21: 14 | U21: =SUM(C21:T21) -> 102 | X21: 1
A22: TOTAL PAR CODE | C22: =SUM(C17:D21) -> 6 | E22: =SUM(E17:E21) -> 8 | F22: =SUM(F17:F21) -> 10 | G22: =SUM(G17:H21) -> 12 | I22: =SUM(I17:I21) -> 14 | J22: =SUM(J17:J21) -> 16 | K22: =SUM(K17:K21) -> 18 | L22: =SUM(L17:L21) -> 20 | M22: =SUM(M17:M21) -> 22 | N22: =SUM(N17:N21) -> 24 | O22: =SUM(O17:O21) -> 26 | P22: =SUM(P17:P21) -> 28 | ... T22: =SUM(T17:T21) -> 0 | U22: =SUM(C22:T22) -> 204 | W22: =SUM(W17:W21) -> 0 | X22: =SUM(X17:X21) -> 5 | Y22: =SUM(Y17:Y21) -> 0
A23: Astreinte (Hebdomadaire) | E23: SECURITE : Observations / Demandes | I23: VEHICULE : Observations / Demandes | W23: Signature technicien:
A25: Client / Site:
A27: Montant (€):
W28: Signature Responsable
A29: Imputation:

Sheet Technicien 2
F1: RELEVE D'HEURES HEBDOMADAIRE
A4: NOM | F4: PRENOM | I4: SEMAINE N° | L4: 47
A8: VEHICULE SOCIETE | E8: IMMATRICULATION | K8: Km au Compteur
A10: VEHICULE LOCATION | E10: IMMATRICULATION
A13: Code Chantier | C13: 393154 | E13: 383132 | F13: 353358 | G13: 353355 | I13: 353342 | J13: 353341 | K13: 353339 | L13: 353332 | M13: 353331 | N13: 353327 | O13: 343322 | P13: 343320 | Q13: 93 | R13: 91 | S13: 92 | T13: 91 | U13: TOTAL Heures / Jour | V13: Hotel | W13: Sans Découché
C14: DIVERS ELEC ALIX | E14: MAIRIE DE TOURS | F14: RABATERIE | G14: Genillé LA VARENNE | I14: MESANGERIE | J14: BASCLOS 9-10 | K14: BOIS AJONC 3 | L14: LES MISTRAIS 3&5 | M14: BEAUVERGER 3-4 | N14: AUTHON | O14: ETUDIANTS | P14: ROCHECORBON
A15: Lieu | Q15: Absences | W15: TR | X15: M | Y15: S
A16: JOUR | B16: DATE | Q16: Mal | R16: Rtt | S16: CP | T16: Férié | V16: O/N
A17: LUNDI | B17: 42324 | U17: =SUM(C17:T17) -> 0 | X17: 1
A18: MARDI | B18: 42325 | U18: =SUM(C18:T18) -> 0 | X18: 1
A19: MERCREDI | B19: 42326 | U19: =SUM(C19:T19) -> 0 | X19: 1
A20: JEUDI | B20: 42327 | U20: =SUM(C20:T20) -> 0 | X20: 1
A21: VENDREDI | B21: 42328 | U21: =SUM(C21:T21) -> 0 | X21: 1
A22: TOTAL PAR CODE | C22: =SUM(C17:D21) -> 0 | E22: =SUM(E17:E21) -> 0 | F22: =SUM(F17:F21) -> 0 | G22: =SUM(G17:H21) -> 0 | I22: =SUM(I17:I21) -> 0 | J22: =SUM(J17:J21) -> 0 | K22: =SUM(K17:K21) -> 0 | L22: =SUM(L17:L21) -> 0 | M22: =SUM(M17:M21) -> 0 | N22: =SUM(N17:N21) -> 0 | O22: =SUM(O17:O21) -> 0 | P22: =SUM(P17:P21) -> 0 | ... T22: =SUM(T17:T21) -> 0 | U22: =SUM(C22:T22) -> 0 | W22: =SUM(W17:W21) -> 0 | X22: =SUM(X17:X21) -> 5 | Y22: =SUM(Y17:Y21) -> 0
A23: Astreinte (Hebdomadaire) | E23: SECURITE : Observations / Demandes | I23: VEHICULE : Observations / Demandes | W23: Signature technicien:
A25: Client / Site:
A27: Montant (€):
W28: Signature Responsable
A29: Imputation:

Sheet Technicien 3
F1: RELEVE D'HEURES HEBDOMADAIRE
A4: NOM | F4: PRENOM | I4: SEMAINE N° | L4: 47
A8: VEHICULE SOCIETE | E8: IMMATRICULATION | K8: Km au Compteur
A10: VEHICULE LOCATION | E10: IMMATRICULATION
A13: Code Chantier | C13: 393154 | E13: 383132 | F13: 353358 | G13: 353355 | I13: 353342 | J13: 353341 | K13: 353339 | L13: 353332 | M13: 353331 | N13: 353327 | O13: 343322 | P13: 343320 | Q13: 93 | R13: 91 | S13: 92 | T13: 91 | U13: TOTAL Heures / Jour | V13: Hotel | W13: Sans Découché
C14: DIVERS ELEC ALIX | E14: MAIRIE DE TOURS | F14: RABATERIE | G14: Genillé LA VARENNE | I14: MESANGERIE | J14: BASCLOS 9-10 | K14: BOIS AJONC 3 | L14: LES MISTRAIS 3&5 | M14: BEAUVERGER 3-4 | N14: AUTHON | O14: ETUDIANTS | P14: ROCHECORBON
A15: Lieu | Q15: Absences | W15: TR | X15: M | Y15: S
A16: JOUR | B16: DATE | Q16: Mal | R16: Rtt | S16: CP | T16: Férié | V16: O/N
A17: LUNDI | B17: 42324 | U17: =SUM(C17:T17) -> 0 | X17: 1
A18: MARDI | B18: 42325 | U18: =SUM(C18:T18) -> 0 | X18: 1
A19: MERCREDI | B19: 42326 | U19: =SUM(C19:T19) -> 0 | X19: 1
A20: JEUDI | B20: 42327 | U20: =SUM(C20:T20) -> 0 | X20: 1
A21: VENDREDI | B21: 42328 | U21: =SUM(C21:T21) -> 0 | X21: 1
A22: TOTAL PAR CODE | C22: =SUM(C17:D21) -> 0 | E22: =SUM(E17:E21) -> 0 | F22: =SUM(F17:F21) -> 0 | G22: =SUM(G17:H21) -> 0 | I22: =SUM(I17:I21) -> 0 | J22: =SUM(J17:J21) -> 0 | K22: =SUM(K17:K21) -> 0 | L22: =SUM(L17:L21) -> 0 | M22: =SUM(M17:M21) -> 0 | N22: =SUM(N17:N21) -> 0 | O22: =SUM(O17:O21) -> 0 | P22: =SUM(P17:P21) -> 0 | ... T22: =SUM(T17:T21) -> 0 | U22: =SUM(C22:T22) -> 0 | W22: =SUM(W17:W21) -> 0 | X22: =SUM(X17:X21) -> 5 | Y22: =SUM(Y17:Y21) -> 0
A23: Astreinte (Hebdomadaire) | E23: SECURITE : Observations / Demandes | I23: VEHICULE : Observations / Demandes | W23: Signature technicien:
A25: Client / Site:
A27: Montant (€):
W28: Signature Responsable
A29: Imputation:

Sheet Technicien 4
F1: RELEVE D'HEURES HEBDOMADAIRE
A4: NOM | F4: PRENOM | I4: SEMAINE N° | L4: 47
A8: VEHICULE SOCIETE | E8: IMMATRICULATION | K8: Km au Compteur
A10: VEHICULE LOCATION | E10: IMMATRICULATION
A13: Code Chantier | C13: 393154 | E13: 383132 | F13: 353358 | G13: 353355 | I13: 353342 | J13: 353341 | K13: 353339 | L13: 353332 | M13: 353331 | N13: 353327 | O13: 343322 | P13: 343320 | Q13: 93 | R13: 91 | S13: 92 | T13: 91 | U13: TOTAL Heures / Jour | V13: Hotel | W13: Sans Découché
C14: DIVERS ELEC ALIX | E14: MAIRIE DE TOURS | F14: RABATERIE | G14: Genillé LA VARENNE | I14: MESANGERIE | J14: BASCLOS 9-10 | K14: BOIS AJONC 3 | L14: LES MISTRAIS 3&5 | M14: BEAUVERGER 3-4 | N14: AUTHON | O14: ETUDIANTS | P14: ROCHECORBON
A15: Lieu | Q15: Absences | W15: TR | X15: M | Y15: S
A16: JOUR | B16: DATE | Q16: Mal | R16: Rtt | S16: CP | T16: Férié | V16: O/N
A17: LUNDI | B17: 42324 | C17: 1 | E17: 1 | F17: 1 | G17: 1 | I17: 1 | J17: 1 | K17: 1 | L17: 1 | M17: 1 | N17: 1 | O17: 1 | P17: 1 | U17: =SUM(C17:T17) -> 12 | X17: 1
A18: MARDI | B18: 42325 | U18: =SUM(C18:T18) -> 0 | X18: 1
A19: MERCREDI | B19: 42326 | U19: =SUM(C19:T19) -> 0 | X19: 1
A20: JEUDI | B20: 42327 | U20: =SUM(C20:T20) -> 0 | X20: 1
A21: VENDREDI | B21: 42328 | U21: =SUM(C21:T21) -> 0 | X21: 1
A22: TOTAL PAR CODE | C22: =SUM(C17:D21) -> 1 | E22: =SUM(E17:E21) -> 1 | F22: =SUM(F17:F21) -> 1 | G22: =SUM(G17:H21) -> 1 | I22: =SUM(I17:I21) -> 1 | J22: =SUM(J17:J21) -> 1 | K22: =SUM(K17:K21) -> 1 | L22: =SUM(L17:L21) -> 1 | M22: =SUM(M17:M21) -> 1 | N22: =SUM(N17:N21) -> 1 | O22: =SUM(O17:O21) -> 1 | P22: =SUM(P17:P21) -> 1 | ... T22: =SUM(T17:T21) -> 0 | U22: =SUM(C22:T22) -> 12 | W22: =SUM(W17:W21) -> 0 | X22: =SUM(X17:X21) -> 5 | Y22: =SUM(Y17:Y21) -> 0
A23: Astreinte (Hebdomadaire) | E23: SECURITE : Observations / Demandes | I23: VEHICULE : Observations / Demandes | W23: Signature technicien:
A25: Client / Site:
A27: Montant (€):
W28: Signature Responsable
A29: Imputation:

Sheet Récapitulatif
AA1: Code Affaire | AB1: Chantier | AC1: Heures
B2: Code Affaire | C2: Chantier | D2: Heures | AA2: 393154 | AB2: DIVERS ELEC ALIX | AC2: =SUM('Technicien 1:Technicien 4'!$C$22) -> 7
B3: 393154 | C3: =VLOOKUP(B3,AA:AC,2,FALSE) -> DIVERS ELEC ALIX | D3: =VLOOKUP(B3,AA:AC,3,FALSE) -> 7 | AA3: 383132 | AB3: MAIRIE DE TOURS | AC3: =SUM('Technicien 1:Technicien 4'!$E$22) -> 9
AA4: 353358 | AB4: VTH- ST PIERRE DES CORPS - RABATERIE | AC4: =SUM('Technicien 1:Technicien 4'!$F$22) -> 11
AA5: 353355 | AB5: VTH - GENILLE - LA VARENNE | AC5: =SUM('Technicien 1:Technicien 4'!$G$22) -> 13
AA6: 353342 | AB6: VTH-ST CYR MESANGERIE 80 LOGTS | AC6: =SUM('Technicien 1:Technicien 4'!$I$22) -> 15
AA7: 353341 | AB7: VTH-LOCHES BASCLOS 9-10 50LOGTS | AC7: =SUM('Technicien 1:Technicien 4'!$J$22) -> 17
AA8: 353339 | AB8: VTH-RICHELIEU BOIS AJONC 3 | AC8: =SUM('Technicien 1:Technicien 4'!$K$22) -> 19
AA9: 353332 | AB9: VTH- LANGEAIS LES MISTRAIS | AC9: =SUM('Technicien 1:Technicien 4'!$L$22) -> 21
AA10: 353331 | AB10: VTH-BEAUVERGER 3-4 | AC10: =SUM('Technicien 1:Technicien 4'!$M$22) -> 23
AA11: 353327 | AB11: VTH-AUTHON ETANG DUREAU | AC11: =SUM('Technicien 1:Technicien 4'!$N$22) -> 25
AA12: 343322 | AB12: SEM ETUDIANTS | AC12: =SUM('Technicien 1:Technicien 4'!$O$22) -> 27
AA13: 343320 | AB13: VTH- ROCHECORBON - LE MOULIN | AC13: =SUM('Technicien 1:Technicien 4'!$P$22) -> 29
