Workbook

Sheet Production
A1: Flow | B1: Chassis | C1: Delivery Unit | D1: RECEIVER | E1: Plan Date | F1: Opt.Start | G1: Avance / Retard | H1: Linset | I1: Customer date | J1: Engine Family | K1: Statut | L1: Demande | M1: N° Seq | N1: SSAR
A2: 20 | B2: VP-232112 | C2: 40998187 | D2: 8403 | E2: 2014332 | F2: 2014333 | G2: Advance | I2: 2014363 | J2: 8L | K2: non-connecté | M2: 1 | N2: =IF(E2<>E3,"OK",IFERROR(IF(CONCATENATE(E2,M2+1)=CONCATENATE(E3,M3),"OK","NOK"),"")) -> OK | O2: =IFERROR(INDEX(Planification!F:F,MATCH(Production!C2,Planification!F:F,0)),"") -> 40998187
A3: C | B3: B5TL-169983 | C3: 40997260 | D3: 1024 | E3: 2014332 | F3: 2014284 | G3: Late | H3: 1016 | I3: 2014345 | J3: 5L | K3: non-connecté | M3: 2 | N3: =IF(E3<>E4,"OK",IFERROR(IF(CONCATENATE(E3,M3+1)=CONCATENATE(E4,M4),"OK","NOK"),"")) -> OK | O3: =IFERROR(INDEX(Planification!F:F,MATCH(Production!C3,Planification!F:F,0)),"") -> 40997260
A4: C | B4: B5TL-169984 | C4: 40997262 | D4: 1024 | E4: 2014332 | F4: 2014284 | G4: Late | H4: 1018 | I4: 2014345 | J4: 5L | K4: non-connecté | M4: 3 | N4: =IF(E4<>E5,"OK",IFERROR(IF(CONCATENATE(E4,M4+1)=CONCATENATE(E5,M5),"OK","NOK"),"")) -> OK | O4: =IFERROR(INDEX(Planification!F:F,MATCH(Production!C4,Planification!F:F,0)),"") -> 40997262
A5: C | B5: B5TL-169985 | C5: 40997264 | D5: 1024 | E5: 2014332 | F5: 2014284 | G5: Late | H5: 1020 | I5: 2014345 | J5: 5L | K5: non-connecté | M5: 4 | N5: =IF(E5<>E6,"OK",IFERROR(IF(CONCATENATE(E5,M5+1)=CONCATENATE(E6,M6),"OK","NOK"),"")) -> OK | O5: =IFERROR(INDEX(Planification!F:F,MATCH(Production!C5,Planification!F:F,0)),"") -> 40997264
A6: C | B6: B5TL-169986 | C6: 40997266 | D6: 1024 | E6: 2014332 | F6: 2014284 | G6: Late | H6: 1022 | I6: 2014345 | J6: 5L | K6: non-connecté | M6: 5 | N6: =IF(E6<>E7,"OK",IFERROR(IF(CONCATENATE(E6,M6+1)=CONCATENATE(E7,M7),"OK","NOK"),"")) -> OK | O6: =IFERROR(INDEX(Planification!F:F,MATCH(Production!C6,Planification!F:F,0)),"") -> 40997266
A7: C | B7: B5TL-169987 | C7: 40997789 | D7: 1024 | E7: 2014332 | F7: 2014284 | G7: Late | H7: 1052 | I7: 2014345 | J7: 5L | K7: non-connecté | M7: 6 | N7: =IF(E7<>E8,"OK",IFERROR(IF(CONCATENATE(E7,M7+1)=CONCATENATE(E8,M8),"OK","NOK"),"")) -> OK | O7: =IFERROR(INDEX(Planification!F:F,MATCH(Production!C7,Planification!F:F,0)),"") -> 40997789
A8: C | B8: B5TL-169988 | C8: 40997788 | D8: 1024 | E8: 2014332 | F8: 2014284 | G8: Late | H8: 1054 | I8: 2014345 | J8: 5L | K8: non-connecté | M8: 7 | N8: =IF(E8<>E9,"OK",IFERROR(IF(CONCATENATE(E8,M8+1)=CONCATENATE(E9,M9),"OK","NOK"),"")) -> OK | O8: =IFERROR(INDEX(Planification!F:F,MATCH(Production!C8,Planification!F:F,0)),"") -> 40997788
A9: C | B9: B5LH-170037 | C9: 41007405 | D9: 1024 | E9: 2014332 | F9: 2014334 | G9: Advance | H9: 2002 | I9: 2014351 | J9: 5L | K9: non-connecté | M9: 8 | N9: =IF(E9<>E10,"OK",IFERROR(IF(CONCATENATE(E9,M9+1)=CONCATENATE(E10,M10),"OK","NOK"),"")) -> OK | O9: =IFERROR(INDEX(Planification!F:F,MATCH(Production!C9,Planification!F:F,0)),"") -> 41007405
A10: C | B10: B5LH-170038 | C10: 41007386 | D10: 1024 | E10: 2014332 | F10: 2014334 | G10: Advance | H10: 2004 | I10: 2014351 | J10: 5L | K10: non-connecté | M10: 9 | N10: =IF(E10<>E11,"OK",IFERROR(IF(CONCATENATE(E10,M10+1)=CONCATENATE(E11,M11),"OK","NOK"),"")) -> OK | O10: =IFERROR(INDEX(Planification!F:F,MATCH(Production!C10,Planification!F:F,0)),"") -> 41007386
A11: 20 | B11: VP-232142 | C11: 41010555 | D11: 8403 | E11: 2014332 | F11: 2014333 | G11: Advance | I11: 2014363 | J11: 8L | K11: non-connecté | M11: 10 | N11: =IF(E11<>E12,"OK",IFERROR(IF(CONCATENATE(E11,M11+1)=CONCATENATE(E12,M12),"OK","NOK"),"")) -> OK | O11: =IFERROR(INDEX(Planification!F:F,MATCH(Production!C11,Planification!F:F,0)),"") -> 41010555
A12: C | B12: B5LH-170039 | C12: 41007390 | D12: 1024 | E12: 2014332 | F12: 2014334 | G12: Advance | H12: 2006 | I12: 2014351 | J12: 5L | K12: non-connecté | M12: 11 | N12: =IF(E12<>E13,"OK",IFERROR(IF(CONCATENATE(E12,M12+1)=CONCATENATE(E13,M13),"OK","NOK"),"")) -> OK | O12: =IFERROR(INDEX(Planification!F:F,MATCH(Production!C12,Planification!F:F,0)),"") -> 41007390
A13: C | B13: B5LH-170040 | C13: 41007393 | D13: 1024 | E13: 2014332 | F13: 2014334 | G13: Advance | H13: 2009 | I13: 2014351 | J13: 5L | K13: non-connecté | M13: 12 | N13: =IF(E13<>E14,"OK",IFERROR(IF(CONCATENATE(E13,M13+1)=CONCATENATE(E14,M14),"OK","NOK"),"")) -> OK | O13: =IFERROR(INDEX(Planification!F:F,MATCH(Production!C13,Planification!F:F,0)),"") -> 41007393
A14: C | B14: B5LH-170041 | C14: 41007395 | D14: 1024 | E14: 2014332 | F14: 2014334 | G14: Advance | H14: 2011 | I14: 2014351 | J14: 5L | K14: non-connecté | M14: 13 | N14: =IF(E14<>E15,"OK",IFERROR(IF(CONCATENATE(E14,M14+1)=CONCATENATE(E15,M15),"OK","NOK"),"")) -> OK | O14: =IFERROR(INDEX(Planification!F:F,MATCH(Production!C14,Planification!F:F,0)),"") -> 41007395
A15: L7 | B15: Z-100231 | C15: 41008764 | D15: 35884 | E15: 2014332 | F15: 2014341 | G15: Advance | H15: 5171 | I15: 2014351 | J15: 8L | K15: non-connecté | M15: 14 | N15: =IF(E15<>E16,"OK",IFERROR(IF(CONCATENATE(E15,M15+1)=CONCATENATE(E16,M16),"OK","NOK"),"")) -> OK | O15: =IFERROR(INDEX(Planification!F:F,MATCH(Production!C15,Planification!F:F,0)),"") -> 41008764
A16: L7 | B16: J40J2-740 | C16: 41004899 | D16: 35884 | E16: 2014332 | F16: 2014341 | G16: Advance | H16: 5172 | I16: 2014351 | J16: 5L | K16: non-connecté | M16: 15 | N16: =IF(E16<>E17,"OK",IFERROR(IF(CONCATENATE(E16,M16+1)=CONCATENATE(E17,M17),"OK","NOK"),"")) -> OK | O16: =IFERROR(INDEX(Planification!F:F,MATCH(Production!C16,Planification!F:F,0)),"") -> 41004899
A17: L7 | B17: J20DJ-450 | C17: 40954462 | D17: 35884 | E17: 2014332 | F17: 2014341 | G17: Advance | H17: 5173 | I17: 2014351 | J17: 8L | K17: non-connecté | M17: 16 | N17: =IF(E17<>E18,"OK",IFERROR(IF(CONCATENATE(E17,M17+1)=CONCATENATE(E18,M18),"OK","NOK"),"")) -> OK | O17: =IFERROR(INDEX(Planification!F:F,MATCH(Production!C17,Planification!F:F,0)),"") -> 40954462
A18: L7 | B18: Z-100235 | C18: 40993329 | D18: 35884 | E18: 2014332 | F18: 2014341 | G18: Advance | H18: 5174 | I18: 2014351 | J18: 8L | K18: non-connecté | M18: 17 | N18: =IF(E18<>E19,"OK",IFERROR(IF(CONCATENATE(E18,M18+1)=CONCATENATE(E19,M19),"OK","NOK"),"")) -> OK | O18: =IFERROR(INDEX(Planification!F:F,MATCH(Production!C18,Planification!F:F,0)),"") -> 40993329
A19: L7 | B19: Z-100237 | C19: 41002187 | D19: 35884 | E19: 2014332 | F19: 2014341 | G19: Advance | H19: 5177 | I19: 2014351 | J19: 5L | K19: non-connecté | M19: 18 | N19: =IF(E19<>E20,"OK",IFERROR(IF(CONCATENATE(E19,M19+1)=CONCATENATE(E20,M20),"OK","NOK"),"")) -> OK | O19: =IFERROR(INDEX(Planification!F:F,MATCH(Production!C19,Planification!F:F,0)),"") -> 41002187
A20: 20 | B20: VP-232276 | C20: 41004018 | D20: 8403 | E20: 2014332 | F20: 2014341 | G20: Advance | I20: 2014365 | J20: 8L | K20: non-connecté | M20: 19 | N20: =IF(E20<>E21,"OK",IFERROR(IF(CONCATENATE(E20,M20+1)=CONCATENATE(E21,M21),"OK","NOK"),"")) -> OK | O20: =IFERROR(INDEX(Planification!F:F,MATCH(Production!C20,Planification!F:F,0)),"") -> 41004018
A21: L7 | B21: J40J2-741 | C21: 40992644 | D21: 35884 | E21: 2014332 | F21: 2014341 | G21: Advance | H21: 5179 | I21: 2014351 | J21: 5L | K21: non-connecté | M21: 20 | N21: =IF(E21<>E22,"OK",IFERROR(IF(CONCATENATE(E21,M21+1)=CONCATENATE(E22,M22),"OK","NOK"),"")) -> OK | O21: =IFERROR(INDEX(Planification!F:F,MATCH(Production!C21,Planification!F:F,0)),"") -> 40992644
A22: L7 | B22: J20DJ-451 | C22: 40989005 | D22: 35884 | E22: 2014332 | F22: 2014341 | G22: Advance | H22: 5180 | I22: 2014351 | J22: 8L | K22: non-connecté | M22: 21 | N22: =IF(E22<>E23,"OK",IFERROR(IF(CONCATENATE(E22,M22+1)=CONCATENATE(E23,M23),"OK","NOK"),"")) -> OK | O22: =IFERROR(INDEX(Planification!F:F,MATCH(Production!C22,Planification!F:F,0)),"") -> 40989005
A23: L7 | B23: J20DM-270 | C23: 40997345 | D23: 35884 | E23: 2014332 | F23: 2014341 | G23: Advance | H23: 5183 | I23: 2014351 | J23: 8L | K23: non-connecté | M23: 22 | N23: =IF(E23<>E24,"OK",IFERROR(IF(CONCATENATE(E23,M23+1)=CONCATENATE(E24,M24),"OK","NOK"),"")) -> OK | O23: =IFERROR(INDEX(Planification!F:F,MATCH(Production!C23,Planification!F:F,0)),"") -> 40997345
A24: L7 | B24: J40J2-743 | C24: 40982049 | D24: 35884 | E24: 2014332 | F24: 2014341 | G24: Advance | H24: 5184 | I24: 2014351 | J24: 5L | K24: non-connecté | M24: 23 | N24: =IF(E24<>E25,"OK",IFERROR(IF(CONCATENATE(E24,M24+1)=CONCATENATE(E25,M25),"OK","NOK"),"")) -> OK | O24: =IFERROR(INDEX(Planification!F:F,MATCH(Production!C24,Planification!F:F,0)),"") -> 40982049
A25: L7 | B25: J20DJ-452 | C25: 40994510 | D25: 35884 | E25: 2014332 | F25: 2014341 | G25: Advance | H25: 5185 | I25: 2014351 | J25: 8L | K25: non-connecté | M25: 24 | N25: =IF(E25<>E26,"OK",IFERROR(IF(CONCATENATE(E25,M25+1)=CONCATENATE(E26,M26),"OK","NOK"),"")) -> OK | O25: =IFERROR(INDEX(Planification!F:F,MATCH(Production!C25,Planification!F:F,0)),"") -> 40994510
A26: L7 | B26: J20DJ-453 | C26: 41004886 | D26: 35884 | E26: 2014332 | F26: 2014341 | G26: Advance | H26: 5187 | I26: 2014351 | J26: 8L | K26: non-connecté | M26: 25 | N26: =IF(E26<>E27,"OK",IFERROR(IF(CONCATENATE(E26,M26+1)=CONCATENATE(E27,M27),"OK","NOK"),"")) -> OK | O26: =IFERROR(INDEX(Planification!F:F,MATCH(Production!C26,Planification!F:F,0)),"") -> 41004886
A27: P | B27: B8R-169888 | C27: 41002081 | D27: 4761 | E27: 2014332 | F27: 2014341 | G27: Advance | H27: 2018 | I27: 2014352 | J27: 8L | K27: non-connecté | M27: 26 | N27: =IF(E27<>E28,"OK",IFERROR(IF(CONCATENATE(E27,M27+1)=CONCATENATE(E28,M28),"OK","NOK"),"")) -> OK | O27: =IFERROR(INDEX(Planification!F:F,MATCH(Production!C27,Planification!F:F,0)),"") -> 41002081
A28: P | B28: B8R-169890 | C28: 41002080 | D28: 4761 | E28: 2014332 | F28: 2014341 | G28: Advance | H28: 2020 | I28: 2014352 | J28: 8L | K28: non-connecté | M28: 27 | N28: =IF(E28<>E29,"OK",IFERROR(IF(CONCATENATE(E28,M28+1)=CONCATENATE(E29,M29),"OK","NOK"),"")) -> OK | O28: =IFERROR(INDEX(Planification!F:F,MATCH(Production!C28,Planification!F:F,0)),"") -> 41002080
A29: C | B29: B5TL-170053 | C29: 40997261 | D29: 1024 | E29: 2014332 | F29: 2014334 | G29: Advance | H29: 3008 | I29: 2014352 | J29: 5L | K29: non-connecté | M29: 28 | N29: =IF(E29<>E30,"OK",IFERROR(IF(CONCATENATE(E29,M29+1)=CONCATENATE(E30,M30),"OK","NOK"),"")) -> OK | O29: =IFERROR(INDEX(Planification!F:F,MATCH(Production!C29,Planification!F:F,0)),"") -> 40997261
A30: C | B30: B5TL-170054 | C30: 40997263 | D30: 1024 | E30: 2014332 | F30: 2014334 | G30: Advance | H30: 3010 | I30: 2014352 | J30: 5L | K30: non-connecté | M30: 29 | N30: =IF(E30<>E31,"OK",IFERROR(IF(CONCATENATE(E30,M30+1)=CONCATENATE(E31,M31),"OK","NOK"),"")) -> OK | O30: =IFERROR(INDEX(Planification!F:F,MATCH(Production!C30,Planification!F:F,0)),"") -> 40997263
A31: 1 | C31: 41017669 | D31: 31971 | E31: 2014333 | F31: 2014284 | G31: Late | I31: 2014334 | J31: 5L | K31: non-connecté | M31: 1 | N31: =IF(E31<>E32,"OK",IFERROR(IF(CONCATENATE(E31,M31+1)=CONCATENATE(E32,M32),"OK","NOK"),"")) -> OK | O31: =IFERROR(INDEX(Planification!F:F,MATCH(Production!C31,Planification!F:F,0)),"") -> 41017669
A32: 1 | C32: 41014575 | D32: 14489 | E32: 2014333 | F32: 2014284 | G32: Late | I32: 2014335 | J32: 8L | K32: non-connecté | M32: 2 | N32: =IF(E32<>E33,"OK",IFERROR(IF(CONCATENATE(E32,M32+1)=CONCATENATE(E33,M33),"OK","NOK"),"")) -> OK | O32: =IFERROR(INDEX(Planification!F:F,MATCH(Production!C32,Planification!F:F,0)),"") -> 41014575
A33: 1 | C33: 41014576 | D33: 14489 | E33: 2014333 | F33: 2014284 | G33: Late | I33: 2014335 | J33: 8L | K33: non-connecté | M33: 3 | N33: =IF(E33<>E34,"OK",IFERROR(IF(CONCATENATE(E33,M33+1)=CONCATENATE(E34,M34),"OK","NOK"),"")) -> OK | O33: =IFERROR(INDEX(Planification!F:F,MATCH(Production!C33,Planification!F:F,0)),"") -> 41014576
A34: PM | C34: 40981502 | D34: 31972 | E34: 2014333 | F34: 2014341 | G34: Advance | I34: 2014345 | J34: 5L | K34: non-connecté | M34: 4 | N34: =IF(E34<>E35,"OK",IFERROR(IF(CONCATENATE(E34,M34+1)=CONCATENATE(E35,M35),"OK","NOK"),"")) -> OK | O34: =IFERROR(INDEX(Planification!F:F,MATCH(Production!C34,Planification!F:F,0)),"") -> 40981502
A35: L7 | B35: Z-100234 | C35: 40997670 | D35: 35884 | E35: 2014333 | F35: 2014341 | G35: Advance | H35: 5188 | I35: 2014351 | J35: 8L | K35: non-connecté | M35: 5 | N35: =IF(E35<>E36,"OK",IFERROR(IF(CONCATENATE(E35,M35+1)=CONCATENATE(E36,M36),"OK","NOK"),"")) -> OK | O35: =IFERROR(INDEX(Planification!F:F,MATCH(Production!C35,Planification!F:F,0)),"") -> 40997670
A36: L7 | B36: J20DM-271 | C36: 40992299 | D36: 35884 | E36: 2014333 | F36: 2014341 | G36: Advance | H36: 5189 | I36: 2014351 | J36: 8L | K36: non-connecté | M36: 6 | N36: =IF(E36<>E37,"OK",IFERROR(IF(CONCATENATE(E36,M36+1)=CONCATENATE(E37,M37),"OK","NOK"),"")) -> OK | O36: =IFERROR(INDEX(Planification!F:F,MATCH(Production!C36,Planification!F:F,0)),"") -> 40992299
A37: L7 | B37: Z-100238 | C37: 40993328 | D37: 35884 | E37: 2014333 | F37: 2014341 | G37: Advance | H37: 5190 | I37: 2014351 | J37: 8L | K37: non-connecté | M37: 7 | N37: =IF(E37<>E38,"OK",IFERROR(IF(CONCATENATE(E37,M37+1)=CONCATENATE(E38,M38),"OK","NOK"),"")) -> OK | O37: =IFERROR(INDEX(Planification!F:F,MATCH(Production!C37,Planification!F:F,0)),"") -> 40993328
A38: L7 | B38: J40J2-742 | C38: 40992639 | D38: 35884 | E38: 2014333 | F38: 2014341 | G38: Advance | H38: 5191 | I38: 2014351 | J38: 5L | K38: non-connecté | M38: 8 | N38: =IF(E38<>E39,"OK",IFERROR(IF(CONCATENATE(E38,M38+1)=CONCATENATE(E39,M39),"OK","NOK"),"")) -> OK | O38: =IFERROR(INDEX(Planification!F:F,MATCH(Production!C38,Planification!F:F,0)),"") -> 40992639
A39: L7 | B39: Z-100242 | C39: 41007635 | D39: 35884 | E39: 2014333 | F39: 2014341 | G39: Advance | H39: 5194 | I39: 2014351 | J39: 8L | K39: non-connecté | M39: 9 | N39: =IF(E39<>E40,"OK",IFERROR(IF(CONCATENATE(E39,M39+1)=CONCATENATE(E40,M40),"OK","NOK"),"")) -> OK | O39: =IFERROR(INDEX(Planification!F:F,MATCH(Production!C39,Planification!F:F,0)),"") -> 41007635
A40: L7 | B40: Z-100241 | C40: 41002188 | D40: 35884 | E40: 2014333 | F40: 2014341 | G40: Advance | H40: 5195 | I40: 2014351 | J40: 5L | K40: non-connecté | M40: 10 | N40: =IF(E40<>E41,"OK",IFERROR(IF(CONCATENATE(E40,M40+1)=CONCATENATE(E41,M41),"OK","NOK"),"")) -> OK | O40: =IFERROR(INDEX(Planification!F:F,MATCH(Production!C40,Planification!F:F,0)),"") -> 41002188
...

Sheet Planification
A1: N° Séquence | B1: Date | C1: Time | D1: Locked | E1: Ordertype | F1: Delivery Unit | G1: Receiver | H1: BatchGrp | I1: Opt.Start | J1: Flow | K1: Customer date | L1: Lineset no. | M1: ChassiId | N1: Cpo id | O1: Sending No. | P1: Qty | Q1: Partno. ch | R1: Ch. Type | S1: Order id | T1: End factory | U1: Customer time | V1: Engine fam. | W1: Product ID | X1: Prod.Flow | Y1: Com-No | Z1: Opt.End | AA1: Customer | AB1: Comment | AC1: Alt. Flow | AD1: Cop | AE1: PT Group | AF1: Goods Mark | AG1: Material Chk
A2: =INDEX(Production!M:M,MATCH(Planification!F2,Production!C:C,0)) -> 1 | B2: 2014332 | C2: 545 | D2: 40998187 | E2: FIRM | F2: 40998187 | G2: 8403 | H2: 64 | I2: 2014333 | J2: 20 | K2: 2014363 | M2: 232112 | N2: 283304181 | Q2: 40000129 | R2: VP | S2: 186105 | T2: 30 | V2: 8 | W2: 184646 | X2: 68 | Z2: 2014351 | AA2: 41378 | AE2: FALLBACK | AG2: -
A3: =INDEX(Production!M:M,MATCH(Planification!F3,Production!C:C,0)) -> 2 | B3: 2014332 | C3: 600 | D3: 40997260 | E3: FIRM | F3: 40997260 | G3: 1024 | H3: 63 | I3: 2014284 | J3: C | K3: 2014345 | L3: 1016 | M3: 169983 | N3: 282857412 | Q3: 83025312 | R3: B5TL | S3: 402526 | T3: 80 | U3: 1300 | V3: 50 | W3: 188580 | X3: 47 | Z3: 2014334 | AA3: 1024 | AE3: 21997524 | AG3: -
A4: =INDEX(Production!M:M,MATCH(Planification!F4,Production!C:C,0)) -> 3 | B4: 2014332 | C4: 615 | D4: 40997262 | E4: FIRM | F4: 40997262 | G4: 1024 | H4: 63 | I4: 2014284 | J4: C | K4: 2014345 | L4: 1018 | M4: 169984 | N4: 282857420 | Q4: 83025312 | R4: B5TL | S4: 402527 | T4: 80 | U4: 1300 | V4: 50 | W4: 188580 | X4: 47 | Z4: 2014334 | AA4: 1024 | AE4: 21997524 | AG4: -
A5: =INDEX(Production!M:M,MATCH(Planification!F5,Production!C:C,0)) -> 4 | B5: 2014332 | C5: 630 | D5: 40997264 | E5: FIRM | F5: 40997264 | G5: 1024 | H5: 63 | I5: 2014284 | J5: C | K5: 2014345 | L5: 1020 | M5: 169985 | N5: 282857428 | Q5: 83025312 | R5: B5TL | S5: 402528 | T5: 80 | U5: 1300 | V5: 50 | W5: 188580 | X5: 47 | Z5: 2014334 | AA5: 1024 | AE5: 21997524 | AG5: -
A6: =INDEX(Production!M:M,MATCH(Planification!F6,Production!C:C,0)) -> 5 | B6: 2014332 | C6: 645 | D6: 40997266 | E6: FIRM | F6: 40997266 | G6: 1024 | H6: 63 | I6: 2014284 | J6: C | K6: 2014345 | L6: 1022 | M6: 169986 | N6: 282857436 | Q6: 83025312 | R6: B5TL | S6: 402529 | T6: 80 | U6: 1300 | V6: 50 | W6: 188580 | X6: 47 | Z6: 2014334 | AA6: 1024 | AE6: 21997524 | AG6: -
A7: =INDEX(Production!M:M,MATCH(Planification!F7,Production!C:C,0)) -> 6 | B7: 2014332 | C7: 700 | D7: 40997789 | E7: FIRM | F7: 40997789 | G7: 1024 | H7: 63 | I7: 2014284 | J7: C | K7: 2014345 | L7: 1052 | M7: 169987 | N7: 283131227 | Q7: 83025312 | R7: B5TL | S7: 402812 | T7: 80 | U7: 1300 | V7: 50 | W7: 188580 | X7: 47 | Z7: 2014334 | AA7: 1024 | AE7: 21997524 | AG7: -
A8: =INDEX(Production!M:M,MATCH(Planification!F8,Production!C:C,0)) -> 7 | B8: 2014332 | C8: 715 | D8: 40997788 | E8: FIRM | F8: 40997788 | G8: 1024 | H8: 63 | I8: 2014284 | J8: C | K8: 2014345 | L8: 1054 | M8: 169988 | N8: 283131223 | Q8: 83025312 | R8: B5TL | S8: 402813 | T8: 80 | U8: 1300 | V8: 50 | W8: 188580 | X8: 47 | Z8: 2014334 | AA8: 1024 | AE8: 21997524 | AG8: -
A9: =INDEX(Production!M:M,MATCH(Planification!F9,Production!C:C,0)) -> 8 | B9: 2014332 | C9: 730 | D9: 41007405 | E9: FIRM | F9: 41007405 | G9: 1024 | H9: 63 | I9: 2014334 | J9: C | K9: 2014351 | L9: 2002 | M9: 170037 | N9: 287127030 | Q9: 83025327 | R9: B5LH | S9: 403600 | T9: 80 | U9: 1300 | V9: 50 | W9: 188744 | X9: 50012 | Z9: 2014342 | AA9: 1024 | AC9: Y | AE9: 21997524 | AG9: -
A10: =INDEX(Production!M:M,MATCH(Planification!F10,Production!C:C,0)) -> 9 | B10: 2014332 | C10: 745 | D10: 41007386 | E10: FIRM | F10: 41007386 | G10: 1024 | H10: 63 | I10: 2014334 | J10: C | K10: 2014351 | L10: 2004 | M10: 170038 | N10: 287126954 | Q10: 83025327 | R10: B5LH | S10: 403601 | T10: 80 | U10: 1300 | V10: 50 | W10: 188744 | X10: 50012 | Z10: 2014342 | AA10: 1024 | AC10: Y | AE10: 21997524 | AG10: -
A11: =INDEX(Production!M:M,MATCH(Planification!F11,Production!C:C,0)) -> 10 | B11: 2014332 | C11: 815 | D11: 41010555 | E11: FIRM | F11: 41010555 | G11: 8403 | H11: 64 | I11: 2014333 | J11: 20 | K11: 2014363 | M11: 232142 | N11: 288404155 | Q11: 40000129 | R11: VP | S11: 188199 | T11: 30 | V11: 8 | W11: 187665 | X11: 68 | Z11: 2014351 | AA11: 41378 | AE11: FALLBACK | AG11: -
A12: =INDEX(Production!M:M,MATCH(Planification!F12,Production!C:C,0)) -> 11 | B12: 2014332 | C12: 830 | D12: 41007390 | E12: FIRM | F12: 41007390 | G12: 1024 | H12: 63 | I12: 2014334 | J12: C | K12: 2014351 | L12: 2006 | M12: 170039 | N12: 287126970 | Q12: 83025327 | R12: B5LH | S12: 403602 | T12: 80 | U12: 1300 | V12: 50 | W12: 188744 | X12: 50012 | Z12: 2014342 | AA12: 1024 | AC12: Y | AE12: 21997524 | AG12: -
A13: =INDEX(Production!M:M,MATCH(Planification!F13,Production!C:C,0)) -> 12 | B13: 2014332 | C13: 845 | D13: 41007393 | E13: FIRM | F13: 41007393 | G13: 1024 | H13: 63 | I13: 2014334 | J13: C | K13: 2014351 | L13: 2009 | M13: 170040 | N13: 287126978 | Q13: 83025327 | R13: B5LH | S13: 403603 | T13: 80 | U13: 1300 | V13: 50 | W13: 188744 | X13: 44 | Z13: 2014342 | AA13: 1024 | AE13: 21997524 | AG13: -
A14: =INDEX(Production!M:M,MATCH(Planification!F14,Production!C:C,0)) -> 13 | B14: 2014332 | C14: 900 | D14: 41007395 | E14: FIRM | F14: 41007395 | G14: 1024 | H14: 63 | I14: 2014334 | J14: C | K14: 2014351 | L14: 2011 | M14: 170041 | N14: 287126990 | Q14: 83025327 | R14: B5LH | S14: 403604 | T14: 80 | U14: 1300 | V14: 50 | W14: 188744 | X14: 44 | Z14: 2014342 | AA14: 1024 | AE14: 21997524 | AG14: -
A15: =INDEX(Production!M:M,MATCH(Planification!F15,Production!C:C,0)) -> 14 | B15: 2014332 | C15: 915 | D15: 41008764 | E15: FIRM | F15: 41008764 | G15: 35884 | H15: 63 | I15: 2014341 | J15: L7 | K15: 2014351 | L15: 5171 | M15: 100231 | N15: 287891873 | Q15: 83025422 | R15: Z | S15: T001230 | T15: 21 | V15: 8 | W15: 188766 | X15: 44 | Z15: 2014343 | AA15: 35884 | AE15: 21997525 | AG15: -
A16: =INDEX(Production!M:M,MATCH(Planification!F16,Production!C:C,0)) -> 15 | B16: 2014332 | C16: 930 | D16: 41004899 | E16: FIRM | F16: 41004899 | G16: 35884 | H16: 63 | I16: 2014341 | J16: L7 | K16: 2014351 | L16: 5172 | M16: 740 | N16: 286482802 | Q16: 83032547 | R16: J40J2 | S16: 1880215 | T16: 21 | V16: 50 | W16: 188713 | X16: 44 | Z16: 2014343 | AA16: 35884 | AE16: 21997524 | AG16: -
A17: =INDEX(Production!M:M,MATCH(Planification!F17,Production!C:C,0)) -> 16 | B17: 2014332 | C17: 945 | D17: 40954462 | E17: FIRM | F17: 40954462 | G17: 35884 | H17: 63 | I17: 2014341 | J17: L7 | K17: 2014351 | L17: 5173 | M17: 450 | N17: 266484167 | Q17: 83025375 | R17: J20DJ | S17: 1862718 | T17: 21 | V17: 8 | W17: 188581 | X17: 44 | Z17: 2014343 | AA17: 35884 | AE17: 21997525 | AG17: -
A18: =INDEX(Production!M:M,MATCH(Planification!F18,Production!C:C,0)) -> 17 | B18: 2014332 | C18: 1000 | D18: 40993329 | E18: FIRM | F18: 40993329 | G18: 35884 | H18: 63 | I18: 2014341 | J18: L7 | K18: 2014351 | L18: 5174 | M18: 100235 | N18: 281146654 | Q18: 83032269 | R18: Z | S18: T000721 | T18: 21 | V18: 8 | W18: 188545 | X18: 44 | Z18: 2014343 | AA18: 35884 | AE18: 21997525 | AG18: -
A19: =INDEX(Production!M:M,MATCH(Planification!F19,Production!C:C,0)) -> 18 | B19: 2014332 | C19: 1015 | D19: 41002187 | E19: FIRM | F19: 41002187 | G19: 35884 | H19: 63 | I19: 2014341 | J19: L7 | K19: 2014351 | L19: 5177 | M19: 100237 | N19: 284926610 | Q19: 83025406 | R19: Z | S19: T001056 | T19: 21 | V19: 50 | W19: 188672 | X19: 44 | Z19: 2014343 | AA19: 35884 | AE19: 21997524 | AG19: -
A20: =INDEX(Production!M:M,MATCH(Planification!F20,Production!C:C,0)) -> 19 | B20: 2014332 | C20: 1030 | D20: 41004018 | E20: FIRM | F20: 41004018 | G20: 8403 | H20: 64 | I20: 2014341 | J20: 20 | K20: 2014365 | M20: 232276 | N20: 285845274 | Q20: 40000129 | R20: VP | S20: 187176 | T20: 30 | V20: 8 | W20: 185264 | X20: 68 | Z20: 2014353 | AA20: 41378 | AE20: FALLBACK | AG20: -
A21: =INDEX(Production!M:M,MATCH(Planification!F21,Production!C:C,0)) -> 20 | B21: 2014332 | C21: 1045 | D21: 40992644 | E21: FIRM | F21: 40992644 | G21: 35884 | H21: 63 | I21: 2014341 | J21: L7 | K21: 2014351 | L21: 5179 | M21: 741 | N21: 280856587 | Q21: 83025377 | R21: J40J2 | S21: 1870959 | T21: 21 | V21: 50 | W21: 188514 | X21: 44 | Z21: 2014343 | AA21: 35884 | AE21: 21997524 | AG21: -
A22: =INDEX(Production!M:M,MATCH(Planification!F22,Production!C:C,0)) -> 21 | B22: 2014332 | C22: 1130 | D22: 40989005 | E22: FIRM | F22: 40989005 | G22: 35884 | H22: 63 | I22: 2014341 | J22: L7 | K22: 2014351 | L22: 5180 | M22: 451 | N22: 279311794 | Q22: 83025375 | R22: J20DJ | S22: 1874437 | T22: 21 | V22: 8 | W22: 188581 | X22: 44 | Z22: 2014343 | AA22: 35884 | AE22: 21997525 | AG22: -
A23: =INDEX(Production!M:M,MATCH(Planification!F23,Production!C:C,0)) -> 22 | B23: 2014332 | C23: 1145 | D23: 40997345 | E23: FIRM | F23: 40997345 | G23: 35884 | H23: 63 | I23: 2014341 | J23: L7 | K23: 2014351 | L23: 5183 | M23: 270 | N23: 282975189 | Q23: 83025384 | R23: J20DM | S23: 1876886 | T23: 21 | V23: 8 | W23: 188631 | X23: 50014 | Z23: 2014343 | AA23: 35884 | AC23: Y | AE23: 21997525 | AG23: -
A24: =INDEX(Production!M:M,MATCH(Planification!F24,Production!C:C,0)) -> 23 | B24: 2014332 | C24: 1200 | D24: 40982049 | E24: FIRM | F24: 40982049 | G24: 35884 | H24: 63 | I24: 2014341 | J24: L7 | K24: 2014351 | L24: 5184 | M24: 743 | N24: 277813219 | Q24: 83032597 | R24: J40J2 | S24: 1872383 | T24: 21 | V24: 50 | W24: 188592 | X24: 44 | Z24: 2014343 | AA24: 35884 | AE24: 21997524 | AG24: -
A25: =INDEX(Production!M:M,MATCH(Planification!F25,Production!C:C,0)) -> 24 | B25: 2014332 | C25: 1215 | D25: 40994510 | E25: FIRM | F25: 40994510 | G25: 35884 | H25: 63 | I25: 2014341 | J25: L7 | K25: 2014351 | L25: 5185 | M25: 452 | N25: 281774762 | Q25: 83025375 | R25: J20DJ | S25: 1876356 | T25: 21 | V25: 8 | W25: 188615 | X25: 44 | Z25: 2014343 | AA25: 35884 | AE25: 21997525 | AG25: -
A26: =INDEX(Production!M:M,MATCH(Planification!F26,Production!C:C,0)) -> 25 | B26: 2014332 | C26: 1230 | D26: 41004886 | E26: FIRM | F26: 41004886 | G26: 35884 | H26: 63 | I26: 2014341 | J26: L7 | K26: 2014351 | L26: 5187 | M26: 453 | N26: 286482670 | Q26: 83025375 | R26: J20DJ | S26: 1878143 | T26: 21 | V26: 8 | W26: 188581 | X26: 44 | Z26: 2014343 | AA26: 35884 | AE26: 21997525 | AG26: -
A27: =INDEX(Production!M:M,MATCH(Planification!F27,Production!C:C,0)) -> 26 | B27: 2014332 | C27: 1245 | D27: 41002081 | E27: FIRM | F27: 41002081 | G27: 4761 | H27: 63 | I27: 2014341 | J27: P | K27: 2014352 | L27: 2018 | M27: 169888 | N27: 284804682 | O27: 33 | Q27: 83032251 | R27: B8R | S27: 402995 | T27: 11 | U27: 1300 | V27: 8 | W27: 188669 | X27: 44 | Z27: 2014343 | AA27: 1024 | AE27: 21997525 | AG27: -
A28: =INDEX(Production!M:M,MATCH(Planification!F28,Production!C:C,0)) -> 27 | B28: 2014332 | C28: 1300 | D28: 41002080 | E28: FIRM | F28: 41002080 | G28: 4761 | H28: 63 | I28: 2014341 | J28: P | K28: 2014352 | L28: 2020 | M28: 169890 | N28: 284804678 | O28: 33 | Q28: 83032251 | R28: B8R | S28: 402997 | T28: 11 | U28: 1300 | V28: 8 | W28: 188669 | X28: 44 | Z28: 2014343 | AA28: 1024 | AE28: 21997525 | AG28: -
A29: =INDEX(Production!M:M,MATCH(Planification!F29,Production!C:C,0)) -> 28 | B29: 2014332 | C29: 1315 | D29: 40997261 | E29: FIRM | F29: 40997261 | G29: 1024 | H29: 63 | I29: 2014334 | J29: C | K29: 2014352 | L29: 3008 | M29: 170053 | N29: 282857416 | Q29: 83025312 | R29: B5TL | S29: 402530 | T29: 80 | U29: 1300 | V29: 50 | W29: 188580 | X29: 47 | Z29: 2014343 | AA29: 1024 | AE29: 21997524 | AG29: -
A30: =INDEX(Production!M:M,MATCH(Planification!F30,Production!C:C,0)) -> 29 | B30: 2014332 | C30: 1330 | D30: 40997263 | E30: FIRM | F30: 40997263 | G30: 1024 | H30: 63 | I30: 2014334 | J30: C | K30: 2014352 | L30: 3010 | M30: 170054 | N30: 282857424 | Q30: 83025312 | R30: B5TL | S30: 402531 | T30: 80 | U30: 1300 | V30: 50 | W30: 188580 | X30: 47 | Z30: 2014343 | AA30: 1024 | AE30: 21997524 | AG30: -
A31: =INDEX(Production!M:M,MATCH(Planification!F31,Production!C:C,0)) -> 1 | B31: 2014333 | C31: 545 | E31: FIRM | F31: 41017669 | G31: 31971 | H31: 63 | I31: 2014284 | J31: 1 | K31: 2014334 | N31: 291250486 | Q31: 83025377 | S31: 291250486 | T31: 21 | V31: 50 | W31: 188795 | X31: 64 | Y31: 22027238 | Z31: 2014333 | AA31: 31971 | AE31: 21997524 | AG31: -
A32: =INDEX(Production!M:M,MATCH(Planification!F32,Production!C:C,0)) -> 2 | B32: 2014333 | C32: 557 | D32: 41014575 | E32: FIRM | F32: 41014575 | G32: 14489 | H32: 63 | I32: 2014284 | J32: 1 | K32: 2014335 | N32: 289441015 | Q32: 83025422 | S32: 289441015 | T32: 21 | V32: 8 | W32: 189201 | X32: 64 | Y32: 22027263 | Z32: 2014333 | AA32: 1002 | AE32: 21997525 | AG32: -
A33: =INDEX(Production!M:M,MATCH(Planification!F33,Production!C:C,0)) -> 3 | B33: 2014333 | C33: 609 | D33: 41014576 | E33: FIRM | F33: 41014576 | G33: 14489 | H33: 63 | I33: 2014284 | J33: 1 | K33: 2014335 | N33: 289441016 | Q33: 83025422 | S33: 289441015 | T33: 21 | V33: 8 | W33: 189201 | X33: 64 | Y33: 22027263 | Z33: 2014333 | AA33: 1002 | AE33: 21997525 | AG33: -
A34: =INDEX(Production!M:M,MATCH(Planification!F34,Production!C:C,0)) -> 4 | B34: 2014333 | C34: 621 | D34: 40981502 | E34: FIRM | F34: 40981502 | G34: 31972 | H34: 63 | I34: 2014341 | J34: PM | K34: 2014345 | N34: 277557561 | Q34: 83025379 | S34: 5-710 | T34: 22 | V34: 50 | W34: 188590 | X34: 44 | Z34: 2014343 | AA34: 31972 | AB34: PROTO à... | AE34: 21997524 | AG34: -
A35: =INDEX(Production!M:M,MATCH(Planification!F35,Production!C:C,0)) -> 5 | B35: 2014333 | C35: 633 | D35: 40997670 | E35: FIRM | F35: 40997670 | G35: 35884 | H35: 63 | I35: 2014341 | J35: L7 | K35: 2014351 | L35: 5188 | M35: 100234 | N35: 283111456 | Q35: 83032269 | R35: Z | S35: T000914 | T35: 21 | V35: 8 | W35: 188634 | X35: 44 | Z35: 2014343 | AA35: 35884 | AE35: 21997525 | AG35: -
A36: =INDEX(Production!M:M,MATCH(Planification!F36,Production!C:C,0)) -> 6 | B36: 2014333 | C36: 645 | D36: 40992299 | E36: FIRM | F36: 40992299 | G36: 35884 | H36: 63 | I36: 2014341 | J36: L7 | K36: 2014351 | L36: 5189 | M36: 271 | N36: 280708347 | Q36: 83025375 | R36: J20DM | S36: 1875391 | T36: 21 | V36: 8 | W36: 188525 | X36: 50014 | Z36: 2014343 | AA36: 35884 | AC36: Y | AE36: 21997525 | AG36: -
A37: =INDEX(Production!M:M,MATCH(Planification!F37,Production!C:C,0)) -> 7 | B37: 2014333 | C37: 657 | D37: 40993328 | E37: FIRM | F37: 40993328 | G37: 35884 | H37: 63 | I37: 2014341 | J37: L7 | K37: 2014351 | L37: 5190 | M37: 100238 | N37: 281146675 | Q37: 83032270 | R37: Z | S37: T000737 | T37: 21 | V37: 8 | W37: 188600 | X37: 44 | Z37: 2014343 | AA37: 35884 | AE37: 21997525 | AG37: -
A38: =INDEX(Production!M:M,MATCH(Planification!F38,Production!C:C,0)) -> 8 | B38: 2014333 | C38: 709 | D38: 40992639 | E38: FIRM | F38: 40992639 | G38: 35884 | H38: 63 | I38: 2014341 | J38: L7 | K38: 2014351 | L38: 5191 | M38: 742 | N38: 280856572 | Q38: 83025377 | R38: J40J2 | S38: 1870972 | T38: 21 | V38: 50 | W38: 188514 | X38: 44 | Z38: 2014343 | AA38: 35884 | AE38: 21997524 | AG38: -
A39: =INDEX(Production!M:M,MATCH(Planification!F39,Production!C:C,0)) -> 9 | B39: 2014333 | C39: 721 | D39: 41007635 | E39: FIRM | F39: 41007635 | G39: 35884 | H39: 63 | I39: 2014341 | J39: L7 | K39: 2014351 | L39: 5194 | M39: 100242 | N39: 287239495 | Q39: 83032278 | R39: Z | S39: T001159 | T39: 21 | V39: 8 | W39: 188731 | X39: 44 | Z39: 2014343 | AA39: 35884 | AE39: 21997525 | AG39: -
A40: =INDEX(Production!M:M,MATCH(Planification!F40,Production!C:C,0)) -> 10 | B40: 2014333 | C40: 733 | D40: 41002188 | E40: FIRM | F40: 41002188 | G40: 35884 | H40: 63 | I40: 2014341 | J40: L7 | K40: 2014351 | L40: 5195 | M40: 100241 | N40: 284926613 | Q40: 83025406 | R40: Z | S40: T001057 | T40: 21 | V40: 50 | W40: 188672 | X40: 44 | Z40: 2014343 | AA40: 35884 | AE40: 21997524 | AG40: -
...
