Workbook

Sheet Production
A1: Flow | B1: Chassis | C1: Delivery Unit | D1: RECEIVER | E1: Plan Date | F1: Opt.Start | G1: Avance / Retard | H1: Linset | I1: Customer date | J1: Engine Family | K1: Statut | L1: Demande | M1: N° Seq | N1: SSAR
A2: 20 | B2: VP-232112 | C2: 40998187 | D2: 8403 | E2: 2014332 | F2: 2014333 | G2: Advance | I2: 2014363 | J2: 8L | K2: non-connecté | M2: 1 | N2: =IF(E2<>E3,"OK",IFERROR(IF(CONCATENATE(E2,M2+1)=CONCATENATE(E3,M3),"OK","NOK"),"")) -> OK | O2: =IFERROR(INDEX(Planification!F:F,MATCH(Production!C2,Planification!F:F,0)),"") -> 40998187
A3: C | B3: B5TL-169983 | C3: 40997260 | D3: 1024 | E3: 2014332 | F3: 2014284 | G3: Late | H3: 1016 | I3: 2014345 | J3: 5L | K3: non-connecté | M3: 2 | N3: =IF(E3<>E4,"OK",IFERROR(IF(CONCATENATE(E3,M3+1)=CONCATENATE(E4,M4),"OK","NOK"),"")) -> OK | O3: =IFERROR(INDEX(Planification!F:F,MATCH(Production!C3,Planification!F:F,0)),"") -> 40997260
A4: C | B4: B5TL-169984 | C4: 40997262 | D4: 1024 | E4: 2014332 | F4: 2014284 | G4: Late | H4: 1018 | I4: 2014345 | J4: 5L | K4: non-connecté | M4: 3 | N4: =IF(E4<>E5,"OK",IFERROR(IF(CONCATENATE(E4,M4+1)=CONCATENATE(E5,M5),"OK","NOK"),"")) -> OK | O4: =IFERROR(INDEX(Planification!F:F,MATCH(Production!C4,Planification!F:F,0)),"") -> 40997262
A5: C | B5: B5TL-169985 | C5: 40997264 | D5: 1024 | E5: 2014332 | F5: 2014284 | G5: Late | H5: 1020 | I5: 2014345 | J5: 5L | K5: non-connecté | M5: 4 | N5: =IF(E5<>E6,"OK",IFERROR(IF(CONCATENATE(E5,M5+1)=CONCATENATE(E6,M6),"OK","NOK"),"")) -> OK | O5: =IFERROR(INDEX(Planification!F:F,MATCH(Production!C5,Planification!F:F,0)),"") -> 40997264
A6: C | B6: B5TL-169986 | C6: 40997266 | D6: 1024 | E6: 2014332 | F6: 2014284 | G6: Late | H6: 1022 | I6: 2014345 | J6: 5L | K6: non-connecté | M6: 5 | N6: =IF(E6<>E7,"OK",IFERROR(IF(CONCATENATE(E6,M6+1)=CONCATENATE(E7,M7),"OK","NOK"),"")) -> OK | O6: =IFERROR(INDEX(Planification!F:F,MATCH(Production!C6,Planification!F:F,0)),"") -> 40997266
A7: C | B7: B5TL-169987 | C7: 40997789 | D7: 1024 | E7: 2014332 | F7: 2014284 | G7: Late | H7: 1052 | I7: 2014345 | J7: 5L | K7: non-connecté | M7: 6 | N7: =IF(E7<>E8,"OK",IFERROR(IF(CONCATENATE(E7,M7+1)=CONCATENATE(E8,M8),"OK","NOK"),"")) -> OK | O7: =IFERROR(INDEX(Planification!F:F,MATCH(Production!C7,Planification!F:F,0)),"") -> 40997789
A8: C | B8: B5TL-169988 | C8: 40997788 | D8: 1024 | E8: 2014332 | F8: 2014284 | G8: Late | H8: 1054 | I8: 2014345 | J8: 5L | K8: non-connecté | M8: 7 | N8: =IF(E8<>E9,"OK",IFERROR(IF(CONCATENATE(E8,M8+1)=CONCATENATE(E9,M9),"OK","NOK"),"")) -> OK | O8: =IFERROR(INDEX(Planification!F:F,MATCH(Production!C8,Planification!F:F,0)),"") -> 40997788
A9: C | B9: B5LH-170037 | C9: 41007405 | D9: 1024 | E9: 2014332 | F9: 2014334 | G9: Advance | H9: 2002 | I9: 2014351 | J9: 5L | K9: non-connecté | M9: 8 | N9: =IF(E9<>E10,"OK",IFERROR(IF(CONCATENATE(E9,M9+1)=CONCATENATE(E10,M10),"OK","NOK"),"")) -> OK | O9: =IFERROR(INDEX(Planification!F:F,MATCH(Production!C9,Planification!F:F,0)),"") -> 41007405
A10: C | B10: B5LH-170038 | C10: 41007386 | D10: 1024 | E10: 2014332 | F10: 2014334 | G10: Advance | H10: 2004 | I10: 2014351 | J10: 5L | K10: non-connecté | M10: 9 | N10: =IF(E10<>E11,"OK",IFERROR(IF(CONCATENATE(E10,M10+1)=CONCATENATE(E11,M11),"OK","NOK"),"")) -> OK | O10: =IFERROR(INDEX(Planification!F:F,MATCH(Production!C10,Planification!F:F,0)),"") -> 41007386
A11: 20 | B11: VP-232142 | C11: 41010555 | D11: 8403 | E11: 2014332 | F11: 2014333 | G11: Advance | I11: 2014363 | J11: 8L | K11: non-connecté | M11: 10 | N11: =IF(E11<>E12,"OK",IFERROR(IF(CONCATENATE(E11,M11+1)=CONCATENATE(E12,M12),"OK","NOK"),"")) -> OK | O11: =IFERROR(INDEX(Planification!F:F,MATCH(Production!C11,Planification!F:F,0)),"") -> 41010555
A12: C | B12: B5LH-170039 | C12: 41007390 | D12: 1024 | E12: 2014332 | F12: 2014334 | G12: Advance | H12: 2006 | I12: 2014351 | J12: 5L | K12: non-connecté | M12: 11 | N12: =IF(E12<>E13,"OK",IFERROR(IF(CONCATENATE(E12,M12+1)=CONCATENATE(E13,M13),"OK","NOK"),"")) -> OK | O12: =IFERROR(INDEX(Planification!F:F,MATCH(Production!C12,Planification!F:F,0)),"") -> 41007390
A13: C | B13: B5LH-170040 | C13: 41007393 | D13: 1024 | E13: 2014332 | F13: 2014334 | G13: Advance | H13: 2009 | I13: 2014351 | J13: 5L | K13: non-connecté | M13: 12 | N13: =IF(E13<>E14,"OK",IFERROR(IF(CONCATENATE(E13,M13+1)=CONCATENATE(E14,M14),"OK","NOK"),"")) -> OK | O13: =IFERROR(INDEX(Planification!F:F,MATCH(Production!C13,Planification!F:F,0)),"") -> 41007393
A14: C | B14: B5LH-170041 | C14: 41007395 | D14: 1024 | E14: 2014332 | F14: 2014334 | G14: Advance | H14: 2011 | I14: 2014351 | J14: 5L | K14: non-connecté | M14: 13 | N14: =IF(E14<>E15,"OK",IFERROR(IF(CONCATENATE(E14,M14+1)=CONCATENATE(E15,M15),"OK","NOK"),"")) -> OK | O14: =IFERROR(INDEX(Planification!F:F,MATCH(Production!C14,Planification!F:F,0)),"") -> 41007395
A15: L7 | B15: Z-100231 | C15: 41008764 | D15: 35884 | E15: 2014332 | F15: 2014341 | G15: Advance | H15: 5171 | I15: 2014351 | J15: 8L | K15: non-connecté | M15: 14 | N15: =IF(E15<>E16,"OK",IFERROR(IF(CONCATENATE(E15,M15+1)=CONCATENATE(E16,M16),"OK","NOK"),"")) -> OK | O15: =IFERROR(INDEX(Planification!F:F,MATCH(Production!C15,Planification!F:F,0)),"") -> 41008764
A16: L7 | B16: J40J2-740 | C16: 41004899 | D16: 35884 | E16: 2014332 | F16: 2014341 | G16: Advance | H16: 5172 | I16: 2014351 | J16: 5L | K16: non-connecté | M16: 15 | N16: =IF(E16<>E17,"OK",IFERROR(IF(CONCATENATE(E16,M16+1)=CONCATENATE(E17,M17),"OK","NOK"),"")) -> OK | O16: =IFERROR(INDEX(Planification!F:F,MATCH(Production!C16,Planification!F:F,0)),"") -> 41004899
A17: L7 | B17: J20DJ-450 | C17: 40954462 | D17: 35884 | E17: 2014332 | F17: 2014341 | G17: Advance | H17: 5173 | I17: 2014351 | J17: 8L | K17: non-connecté | M17: 16 | N17: =IF(E17<>E18,"OK",IFERROR(IF(CONCATENATE(E17,M17+1)=CONCATENATE(E18,M18),"OK","NOK"),"")) -> OK | O17: =IFERROR(INDEX(Planification!F:F,MATCH(Production!C17,Planification!F:F,0)),"") -> 40954462
A18: L7 | B18: Z-100235 | C18: 40993329 | D18: 35884 | E18: 2014332 | F18: 2014341 | G18: Advance | H18: 5174 | I18: 2014351 | J18: 8L | K18: non-connecté | M18: 17 | N18: =IF(E18<>E19,"OK",IFERROR(IF(CONCATENATE(E18,M18+1)=CONCATENATE(E19,M19),"OK","NOK"),"")) -> OK | O18: =IFERROR(INDEX(Planification!F:F,MATCH(Production!C18,Planification!F:F,0)),"") -> 40993329
A19: L7 | B19: Z-100237 | C19: 41002187 | D19: 35884 | E19: 2014332 | F19: 2014341 | G19: Advance | H19: 5177 | I19: 2014351 | J19: 5L | K19: non-connecté | M19: 18 | N19: =IF(E19<>E20,"OK",IFERROR(IF(CONCATENATE(E19,M19+1)=CONCATENATE(E20,M20),"OK","NOK"),"")) -> OK | O19: =IFERROR(INDEX(Planification!F:F,MATCH(Production!C19,Planification!F:F,0)),"") -> 41002187
A20: 20 | B20: VP-232276 | C20: 41004018 | D20: 8403 | E20: 2014332 | F20: 2014341 | G20: Advance | I20: 2014365 | J20: 8L | K20: non-connecté | M20: 19 | N20: =IF(E20<>E21,"OK",IFERROR(IF(CONCATENATE(E20,M20+1)=CONCATENATE(E21,M21),"OK","NOK"),"")) -> OK | O20: =IFERROR(INDEX(Planification!F:F,MATCH(Production!C20,Planification!F:F,0)),"") -> 41004018
A21: L7 | B21: J40J2-741 | C21: 40992644 | D21: 35884 | E21: 2014332 | F21: 2014341 | G21: Advance | H21: 5179 | I21: 2014351 | J21: 5L | K21: non-connecté | M21: 20 | N21: =IF(E21<>E22,"OK",IFERROR(IF(CONCATENATE(E21,M21+1)=CONCATENATE(E22,M22),"OK","NOK"),"")) -> OK | O21: =IFERROR(INDEX(Planification!F:F,MATCH(Production!C21,Planification!F:F,0)),"") -> 40992644
A22: L7 | B22: J20DJ-451 | C22: 40989005 | D22: 35884 | E22: 2014332 | F22: 2014341 | G22: Advance | H22: 5180 | I22: 2014351 | J22: 8L | K22: non-connecté | M22: 21 | N22: =IF(E22<>E23,"OK",IFERROR(IF(CONCATENATE(E22,M22+1)=CONCATENATE(E23,M23),"OK","NOK"),"")) -> OK | O22: =IFERROR(INDEX(Planification!F:F,MATCH(Production!C22,Planification!F:F,0)),"") -> 40989005
A23: L7 | B23: J20DM-270 | C23: 40997345 | D23: 35884 | E23: 2014332 | F23: 2014341 | G23: Advance | H23: 5183 | I23: 2014351 | J23: 8L | K23: non-connecté | M23: 22 | N23: =IF(E23<>E24,"OK",IFERROR(IF(CONCATENATE(E23,M23+1)=CONCATENATE(E24,M24),"OK","NOK"),"")) -> OK | O23: =IFERROR(INDEX(Planification!F:F,MATCH(Production!C23,Planification!F:F,0)),"") -> 40997345
A24: L7 | B24: J40J2-743 | C24: 40982049 | D24: 35884 | E24: 2014332 | F24: 2014341 | G24: Advance | H24: 5184 | I24: 2014351 | J24: 5L | K24: non-connecté | M24: 23 | N24: =IF(E24<>E25,"OK",IFERROR(IF(CONCATENATE(E24,M24+1)=CONCATENATE(E25,M25),"OK","NOK"),"")) -> OK | O24: =IFERROR(INDEX(Planification!F:F,MATCH(Production!C24,Planification!F:F,0)),"") -> 40982049
A25: L7 | B25: J20DJ-452 | C25: 40994510 | D25: 35884 | E25: 2014332 | F25: 2014341 | G25: Advance | H25: 5185 | I25: 2014351 | J25: 8L | K25: non-connecté | M25: 24 | N25: =IF(E25<>E26,"OK",IFERROR(IF(CONCATENATE(E25,M25+1)=CONCATENATE(E26,M26),"OK","NOK"),"")) -> OK | O25: =IFERROR(INDEX(Planification!F:F,MATCH(Production!C25,Planification!F:F,0)),"") -> 40994510
A26: L7 | B26: J20DJ-453 | C26: 41004886 | D26: 35884 | E26: 2014332 | F26: 2014341 | G26: Advance | H26: 5187 | I26: 2014351 | J26: 8L | K26: non-connecté | M26: 25 | N26: =IF(E26<>E27,"OK",IFERROR(IF(CONCATENATE(E26,M26+1)=CONCATENATE(E27,M27),"OK","NOK"),"")) -> OK | O26: =IFERROR(INDEX(Planification!F:F,MATCH(Production!C26,Planification!F:F,0)),"") -> 41004886
A27: P | B27: B8R-169888 | C27: 41002081 | D27: 4761 | E27: 2014332 | F27: 2014341 | G27: Advance | H27: 2018 | I27: 2014352 | J27: 8L | K27: non-connecté | M27: 26 | N27: =IF(E27<>E28,"OK",IFERROR(IF(CONCATENATE(E27,M27+1)=CONCATENATE(E28,M28),"OK","NOK"),"")) -> OK | O27: =IFERROR(INDEX(Planification!F:F,MATCH(Production!C27,Planification!F:F,0)),"") -> 41002081
A28: P | B28: B8R-169890 | C28: 41002080 | D28: 4761 | E28: 2014332 | F28: 2014341 | G28: Advance | H28: 2020 | I28: 2014352 | J28: 8L | K28: non-connecté | M28: 27 | N28: =IF(E28<>E29,"OK",IFERROR(IF(CONCATENATE(E28,M28+1)=CONCATENATE(E29,M29),"OK","NOK"),"")) -> OK | O28: =IFERROR(INDEX(Planification!F:F,MATCH(Production!C28,Planification!F:F,0)),"") -> 41002080
A29: C | B29: B5TL-170053 | C29: 40997261 | D29: 1024 | E29: 2014332 | F29: 2014334 | G29: Advance | H29: 3008 | I29: 2014352 | J29: 5L | K29: non-connecté | M29: 28 | N29: =IF(E29<>E30,"OK",IFERROR(IF(CONCATENATE(E29,M29+1)=CONCATENATE(E30,M30),"OK","NOK"),"")) -> OK | O29: =IFERROR(INDEX(Planification!F:F,MATCH(Production!C29,Planification!F:F,0)),"") -> 40997261
A30: C | B30: B5TL-170054 | C30: 40997263 | D30: 1024 | E30: 2014332 | F30: 2014334 | G30: Advance | H30: 3010 | I30: 2014352 | J30: 5L | K30: non-connecté | M30: 29 | N30: =IF(E30<>E31,"OK",IFERROR(IF(CONCATENATE(E30,M30+1)=CONCATENATE(E31,M31),"OK","NOK"),"")) -> OK | O30: =IFERROR(INDEX(Planification!F:F,MATCH(Production!C30,Planification!F:F,0)),"") -> 40997263
A31: 1 | C31: 41017669 | D31: 31971 | E31: 2014333 | F31: 2014284 | G31: Late | I31: 2014334 | J31: 5L | K31: non-connecté | M31: 1 | N31: =IF(E31<>E32,"OK",IFERROR(IF(CONCATENATE(E31,M31+1)=CONCATENATE(E32,M32),"OK","NOK"),"")) -> OK | O31: =IFERROR(INDEX(Planification!F:F,MATCH(Production!C31,Planification!F:F,0)),"") -> 41017669
A32: 1 | C32: 41014575 | D32: 14489 | E32: 2014333 | F32: 2014284 | G32: Late | I32: 2014335 | J32: 8L | K32: non-connecté | M32: 2 | N32: =IF(E32<>E33,"OK",IFERROR(IF(CONCATENATE(E32,M32+1)=CONCATENATE(E33,M33),"OK","NOK"),"")) -> OK | O32: =IFERROR(INDEX(Planification!F:F,MATCH(Production!C32,Planification!F:F,0)),"") -> 41014575
A33: 1 | C33: 41014576 | D33: 14489 | E33: 2014333 | F33: 2014284 | G33: Late | I33: 2014335 | J33: 8L | K33: non-connecté | M33: 3 | N33: =IF(E33<>E34,"OK",IFERROR(IF(CONCATENATE(E33,M33+1)=CONCATENATE(E34,M34),"OK","NOK"),"")) -> OK | O33: =IFERROR(INDEX(Planification!F:F,MATCH(Production!C33,Planification!F:F,0)),"") -> 41014576
A34: PM | C34: 40981502 | D34: 31972 | E34: 2014333 | F34: 2014341 | G34: Advance | I34: 2014345 | J34: 5L | K34: non-connecté | M34: 4 | N34: =IF(E34<>E35,"OK",IFERROR(IF(CONCATENATE(E34,M34+1)=CONCATENATE(E35,M35),"OK","NOK"),"")) -> OK | O34: =IFERROR(INDEX(Planification!F:F,MATCH(Production!C34,Planification!F:F,0)),"") -> 40981502
A35: L7 | B35: Z-100234 | C35: 40997670 | D35: 35884 | E35: 2014333 | F35: 2014341 | G35: Advance | H35: 5188 | I35: 2014351 | J35: 8L | K35: non-connecté | M35: 5 | N35: =IF(E35<>E36,"OK",IFERROR(IF(CONCATENATE(E35,M35+1)=CONCATENATE(E36,M36),"OK","NOK"),"")) -> OK | O35: =IFERROR(INDEX(Planification!F:F,MATCH(Production!C35,Planification!F:F,0)),"") -> 40997670
A36: L7 | B36: J20DM-271 | C36: 40992299 | D36: 35884 | E36: 2014333 | F36: 2014341 | G36: Advance | H36: 5189 | I36: 2014351 | J36: 8L | K36: non-connecté | M36: 6 | N36: =IF(E36<>E37,"OK",IFERROR(IF(CONCATENATE(E36,M36+1)=CONCATENATE(E37,M37),"OK","NOK"),"")) -> OK | O36: =IFERROR(INDEX(Planification!F:F,MATCH(Production!C36,Planification!F:F,0)),"") -> 40992299
A37: L7 | B37: Z-100238 | C37: 40993328 | D37: 35884 | E37: 2014333 | F37: 2014341 | G37: Advance | H37: 5190 | I37: 2014351 | J37: 8L | K37: non-connecté | M37: 7 | N37: =IF(E37<>E38,"OK",IFERROR(IF(CONCATENATE(E37,M37+1)=CONCATENATE(E38,M38),"OK","NOK"),"")) -> OK | O37: =IFERROR(INDEX(Planification!F:F,MATCH(Production!C37,Planification!F:F,0)),"") -> 40993328
A38: L7 | B38: J40J2-742 | C38: 40992639 | D38: 35884 | E38: 2014333 | F38: 2014341 | G38: Advance | H38: 5191 | I38: 2014351 | J38: 5L | K38: non-connecté | M38: 8 | N38: =IF(E38<>E39,"OK",IFERROR(IF(CONCATENATE(E38,M38+1)=CONCATENATE(E39,M39),"OK","NOK"),"")) -> OK | O38: =IFERROR(INDEX(Planification!F:F,MATCH(Production!C38,Planification!F:F,0)),"") -> 40992639
A39: L7 | B39: Z-100242 | C39: 41007635 | D39: 35884 | E39: 2014333 | F39: 2014341 | G39: Advance | H39: 5194 | I39: 2014351 | J39: 8L | K39: non-connecté | M39: 9 | N39: =IF(E39<>E40,"OK",IFERROR(IF(CONCATENATE(E39,M39+1)=CONCATENATE(E40,M40),"OK","NOK"),"")) -> OK | O39: =IFERROR(INDEX(Planification!F:F,MATCH(Production!C39,Planification!F:F,0)),"") -> 41007635
A40: L7 | B40: Z-100241 | C40: 41002188 | D40: 35884 | E40: 2014333 | F40: 2014341 | G40: Advance | H40: 5195 | I40: 2014351 | J40: 5L | K40: non-connecté | M40: 10 | N40: =IF(E40<>E41,"OK",IFERROR(IF(CONCATENATE(E40,M40+1)=CONCATENATE(E41,M41),"OK","NOK"),"")) -> OK | O40: =IFERROR(INDEX(Planification!F:F,MATCH(Production!C40,Planification!F:F,0)),"") -> 41002188
A41: L7 | B41: J21DM-65 | C41: 40994509 | D41: 35884 | E41: 2014333 | F41: 2014341 | G41: Advance | H41: 5196 | I41: 2014351 | J41: 8L | K41: non-connecté | M41: 11 | N41: =IF(E41<>E42,"OK",IFERROR(IF(CONCATENATE(E41,M41+1)=CONCATENATE(E42,M42),"OK","NOK"),"")) -> OK | O41: =IFERROR(INDEX(Planification!F:F,MATCH(Production!C41,Planification!F:F,0)),"") -> 40994509
A42: L7 | B42: Z-100240 | C42: 40993344 | D42: 35884 | E42: 2014333 | F42: 2014341 | G42: Advance | H42: 5198 | I42: 2014351 | J42: 8L | K42: non-connecté | M42: 12 | N42: =IF(E42<>E43,"OK",IFERROR(IF(CONCATENATE(E42,M42+1)=CONCATENATE(E43,M43),"OK","NOK"),"")) -> OK | O42: =IFERROR(INDEX(Planification!F:F,MATCH(Production!C42,Planification!F:F,0)),"") -> 40993344
A43: L7 | B43: Z-100244 | C43: 41003536 | D43: 35884 | E43: 2014333 | F43: 2014341 | G43: Advance | H43: 5200 | I43: 2014351 | J43: 8L | K43: non-connecté | M43: 13 | N43: =IF(E43<>E44,"OK",IFERROR(IF(CONCATENATE(E43,M43+1)=CONCATENATE(E44,M44),"OK","NOK"),"")) -> OK | O43: =IFERROR(INDEX(Planification!F:F,MATCH(Production!C43,Planification!F:F,0)),"") -> 41003536
A44: L7 | B44: J21DJ-125 | C44: 41005787 | D44: 35884 | E44: 2014333 | F44: 2014341 | G44: Advance | H44: 5201 | I44: 2014351 | J44: 8L | K44: non-connecté | M44: 14 | N44: =IF(E44<>E45,"OK",IFERROR(IF(CONCATENATE(E44,M44+1)=CONCATENATE(E45,M45),"OK","NOK"),"")) -> OK | O44: =IFERROR(INDEX(Planification!F:F,MATCH(Production!C44,Planification!F:F,0)),"") -> 41005787
A45: L7 | B45: J40X4-81 | C45: 40996434 | D45: 35884 | E45: 2014333 | F45: 2014341 | G45: Advance | H45: 5202 | I45: 2014351 | J45: 8L | K45: non-connecté | M45: 15 | N45: =IF(E45<>E46,"OK",IFERROR(IF(CONCATENATE(E45,M45+1)=CONCATENATE(E46,M46),"OK","NOK"),"")) -> OK | O45: =IFERROR(INDEX(Planification!F:F,MATCH(Production!C45,Planification!F:F,0)),"") -> 40996434
A46: L7 | B46: Z-100245 | C46: 41000585 | D46: 35884 | E46: 2014333 | F46: 2014341 | G46: Advance | H46: 5204 | I46: 2014351 | J46: 8L | K46: non-connecté | M46: 16 | N46: =IF(E46<>E47,"OK",IFERROR(IF(CONCATENATE(E46,M46+1)=CONCATENATE(E47,M47),"OK","NOK"),"")) -> OK | O46: =IFERROR(INDEX(Planification!F:F,MATCH(Production!C46,Planification!F:F,0)),"") -> 41000585
... A67: C | B67: B5TL-170063 | C67: 40997265 | D67: 1024 | E67: 2014333 | F67: 2014341 | G67: Advance | H67: 4014 | I67: 2014353 | J67: 5L | K67: non-connecté | M67: 37 | N67: =IF(E67<>E68,"OK",IFERROR(IF(CONCATENATE(E67,M67+1)=CONCATENATE(E68,M68),"OK","NOK"),"")) -> OK | O67: =IFERROR(INDEX(Planification!F:F,MATCH(Production!C67,Planification!F:F,0)),"") -> 40997265
A68: 29 | B68: DE-7893 | C68: 41009396 | D68: 8402 | E68: 2014334 | F68: 2014343 | G68: Advance | I68: 2014354 | J68: 8L | K68: non-connecté | M68: 1 | N68: =IF(E68<>E69,"OK",IFERROR(IF(CONCATENATE(E68,M68+1)=CONCATENATE(E69,M69),"OK","NOK"),"")) -> OK | O68: =IFERROR(INDEX(Planification!F:F,MATCH(Production!C68,Planification!F:F,0)),"") -> 41009396
A69: P | B69: B8R-169875 | C69: 41008075 | D69: 4761 | E69: 2014334 | F69: 2014341 | G69: Advance | H69: 2005 | I69: 2014352 | J69: 8L | K69: non-connecté | M69: 2 | N69: =IF(E69<>E70,"OK",IFERROR(IF(CONCATENATE(E69,M69+1)=CONCATENATE(E70,M70),"OK","NOK"),"")) -> OK | O69: =IFERROR(INDEX(Planification!F:F,MATCH(Production!C69,Planification!F:F,0)),"") -> 41008075
A70: P | B70: B8R-169891 | C70: 41002082 | D70: 4761 | E70: 2014334 | F70: 2014341 | G70: Advance | H70: 2021 | I70: 2014352 | J70: 8L | K70: non-connecté | M70: 3 | N70: =IF(E70<>E71,"OK",IFERROR(IF(CONCATENATE(E70,M70+1)=CONCATENATE(E71,M71),"OK","NOK"),"")) -> OK | O70: =IFERROR(INDEX(Planification!F:F,MATCH(Production!C70,Planification!F:F,0)),"") -> 41002082
A71: P | B71: B8R-169892 | C71: 41002083 | D71: 4761 | E71: 2014334 | F71: 2014341 | G71: Advance | H71: 2022 | I71: 2014352 | J71: 8L | K71: non-connecté | M71: 4 | N71: =IF(E71<>E72,"OK",IFERROR(IF(CONCATENATE(E71,M71+1)=CONCATENATE(E72,M72),"OK","NOK"),"")) -> OK | O71: =IFERROR(INDEX(Planification!F:F,MATCH(Production!C71,Planification!F:F,0)),"") -> 41002083
A72: L7 | B72: Z-100257 | C72: 40998094 | D72: 35884 | E72: 2014334 | F72: 2014341 | G72: Advance | H72: 5233 | I72: 2014352 | J72: 8L | K72: non-connecté | M72: 5 | N72: =IF(E72<>E73,"OK",IFERROR(IF(CONCATENATE(E72,M72+1)=CONCATENATE(E73,M73),"OK","NOK"),"")) -> OK | O72: =IFERROR(INDEX(Planification!F:F,MATCH(Production!C72,Planification!F:F,0)),"") -> 40998094
A73: L7 | B73: J40J4-331 | C73: 40989007 | D73: 35884 | E73: 2014334 | F73: 2014341 | G73: Advance | H73: 5235 | I73: 2014352 | J73: 5L | K73: non-connecté | M73: 6 | N73: =IF(E73<>E74,"OK",IFERROR(IF(CONCATENATE(E73,M73+1)=CONCATENATE(E74,M74),"OK","NOK"),"")) -> OK | O73: =IFERROR(INDEX(Planification!F:F,MATCH(Production!C73,Planification!F:F,0)),"") -> 40989007
A74: L7 | B74: J21DN-72 | C74: 40995360 | D74: 35884 | E74: 2014334 | F74: 2014341 | G74: Advance | H74: 5237 | I74: 2014352 | J74: 8L | K74: non-connecté | M74: 7 | N74: =IF(E74<>E75,"OK",IFERROR(IF(CONCATENATE(E74,M74+1)=CONCATENATE(E75,M75),"OK","NOK"),"")) -> OK | O74: =IFERROR(INDEX(Planification!F:F,MATCH(Production!C74,Planification!F:F,0)),"") -> 40995360
A75: L7 | B75: J40J6-397 | C75: 40994117 | D75: 35884 | E75: 2014334 | F75: 2014341 | G75: Advance | H75: 5238 | I75: 2014352 | J75: 5L | K75: non-connecté | M75: 8 | N75: =IF(E75<>E76,"OK",IFERROR(IF(CONCATENATE(E75,M75+1)=CONCATENATE(E76,M76),"OK","NOK"),"")) -> OK | O75: =IFERROR(INDEX(Planification!F:F,MATCH(Production!C75,Planification!F:F,0)),"") -> 40994117
A76: L7 | B76: J40J6-399 | C76: 40981667 | D76: 35884 | E76: 2014334 | F76: 2014341 | G76: Advance | H76: 5239 | I76: 2014352 | J76: 8L | K76: non-connecté | M76: 9 | N76: =IF(E76<>E77,"OK",IFERROR(IF(CONCATENATE(E76,M76+1)=CONCATENATE(E77,M77),"OK","NOK"),"")) -> OK | O76: =IFERROR(INDEX(Planification!F:F,MATCH(Production!C76,Planification!F:F,0)),"") -> 40981667
A77: 20 | B77: VP-232372 | C77: 41007331 | D77: 8403 | E77: 2014334 | F77: 2014343 | G77: Advance | I77: 2014372 | J77: 8L | K77: non-connecté | M77: 10 | N77: =IF(E77<>E78,"OK",IFERROR(IF(CONCATENATE(E77,M77+1)=CONCATENATE(E78,M78),"OK","NOK"),"")) -> OK | O77: =IFERROR(INDEX(Planification!F:F,MATCH(Production!C77,Planification!F:F,0)),"") -> 41007331
A78: L7 | B78: Z-100252 | C78: 40999645 | D78: 35884 | E78: 2014334 | F78: 2014341 | G78: Advance | H78: 5241 | I78: 2014352 | J78: 8L | K78: non-connecté | M78: 11 | N78: =IF(E78<>E79,"OK",IFERROR(IF(CONCATENATE(E78,M78+1)=CONCATENATE(E79,M79),"OK","NOK"),"")) -> OK | O78: =IFERROR(INDEX(Planification!F:F,MATCH(Production!C78,Planification!F:F,0)),"") -> 40999645
A79: L7 | B79: J40J6-400 | C79: 40981669 | D79: 35884 | E79: 2014334 | F79: 2014341 | G79: Advance | H79: 5244 | I79: 2014352 | J79: 8L | K79: non-connecté | M79: 12 | N79: =IF(E79<>E80,"OK",IFERROR(IF(CONCATENATE(E79,M79+1)=CONCATENATE(E80,M80),"OK","NOK"),"")) -> OK | O79: =IFERROR(INDEX(Planification!F:F,MATCH(Production!C79,Planification!F:F,0)),"") -> 40981669
A80: L7 | B80: Z-100256 | C80: 41000586 | D80: 35884 | E80: 2014334 | F80: 2014341 | G80: Advance | H80: 5247 | I80: 2014352 | J80: 8L | K80: non-connecté | M80: 13 | N80: =IF(E80<>E81,"OK",IFERROR(IF(CONCATENATE(E80,M80+1)=CONCATENATE(E81,M81),"OK","NOK"),"")) -> OK | O80: =IFERROR(INDEX(Planification!F:F,MATCH(Production!C80,Planification!F:F,0)),"") -> 41000586
A81: L7 | B81: J20DJ-459 | C81: 41000983 | D81: 35884 | E81: 2014334 | F81: 2014341 | G81: Advance | H81: 5250 | I81: 2014352 | J81: 8L | K81: non-connecté | M81: 14 | N81: =IF(E81<>E82,"OK",IFERROR(IF(CONCATENATE(E81,M81+1)=CONCATENATE(E82,M82),"OK","NOK"),"")) -> OK | O81: =IFERROR(INDEX(Planification!F:F,MATCH(Production!C81,Planification!F:F,0)),"") -> 41000983
A82: L7 | B82: J40J2-746 | C82: 40992643 | D82: 35884 | E82: 2014334 | F82: 2014341 | G82: Advance | H82: 5251 | I82: 2014352 | J82: 5L | K82: non-connecté | M82: 15 | N82: =IF(E82<>E83,"OK",IFERROR(IF(CONCATENATE(E82,M82+1)=CONCATENATE(E83,M83),"OK","NOK"),"")) -> OK | O82: =IFERROR(INDEX(Planification!F:F,MATCH(Production!C82,Planification!F:F,0)),"") -> 40992643
A83: C | B83: B5TL-170064 | C83: 40997267 | D83: 1024 | E83: 2014334 | F83: 2014341 | G83: Advance | H83: 4016 | I83: 2014353 | J83: 5L | K83: non-connecté | M83: 16 | N83: =IF(E83<>E84,"OK",IFERROR(IF(CONCATENATE(E83,M83+1)=CONCATENATE(E84,M84),"OK","NOK"),"")) -> OK | O83: =IFERROR(INDEX(Planification!F:F,MATCH(Production!C83,Planification!F:F,0)),"") -> 40997267
A84: L7 | B84: Z-100267 | C84: 40997673 | D84: 35884 | E84: 2014334 | F84: 2014342 | G84: Advance | H84: 5252 | I84: 2014353 | J84: 8L | K84: non-connecté | M84: 17 | N84: =IF(E84<>E85,"OK",IFERROR(IF(CONCATENATE(E84,M84+1)=CONCATENATE(E85,M85),"OK","NOK"),"")) -> OK | O84: =IFERROR(INDEX(Planification!F:F,MATCH(Production!C84,Planification!F:F,0)),"") -> 40997673
A85: L7 | B85: Z-100263 | C85: 41007642 | D85: 35884 | E85: 2014334 | F85: 2014342 | G85: Advance | H85: 5253 | I85: 2014353 | J85: 8L | K85: non-connecté | M85: 18 | N85: =IF(E85<>E86,"OK",IFERROR(IF(CONCATENATE(E85,M85+1)=CONCATENATE(E86,M86),"OK","NOK"),"")) -> OK | O85: =IFERROR(INDEX(Planification!F:F,MATCH(Production!C85,Planification!F:F,0)),"") -> 41007642
A86: 20 | B86: VP-232373 | C86: 41007332 | D86: 8403 | E86: 2014334 | F86: 2014343 | G86: Advance | I86: 2014372 | J86: 8L | K86: non-connecté | M86: 19 | N86: =IF(E86<>E87,"OK",IFERROR(IF(CONCATENATE(E86,M86+1)=CONCATENATE(E87,M87),"OK","NOK"),"")) -> OK | O86: =IFERROR(INDEX(Planification!F:F,MATCH(Production!C86,Planification!F:F,0)),"") -> 41007332
A87: L7 | B87: Z-100261 | C87: 41002186 | D87: 35884 | E87: 2014334 | F87: 2014342 | G87: Advance | H87: 5254 | I87: 2014353 | J87: 5L | K87: non-connecté | M87: 20 | N87: =IF(E87<>E88,"OK",IFERROR(IF(CONCATENATE(E87,M87+1)=CONCATENATE(E88,M88),"OK","NOK"),"")) -> OK | O87: =IFERROR(INDEX(Planification!F:F,MATCH(Production!C87,Planification!F:F,0)),"") -> 41002186
A88: L7 | B88: J40J6-402 | C88: 40994122 | D88: 35884 | E88: 2014334 | F88: 2014342 | G88: Advance | H88: 5257 | I88: 2014353 | J88: 8L | K88: non-connecté | M88: 21 | N88: =IF(E88<>E89,"OK",IFERROR(IF(CONCATENATE(E88,M88+1)=CONCATENATE(E89,M89),"OK","NOK"),"")) -> OK | O88: =IFERROR(INDEX(Planification!F:F,MATCH(Production!C88,Planification!F:F,0)),"") -> 40994122
A89: L7 | B89: Z-100259 | C89: 41009802 | D89: 35884 | E89: 2014334 | F89: 2014342 | G89: Advance | H89: 5259 | I89: 2014353 | J89: 8L | K89: non-connecté | M89: 22 | N89: =IF(E89<>E90,"OK",IFERROR(IF(CONCATENATE(E89,M89+1)=CONCATENATE(E90,M90),"OK","NOK"),"")) -> OK | O89: =IFERROR(INDEX(Planification!F:F,MATCH(Production!C89,Planification!F:F,0)),"") -> 41009802
A90: L7 | B90: Z-100262 | C90: 40997678 | D90: 35884 | E90: 2014334 | F90: 2014342 | G90: Advance | H90: 5260 | I90: 2014353 | J90: 8L | K90: non-connecté | M90: 23 | N90: =IF(E90<>E91,"OK",IFERROR(IF(CONCATENATE(E90,M90+1)=CONCATENATE(E91,M91),"OK","NOK"),"")) -> OK | O90: =IFERROR(INDEX(Planification!F:F,MATCH(Production!C90,Planification!F:F,0)),"") -> 40997678
A91: L7 | B91: J20DJ-460 | C91: 40996981 | D91: 35884 | E91: 2014334 | F91: 2014342 | G91: Advance | H91: 5261 | I91: 2014353 | J91: 8L | K91: non-connecté | M91: 24 | N91: =IF(E91<>E92,"OK",IFERROR(IF(CONCATENATE(E91,M91+1)=CONCATENATE(E92,M92),"OK","NOK"),"")) -> OK | O91: =IFERROR(INDEX(Planification!F:F,MATCH(Production!C91,Planification!F:F,0)),"") -> 40996981
A92: L7 | B92: J40X4-83 | C92: 40996963 | D92: 35884 | E92: 2014334 | F92: 2014342 | G92: Advance | H92: 5262 | I92: 2014353 | J92: 8L | K92: non-connecté | M92: 25 | N92: =IF(E92<>E93,"OK",IFERROR(IF(CONCATENATE(E92,M92+1)=CONCATENATE(E93,M93),"OK","NOK"),"")) -> OK | O92: =IFERROR(INDEX(Planification!F:F,MATCH(Production!C92,Planification!F:F,0)),"") -> 40996963
A93: L7 | B93: J20DJ-461 | C93: 41000977 | D93: 35884 | E93: 2014334 | F93: 2014342 | G93: Advance | H93: 5263 | I93: 2014353 | J93: 8L | K93: non-connecté | M93: 26 | N93: =IF(E93<>E94,"OK",IFERROR(IF(CONCATENATE(E93,M93+1)=CONCATENATE(E94,M94),"OK","NOK"),"")) -> OK | O93: =IFERROR(INDEX(Planification!F:F,MATCH(Production!C93,Planification!F:F,0)),"") -> 41000977
A94: L7 | B94: J40J6-401 | C94: 40970866 | D94: 35884 | E94: 2014334 | F94: 2014342 | G94: Advance | H94: 5264 | I94: 2014353 | J94: 8L | K94: non-connecté | M94: 27 | N94: =IF(E94<>E95,"OK",IFERROR(IF(CONCATENATE(E94,M94+1)=CONCATENATE(E95,M95),"OK","NOK"),"")) -> OK | O94: =IFERROR(INDEX(Planification!F:F,MATCH(Production!C94,Planification!F:F,0)),"") -> 40970866
A95: L7 | B95: J20DJ-462 | C95: 41000981 | D95: 35884 | E95: 2014334 | F95: 2014342 | G95: Advance | H95: 5266 | I95: 2014353 | J95: 8L | K95: non-connecté | M95: 28 | N95: =IF(E95<>E96,"OK",IFERROR(IF(CONCATENATE(E95,M95+1)=CONCATENATE(E96,M96),"OK","NOK"),"")) -> OK | O95: =IFERROR(INDEX(Planification!F:F,MATCH(Production!C95,Planification!F:F,0)),"") -> 41000981
A96: L7 | B96: Z-100269 | C96: 40993342 | D96: 35884 | E96: 2014334 | F96: 2014342 | G96: Advance | H96: 5267 | I96: 2014353 | J96: 8L | K96: non-connecté | M96: 29 | N96: =IF(E96<>E97,"OK",IFERROR(IF(CONCATENATE(E96,M96+1)=CONCATENATE(E97,M97),"OK","NOK"),"")) -> OK | O96: =IFERROR(INDEX(Planification!F:F,MATCH(Production!C96,Planification!F:F,0)),"") -> 40993342
A97: L7 | B97: Z-100268 | C97: 41007643 | D97: 35884 | E97: 2014334 | F97: 2014342 | G97: Advance | H97: 5268 | I97: 2014353 | J97: 8L | K97: non-connecté | M97: 30 | N97: =IF(E97<>E98,"OK",IFERROR(IF(CONCATENATE(E97,M97+1)=CONCATENATE(E98,M98),"OK","NOK"),"")) -> OK | O97: =IFERROR(INDEX(Planification!F:F,MATCH(Production!C97,Planification!F:F,0)),"") -> 41007643
A98: L7 | B98: J40J6-404 | C98: 41000964 | D98: 35884 | E98: 2014334 | F98: 2014342 | G98: Advance | H98: 5269 | I98: 2014353 | J98: 8L | K98: non-connecté | M98: 31 | N98: =IF(E98<>E99,"OK",IFERROR(IF(CONCATENATE(E98,M98+1)=CONCATENATE(E99,M99),"OK","NOK"),"")) -> OK | O98: =IFERROR(INDEX(Planification!F:F,MATCH(Production!C98,Planification!F:F,0)),"") -> 41000964
... A114: L7 | B114: Z-100274 | C114: 40997671 | D114: 35884 | E114: 2014334 | F114: 2014343 | G114: Advance | H114: 5293 | I114: 2014354 | J114: 8L | K114: non-connecté | M114: 47 | N114: =IF(E114<>E115,"OK",IFERROR(IF(CONCATENATE(E114,M114+1)=CONCATENATE(E115,M115),"OK","NOK"),"")) -> OK | O114: =IFERROR(INDEX(Planification!F:F,MATCH(Production!C114,Planification!F:F,0)),"") -> 40997671

Sheet Planification
A1: N° Séquence | B1: Date | C1: Time | D1: Locked | E1: Ordertype | F1: Delivery Unit | G1: Receiver | H1: BatchGrp | I1: Opt.Start | J1: Flow | K1: Customer date | L1: Lineset no. | M1: ChassiId | N1: Cpo id | O1: Sending No. | P1: Qty | Q1: Partno. ch | R1: Ch. Type | S1: Order id | T1: End factory | U1: Customer time | V1: Engine fam. | W1: Product ID | X1: Prod.Flow | Y1: Com-No | Z1: Opt.End | AA1: Customer | AB1: Comment | AC1: Alt. Flow | AD1: Cop | AE1: PT Group | AF1: Goods Mark | AG1: Material Chk
A2: =INDEX(Production!M:M,MATCH(Planification!F2,Production!C:C,0)) -> 1 | B2: 2014332 | C2: 545 | D2: 40998187 | E2: FIRM | F2: 40998187 | G2: 8403 | H2: 64 | I2: 2014333 | J2: 20 | K2: 2014363 | M2: 232112 | N2: 283304181 | Q2: 40000129 | R2: VP | S2: 186105 | T2: 30 | V2: 8 | W2: 184646 | X2: 68 | Z2: 2014351 | AA2: 41378 | AE2: FALLBACK | AG2: -
A3: =INDEX(Production!M:M,MATCH(Planification!F3,Production!C:C,0)) -> 2 | B3: 2014332 | C3: 600 | D3: 40997260 | E3: FIRM | F3: 40997260 | G3: 1024 | H3: 63 | I3: 2014284 | J3: C | K3: 2014345 | L3: 1016 | M3: 169983 | N3: 282857412 | Q3: 83025312 | R3: B5TL | S3: 402526 | T3: 80 | U3: 1300 | V3: 50 | W3: 188580 | X3: 47 | Z3: 2014334 | AA3: 1024 | AE3: 21997524 | AG3: -
A4: =INDEX(Production!M:M,MATCH(Planification!F4,Production!C:C,0)) -> 3 | B4: 2014332 | C4: 615 | D4: 40997262 | E4: FIRM | F4: 40997262 | G4: 1024 | H4: 63 | I4: 2014284 | J4: C | K4: 2014345 | L4: 1018 | M4: 169984 | N4: 282857420 | Q4: 83025312 | R4: B5TL | S4: 402527 | T4: 80 | U4: 1300 | V4: 50 | W4: 188580 | X4: 47 | Z4: 2014334 | AA4: 1024 | AE4: 21997524 | AG4: -
A5: =INDEX(Production!M:M,MATCH(Planification!F5,Production!C:C,0)) -> 4 | B5: 2014332 | C5: 630 | D5: 40997264 | E5: FIRM | F5: 40997264 | G5: 1024 | H5: 63 | I5: 2014284 | J5: C | K5: 2014345 | L5: 1020 | M5: 169985 | N5: 282857428 | Q5: 83025312 | R5: B5TL | S5: 402528 | T5: 80 | U5: 1300 | V5: 50 | W5: 188580 | X5: 47 | Z5: 2014334 | AA5: 1024 | AE5: 21997524 | AG5: -
A6: =INDEX(Production!M:M,MATCH(Planification!F6,Production!C:C,0)) -> 5 | B6: 2014332 | C6: 645 | D6: 40997266 | E6: FIRM | F6: 40997266 | G6: 1024 | H6: 63 | I6: 2014284 | J6: C | K6: 2014345 | L6: 1022 | M6: 169986 | N6: 282857436 | Q6: 83025312 | R6: B5TL | S6: 402529 | T6: 80 | U6: 1300 | V6: 50 | W6: 188580 | X6: 47 | Z6: 2014334 | AA6: 1024 | AE6: 21997524 | AG6: -
A7: =INDEX(Production!M:M,MATCH(Planification!F7,Production!C:C,0)) -> 6 | B7: 2014332 | C7: 700 | D7: 40997789 | E7: FIRM | F7: 40997789 | G7: 1024 | H7: 63 | I7: 2014284 | J7: C | K7: 2014345 | L7: 1052 | M7: 169987 | N7: 283131227 | Q7: 83025312 | R7: B5TL | S7: 402812 | T7: 80 | U7: 1300 | V7: 50 | W7: 188580 | X7: 47 | Z7: 2014334 | AA7: 1024 | AE7: 21997524 | AG7: -
A8: =INDEX(Production!M:M,MATCH(Planification!F8,Production!C:C,0)) -> 7 | B8: 2014332 | C8: 715 | D8: 40997788 | E8: FIRM | F8: 40997788 | G8: 1024 | H8: 63 | I8: 2014284 | J8: C | K8: 2014345 | L8: 1054 | M8: 169988 | N8: 283131223 | Q8: 83025312 | R8: B5TL | S8: 402813 | T8: 80 | U8: 1300 | V8: 50 | W8: 188580 | X8: 47 | Z8: 2014334 | AA8: 1024 | AE8: 21997524 | AG8: -
A9: =INDEX(Production!M:M,MATCH(Planification!F9,Production!C:C,0)) -> 8 | B9: 2014332 | C9: 730 | D9: 41007405 | E9: FIRM | F9: 41007405 | G9: 1024 | H9: 63 | I9: 2014334 | J9: C | K9: 2014351 | L9: 2002 | M9: 170037 | N9: 287127030 | Q9: 83025327 | R9: B5LH | S9: 403600 | T9: 80 | U9: 1300 | V9: 50 | W9: 188744 | X9: 50012 | Z9: 2014342 | AA9: 1024 | AC9: Y | AE9: 21997524 | AG9: -
A10: =INDEX(Production!M:M,MATCH(Planification!F10,Production!C:C,0)) -> 9 | B10: 2014332 | C10: 745 | D10: 41007386 | E10: FIRM | F10: 41007386 | G10: 1024 | H10: 63 | I10: 2014334 | J10: C | K10: 2014351 | L10: 2004 | M10: 170038 | N10: 287126954 | Q10: 83025327 | R10: B5LH | S10: 403601 | T10: 80 | U10: 1300 | V10: 50 | W10: 188744 | X10: 50012 | Z10: 2014342 | AA10: 1024 | AC10: Y | AE10: 21997524 | AG10: -
A11: =INDEX(Production!M:M,MATCH(Planification!F11,Production!C:C,0)) -> 10 | B11: 2014332 | C11: 815 | D11: 41010555 | E11: FIRM | F11: 41010555 | G11: 8403 | H11: 64 | I11: 2014333 | J11: 20 | K11: 2014363 | M11: 232142 | N11: 288404155 | Q11: 40000129 | R11: VP | S11: 188199 | T11: 30 | V11: 8 | W11: 187665 | X11: 68 | Z11: 2014351 | AA11: 41378 | AE11: FALLBACK | AG11: -
A12: =INDEX(Production!M:M,MATCH(Planification!F12,Production!C:C,0)) -> 11 | B12: 2014332 | C12: 830 | D12: 41007390 | E12: FIRM | F12: 41007390 | G12: 1024 | H12: 63 | I12: 2014334 | J12: C | K12: 2014351 | L12: 2006 | M12: 170039 | N12: 287126970 | Q12: 83025327 | R12: B5LH | S12: 403602 | T12: 80 | U12: 1300 | V12: 50 | W12: 188744 | X12: 50012 | Z12: 2014342 | AA12: 1024 | AC12: Y | AE12: 21997524 | AG12: -
A13: =INDEX(Production!M:M,MATCH(Planification!F13,Production!C:C,0)) -> 12 | B13: 2014332 | C13: 845 | D13: 41007393 | E13: FIRM | F13: 41007393 | G13: 1024 | H13: 63 | I13: 2014334 | J13: C | K13: 2014351 | L13: 2009 | M13: 170040 | N13: 287126978 | Q13: 83025327 | R13: B5LH | S13: 403603 | T13: 80 | U13: 1300 | V13: 50 | W13: 188744 | X13: 44 | Z13: 2014342 | AA13: 1024 | AE13: 21997524 | AG13: -
A14: =INDEX(Production!M:M,MATCH(Planification!F14,Production!C:C,0)) -> 13 | B14: 2014332 | C14: 900 | D14: 41007395 | E14: FIRM | F14: 41007395 | G14: 1024 | H14: 63 | I14: 2014334 | J14: C | K14: 2014351 | L14: 2011 | M14: 170041 | N14: 287126990 | Q14: 83025327 | R14: B5LH | S14: 403604 | T14: 80 | U14: 1300 | V14: 50 | W14: 188744 | X14: 44 | Z14: 2014342 | AA14: 1024 | AE14: 21997524 | AG14: -
A15: =INDEX(Production!M:M,MATCH(Planification!F15,Production!C:C,0)) -> 14 | B15: 2014332 | C15: 915 | D15: 41008764 | E15: FIRM | F15: 41008764 | G15: 35884 | H15: 63 | I15: 2014341 | J15: L7 | K15: 2014351 | L15: 5171 | M15: 100231 | N15: 287891873 | Q15: 83025422 | R15: Z | S15: T001230 | T15: 21 | V15: 8 | W15: 188766 | X15: 44 | Z15: 2014343 | AA15: 35884 | AE15: 21997525 | AG15: -
A16: =INDEX(Production!M:M,MATCH(Planification!F16,Production!C:C,0)) -> 15 | B16: 2014332 | C16: 930 | D16: 41004899 | E16: FIRM | F16: 41004899 | G16: 35884 | H16: 63 | I16: 2014341 | J16: L7 | K16: 2014351 | L16: 5172 | M16: 740 | N16: 286482802 | Q16: 83032547 | R16: J40J2 | S16: 1880215 | T16: 21 | V16: 50 | W16: 188713 | X16: 44 | Z16: 2014343 | AA16: 35884 | AE16: 21997524 | AG16: -
A17: =INDEX(Production!M:M,MATCH(Planification!F17,Production!C:C,0)) -> 16 | B17: 2014332 | C17: 945 | D17: 40954462 | E17: FIRM | F17: 40954462 | G17: 35884 | H17: 63 | I17: 2014341 | J17: L7 | K17: 2014351 | L17: 5173 | M17: 450 | N17: 266484167 | Q17: 83025375 | R17: J20DJ | S17: 1862718 | T17: 21 | V17: 8 | W17: 188581 | X17: 44 | Z17: 2014343 | AA17: 35884 | AE17: 21997525 | AG17: -
A18: =INDEX(Production!M:M,MATCH(Planification!F18,Production!C:C,0)) -> 17 | B18: 2014332 | C18: 1000 | D18: 40993329 | E18: FIRM | F18: 40993329 | G18: 35884 | H18: 63 | I18: 2014341 | J18: L7 | K18: 2014351 | L18: 5174 | M18: 100235 | N18: 281146654 | Q18: 83032269 | R18: Z | S18: T000721 | T18: 21 | V18: 8 | W18: 188545 | X18: 44 | Z18: 2014343 | AA18: 35884 | AE18: 21997525 | AG18: -
A19: =INDEX(Production!M:M,MATCH(Planification!F19,Production!C:C,0)) -> 18 | B19: 2014332 | C19: 1015 | D19: 41002187 | E19: FIRM | F19: 41002187 | G19: 35884 | H19: 63 | I19: 2014341 | J19: L7 | K19: 2014351 | L19: 5177 | M19: 100237 | N19: 284926610 | Q19: 83025406 | R19: Z | S19: T001056 | T19: 21 | V19: 50 | W19: 188672 | X19: 44 | Z19: 2014343 | AA19: 35884 | AE19: 21997524 | AG19: -
A20: =INDEX(Production!M:M,MATCH(Planification!F20,Production!C:C,0)) -> 19 | B20: 2014332 | C20: 1030 | D20: 41004018 | E20: FIRM | F20: 41004018 | G20: 8403 | H20: 64 | I20: 2014341 | J20: 20 | K20: 2014365 | M20: 232276 | N20: 285845274 | Q20: 40000129 | R20: VP | S20: 187176 | T20: 30 | V20: 8 | W20: 185264 | X20: 68 | Z20: 2014353 | AA20: 41378 | AE20: FALLBACK | AG20: -
A21: =INDEX(Production!M:M,MATCH(Planification!F21,Production!C:C,0)) -> 20 | B21: 2014332 | C21: 1045 | D21: 40992644 | E21: FIRM | F21: 40992644 | G21: 35884 | H21: 63 | I21: 2014341 | J21: L7 | K21: 2014351 | L21: 5179 | M21: 741 | N21: 280856587 | Q21: 83025377 | R21: J40J2 | S21: 1870959 | T21: 21 | V21: 50 | W21: 188514 | X21: 44 | Z21: 2014343 | AA21: 35884 | AE21: 21997524 | AG21: -
A22: =INDEX(Production!M:M,MATCH(Planification!F22,Production!C:C,0)) -> 21 | B22: 2014332 | C22: 1130 | D22: 40989005 | E22: FIRM | F22: 40989005 | G22: 35884 | H22: 63 | I22: 2014341 | J22: L7 | K22: 2014351 | L22: 5180 | M22: 451 | N22: 279311794 | Q22: 83025375 | R22: J20DJ | S22: 1874437 | T22: 21 | V22: 8 | W22: 188581 | X22: 44 | Z22: 2014343 | AA22: 35884 | AE22: 21997525 | AG22: -
A23: =INDEX(Production!M:M,MATCH(Planification!F23,Production!C:C,0)) -> 22 | B23: 2014332 | C23: 1145 | D23: 40997345 | E23: FIRM | F23: 40997345 | G23: 35884 | H23: 63 | I23: 2014341 | J23: L7 | K23: 2014351 | L23: 5183 | M23: 270 | N23: 282975189 | Q23: 83025384 | R23: J20DM | S23: 1876886 | T23: 21 | V23: 8 | W23: 188631 | X23: 50014 | Z23: 2014343 | AA23: 35884 | AC23: Y | AE23: 21997525 | AG23: -
A24: =INDEX(Production!M:M,MATCH(Planification!F24,Production!C:C,0)) -> 23 | B24: 2014332 | C24: 1200 | D24: 40982049 | E24: FIRM | F24: 40982049 | G24: 35884 | H24: 63 | I24: 2014341 | J24: L7 | K24: 2014351 | L24: 5184 | M24: 743 | N24: 277813219 | Q24: 83032597 | R24: J40J2 | S24: 1872383 | T24: 21 | V24: 50 | W24: 188592 | X24: 44 | Z24: 2014343 | AA24: 35884 | AE24: 21997524 | AG24: -
A25: =INDEX(Production!M:M,MATCH(Planification!F25,Production!C:C,0)) -> 24 | B25: 2014332 | C25: 1215 | D25: 40994510 | E25: FIRM | F25: 40994510 | G25: 35884 | H25: 63 | I25: 2014341 | J25: L7 | K25: 2014351 | L25: 5185 | M25: 452 | N25: 281774762 | Q25: 83025375 | R25: J20DJ | S25: 1876356 | T25: 21 | V25: 8 | W25: 188615 | X25: 44 | Z25: 2014343 | AA25: 35884 | AE25: 21997525 | AG25: -
A26: =INDEX(Production!M:M,MATCH(Planification!F26,Production!C:C,0)) -> 25 | B26: 2014332 | C26: 1230 | D26: 41004886 | E26: FIRM | F26: 41004886 | G26: 35884 | H26: 63 | I26: 2014341 | J26: L7 | K26: 2014351 | L26: 5187 | M26: 453 | N26: 286482670 | Q26: 83025375 | R26: J20DJ | S26: 1878143 | T26: 21 | V26: 8 | W26: 188581 | X26: 44 | Z26: 2014343 | AA26: 35884 | AE26: 21997525 | AG26: -
A27: =INDEX(Production!M:M,MATCH(Planification!F27,Production!C:C,0)) -> 26 | B27: 2014332 | C27: 1245 | D27: 41002081 | E27: FIRM | F27: 41002081 | G27: 4761 | H27: 63 | I27: 2014341 | J27: P | K27: 2014352 | L27: 2018 | M27: 169888 | N27: 284804682 | O27: 33 | Q27: 83032251 | R27: B8R | S27: 402995 | T27: 11 | U27: 1300 | V27: 8 | W27: 188669 | X27: 44 | Z27: 2014343 | AA27: 1024 | AE27: 21997525 | AG27: -
A28: =INDEX(Production!M:M,MATCH(Planification!F28,Production!C:C,0)) -> 27 | B28: 2014332 | C28: 1300 | D28: 41002080 | E28: FIRM | F28: 41002080 | G28: 4761 | H28: 63 | I28: 2014341 | J28: P | K28: 2014352 | L28: 2020 | M28: 169890 | N28: 284804678 | O28: 33 | Q28: 83032251 | R28: B8R | S28: 402997 | T28: 11 | U28: 1300 | V28: 8 | W28: 188669 | X28: 44 | Z28: 2014343 | AA28: 1024 | AE28: 21997525 | AG28: -
A29: =INDEX(Production!M:M,MATCH(Planification!F29,Production!C:C,0)) -> 28 | B29: 2014332 | C29: 1315 | D29: 40997261 | E29: FIRM | F29: 40997261 | G29: 1024 | H29: 63 | I29: 2014334 | J29: C | K29: 2014352 | L29: 3008 | M29: 170053 | N29: 282857416 | Q29: 83025312 | R29: B5TL | S29: 402530 | T29: 80 | U29: 1300 | V29: 50 | W29: 188580 | X29: 47 | Z29: 2014343 | AA29: 1024 | AE29: 21997524 | AG29: -
A30: =INDEX(Production!M:M,MATCH(Planification!F30,Production!C:C,0)) -> 29 | B30: 2014332 | C30: 1330 | D30: 40997263 | E30: FIRM | F30: 40997263 | G30: 1024 | H30: 63 | I30: 2014334 | J30: C | K30: 2014352 | L30: 3010 | M30: 170054 | N30: 282857424 | Q30: 83025312 | R30: B5TL | S30: 402531 | T30: 80 | U30: 1300 | V30: 50 | W30: 188580 | X30: 47 | Z30: 2014343 | AA30: 1024 | AE30: 21997524 | AG30: -
A31: =INDEX(Production!M:M,MATCH(Planification!F31,Production!C:C,0)) -> 1 | B31: 2014333 | C31: 545 | E31: FIRM | F31: 41017669 | G31: 31971 | H31: 63 | I31: 2014284 | J31: 1 | K31: 2014334 | N31: 291250486 | Q31: 83025377 | S31: 291250486 | T31: 21 | V31: 50 | W31: 188795 | X31: 64 | Y31: 22027238 | Z31: 2014333 | AA31: 31971 | AE31: 21997524 | AG31: -
A32: =INDEX(Production!M:M,MATCH(Planification!F32,Production!C:C,0)) -> 2 | B32: 2014333 | C32: 557 | D32: 41014575 | E32: FIRM | F32: 41014575 | G32: 14489 | H32: 63 | I32: 2014284 | J32: 1 | K32: 2014335 | N32: 289441015 | Q32: 83025422 | S32: 289441015 | T32: 21 | V32: 8 | W32: 189201 | X32: 64 | Y32: 22027263 | Z32: 2014333 | AA32: 1002 | AE32: 21997525 | AG32: -
A33: =INDEX(Production!M:M,MATCH(Planification!F33,Production!C:C,0)) -> 3 | B33: 2014333 | C33: 609 | D33: 41014576 | E33: FIRM | F33: 41014576 | G33: 14489 | H33: 63 | I33: 2014284 | J33: 1 | K33: 2014335 | N33: 289441016 | Q33: 83025422 | S33: 289441015 | T33: 21 | V33: 8 | W33: 189201 | X33: 64 | Y33: 22027263 | Z33: 2014333 | AA33: 1002 | AE33: 21997525 | AG33: -
A34: =INDEX(Production!M:M,MATCH(Planification!F34,Production!C:C,0)) -> 4 | B34: 2014333 | C34: 621 | D34: 40981502 | E34: FIRM | F34: 40981502 | G34: 31972 | H34: 63 | I34: 2014341 | J34: PM | K34: 2014345 | N34: 277557561 | Q34: 83025379 | S34: 5-710 | T34: 22 | V34: 50 | W34: 188590 | X34: 44 | Z34: 2014343 | AA34: 31972 | AB34: PROTO à... | AE34: 21997524 | AG34: -
A35: =INDEX(Production!M:M,MATCH(Planification!F35,Production!C:C,0)) -> 5 | B35: 2014333 | C35: 633 | D35: 40997670 | E35: FIRM | F35: 40997670 | G35: 35884 | H35: 63 | I35: 2014341 | J35: L7 | K35: 2014351 | L35: 5188 | M35: 100234 | N35: 283111456 | Q35: 83032269 | R35: Z | S35: T000914 | T35: 21 | V35: 8 | W35: 188634 | X35: 44 | Z35: 2014343 | AA35: 35884 | AE35: 21997525 | AG35: -
A36: =INDEX(Production!M:M,MATCH(Planification!F36,Production!C:C,0)) -> 6 | B36: 2014333 | C36: 645 | D36: 40992299 | E36: FIRM | F36: 40992299 | G36: 35884 | H36: 63 | I36: 2014341 | J36: L7 | K36: 2014351 | L36: 5189 | M36: 271 | N36: 280708347 | Q36: 83025375 | R36: J20DM | S36: 1875391 | T36: 21 | V36: 8 | W36: 188525 | X36: 50014 | Z36: 2014343 | AA36: 35884 | AC36: Y | AE36: 21997525 | AG36: -
A37: =INDEX(Production!M:M,MATCH(Planification!F37,Production!C:C,0)) -> 7 | B37: 2014333 | C37: 657 | D37: 40993328 | E37: FIRM | F37: 40993328 | G37: 35884 | H37: 63 | I37: 2014341 | J37: L7 | K37: 2014351 | L37: 5190 | M37: 100238 | N37: 281146675 | Q37: 83032270 | R37: Z | S37: T000737 | T37: 21 | V37: 8 | W37: 188600 | X37: 44 | Z37: 2014343 | AA37: 35884 | AE37: 21997525 | AG37: -
A38: =INDEX(Production!M:M,MATCH(Planification!F38,Production!C:C,0)) -> 8 | B38: 2014333 | C38: 709 | D38: 40992639 | E38: FIRM | F38: 40992639 | G38: 35884 | H38: 63 | I38: 2014341 | J38: L7 | K38: 2014351 | L38: 5191 | M38: 742 | N38: 280856572 | Q38: 83025377 | R38: J40J2 | S38: 1870972 | T38: 21 | V38: 50 | W38: 188514 | X38: 44 | Z38: 2014343 | AA38: 35884 | AE38: 21997524 | AG38: -
A39: =INDEX(Production!M:M,MATCH(Planification!F39,Production!C:C,0)) -> 9 | B39: 2014333 | C39: 721 | D39: 41007635 | E39: FIRM | F39: 41007635 | G39: 35884 | H39: 63 | I39: 2014341 | J39: L7 | K39: 2014351 | L39: 5194 | M39: 100242 | N39: 287239495 | Q39: 83032278 | R39: Z | S39: T001159 | T39: 21 | V39: 8 | W39: 188731 | X39: 44 | Z39: 2014343 | AA39: 35884 | AE39: 21997525 | AG39: -
A40: =INDEX(Production!M:M,MATCH(Planification!F40,Production!C:C,0)) -> 10 | B40: 2014333 | C40: 733 | D40: 41002188 | E40: FIRM | F40: 41002188 | G40: 35884 | H40: 63 | I40: 2014341 | J40: L7 | K40: 2014351 | L40: 5195 | M40: 100241 | N40: 284926613 | Q40: 83025406 | R40: Z | S40: T001057 | T40: 21 | V40: 50 | W40: 188672 | X40: 44 | Z40: 2014343 | AA40: 35884 | AE40: 21997524 | AG40: -
A41: =INDEX(Production!M:M,MATCH(Planification!F41,Production!C:C,0)) -> 11 | B41: 2014333 | C41: 745 | D41: 40994509 | E41: FIRM | F41: 40994509 | G41: 35884 | H41: 63 | I41: 2014341 | J41: L7 | K41: 2014351 | L41: 5196 | M41: 65 | N41: 281774745 | Q41: 83025384 | R41: J21DM | S41: 1876345 | T41: 21 | V41: 8 | W41: 188614 | X41: 44 | Z41: 2014343 | AA41: 35884 | AE41: 21997525 | AG41: -
A42: =INDEX(Production!M:M,MATCH(Planification!F42,Production!C:C,0)) -> 12 | B42: 2014333 | C42: 757 | D42: 40993344 | E42: FIRM | F42: 40993344 | G42: 35884 | H42: 63 | I42: 2014341 | J42: L7 | K42: 2014351 | L42: 5198 | M42: 100240 | N42: 281146699 | Q42: 83032270 | R42: Z | S42: T000739 | T42: 21 | V42: 8 | W42: 188600 | X42: 44 | Z42: 2014343 | AA42: 35884 | AE42: 21997525 | AG42: -
A43: =INDEX(Production!M:M,MATCH(Planification!F43,Production!C:C,0)) -> 13 | B43: 2014333 | C43: 825 | D43: 41003536 | E43: FIRM | F43: 41003536 | G43: 35884 | H43: 63 | I43: 2014341 | J43: L7 | K43: 2014351 | L43: 5200 | M43: 100244 | N43: 285692588 | Q43: 83032269 | R43: Z | S43: T001083 | T43: 21 | V43: 8 | W43: 188634 | X43: 44 | Z43: 2014343 | AA43: 35884 | AE43: 21997525 | AG43: -
A44: =INDEX(Production!M:M,MATCH(Planification!F44,Production!C:C,0)) -> 14 | B44: 2014333 | C44: 837 | D44: 41005787 | E44: FIRM | F44: 41005787 | G44: 35884 | H44: 63 | I44: 2014341 | J44: L7 | K44: 2014351 | L44: 5201 | M44: 125 | N44: 286914637 | Q44: 83032263 | R44: J21DJ | S44: 1880341 | T44: 21 | V44: 8 | W44: 188735 | X44: 44 | Z44: 2014343 | AA44: 35884 | AE44: 21997525 | AG44: -
A45: =INDEX(Production!M:M,MATCH(Planification!F45,Production!C:C,0)) -> 15 | B45: 2014333 | C45: 849 | D45: 40996434 | E45: FIRM | F45: 40996434 | G45: 35884 | H45: 63 | I45: 2014341 | J45: L7 | K45: 2014351 | L45: 5202 | M45: 81 | N45: 282545368 | Q45: 83032560 | R45: J40X4 | S45: 1875528 | T45: 21 | V45: 8 | W45: 188625 | X45: 44 | Z45: 2014343 | AA45: 35884 | AE45: 21997525 | AG45: -
A46: =INDEX(Production!M:M,MATCH(Planification!F46,Production!C:C,0)) -> 16 | B46: 2014333 | C46: 901 | D46: 41000585 | E46: FIRM | F46: 41000585 | G46: 35884 | H46: 63 | I46: 2014341 | J46: L7 | K46: 2014351 | L46: 5204 | M46: 100245 | N46: 284117221 | Q46: 83032269 | R46: Z | S46: T001008 | T46: 21 | V46: 8 | W46: 188648 | X46: 44 | Z46: 2014343 | AA46: 35884 | AE46: 21997525 | AG46: -
A47: =INDEX(Production!M:M,MATCH(Planification!F47,Production!C:C,0)) -> 17 | B47: 2014333 | C47: 913 | D47: 40993106 | E47: FIRM | F47: 40993106 | G47: 35884 | H47: 63 | I47: 2014341 | J47: L7 | K47: 2014351 | L47: 5205 | M47: 395 | N47: 280999802 | Q47: 83025377 | R47: J40J6 | S47: 1875560 | T47: 21 | V47: 50 | W47: 188599 | X47: 44 | Z47: 2014343 | AA47: 35884 | AE47: 21997524 | AG47: -
A48: =INDEX(Production!M:M,MATCH(Planification!F48,Production!C:C,0)) -> 18 | B48: 2014333 | C48: 925 | D48: 41003553 | E48: FIRM | F48: 41003553 | G48: 35884 | H48: 63 | I48: 2014341 | J48: L7 | K48: 2014351 | L48: 5206 | M48: 454 | N48: 285692644 | Q48: 83025384 | R48: J20DJ | S48: 1879142 | T48: 21 | V48: 8 | W48: 188644 | X48: 44 | Z48: 2014343 | AA48: 35884 | AE48: 21997525 | AG48: -
A49: =INDEX(Production!M:M,MATCH(Planification!F49,Production!C:C,0)) -> 19 | B49: 2014333 | C49: 937 | D49: 41001778 | E49: FIRM | F49: 41001778 | G49: 35884 | H49: 63 | I49: 2014341 | J49: L7 | K49: 2014351 | L49: 5207 | M49: 329 | N49: 284777894 | Q49: 83032547 | R49: J40J4 | S49: 1878596 | T49: 21 | V49: 50 | W49: 188518 | X49: 44 | Z49: 2014343 | AA49: 35884 | AE49: 21997524 | AG49: -
A50: =INDEX(Production!M:M,MATCH(Planification!F50,Production!C:C,0)) -> 20 | B50: 2014333 | C50: 949 | D50: 40994505 | E50: FIRM | F50: 40994505 | G50: 35884 | H50: 63 | I50: 2014341 | J50: L7 | K50: 2014351 | L50: 5208 | M50: 71 | N50: 281774676 | Q50: 83025384 | R50: J21DN | S50: 1876314 | T50: 21 | V50: 8 | W50: 188614 | X50: 44 | Z50: 2014343 | AA50: 35884 | AE50: 21997525 | AG50: -
A51: =INDEX(Production!M:M,MATCH(Planification!F51,Production!C:C,0)) -> 21 | B51: 2014333 | C51: 1001 | D51: 40978434 | E51: FIRM | F51: 40978434 | G51: 35884 | H51: 63 | I51: 2014341 | J51: L7 | K51: 2014351 | L51: 5209 | M51: 394 | N51: 276281086 | Q51: 83032547 | R51: J40J6 | S51: 1870893 | T51: 21 | V51: 50 | W51: 188518 | X51: 44 | Z51: 2014343 | AA51: 35884 | AE51: 21997524 | AG51: -
A52: =INDEX(Production!M:M,MATCH(Planification!F52,Production!C:C,0)) -> 22 | B52: 2014333 | C52: 1013 | D52: 41001381 | E52: FIRM | F52: 41001381 | G52: 35884 | H52: 63 | I52: 2014341 | J52: L7 | K52: 2014351 | L52: 5211 | M52: 396 | N52: 284585872 | Q52: 83032259 | R52: J40J6 | S52: 1878390 | T52: 21 | V52: 8 | W52: 188588 | X52: 44 | Z52: 2014343 | AA52: 35884 | AE52: 21997525 | AG52: -
A53: =INDEX(Production!M:M,MATCH(Planification!F53,Production!C:C,0)) -> 23 | B53: 2014333 | C53: 1025 | D53: 40954463 | E53: FIRM | F53: 40954463 | G53: 35884 | H53: 63 | I53: 2014341 | J53: L7 | K53: 2014352 | L53: 5213 | M53: 455 | N53: 266484173 | Q53: 83025375 | R53: J20DJ | S53: 1862719 | T53: 21 | V53: 8 | W53: 188581 | X53: 44 | Z53: 2014343 | AA53: 35884 | AE53: 21997525 | AG53: -
A54: =INDEX(Production!M:M,MATCH(Planification!F54,Production!C:C,0)) -> 24 | B54: 2014333 | C54: 1037 | D54: 40993363 | E54: FIRM | F54: 40993363 | G54: 35884 | H54: 63 | I54: 2014341 | J54: L7 | K54: 2014352 | L54: 5214 | M54: 744 | N54: 281146774 | Q54: 83025377 | R54: J40J2 | S54: 1875762 | T54: 21 | V54: 50 | W54: 188604 | X54: 50014 | Z54: 2014343 | AA54: 35884 | AC54: Y | AE54: 21997524 | AG54: -
A55: =INDEX(Production!M:M,MATCH(Planification!F55,Production!C:C,0)) -> 25 | B55: 2014333 | C55: 1049 | D55: 40997679 | E55: FIRM | F55: 40997679 | G55: 35884 | H55: 63 | I55: 2014341 | J55: L7 | K55: 2014352 | L55: 5215 | M55: 100249 | N55: 283111536 | Q55: 83032268 | R55: Z | S55: T000919 | T55: 21 | V55: 8 | W55: 188522 | X55: 44 | Z55: 2014343 | AA55: 35884 | AE55: 21997525 | AG55: -
A56: =INDEX(Production!M:M,MATCH(Planification!F56,Production!C:C,0)) -> 26 | B56: 2014333 | C56: 1132 | D56: 40996984 | E56: FIRM | F56: 40996984 | G56: 35884 | H56: 63 | I56: 2014341 | J56: L7 | K56: 2014352 | L56: 5216 | M56: 456 | N56: 282831022 | Q56: 83025375 | R56: J20DJ | S56: 1876812 | T56: 21 | V56: 8 | W56: 188581 | X56: 44 | Z56: 2014343 | AA56: 35884 | AE56: 21997525 | AG56: -
A57: =INDEX(Production!M:M,MATCH(Planification!F57,Production!C:C,0)) -> 27 | B57: 2014333 | C57: 1144 | D57: 40996433 | E57: FIRM | F57: 40996433 | G57: 35884 | H57: 63 | I57: 2014341 | J57: L7 | K57: 2014352 | L57: 5217 | M57: 82 | N57: 282545366 | Q57: 83032560 | R57: J40X4 | S57: 1875526 | T57: 21 | V57: 8 | W57: 188625 | X57: 44 | Z57: 2014343 | AA57: 35884 | AE57: 21997525 | AG57: -
A58: =INDEX(Production!M:M,MATCH(Planification!F58,Production!C:C,0)) -> 28 | B58: 2014333 | C58: 1156 | D58: 41004880 | E58: FIRM | F58: 41004880 | G58: 35884 | H58: 63 | I58: 2014341 | J58: L7 | K58: 2014352 | L58: 5218 | M58: 100248 | N58: 286482620 | Q58: 83032269 | R58: Z | S58: T001132 | T58: 21 | V58: 8 | W58: 188545 | X58: 44 | Z58: 2014343 | AA58: 35884 | AE58: 21997525 | AG58: -
A59: =INDEX(Production!M:M,MATCH(Planification!F59,Production!C:C,0)) -> 29 | B59: 2014333 | C59: 1208 | D59: 41004881 | E59: FIRM | F59: 41004881 | G59: 35884 | H59: 63 | I59: 2014341 | J59: L7 | K59: 2014352 | L59: 5220 | M59: 100250 | N59: 286482628 | Q59: 83032269 | R59: Z | S59: T001133 | T59: 21 | V59: 8 | W59: 188545 | X59: 44 | Z59: 2014343 | AA59: 35884 | AE59: 21997525 | AG59: -
A60: =INDEX(Production!M:M,MATCH(Planification!F60,Production!C:C,0)) -> 30 | B60: 2014333 | C60: 1220 | D60: 40996983 | E60: FIRM | F60: 40996983 | G60: 35884 | H60: 63 | I60: 2014341 | J60: L7 | K60: 2014352 | L60: 5221 | M60: 457 | N60: 282831018 | Q60: 83025375 | R60: J20DJ | S60: 1876815 | T60: 21 | V60: 8 | W60: 188581 | X60: 44 | Z60: 2014343 | AA60: 35884 | AE60: 21997525 | AG60: -
A61: =INDEX(Production!M:M,MATCH(Planification!F61,Production!C:C,0)) -> 31 | B61: 2014333 | C61: 1232 | D61: 40989823 | E61: FIRM | F61: 40989823 | G61: 35884 | H61: 63 | I61: 2014341 | J61: L7 | K61: 2014352 | L61: 5223 | M61: 125 | N61: 279708096 | Q61: 83032260 | R61: J40J8 | S61: 1874785 | T61: 21 | V61: 8 | W61: 188598 | X61: 44 | Z61: 2014343 | AA61: 35884 | AE61: 21997525 | AG61: -
A62: =INDEX(Production!M:M,MATCH(Planification!F62,Production!C:C,0)) -> 32 | B62: 2014333 | C62: 1244 | D62: 40993368 | E62: FIRM | F62: 40993368 | G62: 35884 | H62: 63 | I62: 2014341 | J62: L7 | K62: 2014352 | L62: 5224 | M62: 272 | N62: 281146791 | Q62: 83025375 | R62: J20DM | S62: 1875768 | T62: 21 | V62: 8 | W62: 188527 | X62: 50014 | Z62: 2014343 | AA62: 35884 | AC62: Y | AE62: 21997525 | AG62: -
A63: =INDEX(Production!M:M,MATCH(Planification!F63,Production!C:C,0)) -> 33 | B63: 2014333 | C63: 1256 | D63: 41001774 | E63: FIRM | F63: 41001774 | G63: 35884 | H63: 63 | I63: 2014341 | J63: L7 | K63: 2014352 | L63: 5225 | M63: 747 | N63: 284777882 | Q63: 83025377 | R63: J40J2 | S63: 1878506 | T63: 21 | V63: 50 | W63: 188665 | X63: 44 | Z63: 2014343 | AA63: 35884 | AE63: 21997524 | AG63: -
A64: =INDEX(Production!M:M,MATCH(Planification!F64,Production!C:C,0)) -> 34 | B64: 2014333 | C64: 1308 | D64: 40997685 | E64: FIRM | F64: 40997685 | G64: 35884 | H64: 63 | I64: 2014341 | J64: L7 | K64: 2014352 | L64: 5226 | M64: 100255 | N64: 283111589 | Q64: 83032268 | R64: Z | S64: T000920 | T64: 21 | V64: 8 | W64: 188522 | X64: 44 | Z64: 2014343 | AA64: 35884 | AE64: 21997525 | AG64: -
A65: =INDEX(Production!M:M,MATCH(Planification!F65,Production!C:C,0)) -> 35 | B65: 2014333 | C65: 1320 | D65: 41000979 | E65: FIRM | F65: 41000979 | G65: 35884 | H65: 63 | I65: 2014341 | J65: L7 | K65: 2014352 | L65: 5227 | M65: 458 | N65: 284268586 | Q65: 83025384 | R65: J20DJ | S65: 1878131 | T65: 21 | V65: 8 | W65: 188640 | X65: 44 | Z65: 2014343 | AA65: 35884 | AE65: 21997525 | AG65: -
A66: =INDEX(Production!M:M,MATCH(Planification!F66,Production!C:C,0)) -> 36 | B66: 2014333 | C66: 1332 | D66: 40992635 | E66: FIRM | F66: 40992635 | G66: 35884 | H66: 63 | I66: 2014341 | J66: L7 | K66: 2014352 | L66: 5228 | M66: 745 | N66: 280856560 | Q66: 83025377 | R66: J40J2 | S66: 1870971 | T66: 21 | V66: 50 | W66: 188514 | X66: 50012 | Z66: 2014343 | AA66: 35884 | AC66: Y | AE66: 21997524 | AG66: -
A67: =INDEX(Production!M:M,MATCH(Planification!F67,Production!C:C,0)) -> 37 | B67: 2014333 | C67: 1344 | D67: 40997265 | E67: FIRM | F67: 40997265 | G67: 1024 | H67: 63 | I67: 2014341 | J67: C | K67: 2014353 | L67: 4014 | M67: 170063 | N67: 282857432 | Q67: 83025312 | R67: B5TL | S67: 402532 | T67: 80 | U67: 1300 | V67: 50 | W67: 188580 | X67: 50014 | Z67: 2014343 | AA67: 1024 | AC67: Y | AE67: 21997524 | AG67: -
A68: =INDEX(Production!M:M,MATCH(Planification!F68,Production!C:C,0)) -> 1 | B68: 2014334 | C68: 545 | D68: 41009396 | E68: FIRM | F68: 41009396 | G68: 8402 | H68: 64 | I68: 2014343 | J68: 29 | K68: 2014354 | M68: 7893 | N68: 288073070 | Q68: 22013485 | R68: DE | S68: 188055 | T68: 30 | V68: 8 | W68: 178032 | X68: 50014 | Z68: 2014351 | AA68: 38312 | AC68: Y | AE68: FALLBACK | AG68: -
A69: =INDEX(Production!M:M,MATCH(Planification!F69,Production!C:C,0)) -> 2 | B69: 2014334 | C69: 554 | D69: 41008075 | E69: FIRM | F69: 41008075 | G69: 4761 | H69: 63 | I69: 2014341 | J69: P | K69: 2014352 | L69: 2005 | M69: 169875 | N69: 287422523 | O69: 33 | Q69: 83025333 | R69: B8R | S69: 403686 | T69: 11 | U69: 1300 | V69: 8 | W69: 188757 | X69: 47 | Z69: 2014343 | AA69: 1024 | AE69: 21997525 | AG69: -
A70: =INDEX(Production!M:M,MATCH(Planification!F70,Production!C:C,0)) -> 3 | B70: 2014334 | C70: 603 | D70: 41002082 | E70: FIRM | F70: 41002082 | G70: 4761 | H70: 63 | I70: 2014341 | J70: P | K70: 2014352 | L70: 2021 | M70: 169891 | N70: 284804686 | O70: 33 | Q70: 83032251 | R70: B8R | S70: 402998 | T70: 11 | U70: 1300 | V70: 8 | W70: 188669 | X70: 44 | Z70: 2014343 | AA70: 1024 | AE70: 21997525 | AG70: -
A71: =INDEX(Production!M:M,MATCH(Planification!F71,Production!C:C,0)) -> 4 | B71: 2014334 | C71: 613 | D71: 41002083 | E71: FIRM | F71: 41002083 | G71: 4761 | H71: 63 | I71: 2014341 | J71: P | K71: 2014352 | L71: 2022 | M71: 169892 | N71: 284804690 | O71: 33 | Q71: 83032251 | R71: B8R | S71: 402999 | T71: 11 | U71: 1300 | V71: 8 | W71: 188669 | X71: 44 | Z71: 2014343 | AA71: 1024 | AE71: 21997525 | AG71: -
A72: =INDEX(Production!M:M,MATCH(Planification!F72,Production!C:C,0)) -> 5 | B72: 2014334 | C72: 622 | D72: 40998094 | E72: FIRM | F72: 40998094 | G72: 35884 | H72: 63 | I72: 2014341 | J72: L7 | K72: 2014352 | L72: 5233 | M72: 100257 | N72: 283319218 | Q72: 83032269 | R72: Z | S72: T000962 | T72: 21 | V72: 8 | W72: 188637 | X72: 44 | Z72: 2014343 | AA72: 35884 | AE72: 21997525 | AG72: -
A73: =INDEX(Production!M:M,MATCH(Planification!F73,Production!C:C,0)) -> 6 | B73: 2014334 | C73: 631 | D73: 40989007 | E73: FIRM | F73: 40989007 | G73: 35884 | H73: 63 | I73: 2014341 | J73: L7 | K73: 2014352 | L73: 5235 | M73: 331 | N73: 279311802 | Q73: 83025377 | R73: J40J4 | S73: 1874439 | T73: 21 | V73: 50 | W73: 188595 | X73: 44 | Z73: 2014343 | AA73: 35884 | AE73: 21997524 | AG73: -
A74: =INDEX(Production!M:M,MATCH(Planification!F74,Production!C:C,0)) -> 7 | B74: 2014334 | C74: 641 | D74: 40995360 | E74: FIRM | F74: 40995360 | G74: 35884 | H74: 63 | I74: 2014341 | J74: L7 | K74: 2014352 | L74: 5237 | M74: 72 | N74: 282072458 | Q74: 83025384 | R74: J21DN | S74: 1876319 | T74: 21 | V74: 8 | W74: 188614 | X74: 44 | Z74: 2014343 | AA74: 35884 | AE74: 21997525 | AG74: -
A75: =INDEX(Production!M:M,MATCH(Planification!F75,Production!C:C,0)) -> 8 | B75: 2014334 | C75: 650 | D75: 40994117 | E75: FIRM | F75: 40994117 | G75: 35884 | H75: 63 | I75: 2014341 | J75: L7 | K75: 2014352 | L75: 5238 | M75: 397 | N75: 281519979 | Q75: 83025377 | R75: J40J6 | S75: 1875873 | T75: 21 | V75: 50 | W75: 188610 | X75: 44 | Z75: 2014343 | AA75: 35884 | AE75: 21997524 | AG75: -
A76: =INDEX(Production!M:M,MATCH(Planification!F76,Production!C:C,0)) -> 9 | B76: 2014334 | C76: 700 | D76: 40981667 | E76: FIRM | F76: 40981667 | G76: 35884 | H76: 63 | I76: 2014341 | J76: L7 | K76: 2014352 | L76: 5239 | M76: 399 | N76: 277670628 | Q76: 83032258 | R76: J40J6 | S76: 1872321 | T76: 21 | V76: 8 | W76: 188591 | X76: 50014 | Z76: 2014343 | AA76: 35884 | AC76: Y | AE76: 21997525 | AG76: -
A77: =INDEX(Production!M:M,MATCH(Planification!F77,Production!C:C,0)) -> 10 | B77: 2014334 | C77: 709 | D77: 41007331 | E77: FIRM | F77: 41007331 | G77: 8403 | H77: 64 | I77: 2014343 | J77: 20 | K77: 2014372 | M77: 232372 | N77: 286941803 | Q77: 40000129 | R77: VP | S77: 187643 | T77: 30 | V77: 8 | W77: 187663 | X77: 62 | Z77: 2014355 | AA77: 41378 | AE77: FALLBACK | AG77: -
A78: =INDEX(Production!M:M,MATCH(Planification!F78,Production!C:C,0)) -> 11 | B78: 2014334 | C78: 718 | D78: 40999645 | E78: FIRM | F78: 40999645 | G78: 35884 | H78: 63 | I78: 2014341 | J78: L7 | K78: 2014352 | L78: 5241 | M78: 100252 | N78: 283933821 | Q78: 83032269 | R78: Z | S78: T000993 | T78: 21 | V78: 8 | W78: 188637 | X78: 44 | Z78: 2014343 | AA78: 35884 | AE78: 21997525 | AG78: -
A79: =INDEX(Production!M:M,MATCH(Planification!F79,Production!C:C,0)) -> 12 | B79: 2014334 | C79: 728 | D79: 40981669 | E79: FIRM | F79: 40981669 | G79: 35884 | H79: 63 | I79: 2014341 | J79: L7 | K79: 2014352 | L79: 5244 | M79: 400 | N79: 277670634 | Q79: 83032258 | R79: J40J6 | S79: 1872322 | T79: 21 | V79: 8 | W79: 188591 | X79: 50014 | Z79: 2014343 | AA79: 35884 | AC79: Y | AE79: 21997525 | AG79: -
A80: =INDEX(Production!M:M,MATCH(Planification!F80,Production!C:C,0)) -> 13 | B80: 2014334 | C80: 737 | D80: 41000586 | E80: FIRM | F80: 41000586 | G80: 35884 | H80: 63 | I80: 2014341 | J80: L7 | K80: 2014352 | L80: 5247 | M80: 100256 | N80: 284117224 | Q80: 83032269 | R80: Z | S80: T001009 | T80: 21 | V80: 8 | W80: 188648 | X80: 44 | Z80: 2014343 | AA80: 35884 | AE80: 21997525 | AG80: -
A81: =INDEX(Production!M:M,MATCH(Planification!F81,Production!C:C,0)) -> 14 | B81: 2014334 | C81: 746 | D81: 41000983 | E81: FIRM | F81: 41000983 | G81: 35884 | H81: 63 | I81: 2014341 | J81: L7 | K81: 2014352 | L81: 5250 | M81: 459 | N81: 284268598 | Q81: 83032267 | R81: J20DJ | S81: 1878170 | T81: 21 | V81: 8 | W81: 188515 | X81: 50014 | Z81: 2014343 | AA81: 35884 | AC81: Y | AE81: 21997525 | AG81: -
A82: =INDEX(Production!M:M,MATCH(Planification!F82,Production!C:C,0)) -> 15 | B82: 2014334 | C82: 756 | D82: 40992643 | E82: FIRM | F82: 40992643 | G82: 35884 | H82: 63 | I82: 2014341 | J82: L7 | K82: 2014352 | L82: 5251 | M82: 746 | N82: 280856584 | Q82: 83025377 | R82: J40J2 | S82: 1870973 | T82: 21 | V82: 50 | W82: 188514 | X82: 44 | Z82: 2014343 | AA82: 35884 | AE82: 21997524 | AG82: -
A83: =INDEX(Production!M:M,MATCH(Planification!F83,Production!C:C,0)) -> 16 | B83: 2014334 | C83: 821 | D83: 40997267 | E83: FIRM | F83: 40997267 | G83: 1024 | H83: 63 | I83: 2014341 | J83: C | K83: 2014353 | L83: 4016 | M83: 170064 | N83: 282857440 | Q83: 83025312 | R83: B5TL | S83: 402533 | T83: 80 | U83: 1300 | V83: 50 | W83: 188580 | X83: 50014 | Z83: 2014343 | AA83: 1024 | AC83: Y | AE83: 21997524 | AG83: -
A84: =INDEX(Production!M:M,MATCH(Planification!F84,Production!C:C,0)) -> 17 | B84: 2014334 | C84: 831 | D84: 40997673 | E84: FIRM | F84: 40997673 | G84: 35884 | H84: 63 | I84: 2014342 | J84: L7 | K84: 2014353 | L84: 5252 | M84: 100267 | N84: 283111481 | Q84: 83032269 | R84: Z | S84: T000916 | T84: 21 | V84: 8 | W84: 188634 | X84: 44 | Z84: 2014344 | AA84: 35884 | AE84: 21997525 | AG84: -
A85: =INDEX(Production!M:M,MATCH(Planification!F85,Production!C:C,0)) -> 18 | B85: 2014334 | C85: 840 | D85: 41007642 | E85: FIRM | F85: 41007642 | G85: 35884 | H85: 63 | I85: 2014342 | J85: L7 | K85: 2014353 | L85: 5253 | M85: 100263 | N85: 287239530 | Q85: 83025420 | R85: Z | S85: T001189 | T85: 21 | V85: 8 | W85: 188548 | X85: 44 | Z85: 2014344 | AA85: 35884 | AE85: 21997525 | AG85: -
A86: =INDEX(Production!M:M,MATCH(Planification!F86,Production!C:C,0)) -> 19 | B86: 2014334 | C86: 849 | D86: 41007332 | E86: FIRM | F86: 41007332 | G86: 8403 | H86: 64 | I86: 2014343 | J86: 20 | K86: 2014372 | M86: 232373 | N86: 286941804 | Q86: 40000129 | R86: VP | S86: 187643 | T86: 30 | V86: 8 | W86: 187663 | X86: 62 | Z86: 2014355 | AA86: 41378 | AE86: FALLBACK | AG86: -
A87: =INDEX(Production!M:M,MATCH(Planification!F87,Production!C:C,0)) -> 20 | B87: 2014334 | C87: 859 | D87: 41002186 | E87: FIRM | F87: 41002186 | G87: 35884 | H87: 63 | I87: 2014342 | J87: L7 | K87: 2014353 | L87: 5254 | M87: 100261 | N87: 284926605 | Q87: 83025406 | R87: Z | S87: T001055 | T87: 21 | V87: 50 | W87: 188671 | X87: 44 | Z87: 2014344 | AA87: 35884 | AE87: 21997524 | AG87: -
A88: =INDEX(Production!M:M,MATCH(Planification!F88,Production!C:C,0)) -> 21 | B88: 2014334 | C88: 908 | D88: 40994122 | E88: FIRM | F88: 40994122 | G88: 35884 | H88: 63 | I88: 2014342 | J88: L7 | K88: 2014353 | L88: 5257 | M88: 402 | N88: 281519994 | Q88: 83032261 | R88: J40J6 | S88: 1875840 | T88: 21 | V88: 8 | W88: 188611 | X88: 44 | Z88: 2014344 | AA88: 35884 | AE88: 21997525 | AG88: -
A89: =INDEX(Production!M:M,MATCH(Planification!F89,Production!C:C,0)) -> 22 | B89: 2014334 | C89: 918 | D89: 41009802 | E89: FIRM | F89: 41009802 | G89: 35884 | H89: 63 | I89: 2014342 | J89: L7 | K89: 2014353 | L89: 5259 | M89: 100259 | N89: 288216309 | Q89: 83032270 | R89: Z | S89: T001320 | T89: 21 | V89: 8 | W89: 188783 | X89: 44 | Z89: 2014344 | AA89: 35884 | AE89: 21997525 | AG89: -
A90: =INDEX(Production!M:M,MATCH(Planification!F90,Production!C:C,0)) -> 23 | B90: 2014334 | C90: 927 | D90: 40997678 | E90: FIRM | F90: 40997678 | G90: 35884 | H90: 63 | I90: 2014342 | J90: L7 | K90: 2014353 | L90: 5260 | M90: 100262 | N90: 283111529 | Q90: 83032268 | R90: Z | S90: T000918 | T90: 21 | V90: 8 | W90: 188522 | X90: 44 | Z90: 2014344 | AA90: 35884 | AE90: 21997525 | AG90: -
A91: =INDEX(Production!M:M,MATCH(Planification!F91,Production!C:C,0)) -> 24 | B91: 2014334 | C91: 936 | D91: 40996981 | E91: FIRM | F91: 40996981 | G91: 35884 | H91: 63 | I91: 2014342 | J91: L7 | K91: 2014353 | L91: 5261 | M91: 460 | N91: 282831010 | Q91: 83025375 | R91: J20DJ | S91: 1876814 | T91: 21 | V91: 8 | W91: 188581 | X91: 44 | Z91: 2014344 | AA91: 35884 | AE91: 21997525 | AG91: -
A92: =INDEX(Production!M:M,MATCH(Planification!F92,Production!C:C,0)) -> 25 | B92: 2014334 | C92: 946 | D92: 40996963 | E92: FIRM | F92: 40996963 | G92: 35884 | H92: 63 | I92: 2014342 | J92: L7 | K92: 2014353 | L92: 5262 | M92: 83 | N92: 282830624 | Q92: 83032560 | R92: J40X4 | S92: 1875530 | T92: 21 | V92: 8 | W92: 188625 | X92: 44 | Z92: 2014344 | AA92: 35884 | AE92: 21997525 | AG92: -
A93: =INDEX(Production!M:M,MATCH(Planification!F93,Production!C:C,0)) -> 26 | B93: 2014334 | C93: 955 | D93: 41000977 | E93: FIRM | F93: 41000977 | G93: 35884 | H93: 63 | I93: 2014342 | J93: L7 | K93: 2014353 | L93: 5263 | M93: 461 | N93: 284268577 | Q93: 83032266 | R93: J20DJ | S93: 1878130 | T93: 21 | V93: 8 | W93: 188655 | X93: 44 | Z93: 2014344 | AA93: 35884 | AE93: 21997525 | AG93: -
A94: =INDEX(Production!M:M,MATCH(Planification!F94,Production!C:C,0)) -> 27 | B94: 2014334 | C94: 1004 | D94: 40970866 | E94: FIRM | F94: 40970866 | G94: 35884 | H94: 63 | I94: 2014342 | J94: L7 | K94: 2014353 | L94: 5264 | M94: 401 | N94: 274014586 | Q94: 83032261 | R94: J40J6 | S94: 1868570 | T94: 21 | V94: 8 | W94: 188587 | X94: 47 | Z94: 2014344 | AA94: 35884 | AE94: 21997525 | AG94: -
A95: =INDEX(Production!M:M,MATCH(Planification!F95,Production!C:C,0)) -> 28 | B95: 2014334 | C95: 1014 | D95: 41000981 | E95: FIRM | F95: 41000981 | G95: 35884 | H95: 63 | I95: 2014342 | J95: L7 | K95: 2014353 | L95: 5266 | M95: 462 | N95: 284268590 | Q95: 83032267 | R95: J20DJ | S95: 1878166 | T95: 21 | V95: 8 | W95: 188583 | X95: 44 | Z95: 2014344 | AA95: 35884 | AE95: 21997525 | AG95: -
A96: =INDEX(Production!M:M,MATCH(Planification!F96,Production!C:C,0)) -> 29 | B96: 2014334 | C96: 1023 | D96: 40993342 | E96: FIRM | F96: 40993342 | G96: 35884 | H96: 63 | I96: 2014342 | J96: L7 | K96: 2014353 | L96: 5267 | M96: 100269 | N96: 281146693 | Q96: 83032270 | R96: Z | S96: T000736 | T96: 21 | V96: 8 | W96: 188600 | X96: 44 | Z96: 2014344 | AA96: 35884 | AE96: 21997525 | AG96: -
A97: =INDEX(Production!M:M,MATCH(Planification!F97,Production!C:C,0)) -> 30 | B97: 2014334 | C97: 1033 | D97: 41007643 | E97: FIRM | F97: 41007643 | G97: 35884 | H97: 63 | I97: 2014342 | J97: L7 | K97: 2014353 | L97: 5268 | M97: 100268 | N97: 287239534 | Q97: 83025420 | R97: Z | S97: T001191 | T97: 21 | V97: 8 | W97: 188548 | X97: 44 | Z97: 2014344 | AA97: 35884 | AE97: 21997525 | AG97: -
A98: =INDEX(Production!M:M,MATCH(Planification!F98,Production!C:C,0)) -> 31 | B98: 2014334 | C98: 1042 | D98: 41000964 | E98: FIRM | F98: 41000964 | G98: 35884 | H98: 63 | I98: 2014342 | J98: L7 | K98: 2014353 | L98: 5269 | M98: 404 | N98: 284268535 | Q98: 83032259 | R98: J40J6 | S98: 1877675 | T98: 21 | V98: 8 | W98: 188520 | X98: 44 | Z98: 2014344 | AA98: 35884 | AE98: 21997525 | AG98: -
A99: =INDEX(Production!M:M,MATCH(Planification!F99,Production!C:C,0)) -> 32 | B99: 2014334 | C99: 1051 | D99: 40997344 | E99: FIRM | F99: 40997344 | G99: 35884 | H99: 63 | I99: 2014342 | J99: L7 | K99: 2014353 | L99: 5270 | M99: 748 | N99: 282975156 | Q99: 83025377 | R99: J40J2 | S99: 1870945 | T99: 21 | V99: 50 | W99: 188514 | X99: 44 | Z99: 2014344 | AA99: 35884 | AE99: 21997524 | AG99: -
A100: =INDEX(Production!M:M,MATCH(Planification!F100,Production!C:C,0)) -> 33 | B100: 2014334 | C100: 1130 | D100: 40996109 | E100: FIRM | F100: 40996109 | G100: 35884 | H100: 63 | I100: 2014342 | J100: L7 | K100: 2014353 | L100: 5272 | M100: 750 | N100: 282362485 | Q100: 83032547 | R100: J40J2 | S100: 1876878 | T100: 21 | V100: 50 | W100: 188518 | X100: 44 | Z100: 2014344 | AA100: 35884 | AE100: 21997524 | AG100: -
...
