Workbook

Sheet base article
C1: 1 | D1: 2 | E1: 3 | F1: 4 | G1: 5 | H1: Recherche
H2: 1. 2019 | I2: 1 Rev. Nation. 2020 | J2: 1 Rev. Nation. A publier | K2: 2 2019 | L2: 2 Rev. Région. 2020 | M2: 2 Rev. Région. A publier | N2: 3. 2019 | O2: 3. Exploitant 2020 | P2: 3. Exploitant A publier | Q2: 4. Détail 2019 | R2: 4. Détail 2020 | S2: 4. Détail A publier
A3: 1 | B3: 01 | C3: 85 | D3: 85 | E3: 85 | F3: 85 | G3: 85 | H3: =VLOOKUP($B3,'Liste globale'!$A:$O,COLUMN(D1),FALSE) -> #N/A | I3: =VLOOKUP($B3,'Liste globale'!$A:$O,COLUMN(E1),FALSE) -> #N/A | J3: =VLOOKUP($B3,'Liste globale'!$A:$O,COLUMN(F1),FALSE) -> #N/A | K3: =VLOOKUP($B3,'Liste globale'!$A:$O,COLUMN(G1),FALSE) -> #N/A | L3: =VLOOKUP($B3,'Liste globale'!$A:$O,COLUMN(H1),FALSE) -> #N/A | M3: =VLOOKUP($B3,'Liste globale'!$A:$O,COLUMN(I1),FALSE) -> #N/A | N3: =VLOOKUP($B3,'Liste globale'!$A:$O,COLUMN(J1),FALSE) -> #N/A | O3: =VLOOKUP($B3,'Liste globale'!$A:$O,COLUMN(K1),FALSE) -> #N/A | ... S3: =VLOOKUP($B3,'Liste globale'!$A:$O,COLUMN(O1),FALSE) -> #N/A
A4: 2 | B4: 01CORSE | C4: 230 | D4: 230 | E4: 230 | F4: 230 | G4: 230 | H4: =VLOOKUP($B4,'Liste globale'!$A:$O,COLUMN(D2),FALSE) -> #N/A | I4: =VLOOKUP($B4,'Liste globale'!$A:$O,COLUMN(E2),FALSE) -> #N/A | J4: =VLOOKUP($B4,'Liste globale'!$A:$O,COLUMN(F2),FALSE) -> #N/A | K4: =VLOOKUP($B4,'Liste globale'!$A:$O,COLUMN(G2),FALSE) -> #N/A | L4: =VLOOKUP($B4,'Liste globale'!$A:$O,COLUMN(H2),FALSE) -> #N/A | M4: =VLOOKUP($B4,'Liste globale'!$A:$O,COLUMN(I2),FALSE) -> #N/A | N4: =VLOOKUP($B4,'Liste globale'!$A:$O,COLUMN(J2),FALSE) -> #N/A | O4: =VLOOKUP($B4,'Liste globale'!$A:$O,COLUMN(K2),FALSE) -> #N/A | ... S4: =VLOOKUP($B4,'Liste globale'!$A:$O,COLUMN(O2),FALSE) -> #N/A
A5: 3 | B5: 01PM | C5: 180 | D5: 180 | E5: 180 | F5: 180 | G5: 180 | H5: =VLOOKUP($B5,'Liste globale'!$A:$O,COLUMN(D3),FALSE) -> #N/A | I5: =VLOOKUP($B5,'Liste globale'!$A:$O,COLUMN(E3),FALSE) -> #N/A | J5: =VLOOKUP($B5,'Liste globale'!$A:$O,COLUMN(F3),FALSE) -> #N/A | K5: =VLOOKUP($B5,'Liste globale'!$A:$O,COLUMN(G3),FALSE) -> #N/A | L5: =VLOOKUP($B5,'Liste globale'!$A:$O,COLUMN(H3),FALSE) -> #N/A | M5: =VLOOKUP($B5,'Liste globale'!$A:$O,COLUMN(I3),FALSE) -> #N/A | N5: =VLOOKUP($B5,'Liste globale'!$A:$O,COLUMN(J3),FALSE) -> #N/A | O5: =VLOOKUP($B5,'Liste globale'!$A:$O,COLUMN(K3),FALSE) -> #N/A | ... S5: =VLOOKUP($B5,'Liste globale'!$A:$O,COLUMN(O3),FALSE) -> #N/A
A6: 4 | B6: 02 | C6: 70 | D6: 70 | E6: 70 | F6: 75 | G6: 70 | H6: =VLOOKUP($B6,'Liste globale'!$A:$O,COLUMN(D4),FALSE) -> #N/A | I6: =VLOOKUP($B6,'Liste globale'!$A:$O,COLUMN(E4),FALSE) -> #N/A | J6: =VLOOKUP($B6,'Liste globale'!$A:$O,COLUMN(F4),FALSE) -> #N/A | K6: =VLOOKUP($B6,'Liste globale'!$A:$O,COLUMN(G4),FALSE) -> #N/A | L6: =VLOOKUP($B6,'Liste globale'!$A:$O,COLUMN(H4),FALSE) -> #N/A | M6: =VLOOKUP($B6,'Liste globale'!$A:$O,COLUMN(I4),FALSE) -> #N/A | N6: =VLOOKUP($B6,'Liste globale'!$A:$O,COLUMN(J4),FALSE) -> #N/A | O6: =VLOOKUP($B6,'Liste globale'!$A:$O,COLUMN(K4),FALSE) -> #N/A | ... S6: =VLOOKUP($B6,'Liste globale'!$A:$O,COLUMN(O4),FALSE) -> #N/A
A7: 5 | B7: 03 | C7: 0 | D7: 0 | E7: 0 | F7: 0 | G7: 0 | H7: =VLOOKUP($B7,'Liste globale'!$A:$O,COLUMN(D5),FALSE) -> #N/A | I7: =VLOOKUP($B7,'Liste globale'!$A:$O,COLUMN(E5),FALSE) -> #N/A | J7: =VLOOKUP($B7,'Liste globale'!$A:$O,COLUMN(F5),FALSE) -> #N/A | K7: =VLOOKUP($B7,'Liste globale'!$A:$O,COLUMN(G5),FALSE) -> #N/A | L7: =VLOOKUP($B7,'Liste globale'!$A:$O,COLUMN(H5),FALSE) -> #N/A | M7: =VLOOKUP($B7,'Liste globale'!$A:$O,COLUMN(I5),FALSE) -> #N/A | N7: =VLOOKUP($B7,'Liste globale'!$A:$O,COLUMN(J5),FALSE) -> #N/A | O7: =VLOOKUP($B7,'Liste globale'!$A:$O,COLUMN(K5),FALSE) -> #N/A | ... S7: =VLOOKUP($B7,'Liste globale'!$A:$O,COLUMN(O5),FALSE) -> #N/A
A8: 6 | B8: 04 | C8: 0 | D8: 0 | E8: 0 | F8: 0 | G8: 0 | H8: =VLOOKUP($B8,'Liste globale'!$A:$O,COLUMN(D6),FALSE) -> #N/A | I8: =VLOOKUP($B8,'Liste globale'!$A:$O,COLUMN(E6),FALSE) -> #N/A | J8: =VLOOKUP($B8,'Liste globale'!$A:$O,COLUMN(F6),FALSE) -> #N/A | K8: =VLOOKUP($B8,'Liste globale'!$A:$O,COLUMN(G6),FALSE) -> #N/A | L8: =VLOOKUP($B8,'Liste globale'!$A:$O,COLUMN(H6),FALSE) -> #N/A | M8: =VLOOKUP($B8,'Liste globale'!$A:$O,COLUMN(I6),FALSE) -> #N/A | N8: =VLOOKUP($B8,'Liste globale'!$A:$O,COLUMN(J6),FALSE) -> #N/A | O8: =VLOOKUP($B8,'Liste globale'!$A:$O,COLUMN(K6),FALSE) -> #N/A | ... S8: =VLOOKUP($B8,'Liste globale'!$A:$O,COLUMN(O6),FALSE) -> #N/A
A9: 7 | B9: 05 | C9: 0 | D9: 0 | E9: 0 | F9: 0 | G9: 0 | H9: =VLOOKUP($B9,'Liste globale'!$A:$O,COLUMN(D7),FALSE) -> #N/A | I9: =VLOOKUP($B9,'Liste globale'!$A:$O,COLUMN(E7),FALSE) -> #N/A | J9: =VLOOKUP($B9,'Liste globale'!$A:$O,COLUMN(F7),FALSE) -> #N/A | K9: =VLOOKUP($B9,'Liste globale'!$A:$O,COLUMN(G7),FALSE) -> #N/A | L9: =VLOOKUP($B9,'Liste globale'!$A:$O,COLUMN(H7),FALSE) -> #N/A | M9: =VLOOKUP($B9,'Liste globale'!$A:$O,COLUMN(I7),FALSE) -> #N/A | N9: =VLOOKUP($B9,'Liste globale'!$A:$O,COLUMN(J7),FALSE) -> #N/A | O9: =VLOOKUP($B9,'Liste globale'!$A:$O,COLUMN(K7),FALSE) -> #N/A | ... S9: =VLOOKUP($B9,'Liste globale'!$A:$O,COLUMN(O7),FALSE) -> #N/A
A10: 8 | B10: 06 | C10: 0 | D10: 0 | E10: 0 | F10: 105 | G10: 0 | H10: =VLOOKUP($B10,'Liste globale'!$A:$O,COLUMN(D8),FALSE) -> #N/A | I10: =VLOOKUP($B10,'Liste globale'!$A:$O,COLUMN(E8),FALSE) -> #N/A | J10: =VLOOKUP($B10,'Liste globale'!$A:$O,COLUMN(F8),FALSE) -> #N/A | K10: =VLOOKUP($B10,'Liste globale'!$A:$O,COLUMN(G8),FALSE) -> #N/A | L10: =VLOOKUP($B10,'Liste globale'!$A:$O,COLUMN(H8),FALSE) -> #N/A | M10: =VLOOKUP($B10,'Liste globale'!$A:$O,COLUMN(I8),FALSE) -> #N/A | N10: =VLOOKUP($B10,'Liste globale'!$A:$O,COLUMN(J8),FALSE) -> #N/A | O10: =VLOOKUP($B10,'Liste globale'!$A:$O,COLUMN(K8),FALSE) -> #N/A | ... S10: =VLOOKUP($B10,'Liste globale'!$A:$O,COLUMN(O8),FALSE) -> #N/A
A11: 9 | B11: 06-REV | C11: 0 | D11: 0 | E11: 0 | F11: 0 | G11: 0 | H11: =VLOOKUP($B11,'Liste globale'!$A:$O,COLUMN(D9),FALSE) -> #N/A | I11: =VLOOKUP($B11,'Liste globale'!$A:$O,COLUMN(E9),FALSE) -> #N/A | J11: =VLOOKUP($B11,'Liste globale'!$A:$O,COLUMN(F9),FALSE) -> #N/A | K11: =VLOOKUP($B11,'Liste globale'!$A:$O,COLUMN(G9),FALSE) -> #N/A | L11: =VLOOKUP($B11,'Liste globale'!$A:$O,COLUMN(H9),FALSE) -> #N/A | M11: =VLOOKUP($B11,'Liste globale'!$A:$O,COLUMN(I9),FALSE) -> #N/A | N11: =VLOOKUP($B11,'Liste globale'!$A:$O,COLUMN(J9),FALSE) -> #N/A | O11: =VLOOKUP($B11,'Liste globale'!$A:$O,COLUMN(K9),FALSE) -> #N/A | ... S11: =VLOOKUP($B11,'Liste globale'!$A:$O,COLUMN(O9),FALSE) -> #N/A
A12: 10 | B12: 06-REV1 | C12: 0 | D12: 0 | E12: 0 | F12: 0 | G12: 0 | H12: =VLOOKUP($B12,'Liste globale'!$A:$O,COLUMN(D10),FALSE) -> #N/A | I12: =VLOOKUP($B12,'Liste globale'!$A:$O,COLUMN(E10),FALSE) -> #N/A | J12: =VLOOKUP($B12,'Liste globale'!$A:$O,COLUMN(F10),FALSE) -> #N/A | K12: =VLOOKUP($B12,'Liste globale'!$A:$O,COLUMN(G10),FALSE) -> #N/A | L12: =VLOOKUP($B12,'Liste globale'!$A:$O,COLUMN(H10),FALSE) -> #N/A | M12: =VLOOKUP($B12,'Liste globale'!$A:$O,COLUMN(I10),FALSE) -> #N/A | N12: =VLOOKUP($B12,'Liste globale'!$A:$O,COLUMN(J10),FALSE) -> #N/A | O12: =VLOOKUP($B12,'Liste globale'!$A:$O,COLUMN(K10),FALSE) -> #N/A | ... S12: =VLOOKUP($B12,'Liste globale'!$A:$O,COLUMN(O10),FALSE) -> #N/A
A13: 11 | B13: 06-REV2 | C13: 0 | D13: 0 | E13: 0 | F13: 0 | G13: 0 | H13: =VLOOKUP($B13,'Liste globale'!$A:$O,COLUMN(D11),FALSE) -> #N/A | I13: =VLOOKUP($B13,'Liste globale'!$A:$O,COLUMN(E11),FALSE) -> #N/A | J13: =VLOOKUP($B13,'Liste globale'!$A:$O,COLUMN(F11),FALSE) -> #N/A | K13: =VLOOKUP($B13,'Liste globale'!$A:$O,COLUMN(G11),FALSE) -> #N/A | L13: =VLOOKUP($B13,'Liste globale'!$A:$O,COLUMN(H11),FALSE) -> #N/A | M13: =VLOOKUP($B13,'Liste globale'!$A:$O,COLUMN(I11),FALSE) -> #N/A | N13: =VLOOKUP($B13,'Liste globale'!$A:$O,COLUMN(J11),FALSE) -> #N/A | O13: =VLOOKUP($B13,'Liste globale'!$A:$O,COLUMN(K11),FALSE) -> #N/A | ... S13: =VLOOKUP($B13,'Liste globale'!$A:$O,COLUMN(O11),FALSE) -> #N/A
A14: 12 | B14: 07 | C14: 0 | D14: 0 | E14: 0 | F14: 119.17 | G14: 0 | H14: =VLOOKUP($B14,'Liste globale'!$A:$O,COLUMN(D12),FALSE) -> #N/A | I14: =VLOOKUP($B14,'Liste globale'!$A:$O,COLUMN(E12),FALSE) -> #N/A | J14: =VLOOKUP($B14,'Liste globale'!$A:$O,COLUMN(F12),FALSE) -> #N/A | K14: =VLOOKUP($B14,'Liste globale'!$A:$O,COLUMN(G12),FALSE) -> #N/A | L14: =VLOOKUP($B14,'Liste globale'!$A:$O,COLUMN(H12),FALSE) -> #N/A | M14: =VLOOKUP($B14,'Liste globale'!$A:$O,COLUMN(I12),FALSE) -> #N/A | N14: =VLOOKUP($B14,'Liste globale'!$A:$O,COLUMN(J12),FALSE) -> #N/A | O14: =VLOOKUP($B14,'Liste globale'!$A:$O,COLUMN(K12),FALSE) -> #N/A | ... S14: =VLOOKUP($B14,'Liste globale'!$A:$O,COLUMN(O12),FALSE) -> #N/A
... A833: 831 | B833: B90NZ | C833: 0 | D833: 0 | E833: 0 | F833: 0 | G833: 0 | H833: =VLOOKUP($B833,'Liste globale'!$A:$O,COLUMN(D831),FALSE) -> #N/A | I833: =VLOOKUP($B833,'Liste globale'!$A:$O,COLUMN(E831),FALSE) -> #N/A | J833: =VLOOKUP($B833,'Liste globale'!$A:$O,COLUMN(F831),FALSE) -> #N/A | K833: =VLOOKUP($B833,'Liste globale'!$A:$O,COLUMN(G831),FALSE) -> #N/A | L833: =VLOOKUP($B833,'Liste globale'!$A:$O,COLUMN(H831),FALSE) -> #N/A | M833: =VLOOKUP($B833,'Liste globale'!$A:$O,COLUMN(I831),FALSE) -> #N/A | N833: =VLOOKUP($B833,'Liste globale'!$A:$O,COLUMN(J831),FALSE) -> #N/A | O833: =VLOOKUP($B833,'Liste globale'!$A:$O,COLUMN(K831),FALSE) -> #N/A | ... S833: =VLOOKUP($B833,'Liste globale'!$A:$O,COLUMN(O831),FALSE) -> #N/A
A834: 832 | B834: B90OMAN | C834: 0 | D834: 0 | E834: 0 | F834: 0 | G834: 0 | H834: =VLOOKUP(B834,'Liste globale'!A:O,COLUMN(D832),FALSE) -> #N/A
A835: 833 | B835: B90PB | C835: 0 | D835: 0 | E835: 0 | F835: 0 | G835: 0 | H835: =VLOOKUP(B835,'Liste globale'!A:O,COLUMN(D833),FALSE) -> #N/A
A836: 834 | B836: B90PEROU | C836: 0 | D836: 0 | E836: 0 | F836: 0 | G836: 0 | H836: =VLOOKUP(B836,'Liste globale'!A:O,COLUMN(D834),FALSE) -> #N/A
A837: 835 | B837: B90PF | C837: 0 | D837: 0 | E837: 0 | F837: 0 | G837: 0 | H837: =VLOOKUP(B837,'Liste globale'!A:O,COLUMN(D835),FALSE) -> #N/A
A838: 836 | B838: B90PHI | C838: 0 | D838: 0 | E838: 0 | F838: 0 | G838: 0 | H838: =VLOOKUP(B838,'Liste globale'!A:O,COLUMN(D836),FALSE) -> #N/A
A839: 837 | B839: B90POLOG | C839: 0 | D839: 0 | E839: 0 | F839: 0 | G839: 0 | H839: =VLOOKUP(B839,'Liste globale'!A:O,COLUMN(D837),FALSE) -> #N/A
A840: 838 | B840: B90PORT | C840: 0 | D840: 0 | E840: 0 | F840: 0 | G840: 0 | H840: =VLOOKUP(B840,'Liste globale'!A:O,COLUMN(D838),FALSE) -> #N/A
A841: 839 | B841: B90PROCH | C841: 0 | D841: 0 | E841: 0 | F841: 0 | G841: 0 | H841: =VLOOKUP(B841,'Liste globale'!A:O,COLUMN(D839),FALSE) -> #N/A
A842: 840 | B842: B90QATAR | C842: 0 | D842: 0 | E842: 0 | F842: 0 | G842: 0 | H842: =VLOOKUP(B842,'Liste globale'!A:O,COLUMN(D840),FALSE) -> #N/A
A843: 841 | B843: B90QUATAR | C843: 0 | D843: 0 | E843: 0 | F843: 0 | G843: 0 | H843: =VLOOKUP(B843,'Liste globale'!A:O,COLUMN(D841),FALSE) -> #N/A
A844: 842 | B844: B90RM | C844: 0 | D844: 0 | E844: 0 | F844: 0 | G844: 0 | H844: =VLOOKUP(B844,'Liste globale'!A:O,COLUMN(D842),FALSE) -> #N/A
A845: 843 | B845: B90ROUM | C845: 0 | D845: 0 | E845: 0 | F845: 0 | G845: 0 | H845: =VLOOKUP(B845,'Liste globale'!A:O,COLUMN(D843),FALSE) -> #N/A
... A1313: 1311 | B1313: ZTV | C1313: 0 | D1313: 0 | E1313: 0 | F1313: 0 | G1313: 0 | H1313: =VLOOKUP(B1313,'Liste globale'!A:O,COLUMN(D1311),FALSE) -> #N/A

Sheet Liste globale
A1: TARIFS HT PIECES DETACHEES
A2: AU 01/06/2020
B3: Augmentation | D3: 1.025
B5: Articles | C5: Détails | D5: 1. 2019 | E5: 1 Rev. Nation. 2020 | F5: 1 Rev. Nation. A publier | G5: 2 2019 | H5: 2 Rev. Région. 2020 | I5: 2 Rev. Région. A publier | J5: 3. 2019 | K5: 3. Exploitant 2020 | L5: 3. Exploitant A publier | M5: 4. Détail 2019 | N5: 4. Détail 2020 | O5: 4. Détail A publier
A6: 110 | B6: Angle cadre à glace | D6: 9.5 | E6: =D6*D$3 -> 9.7375 | F6: =ROUNDUP( H6 / 0.5, 1 ) * 0.5 -> 9.75 | G6: 9.5 | H6: =G6*D$3 -> 9.7375 | I6: =ROUNDUP( H6 / 0.5, 1 ) * 0.5 -> 9.75 | J6: 9.5 | K6: =J6*D$3 -> 9.7375 | L6: =ROUNDUP( K6 / 0.5, 1 ) * 0.5 -> 9.75 | M6: 9.5 | N6: =M6*D$3 -> 9.7375 | O6: =ROUNDUP( N6 / 0.5, 1 ) * 0.5 -> 9.75
A7: AUTOPM | B7: Autocollant PM | D7: 4.8 | E7: =D7*D$3 -> 4.92 | F7: =ROUNDUP( E7 / 0.5, 1 ) * 0.5 -> 4.95 | G7: 4.8 | H7: =G7*D$3 -> 4.92 | I7: =ROUNDUP( H7 / 0.5, 1 ) * 0.5 -> 4.95 | J7: 4.8 | K7: =J7*D$3 -> 4.92 | L7: =ROUNDUP( K7 / 0.5, 1 ) * 0.5 -> 4.95 | M7: 5.4 | N7: =M7*D$3 -> 5.535 | O7: =ROUNDUP( N7 / 0.5, 1 ) * 0.5 -> 5.55
A8: AUTOGM | B8: Autocollant GM | D8: 7.1 | E8: =D8*D$3 -> 7.2775 | F8: =ROUNDUP( E8 / 0.5, 1 ) * 0.5 -> 7.3 | G8: 7.1 | H8: =G8*D$3 -> 7.2775 | I8: =ROUNDUP( H8 / 0.5, 1 ) * 0.5 -> 7.3 | J8: 7.1 | K8: =J8*D$3 -> 7.2775 | L8: =ROUNDUP( K8 / 0.5, 1 ) * 0.5 -> 7.3 | M8: 7.9 | N8: =M8*D$3 -> 8.0975 | O8: =ROUNDUP( N8 / 0.5, 1 ) * 0.5 -> 8.1
A9: 235 | B9: Axe coude de charnière | D9: 3.5 | E9: =D9*D$3 -> 3.5875 | F9: =ROUNDUP( E9 / 0.5, 1 ) * 0.5 -> 3.6 | G9: 4 | H9: =G9*D$3 -> 4.1 | I9: =ROUNDUP( H9 / 0.5, 1 ) * 0.5 -> 4.1 | J9: 4.5 | K9: =J9*D$3 -> 4.6125 | L9: =ROUNDUP( K9 / 0.5, 1 ) * 0.5 -> 4.65 | M9: 5.9 | N9: =M9*D$3 -> 6.0475 | O9: =ROUNDUP( N9 / 0.5, 1 ) * 0.5 -> 6.05
A10: 45011 | B10: Axe de cliquet | D10: 1.3 | E10: =D10*D$3 -> 1.3325 | F10: =ROUNDUP( E10 / 0.5, 1 ) * 0.5 -> 1.35 | G10: 1.4 | H10: =G10*D$3 -> 1.435 | I10: =ROUNDUP( H10 / 0.5, 1 ) * 0.5 -> 1.45 | J10: 1.7 | K10: =J10*D$3 -> 1.7425 | L10: =ROUNDUP( K10 / 0.5, 1 ) * 0.5 -> 1.75 | M10: 2 | N10: =M10*D$3 -> 2.05 | O10: =ROUNDUP( N10 / 0.5, 1 ) * 0.5 -> 2.05
A11: 112 | B11: Bague néoprène | D11: 0.9 | E11: =D11*D$3 -> 0.9225 | F11: =ROUNDUP( E11 / 0.5, 1 ) * 0.5 -> 0.95 | G11: 1.25 | H11: =G11*D$3 -> 1.28125 | I11: =ROUNDUP( H11 / 0.5, 1 ) * 0.5 -> 1.3 | J11: 1.3 | K11: =J11*D$3 -> 1.3325 | L11: =ROUNDUP( K11 / 0.5, 1 ) * 0.5 -> 1.35 | M11: 2.05 | N11: =M11*D$3 -> 2.10125 | O11: =ROUNDUP( N11 / 0.5, 1 ) * 0.5 -> 2.15
A12: 105 | B12: Bague nickelée avec Vis | D12: 4.4 | E12: =D12*D$3 -> 4.51 | F12: =ROUNDUP( E12 / 0.5, 1 ) * 0.5 -> 4.55 | G12: 4.8 | H12: =G12*D$3 -> 4.92 | I12: =ROUNDUP( H12 / 0.5, 1 ) * 0.5 -> 4.95 | J12: 6.05 | K12: =J12*D$3 -> 6.20125 | L12: =ROUNDUP( K12 / 0.5, 1 ) * 0.5 -> 6.25 | M12: 7.95 | N12: =M12*D$3 -> 8.14875 | O12: =ROUNDUP( N12 / 0.5, 1 ) * 0.5 -> 8.15
A13: 71 | B13: Balle blanche | D13: 1.05 | E13: =D13*D$3 -> 1.07625 | F13: =ROUNDUP( E13 / 0.5, 1 ) * 0.5 -> 1.1 | G13: 1.05 | H13: =G13*D$3 -> 1.07625 | I13: =ROUNDUP( H13 / 0.5, 1 ) * 0.5 -> 1.1 | J13: 1.05 | K13: =J13*D$3 -> 1.07625 | L13: =ROUNDUP( K13 / 0.5, 1 ) * 0.5 -> 1.1 | M13: 1.05 | N13: =M13*D$3 -> 1.07625 | O13: =ROUNDUP( N13 / 0.5, 1 ) * 0.5 -> 1.1
A14: 711 | B14: Balles blanches par 100 | D14: 0.75 | E14: =D14*D$3 -> 0.76875 | F14: =ROUNDUP( E14 / 0.5, 1 ) * 0.5 -> 0.8 | G14: 0.75 | H14: =G14*D$3 -> 0.76875 | I14: =ROUNDUP( H14 / 0.5, 1 ) * 0.5 -> 0.8 | J14: 0.75 | K14: =J14*D$3 -> 0.76875 | L14: =ROUNDUP( K14 / 0.5, 1 ) * 0.5 -> 0.8 | M14: 0.75 | N14: =M14*D$3 -> 0.76875 | O14: =ROUNDUP( N14 / 0.5, 1 ) * 0.5 -> 0.8
A15: 712 | B15: Balles blanches par 1000 | E15: =D15*D$3 -> 0 | F15: =ROUNDUP( E15 / 0.5, 1 ) * 0.5 -> 0 | H15: =G15*D$3 -> 0 | I15: =ROUNDUP( H15 / 0.5, 1 ) * 0.5 -> 0 | K15: =J15*D$3 -> 0 | L15: =ROUNDUP( K15 / 0.5, 1 ) * 0.5 -> 0 | N15: =M15*D$3 -> 0 | O15: =ROUNDUP( N15 / 0.5, 1 ) * 0.5 -> 0
A16: 73 | B16: Balle brute | D16: 0.9 | E16: =D16*D$3 -> 0.9225 | F16: =ROUNDUP( E16 / 0.5, 1 ) * 0.5 -> 0.95 | G16: 0.9 | H16: =G16*D$3 -> 0.9225 | I16: =ROUNDUP( H16 / 0.5, 1 ) * 0.5 -> 0.95 | J16: 0.9 | K16: =J16*D$3 -> 0.9225 | L16: =ROUNDUP( K16 / 0.5, 1 ) * 0.5 -> 0.95 | M16: 0.9 | N16: =M16*D$3 -> 0.9225 | O16: =ROUNDUP( N16 / 0.5, 1 ) * 0.5 -> 0.95
A17: 731 | B17: Balles brutes par 100 | D17: 0.65 | E17: =D17*D$3 -> 0.66625 | F17: =ROUNDUP( E17 / 0.5, 1 ) * 0.5 -> 0.7 | G17: 0.65 | H17: =G17*D$3 -> 0.66625 | I17: =ROUNDUP( H17 / 0.5, 1 ) * 0.5 -> 0.7 | J17: 0.65 | K17: =J17*D$3 -> 0.66625 | L17: =ROUNDUP( K17 / 0.5, 1 ) * 0.5 -> 0.7 | M17: 0.65 | N17: =M17*D$3 -> 0.66625 | O17: =ROUNDUP( N17 / 0.5, 1 ) * 0.5 -> 0.7
A18: 732 | B18: Balles brutes par 1000 | E18: =D18*D$3 -> 0 | F18: =ROUNDUP( E18 / 0.5, 1 ) * 0.5 -> 0 | H18: =G18*D$3 -> 0 | I18: =ROUNDUP( H18 / 0.5, 1 ) * 0.5 -> 0 | K18: =J18*D$3 -> 0 | L18: =ROUNDUP( K18 / 0.5, 1 ) * 0.5 -> 0 | N18: =M18*D$3 -> 0 | O18: =ROUNDUP( N18 / 0.5, 1 ) * 0.5 -> 0
A19: 75 | B19: Balle officielle ITSF-B | D19: 2.05 | E19: =D19*D$3 -> 2.10125 | F19: =ROUNDUP( E19 / 0.5, 1 ) * 0.5 -> 2.15 | G19: 2.05 | H19: =G19*D$3 -> 2.10125 | I19: =ROUNDUP( H19 / 0.5, 1 ) * 0.5 -> 2.15 | J19: 2.05 | K19: =J19*D$3 -> 2.10125 | L19: =ROUNDUP( K19 / 0.5, 1 ) * 0.5 -> 2.15 | M19: 2.05 | N19: =M19*D$3 -> 2.10125 | O19: =ROUNDUP( N19 / 0.5, 1 ) * 0.5 -> 2.15
A20: 751 | B20: Balles officielles ITSF-B par 100 | D20: 1.6 | E20: =D20*D$3 -> 1.64 | F20: =ROUNDUP( E20 / 0.5, 1 ) * 0.5 -> 1.65 | G20: 1.6 | H20: =G20*D$3 -> 1.64 | I20: =ROUNDUP( H20 / 0.5, 1 ) * 0.5 -> 1.65 | J20: 1.6 | K20: =J20*D$3 -> 1.64 | L20: =ROUNDUP( K20 / 0.5, 1 ) * 0.5 -> 1.65 | M20: 1.6 | N20: =M20*D$3 -> 1.64 | O20: =ROUNDUP( N20 / 0.5, 1 ) * 0.5 -> 1.65
A21: 72 | B21: Balle jaune | D21: 1.05 | E21: =D21*D$3 -> 1.07625 | F21: =ROUNDUP( E21 / 0.5, 1 ) * 0.5 -> 1.1 | G21: 1.05 | H21: =G21*D$3 -> 1.07625 | I21: =ROUNDUP( H21 / 0.5, 1 ) * 0.5 -> 1.1 | J21: 1.05 | K21: =J21*D$3 -> 1.07625 | L21: =ROUNDUP( K21 / 0.5, 1 ) * 0.5 -> 1.1 | M21: 1.05 | N21: =M21*D$3 -> 1.07625 | O21: =ROUNDUP( N21 / 0.5, 1 ) * 0.5 -> 1.1
A22: 721 | B22: Balles jaunes par 100 | D22: 0.75 | E22: =D22*D$3 -> 0.76875 | F22: =ROUNDUP( E22 / 0.5, 1 ) * 0.5 -> 0.8 | G22: 0.75 | H22: =G22*D$3 -> 0.76875 | I22: =ROUNDUP( H22 / 0.5, 1 ) * 0.5 -> 0.8 | J22: 0.75 | K22: =J22*D$3 -> 0.76875 | L22: =ROUNDUP( K22 / 0.5, 1 ) * 0.5 -> 0.8 | M22: 0.75 | N22: =M22*D$3 -> 0.76875 | O22: =ROUNDUP( N22 / 0.5, 1 ) * 0.5 -> 0.8
A23: 722 | B23: Balles jaunes par 1000 | E23: =D23*D$3 -> 0 | F23: =ROUNDUP( E23 / 0.5, 1 ) * 0.5 -> 0 | H23: =G23*D$3 -> 0 | I23: =ROUNDUP( H23 / 0.5, 1 ) * 0.5 -> 0 | K23: =J23*D$3 -> 0 | L23: =ROUNDUP( K23 / 0.5, 1 ) * 0.5 -> 0 | N23: =M23*D$3 -> 0 | O23: =ROUNDUP( N23 / 0.5, 1 ) * 0.5 -> 0
A24: 77 | B24: Balle jaune 17gr | D24: 1.6 | E24: =D24*D$3 -> 1.64 | F24: =ROUNDUP( E24 / 0.5, 1 ) * 0.5 -> 1.65 | G24: 1.6 | H24: =G24*D$3 -> 1.64 | I24: =ROUNDUP( H24 / 0.5, 1 ) * 0.5 -> 1.65 | J24: 1.6 | K24: =J24*D$3 -> 1.64 | L24: =ROUNDUP( K24 / 0.5, 1 ) * 0.5 -> 1.65 | M24: 1.6 | N24: =M24*D$3 -> 1.64 | O24: =ROUNDUP( N24 / 0.5, 1 ) * 0.5 -> 1.65
A25: 771 | B25: Balles jaunes 17gr par 100 | D25: 1.15 | E25: =D25*D$3 -> 1.17875 | F25: =ROUNDUP( E25 / 0.5, 1 ) * 0.5 -> 1.2 | G25: 1.15 | H25: =G25*D$3 -> 1.17875 | I25: =ROUNDUP( H25 / 0.5, 1 ) * 0.5 -> 1.2 | J25: 1.15 | K25: =J25*D$3 -> 1.17875 | L25: =ROUNDUP( K25 / 0.5, 1 ) * 0.5 -> 1.2 | M25: 1.15 | N25: =M25*D$3 -> 1.17875 | O25: =ROUNDUP( N25 / 0.5, 1 ) * 0.5 -> 1.2
A26: 772 | B26: Balles jaunes 17gr par 1000 | E26: =D26*D$3 -> 0 | F26: =ROUNDUP( E26 / 0.5, 1 ) * 0.5 -> 0 | H26: =G26*D$3 -> 0 | I26: =ROUNDUP( H26 / 0.5, 1 ) * 0.5 -> 0 | K26: =J26*D$3 -> 0 | L26: =ROUNDUP( K26 / 0.5, 1 ) * 0.5 -> 0 | N26: =M26*D$3 -> 0 | O26: =ROUNDUP( N26 / 0.5, 1 ) * 0.5 -> 0
A27: 74 | B27: Balle plastique | D27: 0.9 | E27: =D27*D$3 -> 0.9225 | F27: =ROUNDUP( E27 / 0.5, 1 ) * 0.5 -> 0.95 | G27: 0.9 | H27: =G27*D$3 -> 0.9225 | I27: =ROUNDUP( H27 / 0.5, 1 ) * 0.5 -> 0.95 | J27: 0.9 | K27: =J27*D$3 -> 0.9225 | L27: =ROUNDUP( K27 / 0.5, 1 ) * 0.5 -> 0.95 | M27: 0.9 | N27: =M27*D$3 -> 0.9225 | O27: =ROUNDUP( N27 / 0.5, 1 ) * 0.5 -> 0.95
