Workbook

Sheet Feuil1
A1: n°/questions | B1: Vous êtes : | D1: Votre âge : | J1: Vous résidez au Taillan-Médoc depuis : | N1: Dans quel quartier résidez-vous ? | V1: A quelle catégorie socioprofessionnelle appartenez-vous ? | AH1: Si vous avez une activité professionnelle, vous travaillez sur : | AM1: Selon vous, combien d'habitants compte le Taillan-Médoc ? | AQ1: Avez-vous choisi d'habiter le Taillan-Médoc ? | AS1: Si oui, pourquoi ? | AW1: Etes-vous attaché à votre ville ? (sur une échelle de 1 à 6) | BC1: Êtes-vous fier d'habiter le Taillan-Médoc ? | BE1: Parmi les expressions suivantes, lesquelles, selon vous, semblent caractériser le mieux votre ville ? | BN1: Comment vous informez-vous sur l'actualité de la commune ? | BU1: Lisez-vous le magazine municipal ? | BW1: Si oui, trouvez-vous le magazine municipal : | CA1: Considérez-vous que la municipalité associe suffisamment les habitants aux décisions concernant la commune ? (sur une échelle de 1 à 6) | CG1: L'entretien et l'aménagement du domaine forestier et des espaces verts vous semble : | CK1: Jugez-vous la commune bien desservie en cheminements doux (sur une échelle de 1 à 6) | CQ1: Etes-vous satisfait(e) des actions de la municipalité en matière de propreté de la ville (espaces verts, voies, trottoirs, etc) ? (sur une échelle de 1 à 6) | CW1: Pour vous, quelle est la première conséquence de l'arrivée du tramway au Taillan-Médoc ? | DA1: Le nouveau réseau TBC (bus de la Cub) vous semble : | DE1: Selon vous, l'attention que porte la municipalité sur votre quartier est-elle suffisante ? (sur une échelle de 1 à 6) | DK1: Selon vous, le Taillan-Médoc est une commune : | DN1: La construction d'un pôle culturel sur la commune (médiathèque, école de musique…) est : (sur une échelle de 1 à 6) | DT1: Le nombre et la qualité des rendez-vous culturels au Taillan-Médoc vous semblent : | DX1: Comment jugez-vous l'action de la municipalité en faveur des jeunes ? (sur une échelle de 1 à 6) | ED1: Etes-vous satisfait(e) des actions de la municipalité en matière d'animation de la ville (manifestations, marchés, etc) ? | EJ1: L'investissement de la commune en faveur du sport vous semble : | EN1: Diriez-vous que la salle Palio correspond aux besoins des habitants ? | ET1: Comment jugez-vous l'action municipale en faveur des écoles ? | EZ1: Faire garder ses enfants au Taillan-Médoc est-ce : | FD1: Comment jugez-vous l'accueil au sein des accueils périscolaires ? | FH1: Selon vous, pour une personne âgée, vivre au Taillan-Médoc c'est : | FK1: Jugez-vous satisfaisante l'action de la municipalité en faveur de la solidarité ? | FQ1: La création d'une maison de retraite "type EPHAD" au Taillan-Médoc vous semble : | FU1: L'accompagnement de la municipalité en terme de soutien à l'emploi vous semble : | FY1: L'offre en commerce de proximité vous semble : | GE1: Quelle note donneriez-vous à la qualité des services de la ville (compétences, disponibilité, réactivité, accueil) ? | GO1: Quelle note donneriez-vous à l'action de l'équipe municipale ? | GY1: Considérez-vous que les élus du Taillan-Médoc sont présents sur la commune : | HE1: Considérez-vous que les élus du Taillan-Médoc sont disponibles : | HK1: Qui est le maire du Taillan-Médoc ? | HL1: Pouvez-vous citer d'autres élus du Conseil municipal ou élus locaux hors municipalité ?
B2: un homme | C2: une femme | D2: 18-29 ans | E2: 30-44 ans | F2: 45-59 ans | G2: 60-74 ans | H2: 75-89 ans | I2: 90 ans et plus | J2: moins de 3 ans | K2: de 3 à 5 ans | L2: 5 à 10 ans | M2: plus de 10 ans | N2: B1 | O2: B2 | P2: B3 | Q2: B4 | R2: B5 | S2: B6 | T2: B7 | U2: B8 | V2: agriculteur | W2: cadre supérieur | X2: artisan/commerçant | Y2: profession libérale | Z2: profession intermédiaire | AA2: enseignant/fonctionnaire | AB2: employé | AC2: ouvrier | AD2: retraité | AE2: étudiant | AF2: sans profession | AG2: autre | AH2: la commune du Taillan-Médoc | AI2: une commune limitrophe (St Médard, Eysines, Blanquefort, St-Aubin) | AJ2: sur la CUB | AK2: en Gironde (hors CUB) | AL2: sur un autre département | AM2: moins de 8000 | AN2: 8000 habitants | AO2: 9000 habitants | AP2: plus de 9000 | AQ2: oui | AR2: non | AS2: l'équilibre entre urbain et espaces naturels | AT2: la commune est bien équipée (sport/scolaire/culture) | AU2: son positionnement géographique | AV2: autre | AW2: 1 (pas du tout attaché) | AX2: 2 | AY2: 3 | AZ2: 4 | BA2: 5 | BB2: 6 (très attaché) | BC2: oui | BD2: non | BE2: ville à la campagne | BF2: ville en mutation | BG2: ville animée | BH2: ville populaire | BI2: ville rue | BJ2: ville sans identité | BK2: ville dortoir | BL2: ville bourgeoise | BM2: ville en devenir | BN2: magazine municipal | BO2: site internet | BP2: réseaux sociaux (facebook) | BQ2: presse locale (sud-ouest) | BR2: réunions publiques | BS2: affichage | BT2: autre | BU2: oui | BV2: non | BW2: très intéressant | BX2: intéressant | BY2: pas intéressant | BZ2: pas du tout intéressant | CA2: 1 (très insuffisamment) | CB2: 2 | CC2: 3 | CD2: 4 | CE2: 5 | CF2: 6 (très suffisamment) | CG2: très satisfaisant | CH2: satisfaisant | CI2: pas satisfaiant | CJ2: pas du tout satisfaisant | CK2: 1(pas du tout desservie) | CL2: 2 | CM2: 3 | CN2: 4 | CO2: 5 | CP2: 6 (très bien desservie) | CQ2: 1 (pas du tout) | CR2: 2 | CS2: 3 | CT2: 4 | CU2: 5 | CV2: 6 (tout à fait) | CW2: synonyme d'un nouvel aménagement de la ville | CX2: un lien plus fort entre notre commune et le reste de l'agglomération | CY2: la fin de notre identité rurale | CZ2: la mutation concrète d'un bourg rural qui va devenir "ville" | DA2: pas du tout pratique | DB2: pas pratique | DC2: pratique | DD2: très pratique | DE2: 1 (pas du tout suffisante) | DF2: 2 | DG2: 3 | DH2: 4 | DI2: 5 | DJ2: 6 (très suffisante) | DK2: avec peu voir pas de problèmes de délinquance et d'insécurité | DL2: avec des problèmes comparables aux autres communes du territoire | DM2: avec des problèmes de plus importants qu'ailleurs | DN2: 1 (pas du tout importante) | DO2: 2 | DP2: 3 | DQ2: 4 | DR2: 5 | DS2: 6 (très importante) | DT2: tout à fait suffisant | DU2: suffisant | DV2: peu suffisant | DW2: pas du tout suffisant | DX2: 1 (pas du tout satisfaisante) | DY2: 2 | DZ2: 3 | EA2: 4 | EB2: 5 | EC2: 6 (très satisfaisante) | ED2: 1 (pas du tout) | EE2: 2 | EF2: 3 | EG2: 4 | EH2: 5 | EI2: 6 (tout à fait) | EJ2: tout à fait suffisant | EK2: suffisant | EL2: peu suffisant | EM2: pas du tout suffisant | EN2: 1 (pas du tout) | EO2: 2 | EP2: 3 | EQ2: 4 | ER2: 5 | ES2: 6 (tout à fait) | ET2: 1 (pas du tout satisfaisante | EU2: 2 | EV2: 3 | EW2: 4 | EX2: 5 | EY2: 6 (très satisfaisante) | EZ2: très difficle | FA2: difficile | FB2: facile | FC2: très facile | FD2: très satisfaisant | FE2: satisfaisant | FF2: pas satisfaisant | FG2: pas du tout satisfaisant | FH2: particulièrement agréable | FI2: similaire aux autres communes de la CUB | FJ2: difficile | FK2: 1 (pas du tout satisfaisante) | FL2: 2 | FM2: 3 | FN2: 4 | FO2: 5 | FP2: 6 (très satisfaisante) | FQ2: tout à fait nécessaire | FR2: nécessaire | FS2: peu nécessaire | FT2: pas du tout nécessaire | FU2: très efficace | FV2: efficace | FW2: peu efficace | FX2: inefficace | FY2: 1 (pas du tout satisfaisante) | FZ2: 2 | GA2: 3 | GB2: 4 | GC2: 5 | GD2: 6 (très satisfaisante) | GE2: 1 | GF2: 2 | GG2: 3 | GH2: 4 | GI2: 5 | GJ2: 6 | GK2: 7 | GL2: 8 | GM2: 9 | GN2: 10 | GO2: 1 | GP2: 2 | GQ2: 3 | GR2: 4 | GS2: 5 | GT2: 6 | GU2: 7 | GV2: 8 | GW2: 9 | GX2: 10 | GY2: 1 (pas du tout) | GZ2: 2 | HA2: 3 | HB2: 4 | HC2: 5 | HD2: 6 (tout à fait) | HE2: 1 (pas du tout) | HF2: 2 | HG2: 3 | HH2: 4 | HI2: 5 | HJ2: 6 (tout à fait)
A3: 1 | B3: x | E3: x | K3: x | Q3: x | W3: x | AI3: x | AN3: x | AR3: x | AS3: x | AX3: x | BD3: x | BE3: x | BN3: x | BU3: x | BZ3: x | CB3: x | CG3: x | CL3: x | CQ3: x | CX3: x | DB3: x | DF3: x | DK3: x | DN3: x | DT3: x | DY3: x | EE3: x | EJ3: x | EN3: x | ET3: x | EZ3: x | FD3: x | FH3: x | FQ3: x | FU3: x | GC3: x | GE3: x | GS3: x | HA3: x | HH3: x
A4: 2 | C4: x | D4: x | J4: x | R4: x | V4: x | AH4: x | AN4: x | AQ4: x | AT4: x | AW4: x | BC4: x | BF4: x | BO4: x | BV4: x | BY4: x | CA4: x | CH4: x | CK4: x | CR4: x | CW4: x | DA4: x | DE4: x | DL4: x | DO4: x | DU4: x | DX4: x | ED4: x | EK4: x | EO4: x | EU4: x | FA4: x | FE4: x | FI4: x | FR4: x | FV4: x | GD4: x | GF4: x | GR4: x | HB4: x | HI4: x
A5: 3 | B5: x | I5: x | L5: x | P5: x | W5: x | AH5: x | AN5: x | AQ5: x | AT5: x | BB5: x | BC5: x | BG5: x | BR5: x | BV5: x | BY5: x | CE5: x | CH5: x | CK5: x | CR5: x | CZ5: x | DC5: x | DE5: x | DM5: x | DO5: x
A6: 4 | B6: x | F6: x | M6: x | N6: x | W6: x | AH6: x | AN6: x | AQ6: x | AT6: x | BB6: x | BC6: x | BG6: x | BR6: x | BV6: x | BY6: x | CE6: x | CI6: x | CK6: x | CR6: x | CZ6: x | DC6: x | DE6: x | DM6: x | DO6: x
A7: 5 | C7: x | F7: x | M7: x | O7: x | W7: x | AH7: x | AN7: x | AQ7: x | AT7: x | BB7: x | BC7: x | BG7: x | BR7: x | BV7: x | BY7: x | CE7: x | CJ7: x | CK7: x | CR7: x | CZ7: x | DC7: x | DE7: x | DM7: x | DO7: x
A8: 6 | C8: x | F8: x | M8: x | P8: x | W8: x | AH8: x | AN8: x | AQ8: x | AT8: x | BB8: x | BC8: x | BG8: x | BR8: x | BV8: x | BY8: x | CE8: x | CJ8: x | CK8: x | CR8: x | CZ8: x | DB8: x | DE8: x | DM8: x | DO8: x
A9: 7 | C9: x | H9: x | M9: x | Q9: x | W9: x | AH9: x | AN9: x | AQ9: x | AT9: x | BB9: x | BC9: x | BG9: x | BR9: x | BV9: x | BY9: x | CE9: x | CJ9: x | CK9: x | CR9: x | CZ9: x | DB9: x | DE9: x | DM9: x | DO9: x
A10: 8 | C10: x | H10: x | M10: x | R10: x | W10: x | AH10: x | AN10: x | AQ10: x | AT10: x | BB10: x | BC10: x | BG10: x | BR10: x | BV10: x | BY10: x | CE10: x | CJ10: x | CK10: x | CR10: x | CZ10: x | DB10: x | DE10: x | DM10: x | DO10: x
A11: 9 | C11: x | H11: x | M11: x | S11: x | W11: x | AH11: x | AO11: x | AQ11: x | AT11: x | BB11: x | BC11: x | BG11: x | BR11: x | BV11: x | BY11: x | CE11: x | CJ11: x | CK11: x | CR11: x | CZ11: x | DB11: x | DE11: x | DM11: x | DO11: x
A12: 10 | C12: x | H12: x | M12: x | T12: x | W12: x | AH12: x | AO12: x | AQ12: x | AS12: x | BB12: x | BC12: x | BG12: x | BR12: x | BV12: x | BY12: x | CE12: x | CJ12: x | CK12: x | CR12: x | CZ12: x | DB12: x | DE12: x | DM12: x | DO12: x
A13: 11 | B13: x | G13: x | K13: x | U13: x | X13: x | AI13: x | AN13: x | AQ13: x | AS13: x | AW13: x | CZ13: x | DE13: x
CZ14: x | DE14: x
CZ15: x | DE15: x
CZ16: x | DE16: x
CZ17: x

Sheet Feuil2
A1: n°/questions | B1: Vous êtes : | D1: Votre âge : | J1: Vous résidez au Taillan-Médoc depuis : | N1: Dans quel quartier résidez-vous ? | V1: A quelle catégorie socioprofessionnelle appartenez-vous ? | AH1: Si vous avez une activité professionnelle, vous travaillez sur : | AM1: Selon vous, combien d'habitants compte le Taillan-Médoc ? | AQ1: Avez-vous choisi d'habiter le Taillan-Médoc ? | AS1: Si oui, pourquoi ? | AW1: Etes-vous attaché à votre ville ? (sur une échelle de 1 à 6) | BC1: Êtes-vous fier d'habiter le Taillan-Médoc ? | BE1: Parmi les expressions suivantes, lesquelles, selon vous, semblent caractériser le mieux votre ville ? | BN1: Comment vous informez-vous sur l'actualité de la commune ? | BU1: Lisez-vous le magazine municipal ? | BW1: Si oui, trouvez-vous le magazine municipal : | CA1: Considérez-vous que la municipalité associe suffisamment les habitants aux décisions concernant la commune ? (sur une échelle de 1 à 6) | CG1: L'entretien et l'aménagement du domaine forestier et des espaces verts vous semble : | CK1: Jugez-vous la commune bien desservie en cheminements doux (sur une échelle de 1 à 6) | CQ1: Etes-vous satisfait(e) des actions de la municipalité en matière de propreté de la ville (espaces verts, voies, trottoirs, etc) ? (sur une échelle de 1 à 6) | CW1: Pour vous, quelle est la première conséquence de l'arrivée du tramway au Taillan-Médoc ? | DA1: Le nouveau réseau TBC (bus de la Cub) vous semble : | DE1: Selon vous, l'attention que porte la municipalité sur votre quartier est-elle suffisante ? (sur une échelle de 1 à 6) | DK1: Selon vous, le Taillan-Médoc est une commune : | DN1: La construction d'un pôle culturel sur la commune (médiathèque, école de musique…) est : (sur une échelle de 1 à 6) | DT1: Le nombre et la qualité des rendez-vous culturels au Taillan-Médoc vous semblent : | DX1: Comment jugez-vous l'action de la municipalité en faveur des jeunes ? (sur une échelle de 1 à 6) | ED1: Etes-vous satisfait(e) des actions de la municipalité en matière d'animation de la ville (manifestations, marchés, etc) ? | EJ1: L'investissement de la commune en faveur du sport vous semble : | EN1: Diriez-vous que la salle Palio correspond aux besoins des habitants ? | ET1: Comment jugez-vous l'action municipale en faveur des écoles ? | EZ1: Faire garder ses enfants au Taillan-Médoc est-ce : | FD1: Comment jugez-vous l'accueil au sein des accueils périscolaires ? | FH1: Selon vous, pour une personne âgée, vivre au Taillan-Médoc c'est : | FK1: Jugez-vous satisfaisante l'action de la municipalité en faveur de la solidarité ? | FQ1: La création d'une maison de retraite "type EPHAD" au Taillan-Médoc vous semble : | FU1: L'accompagnement de la municipalité en terme de soutien à l'emploi vous semble : | FY1: L'offre en commerce de proximité vous semble : | GE1: Quelle note donneriez-vous à la qualité des services de la ville (compétences, disponibilité, réactivité, accueil) ? | GO1: Quelle note donneriez-vous à l'action de l'équipe municipale ? | GY1: Considérez-vous que les élus du Taillan-Médoc sont présents sur la commune : | HE1: Considérez-vous que les élus du Taillan-Médoc sont disponibles : | HK1: Qui est le maire du Taillan-Médoc ? | HL1: Pouvez-vous citer d'autres élus du Conseil municipal ou élus locaux hors municipalité ?
B2: un homme | C2: une femme | D2: 18-29 ans | E2: 30-44 ans | F2: 45-59 ans | G2: 60-74 ans | H2: 75-89 ans | I2: 90 ans et plus | J2: moins de 3 ans | K2: de 3 à 5 ans | L2: 5 à 10 ans | M2: plus de 10 ans | N2: B1 | O2: B2 | P2: B3 | Q2: B4 | R2: B5 | S2: B6 | T2: B7 | U2: B8 | V2: agriculteur | W2: cadre supérieur | X2: artisan/commerçant | Y2: profession libérale | Z2: profession intermédiaire | AA2: enseignant/fonctionnaire | AB2: employé | AC2: ouvrier | AD2: retraité | AE2: étudiant | AF2: sans profession | AG2: autre | AH2: la commune du Taillan-Médoc | AI2: une commune limitrophe (St Médard, Eysines, Blanquefort, St-Aubin) | AJ2: sur la CUB | AK2: en Gironde (hors CUB) | AL2: sur un autre département | AM2: moins de 8000 | AN2: 8000 habitants | AO2: 9000 habitants | AP2: plus de 9000 | AQ2: oui | AR2: non | AS2: l'équilibre entre urbain et espaces naturels | AT2: la commune est bien équipée (sport/scolaire/culture) | AU2: son positionnement géographique | AV2: autre | AW2: 1 (pas du tout attaché) | AX2: 2 | AY2: 3 | AZ2: 4 | BA2: 5 | BB2: 6 (très attaché) | BC2: oui | BD2: non | BE2: ville à la campagne | BF2: ville en mutation | BG2: ville animée | BH2: ville populaire | BI2: ville rue | BJ2: ville sans identité | BK2: ville dortoir | BL2: ville bourgeoise | BM2: ville en devenir | BN2: magazine municipal | BO2: site internet | BP2: réseaux sociaux (facebook) | BQ2: presse locale (sud-ouest) | BR2: réunions publiques | BS2: affichage | BT2: autre | BU2: oui | BV2: non | BW2: très intéressant | BX2: intéressant | BY2: pas intéressant | BZ2: pas du tout intéressant | CA2: 1 (très insuffisamment) | CB2: 2 | CC2: 3 | CD2: 4 | CE2: 5 | CF2: 6 (très suffisamment) | CG2: très satisfaisant | CH2: satisfaisant | CI2: pas satisfaiant | CJ2: pas du tout satisfaisant | CK2: 1(pas du tout desservie) | CL2: 2 | CM2: 3 | CN2: 4 | CO2: 5 | CP2: 6 (très bien desservie) | CQ2: 1 (pas du tout) | CR2: 2 | CS2: 3 | CT2: 4 | CU2: 5 | CV2: 6 (tout à fait) | CW2: synonyme d'un nouvel aménagement de la ville | CX2: un lien plus fort entre notre commune et le reste de l'agglomération | CY2: la fin de notre identité rurale | CZ2: la mutation concrète d'un bourg rural qui va devenir "ville" | DA2: pas du tout pratique | DB2: pas pratique | DC2: pratique | DD2: très pratique | DE2: 1 (pas du tout suffisante) | DF2: 2 | DG2: 3 | DH2: 4 | DI2: 5 | DJ2: 6 (très suffisante) | DK2: avec peu voir pas de problèmes de délinquance et d'insécurité | DL2: avec des problèmes comparables aux autres communes du territoire | DM2: avec des problèmes de plus importants qu'ailleurs | DN2: 1 (pas du tout importante) | DO2: 2 | DP2: 3 | DQ2: 4 | DR2: 5 | DS2: 6 (très importante) | DT2: tout à fait suffisant | DU2: suffisant | DV2: peu suffisant | DW2: pas du tout suffisant | DX2: 1 (pas du tout satisfaisante) | DY2: 2 | DZ2: 3 | EA2: 4 | EB2: 5 | EC2: 6 (très satisfaisante) | ED2: 1 (pas du tout) | EE2: 2 | EF2: 3 | EG2: 4 | EH2: 5 | EI2: 6 (tout à fait) | EJ2: tout à fait suffisant | EK2: suffisant | EL2: peu suffisant | EM2: pas du tout suffisant | EN2: 1 (pas du tout) | EO2: 2 | EP2: 3 | EQ2: 4 | ER2: 5 | ES2: 6 (tout à fait) | ET2: 1 (pas du tout satisfaisante | EU2: 2 | EV2: 3 | EW2: 4 | EX2: 5 | EY2: 6 (très satisfaisante) | EZ2: très difficle | FA2: difficile | FB2: facile | FC2: très facile | FD2: très satisfaisant | FE2: satisfaisant | FF2: pas satisfaisant | FG2: pas du tout satisfaisant | FH2: particulièrement agréable | FI2: similaire aux autres communes de la CUB | FJ2: difficile | FK2: 1 (pas du tout satisfaisante) | FL2: 2 | FM2: 3 | FN2: 4 | FO2: 5 | FP2: 6 (très satisfaisante) | FQ2: tout à fait nécessaire | FR2: nécessaire | FS2: peu nécessaire | FT2: pas du tout nécessaire | FU2: très efficace | FV2: efficace | FW2: peu efficace | FX2: inefficace | FY2: 1 (pas du tout satisfaisante) | FZ2: 2 | GA2: 3 | GB2: 4 | GC2: 5 | GD2: 6 (très satisfaisante) | GE2: 1 | GF2: 2 | GG2: 3 | GH2: 4 | GI2: 5 | GJ2: 6 | GK2: 7 | GL2: 8 | GM2: 9 | GN2: 10 | GO2: 1 | GP2: 2 | GQ2: 3 | GR2: 4 | GS2: 5 | GT2: 6 | GU2: 7 | GV2: 8 | GW2: 9 | GX2: 10 | GY2: 1 (pas du tout) | GZ2: 2 | HA2: 3 | HB2: 4 | HC2: 5 | HD2: 6 (tout à fait) | HE2: 1 (pas du tout) | HF2: 2 | HG2: 3 | HH2: 4 | HI2: 5 | HJ2: 6 (tout à fait)
A3: Nombre | B3: =COUNTA(Feuil1!B3:B65000) -> 4 | C3: =COUNTA(Feuil1!C3:C65000) -> 7 | D3: =COUNTA(Feuil1!D3:D65000) -> 1 | E3: =COUNTA(Feuil1!E3:E65000) -> 1 | F3: =COUNTA(Feuil1!F3:F65000) -> 3 | G3: =COUNTA(Feuil1!G3:G65000) -> 1 | H3: =COUNTA(Feuil1!H3:H65000) -> 4 | I3: =COUNTA(Feuil1!I3:I65000) -> 1 | ... AG3: =COUNTA(Feuil1!AG3:AG65000) -> 0
A4: Pourcentage | B4: =B3/SUM($B$3:$C$3) -> 0.36363636 | C4: =C3/SUM($B$3:$C$3) -> 0.63636364 | D4: =D3/SUM($D$3:$I$3) -> 0.090909091 | E4: =E3/SUM($D$3:$I$3) -> 0.090909091 | F4: =F3/SUM($D$3:$I$3) -> 0.27272727 | G4: =G3/SUM($D$3:$I$3) -> 0.090909091 | H4: =H3/SUM($D$3:$I$3) -> 0.36363636 | I4: =I3/SUM($D$3:$I$3) -> 0.090909091 | J4: =J3/SUM($J$3:$M$3) -> 0.090909091 | K4: =K3/SUM($J$3:$M$3) -> 0.18181818 | L4: =L3/SUM($J$3:$M$3) -> 0.090909091 | M4: =M3/SUM($J$3:$M$3) -> 0.63636364 | N4: =N3/SUM($N$3:$U$3) -> 0.090909091 | O4: =O3/SUM($N$3:$U$3) -> 0.090909091 | P4: =P3/SUM($N$3:$U$3) -> 0.18181818 | Q4: =Q3/SUM($N$3:$U$3) -> 0.18181818 | R4: =R3/SUM($N$3:$U$3) -> 0.18181818 | S4: =S3/SUM($N$3:$U$3) -> 0.090909091 | T4: =T3/SUM($N$3:$U$3) -> 0.090909091 | U4: =U3/SUM($N$3:$U$3) -> 0.090909091 | V4: =V3/SUM($V$3:$AG$3) -> 0.090909091 | W4: =W3/SUM($V$3:$AG$3) -> 0.81818182 | X4: =X3/SUM($V$3:$AG$3) -> 0.090909091 | Y4: =Y3/SUM($V$3:$AG$3) -> 0 | Z4: =Z3/SUM($V$3:$AG$3) -> 0 | AA4: =AA3/SUM($V$3:$AG$3) -> 0 | AB4: =AB3/SUM($V$3:$AG$3) -> 0 | AC4: =AC3/SUM($V$3:$AG$3) -> 0 | ... AG4: =AG3/SUM($V$3:$AG$3) -> 0
A6: Contrôle nombre | B6: =SUM(B3:C3) -> 11 | D6: =SUM(D3:I3) -> 11 | J6: =SUM(J3:M3) -> 11 | N6: =SUM(N3:U3) -> 11 | V6: =SUM(V3:AG3) -> 11
