Workbook

Sheet Feuil1
A1: tx de change
A2: 25 | D2: .01 | E2: .02 | F2: .03 | G2: .04 | H2: .05 | I2: .06 | J2: .07 | K2: .08 | L2: .09 | M2: .10 | N2: .11 | O2: .12 | P2: cumul
B3: AC=FCR-T6FPP | D3: 0 | E3: 0 | F3: 0 | G3: 0 | H3: 0 | I3: 0 | J3: 0 | K3: 0 | L3: 0 | M3: 0 | N3: 0 | O3: 0 | P3: 0 | R3: 0 | S3: 0 | T3: 0 | U3: 0 | V3: 0 | W3: 0 | X3: 0 | Y3: 0 | Z3: 0 | AA3: 0 | AB3: 0 | AC3: 0 | AE3: 0 | AF3: 0 | AG3: 4 | AH3: 0 | AI3: 0 | AJ3: 0 | AK3: 0 | AL3: 0 | AM3: 0 | AN3: 0 | AO3: 0 | AP3: 0 | AQ3: 4
B4: AC=FCR611000 | D4: -365 | E4: -832 | F4: -318 | G4: -568 | H4: -567 | I4: -958 | J4: -483 | K4: -466 | L4: -434 | M4: -478 | N4: -548 | O4: -505 | P4: -6522 | R4: -489 | S4: -552 | T4: -434 | U4: -292 | V4: -449 | W4: -461 | X4: -459 | Y4: -501 | Z4: -497 | AA4: -459 | AB4: -970 | AC4: -6521 | AE4: -1176 | AF4: -573 | AG4: -686 | AH4: -652 | AI4: -444 | AJ4: -489 | AK4: -585 | AL4: -581 | AM4: -616 | AN4: -613 | AO4: -583 | AP4: -1138 | AQ4: -8136
B5: AC=FCR612100 | D5: 0 | E5: 0 | F5: 0 | G5: 0 | H5: 0 | I5: 0 | J5: 0 | K5: 0 | L5: 0 | M5: 0 | N5: 0 | O5: 0 | P5: 0 | R5: 0 | S5: 0 | T5: 0 | U5: 0 | V5: 0 | W5: 0 | X5: 0 | Y5: 0 | Z5: 0 | AA5: 0 | AB5: 0 | AC5: 0 | AE5: 0 | AF5: 0 | AG5: 0 | AH5: 0 | AI5: 0 | AJ5: 0 | AK5: 0 | AL5: 0 | AM5: 0 | AN5: 0 | AO5: 0 | AP5: 0 | AQ5: 0
B6: AC=FCR613100 | D6: 0 | E6: 0 | F6: 0 | G6: 0 | H6: 0 | I6: 0 | J6: 0 | K6: 0 | L6: 0 | M6: 0 | N6: 0 | O6: 0 | P6: 0 | R6: 0 | S6: 0 | T6: 0 | U6: 0 | V6: 0 | W6: 0 | X6: 0 | Y6: 0 | Z6: 0 | AA6: 0 | AB6: 0 | AC6: 0 | AE6: 0 | AF6: 0 | AG6: 0 | AH6: 0 | AI6: 0 | AJ6: 0 | AK6: 0 | AL6: 0 | AM6: 0 | AN6: 0 | AO6: 0 | AP6: 0 | AQ6: 0
B7: AC=FCR613200 | D7: 0 | E7: 0 | F7: 0 | G7: 0 | H7: 0 | I7: 0 | J7: 0 | K7: 0 | L7: 0 | M7: 0 | N7: 0 | O7: 0 | P7: 0 | R7: 0 | S7: 0 | T7: 0 | U7: 0 | V7: 0 | W7: 0 | X7: 0 | Y7: 0 | Z7: 0 | AA7: 0 | AB7: 0 | AC7: 0 | AE7: 0 | AF7: 0 | AG7: 0 | AH7: 0 | AI7: 0 | AJ7: 0 | AK7: 0 | AL7: 0 | AM7: 0 | AN7: 0 | AO7: 0 | AP7: 0 | AQ7: 0
B8: AC=FCR619990 | D8: -292 | E8: -309 | F8: -129 | G8: -217 | H8: -215 | I8: -351 | J8: -181 | K8: -174 | L8: -164 | M8: -180 | N8: -207 | O8: -193 | P8: -2612 | R8: -188 | S8: -68 | T8: -166 | U8: -257 | V8: -215 | W8: -177 | X8: -177 | Y8: -201 | Z8: -189 | AA8: -178 | AB8: -358 | AC8: -2524 | AE8: -429 | AF8: -222 | AG8: -267 | AH8: -185 | AI8: -258 | AJ8: -201 | AK8: -235 | AL8: -253 | AM8: -242 | AN8: -208 | AO8: -164 | AP8: -336 | AQ8: -3000
B9: AC=FCR634100 | D9: 0 | E9: 0 | F9: 0 | G9: 0 | H9: 0 | I9: 0 | J9: 0 | K9: 0 | L9: 0 | M9: 0 | N9: 0 | O9: 0 | P9: 0 | R9: 0 | S9: 0 | T9: 0 | U9: 0 | V9: 0 | W9: 0 | X9: 0 | Y9: 0 | Z9: 0 | AA9: 0 | AB9: 0 | AC9: 0 | AE9: 0 | AF9: 0 | AG9: 0 | AH9: 0 | AI9: 0 | AJ9: 0 | AK9: 0 | AL9: 0 | AM9: 0 | AN9: 0 | AO9: 0 | AP9: 0 | AQ9: 0
B10: AC=FCR649993 | D10: 0 | E10: 0 | F10: 0 | G10: 0 | H10: 0 | I10: 0 | J10: 0 | K10: 0 | L10: 0 | M10: 0 | N10: 0 | O10: 0 | P10: 0 | R10: 0 | S10: 0 | T10: 0 | U10: 0 | V10: 0 | W10: 0 | X10: 0 | Y10: 0 | Z10: 0 | AA10: 0 | AB10: 0 | AC10: 0 | AE10: 0 | AF10: 0 | AG10: 0 | AH10: 0 | AI10: 0 | AJ10: 0 | AK10: 0 | AL10: 0 | AM10: 0 | AN10: 0 | AO10: 0 | AP10: 0 | AQ10: 0
B11: AC=FCR-T6FPC | D11: -657 | E11: -1141 | F11: -447 | G11: -785 | H11: -782 | I11: -1309 | J11: -664 | K11: -640 | L11: -598 | M11: -658 | N11: -755 | O11: -698 | P11: -9134 | R11: -677 | S11: -620 | T11: -600 | U11: -549 | V11: -664 | W11: -638 | X11: -636 | Y11: -702 | Z11: -686 | AA11: -637 | AB11: -1328 | AC11: -9045 | AE11: -1605 | AF11: -795 | AG11: -953 | AH11: -837 | AI11: -702 | AJ11: -690 | AK11: -820 | AL11: -834 | AM11: -858 | AN11: -821 | AO11: -747 | AP11: -1474 | AQ11: -11136
B12: FCR-T6FP | D12: -657 | E12: -1141 | F12: -447 | G12: -785 | H12: -782 | I12: -1309 | J12: -664 | K12: -640 | L12: -598 | M12: -658 | N12: -755 | O12: -698 | P12: -9134 | R12: -677 | S12: -620 | T12: -600 | U12: -549 | V12: -664 | W12: -638 | X12: -636 | Y12: -702 | Z12: -686 | AA12: -637 | AB12: -1328 | AC12: -9045 | AE12: -1605 | AF12: -795 | AG12: -949 | AH12: -837 | AI12: -702 | AJ12: -690 | AK12: -820 | AL12: -834 | AM12: -858 | AN12: -821 | AO12: -747 | AP12: -1474 | AQ12: -11132

Sheet Résultat
A1: tx de change
A2: 25 | D2: .01 | E2: .02 | F2: .03 | G2: .04 | H2: .05 | I2: .06 | J2: .07 | K2: .08 | L2: .09 | M2: .10 | N2: .11 | O2: .12 | P2: cumul
B3: AC=FCR-T6FPP | D3: =Feuil1!D3/Feuil1!$A$2 -> 0 | E3: =Feuil1!E3/Feuil1!$A$2 -> 0 | F3: =Feuil1!F3/Feuil1!$A$2 -> 0 | G3: =Feuil1!G3/Feuil1!$A$2 -> 0 | H3: =Feuil1!H3/Feuil1!$A$2 -> 0 | I3: =Feuil1!I3/Feuil1!$A$2 -> 0 | J3: =Feuil1!J3/Feuil1!$A$2 -> 0 | K3: =Feuil1!K3/Feuil1!$A$2 -> 0 | ... P3: =Feuil1!P3/Feuil1!$A$2 -> 0
B4: AC=FCR611000 | D4: =Feuil1!D4/Feuil1!$A$2 -> -14.6 | E4: =Feuil1!E4/Feuil1!$A$2 -> -33.28 | F4: =Feuil1!F4/Feuil1!$A$2 -> -12.72 | G4: =Feuil1!G4/Feuil1!$A$2 -> -22.72 | H4: =Feuil1!H4/Feuil1!$A$2 -> -22.68 | I4: =Feuil1!I4/Feuil1!$A$2 -> -38.32 | J4: =Feuil1!J4/Feuil1!$A$2 -> -19.32 | K4: =Feuil1!K4/Feuil1!$A$2 -> -18.64 | ... P4: =Feuil1!P4/Feuil1!$A$2 -> -260.88
B5: AC=FCR612100 | D5: =Feuil1!D5/Feuil1!$A$2 -> 0 | E5: =Feuil1!E5/Feuil1!$A$2 -> 0 | F5: =Feuil1!F5/Feuil1!$A$2 -> 0 | G5: =Feuil1!G5/Feuil1!$A$2 -> 0 | H5: =Feuil1!H5/Feuil1!$A$2 -> 0 | I5: =Feuil1!I5/Feuil1!$A$2 -> 0 | J5: =Feuil1!J5/Feuil1!$A$2 -> 0 | K5: =Feuil1!K5/Feuil1!$A$2 -> 0 | ... P5: =Feuil1!P5/Feuil1!$A$2 -> 0
B6: AC=FCR613100 | D6: =Feuil1!D6/Feuil1!$A$2 -> 0 | E6: =Feuil1!E6/Feuil1!$A$2 -> 0 | F6: =Feuil1!F6/Feuil1!$A$2 -> 0 | G6: =Feuil1!G6/Feuil1!$A$2 -> 0 | H6: =Feuil1!H6/Feuil1!$A$2 -> 0 | I6: =Feuil1!I6/Feuil1!$A$2 -> 0 | J6: =Feuil1!J6/Feuil1!$A$2 -> 0 | K6: =Feuil1!K6/Feuil1!$A$2 -> 0 | ... P6: =Feuil1!P6/Feuil1!$A$2 -> 0
B7: AC=FCR613200 | D7: =Feuil1!D7/Feuil1!$A$2 -> 0 | E7: =Feuil1!E7/Feuil1!$A$2 -> 0 | F7: =Feuil1!F7/Feuil1!$A$2 -> 0 | G7: =Feuil1!G7/Feuil1!$A$2 -> 0 | H7: =Feuil1!H7/Feuil1!$A$2 -> 0 | I7: =Feuil1!I7/Feuil1!$A$2 -> 0 | J7: =Feuil1!J7/Feuil1!$A$2 -> 0 | K7: =Feuil1!K7/Feuil1!$A$2 -> 0 | ... P7: =Feuil1!P7/Feuil1!$A$2 -> 0
B8: AC=FCR619990 | D8: =Feuil1!D8/Feuil1!$A$2 -> -11.68 | E8: =Feuil1!E8/Feuil1!$A$2 -> -12.36 | F8: =Feuil1!F8/Feuil1!$A$2 -> -5.16 | G8: =Feuil1!G8/Feuil1!$A$2 -> -8.68 | H8: =Feuil1!H8/Feuil1!$A$2 -> -8.6 | I8: =Feuil1!I8/Feuil1!$A$2 -> -14.04 | J8: =Feuil1!J8/Feuil1!$A$2 -> -7.24 | K8: =Feuil1!K8/Feuil1!$A$2 -> -6.96 | ... P8: =Feuil1!P8/Feuil1!$A$2 -> -104.48
B9: AC=FCR634100 | D9: =Feuil1!D9/Feuil1!$A$2 -> 0 | E9: =Feuil1!E9/Feuil1!$A$2 -> 0 | F9: =Feuil1!F9/Feuil1!$A$2 -> 0 | G9: =Feuil1!G9/Feuil1!$A$2 -> 0 | H9: =Feuil1!H9/Feuil1!$A$2 -> 0 | I9: =Feuil1!I9/Feuil1!$A$2 -> 0 | J9: =Feuil1!J9/Feuil1!$A$2 -> 0 | K9: =Feuil1!K9/Feuil1!$A$2 -> 0 | ... P9: =Feuil1!P9/Feuil1!$A$2 -> 0
B10: AC=FCR649993 | D10: =Feuil1!D10/Feuil1!$A$2 -> 0 | E10: =Feuil1!E10/Feuil1!$A$2 -> 0 | F10: =Feuil1!F10/Feuil1!$A$2 -> 0 | G10: =Feuil1!G10/Feuil1!$A$2 -> 0 | H10: =Feuil1!H10/Feuil1!$A$2 -> 0 | I10: =Feuil1!I10/Feuil1!$A$2 -> 0 | J10: =Feuil1!J10/Feuil1!$A$2 -> 0 | K10: =Feuil1!K10/Feuil1!$A$2 -> 0 | ... P10: =Feuil1!P10/Feuil1!$A$2 -> 0
B11: AC=FCR-T6FPC | D11: =Feuil1!D11/Feuil1!$A$2 -> -26.28 | E11: =Feuil1!E11/Feuil1!$A$2 -> -45.64 | F11: =Feuil1!F11/Feuil1!$A$2 -> -17.88 | G11: =Feuil1!G11/Feuil1!$A$2 -> -31.4 | H11: =Feuil1!H11/Feuil1!$A$2 -> -31.28 | I11: =Feuil1!I11/Feuil1!$A$2 -> -52.36 | J11: =Feuil1!J11/Feuil1!$A$2 -> -26.56 | K11: =Feuil1!K11/Feuil1!$A$2 -> -25.6 | ... P11: =Feuil1!P11/Feuil1!$A$2 -> -365.36
B12: FCR-T6FP | D12: =Feuil1!D12/Feuil1!$A$2 -> -26.28 | E12: =Feuil1!E12/Feuil1!$A$2 -> -45.64 | F12: =Feuil1!F12/Feuil1!$A$2 -> -17.88 | G12: =Feuil1!G12/Feuil1!$A$2 -> -31.4 | H12: =Feuil1!H12/Feuil1!$A$2 -> -31.28 | I12: =Feuil1!I12/Feuil1!$A$2 -> -52.36 | J12: =Feuil1!J12/Feuil1!$A$2 -> -26.56 | K12: =Feuil1!K12/Feuil1!$A$2 -> -25.6 | ... P12: =Feuil1!P12/Feuil1!$A$2 -> -365.36

Sheet Feuil3
