Workbook

Sheet DIVERS
A1: référence | B1: unité | C1: prix net | D1: quantitée | E1: prix | F1: TOTAL | G1: =SUM(E2:E66) -> 0
E2: =SUM(C2*D2) -> 0
E3: =SUM(C3*D3) -> 0
E4: =SUM(C4*D4) -> 0
E5: =SUM(C5*D5) -> 0
E6: =SUM(C6*D6) -> 0
E7: =SUM(C7*D7) -> 0
E8: =SUM(C8*D8) -> 0
E9: =SUM(C9*D9) -> 0
E10: =SUM(C10*D10) -> 0
E11: =SUM(C11*D11) -> 0
E12: =SUM(C12*D12) -> 0
E13: =SUM(C13*D13) -> 0
... E66: =SUM(C66*D66) -> 0

Sheet VMC
A1: référence | B1: unité | C1: prix net | D1: quantitée | E1: prix | F1: TOTAL | G1: =SUM(E3:E88) -> 0
A2: GAINE SMO PHONE
A3: gaine SMO PHONE D125 | B3: m | C3: 2.6 | E3: =SUM(C3*D3) -> 0
A4: gaine SMO PHONE D160 | B4: m | C4: 3.1 | E4: =SUM(C4*D4) -> 0
A5: gaine SMO PHONE D200 | B5: m | C5: 3.65 | E5: =SUM(C5*D5) -> 0
A6: gaine SMO PHONE D250 | B6: m | C6: 4.61 | E6: =SUM(C6*D6) -> 0
A7: gaine SMO PHONE D315 | B7: m | C7: 5.87 | E7: =SUM(C7*D7) -> 0
A8: GAINE GALVA SPIRALEE
A9: gaine spiralée D125 | B9: m | C9: 3.66 | E9: =SUM(C9*D9) -> 0
A10: gaine spiralée D160 | B10: m | C10: 4.66 | E10: =SUM(C10*D10) -> 0
A11: gaine spiralée D200 | B11: m | C11: 6.33 | E11: =SUM(C11*D11) -> 0
A12: gaine spiralée D250 | B12: m | C12: 8.33 | E12: =SUM(C12*D12) -> 0
A13: gaine spiralée D315 | B13: m | C13: 10.3 | E13: =SUM(C13*D13) -> 0
A14: gaine spiralée D355 | B14: m | C14: 12 | E14: =SUM(C14*D14) -> 0
A15: gaine spiralée D450 | B15: m | C15: 17 | E15: =SUM(C15*D15) -> 0
A16: RACCORD
A17: COUDE 90°
A18: coude 90° D125 | B18: p | C18: 5.29 | E18: =SUM(C18*D18) -> 0
A19: coude 90° D160 | B19: p | C19: 7.77 | E19: =SUM(C19*D19) -> 0
A20: coude 90° D200 | B20: p | C20: 10.85 | E20: =SUM(C20*D20) -> 0
A21: coude 90° D250 | B21: p | C21: 14.7 | E21: =SUM(C21*D21) -> 0
A22: coude 90° D315 | B22: p | C22: 17.92 | E22: =SUM(C22*D22) -> 0
A23: coude 90° D355 | B23: p | C23: 22.47 | E23: =SUM(C23*D23) -> 0
A24: coude 90° D450 | B24: p | C24: 26.43 | E24: =SUM(C24*D24) -> 0
A25: COUDE 45°
A26: coude 45° D125 | B26: p | C26: 4.03 | E26: =SUM(C26*D26) -> 0
A27: coude 45° D160 | B27: p | C27: 5.71 | E27: =SUM(C27*D27) -> 0
A28: coude 45° D200 | B28: p | C28: 7.35 | E28: =SUM(C28*D28) -> 0
A29: coude 45° D250 | B29: p | C29: 9.52 | E29: =SUM(C29*D29) -> 0
A30: coude 45° D315 | B30: p | C30: 13.23 | E30: =SUM(C30*D30) -> 0
A31: coude 45° D355 | B31: p | C31: 14.14 | E31: =SUM(C31*D31) -> 0
A32: coude 45° D450 | B32: p | C32: 517.92 | E32: =SUM(C32*D32) -> 0
A33: TE 90°
A34: té 90° D125 | B34: p | C34: 5.64 | E34: =SUM(C34*D34) -> 0
A35: té 90° D160 | B35: p | C35: 7.67 | E35: =SUM(C35*D35) -> 0
A36: té 90° D200 | B36: p | C36: 9.7 | E36: =SUM(C36*D36) -> 0
A37: té 90° D250 | B37: p | C37: 14.28 | E37: =SUM(C37*D37) -> 0
A38: té 90° D315 | B38: p | C38: 26.11 | E38: =SUM(C38*D38) -> 0
A39: té 90° D355 | B39: p | C39: 29.4 | E39: =SUM(C39*D39) -> 0
A40: té 90° D450 | B40: p | C40: 39.9 | E40: =SUM(C40*D40) -> 0
A41: MANCHON FEMELLE
A42: manchon mâle D125 | B42: p | C42: 2.13 | E42: =SUM(C42*D42) -> 0
A43: manchon mâle D160 | B43: p | C43: 2.34 | E43: =SUM(C43*D43) -> 0
A44: manchon mâle D200 | B44: p | C44: 2.73 | E44: =SUM(C44*D44) -> 0
A45: manchon mâle D250 | B45: p | C45: 3.04 | E45: =SUM(C45*D45) -> 0
A46: manchon mâle D315 | B46: p | C46: 3.5 | E46: =SUM(C46*D46) -> 0
A47: manchon mâle D355 | B47: p | C47: 5.01 | E47: =SUM(C47*D47) -> 0
A48: manchon mâle D450 | B48: p | C48: 7.35 | E48: =SUM(C48*D48) -> 0
A49: MANCHON MALE
A50: manchon femelle D125 | B50: p | C50: 0.97 | E50: =SUM(C50*D50) -> 0
A51: manchon femelle D160 | B51: p | C51: 1.38 | E51: =SUM(C51*D51) -> 0
A52: manchon femelle D200 | B52: p | C52: 1.51 | E52: =SUM(C52*D52) -> 0
A53: manchon femelle D250 | B53: p | C53: 1.75 | E53: =SUM(C53*D53) -> 0
A54: manchon femelle D315 | B54: p | C54: 2.03 | E54: =SUM(C54*D54) -> 0
A55: manchon femelle D355 | B55: p | C55: 2.9 | E55: =SUM(C55*D55) -> 0
A56: manchon femelle D450 | B56: p | C56: 4.83 | E56: =SUM(C56*D56) -> 0
A57: REDUCTION CONIQUE
A58: 125/160 | B58: p | C58: 4.87 | E58: =SUM(C58*D58) -> 0
A59: 125/200 | B59: p | C59: 6.13 | E59: =SUM(C59*D59) -> 0
A60: 125/250 | B60: p | C60: 8.72 | E60: =SUM(C60*D60) -> 0
A61: 160/200 | B61: p | C61: 5.53 | E61: =SUM(C61*D61) -> 0
A62: 160/250 | B62: p | C62: 7.81 | E62: =SUM(C62*D62) -> 0
A63: 160/315 | B63: p | C63: 14.11 | E63: =SUM(C63*D63) -> 0
A64: 200/250 | B64: p | C64: 6.83 | E64: =SUM(C64*D64) -> 0
A65: 200/315 | B65: p | C65: 9.8 | E65: =SUM(C65*D65) -> 0
A66: 200/355 | B66: p | C66: 30 | E66: =SUM(C66*D66) -> 0
A67: 200/400 | B67: p | C67: 31.05 | E67: =SUM(C67*D67) -> 0
A68: 250/315 | B68: p | C68: 8.68 | E68: =SUM(C68*D68) -> 0
A69: 250/355 | B69: p | C69: 10.29 | E69: =SUM(C69*D69) -> 0
... A73: 355/400 | B73: p | C73: 11.76 | E73: =SUM(C73*D73) -> 0
A74: ACCESSOIRES DIVERS
A75: collier isolé D125 | B75: p | C75: 1.58 | E75: =SUM(C75*D75) -> 0
A76: collier isolé D160 | B76: p | C76: 1.89 | E76: =SUM(C76*D76) -> 0
A77: collier isolé D200 | B77: p | C77: 2.12 | E77: =SUM(C77*D77) -> 0
A78: collier isolé D250 | B78: p | C78: 3.08 | E78: =SUM(C78*D78) -> 0
A79: collier isolé D315 | B79: p | C79: 3.08 | E79: =SUM(C79*D79) -> 0
A80: collier isolé D355 | B80: p | C80: 3.42 | E80: =SUM(C80*D80) -> 0
A81: collier isolé D450 | B81: p | C81: 3.66 | E81: =SUM(C81*D81) -> 0
A82: bande perforée | B82: m | C82: 0.74 | E82: =SUM(C82*D82) -> 0
A83: bande alu 50mm | B83: p | E83: =SUM(C83*D83) -> 0
A84: disque à tronçonner 1,26mm | B84: p | C84: 0.7 | E84: =SUM(C84*D84) -> 0
A85: plaque fiber | E85: =SUM(C85*D85) -> 0
E86: =SUM(C86*D86) -> 0
E87: =SUM(C87*D87) -> 0
E88: =SUM(C88*D88) -> 0

Sheet support fixation produit
A1: référence | B1: unité | C1: prix net | D1: quantitée | E1: prix | F1: TOTAL | G1: =SUM(E3:E61) -> 0
A2: GOULOTTE
A3: 60x45 | B3: m | C3: 0 | E3: =SUM(D3*C3) -> 0
A4: 80x60 | B4: m | C4: 0 | E4: =SUM(D4*C4) -> 0
A5: 110x75 | B5: m | C5: 0 | E5: =SUM(D5*C5) -> 0
A6: coude 90° à plat 60 | B6: p | C6: 0 | E6: =SUM(D6*C6) -> 0
A7: coude 90° à plat 80 | B7: p | C7: 0 | E7: =SUM(D7*C7) -> 0
A8: coude 90° à plat 110 | B8: p | C8: 0 | E8: =SUM(D8*C8) -> 0
A9: jointure 60 | B9: p | C9: 0 | E9: =SUM(D9*C9) -> 0
A10: jointure 80 | B10: p | C10: 0 | E10: =SUM(D10*C10) -> 0
A11: jointure 110 | B11: p | C11: 0 | E11: =SUM(D11*C11) -> 0
A12: traversée de mur 60 | B12: p | C12: 0 | E12: =SUM(D12*C12) -> 0
A13: traversée de mur 80 | B13: p | C13: 0 | E13: =SUM(D13*C13) -> 0
A14: traversée de mur 110 | B14: p | C14: 0 | E14: =SUM(D14*C14) -> 0
... A17: finition de mur 110 | B17: p | C17: 0 | E17: =SUM(D17*C17) -> 0
A18: TUBE IRL
A19: 16mm | B19: m | C19: 0 | E19: =SUM(D19*C19) -> 0
A20: 20mm | B20: m | C20: 0 | E20: =SUM(D20*C20) -> 0
A21: attache tube irl | B21: p | C21: 0 | E21: =SUM(D21*C21) -> 0
A22: SUPPORTAGE
A23: chaise 140 kg | B23: p | C23: 0 | E23: =SUM(D23*C23) -> 0
A24: support sol pvc 45 cm (les 2) | B24: p | C24: 0 | E24: =SUM(D24*C24) -> 0
A25: console murale 41x41x2 445mm | B25: p | C25: 0 | E25: =SUM(D25*C25) -> 0
A26: console murale 41x41x2 570mm | B26: p | C26: 0 | E26: =SUM(D26*C26) -> 0
A27: console murale 41x41x2 820mm | B27: p | C27: 0 | E27: =SUM(D27*C27) -> 0
A28: grippfil 0-35 kg 1m | B28: m | C28: 0 | E28: =SUM(D28*C28) -> 0
A29: cablofil 60x65 | B29: p | C29: 0 | E29: =SUM(D29*C29) -> 0
A30: cablofil 100x65 | B30: m | C30: 0 | E30: =SUM(D30*C30) -> 0
A31: cablofil 150x65 | B31: m | C31: 0 | E31: =SUM(D31*C31) -> 0
A32: cablofil 200x65 | B32: m | C32: 0 | E32: =SUM(D32*C32) -> 0
A33: cablofil 300x65 | B33: m | C33: 0 | E33: =SUM(D33*C33) -> 0
A34: cablofil 500x65 | B34: m | C34: 0 | E34: =SUM(D34*C34) -> 0
... A45: equerre de montage 95/95/90° | B45: p | C45: 0 | E45: =SUM(D45*C45) -> 0
C46: 0 | E46: =SUM(D46*C46) -> 0
A47: PRODUIT / COLLE
A48: mousse polyurethane | B48: p | C48: 0 | E48: =SUM(D48*C48) -> 0
A49: silicone blanc | B49: p | C49: 0 | E49: =SUM(D49*C49) -> 0
A50: détecteur de fuite | B50: p | C50: 0 | E50: =SUM(D50*C50) -> 0
A51: 1 sellement chimique | B51: p | C51: 0 | E51: =SUM(D51*C51) -> 0
A52: scotch orange | B52: p | C52: 0 | E52: =SUM(D52*C52) -> 0
A53: bande armaflex noir 15m | B53: p | C53: 0 | E53: =SUM(D53*C53) -> 0
A54: rilsan blanc | B54: p | C54: 0 | E54: =SUM(D54*C54) -> 0
A55: colson | B55: p | C55: 0 | E55: =SUM(D55*C55) -> 0
E56: =SUM(D56*C56) -> 0
E57: =SUM(D57*C57) -> 0
E58: =SUM(D58*C58) -> 0
E59: =SUM(D59*C59) -> 0
E60: =SUM(D60*C60) -> 0
E61: =SUM(D61*C61) -> 0

Sheet evacuation condensat
A1: référence | B1: unité | C1: prix net | D1: quantitée | E1: prix | F1: TOTAL | G1: =SUM(E3:E37) -> 0
A2: POMPE DE RELEVAGE
A3: mini orange | B3: p | C3: 0 | E3: =(C3*D3) -> 0
A4: sauermann deltapack | B4: p | C4: 0 | E4: =(C4*D4) -> 0
A5: mini flowatch 2 | B5: p | C5: 0 | E5: =(C5*D5) -> 0
A6: aspen peristatique | B6: p | C6: 0 | E6: =(C6*D6) -> 0
A7: pompe à bac aspen | B7: p | C7: 0 | E7: =(C7*D7) -> 0
A8: Aqua blue aspen | B8: p | C8: 0 | E8: =(C8*D8) -> 0
A9: bac de condensat pvc 790x390 | B9: p | C9: 0 | E9: =(C9*D9) -> 0
A10: bac de condensat pvc 940x420 | B10: p | C10: 0 | E10: =(C10*D10) -> 0
A11: EVACUATION
A12: tube annelé 16 | B12: m | C12: 0 | E12: =(C12*D12) -> 0
A13: tuboclair 6x9 | B13: m | C13: 0 | E13: =(C13*D13) -> 0
A14: PVC 32mm | B14: m | C14: 0 | E14: =(C14*D14) -> 0
A15: coude 90° FF 32 | B15: p | C15: 0 | E15: =(C15*D15) -> 0
A16: coude 45° FF 32 | B16: p | C16: 0 | E16: =(C16*D16) -> 0
A17: té FF 32 | B17: p | C17: 0 | E17: =(C17*D17) -> 0
A18: manchon 32 | B18: p | C18: 0 | E18: =(C18*D18) -> 0
A19: collier monobloc 32 | B19: p | C19: 0 | E19: =(C19*D19) -> 0
A20: PVC 40mm | B20: m | C20: 0 | E20: =(C20*D20) -> 0
A21: coude 90° FF 40 | B21: p | C21: 0 | E21: =(C21*D21) -> 0
A22: coude 45° FF 40 | B22: p | C22: 0 | E22: =(C22*D22) -> 0
A23: té FF 40 | B23: p | C23: 0 | E23: =(C23*D23) -> 0
... A26: colle PVC 1kg | B26: p | C26: 0 | E26: =(C26*D26) -> 0
E27: =(C27*D27) -> 0
E28: =(C28*D28) -> 0
E29: =(C29*D29) -> 0
E30: =(C30*D30) -> 0
E31: =(C31*D31) -> 0
E32: =(C32*D32) -> 0
E33: =(C33*D33) -> 0
E34: =(C34*D34) -> 0
E35: =(C35*D35) -> 0
E36: =(C36*D36) -> 0
E37: =(C37*D37) -> 0

Sheet gaz fluide
A1: Référence | B1: unité | C1: le Kg net | D1: quantitée | E1: prix | F1: TOTAL | G1: =SUM(E2:E12) -> 0
A2: R-134A | B2: kg | C2: 0 | E2: =(C2*D2) -> 0
A3: R-404A | B3: kg | C3: 0 | E3: =(C3*D3) -> 0
A4: R-413A | B4: kg | C4: 0 | E4: =(C4*D4) -> 0
A5: R-22 | B5: kg | C5: 0 | E5: =(C5*D5) -> 0
A6: R-410A | B6: kg | C6: 0 | E6: =(C6*D6) -> 0
A7: R-407C | B7: kg | C7: 0 | E7: =(C7*D7) -> 0
A8: Récup.14kg | B8: p | C8: 0 | E8: =(C8*D8) -> 0
A9: Récup.27kg | B9: p | C9: 0 | E9: =(C9*D9) -> 0
A10: azote 3m3 | B10: p | C10: 0 | E10: =(C10*D10) -> 0
A11: oxygène | B11: p | C11: 0 | E11: =(C11*D11) -> 0
A12: acétylène | B12: p | C12: 0 | E12: =(C12*D12) -> 0

Sheet électricité
A1: référence | B1: unité | C1: prix net | D1: quantitée | E1: prix | F1: TOTAL | G1: =SUM(E3:E64) -> 0
A2: CABLE
A3: 1 paire 0.75 blindé | B3: m | C3: 0 | E3: =(C3*D3) -> 0
A4: 3x0.75 souple | B4: m | C4: 0 | E4: =(C4*D4) -> 0
A5: 3x1.5 RO2V | B5: m | C5: 0 | E5: =(C5*D5) -> 0
A6: 4x1.5 RO2V | B6: m | C6: 0 | E6: =(C6*D6) -> 0
A7: 5x1.5 RO2V | B7: m | C7: 0 | E7: =(C7*D7) -> 0
A8: 2x1.5 blindé | B8: m | C8: 0 | E8: =(C8*D8) -> 0
A9: 3x2.5 RO2V | B9: m | C9: 0 | E9: =(C9*D9) -> 0
A10: 4x2.5 RO2V | B10: m | C10: 0 | E10: =(C10*D10) -> 0
A11: 5x2.5 RO2V | B11: m | C11: 0 | E11: =(C11*D11) -> 0
A12: 3x4 RO2V | B12: m | C12: 0 | E12: =(C12*D12) -> 0
A13: 5x4 RO2V | B13: m | C13: 0 | E13: =(C13*D13) -> 0
A14: 3x6 RO2V | B14: m | C14: 0 | E14: =(C14*D14) -> 0
A15: 5x6 RO2V | B15: m | C15: 0 | E15: =(C15*D15) -> 0
A16: COFFRET/TABLEAU
A17: module 4 disj. | B17: p | C17: 0 | E17: =(C17*D17) -> 0
A18: module 6 disj. | B18: p | C18: 0 | E18: =(C18*D18) -> 0
A19: module 8 disj. | B19: p | C19: 0 | E19: =(C19*D19) -> 0
A20: boîte de dériv. D80 | B20: p | C20: 0 | E20: =(C20*D20) -> 0
A21: boîte de dériv. 100x100 | B21: p | C21: 0 | E21: =(C21*D21) -> 0
A22: coffret etanc.8 mod. | B22: p | C22: 0 | E22: =(C22*D22) -> 0
A23: coffret etanc.12 mod. | B23: p | C23: 0 | E23: =(C23*D23) -> 0
A24: coffret etanc.2x12 mod. | B24: p | C24: 0 | E24: =(C24*D24) -> 0
A25: coffret etanc. 4 mod. | B25: p | C25: 0 | E25: =(C25*D25) -> 0
A26: COUPURE DE PROX.
A27: 16 A tri | B27: p | C27: 0 | E27: =(C27*D27) -> 0
A28: 16 A tetra | B28: p | C28: 0 | E28: =(C28*D28) -> 0
A29: 25 A tri | B29: p | C29: 0 | E29: =(C29*D29) -> 0
A30: 25 A tetra | B30: p | C30: 0 | E30: =(C30*D30) -> 0
A31: 32 A tri | B31: p | C31: 0 | E31: =(C31*D31) -> 0
A32: 32 A tetra | B32: p | C32: 0 | E32: =(C32*D32) -> 0
A33: PROTECTION
A34: mono
A35: disjoncteur 2A~C | B35: p | C35: 0 | E35: =(C35*D35) -> 0
A36: disjoncteur 6A~C | B36: p | C36: 0 | E36: =(C36*D36) -> 0
A37: disjoncteur 10A~C | B37: p | C37: 0 | E37: =(C37*D37) -> 0
A38: disjoncteur 16A~C | B38: p | C38: 0 | E38: =(C38*D38) -> 0
A39: disjoncteur 20A~C | B39: p | C39: 0 | E39: =(C39*D39) -> 0
A40: disjoncteur 25A~C | B40: p | C40: 0 | E40: =(C40*D40) -> 0
A41: disjoncteur 32A~C | B41: p | C41: 0 | E41: =(C41*D41) -> 0
A42: tri
A43: disjoncteur 10A~C | B43: p | C43: 0 | E43: =(C43*D43) -> 0
A44: disjoncteur 20A~C | B44: p | C44: 0 | E44: =(C44*D44) -> 0
A45: disjoncteur 40A~C | B45: p | C45: 0 | E45: =(C45*D45) -> 0
A46: tetra
A47: disjoncteur 10A~C | B47: p | C47: 0 | E47: =(C47*D47) -> 0
A48: disjoncteur 16A~C | B48: p | C48: 0 | E48: =(C48*D48) -> 0
A49: disjoncteur 20A~C | B49: p | C49: 0 | E49: =(C49*D49) -> 0
A50: disjoncteur 25A~C | B50: p | C50: 0 | E50: =(C50*D50) -> 0
A51: disjoncteur 32A~C | B51: p | C51: 0 | E51: =(C51*D51) -> 0
A52: disjoncteur 63A~C | B52: p | C52: 0 | E52: =(C52*D52) -> 0
A53: PROTECTION 30ma
A54: mono
A55: interdiff. 40A | B55: p | C55: 0 | E55: =(C55*D55) -> 0
A56: interdiff. 63A | B56: p | C56: 0 | E56: =(C56*D56) -> 0
A57: tri
A58: blocdiff. 25A | B58: p | C58: 0 | E58: =(C58*D58) -> 0
A59: blocdiff. 32A | B59: p | C59: 0 | E59: =(C59*D59) -> 0
A60: blocdiff. 40A | B60: p | C60: 0 | E60: =(C60*D60) -> 0
A61: tetra
A62: interdiff. 25A | B62: p | C62: 0 | E62: =(C62*D62) -> 0
A63: interdiff. 40A | B63: p | C63: 0 | E63: =(C63*D63) -> 0
A64: interdiff. 63A | B64: p | C64: 0 | E64: =(C64*D64) -> 0

Sheet froid
A1: référence | B1: unité | C1: prix net | D1: quantitée | E1: prix | F1: TOTAL | G1: =SUM(E4:E51) -> 0
A2: CUIVRE
A3: tube isolé
A4: 1.4" | B4: m | C4: 0 | E4: =SUM(C4*D4) -> 0
A5: 3.8" | B5: m | C5: 0 | E5: =SUM(C5*D5) -> 0
A6: 1.2" | B6: m | C6: 0 | E6: =SUM(C6*D6) -> 0
A7: 5.8" | B7: m | C7: 0 | E7: =SUM(C7*D7) -> 0
A8: 3.4" | B8: m | C8: 0 | E8: =SUM(C8*D8) -> 0
A9: tube isolé M1
A10: 1.4" | B10: m | C10: 0 | E10: =SUM(C10*D10) -> 0
A11: 3.8" | B11: m | C11: 0 | E11: =SUM(C11*D11) -> 0
A12: 1.2" | B12: m | C12: 0 | E12: =SUM(C12*D12) -> 0
A13: 5.8" | B13: m | C13: 0 | E13: =SUM(C13*D13) -> 0
A14: 3.4" | B14: m | C14: 0 | E14: =SUM(C14*D14) -> 0
A15: barre de cuivre
A16: 1.4" | B16: m | C16: 0 | E16: =SUM(C16*D16) -> 0
A17: 3.8" | B17: m | C17: 0 | E17: =SUM(C17*D17) -> 0
A18: 1.2" | B18: m | C18: 0 | E18: =SUM(C18*D18) -> 0
A19: 5.8" | B19: m | C19: 0 | E19: =SUM(C19*D19) -> 0
A20: 3.4" | B20: m | C20: 0 | E20: =SUM(C20*D20) -> 0
A21: 7.8" | B21: m | C21: 0 | E21: =SUM(C21*D21) -> 0
A22: 1" | B22: m | C22: 0 | E22: =SUM(C22*D22) -> 0
A23: 1" 1.8 | B23: m | C23: 0 | E23: =SUM(C23*D23) -> 0
A24: RACCORD
A25: coude FF 90°
A26: 1.4" | B26: m | C26: 0 | E26: =SUM(C26*D26) -> 0
A27: 3.8" | B27: m | C27: 0 | E27: =SUM(C27*D27) -> 0
A28: 1.2" | B28: m | C28: 0 | E28: =SUM(C28*D28) -> 0
A29: 5.8" | B29: m | C29: 0 | E29: =SUM(C29*D29) -> 0
A30: 3.4" | B30: m | C30: 0 | E30: =SUM(C30*D30) -> 0
A31: 7.8" | B31: m | C31: 0 | E31: =SUM(C31*D31) -> 0
A32: 1" | B32: m | C32: 0 | E32: =SUM(C32*D32) -> 0
A33: 1" 1.8 | B33: m | C33: 0 | E33: =SUM(C33*D33) -> 0
A34: manchon
A35: 1.4" | B35: m | C35: 0 | E35: =SUM(C35*D35) -> 0
A36: 3.8" | B36: m | C36: 0 | E36: =SUM(C36*D36) -> 0
A37: 1.2" | B37: m | C37: 0 | E37: =SUM(C37*D37) -> 0
A38: 5.8" | B38: m | C38: 0 | E38: =SUM(C38*D38) -> 0
A39: 3.4" | B39: m | C39: 0 | E39: =SUM(C39*D39) -> 0
A40: 7.8" | B40: m | C40: 0 | E40: =SUM(C40*D40) -> 0
A41: 1" | B41: m | C41: 0 | E41: =SUM(C41*D41) -> 0
A42: 1" 1.8 | B42: m | C42: 0 | E42: =SUM(C42*D42) -> 0
A43: DIVERS
A44: isolant
A45: armaflex 12 | B45: m | C45: 0 | E45: =SUM(C45*D45) -> 0
A46: armaflex 15 | B46: m | C46: 0 | E46: =SUM(C46*D46) -> 0
A47: armaflex 18 | B47: m | C47: 0 | E47: =SUM(C47*D47) -> 0
A48: armaflex 22 | B48: m | C48: 0 | E48: =SUM(C48*D48) -> 0
A49: armaflex 28 | B49: m | C49: 0 | E49: =SUM(C49*D49) -> 0
A50: armaflex 35 | B50: m | C50: 0 | E50: =SUM(C50*D50) -> 0
A51: armaflex 42 | B51: m | C51: 0 | E51: =SUM(C51*D51) -> 0

Sheet chauffage
A1: référence | B1: unité | C1: prix net | D1: quantitée | E1: prix | F1: TOTAL | G1: =SUM(E3:E81) -> 0
A2: CUIVRE
A3: 12 | C3: 0 | E3: =SUM(C3*D3) -> 0
A4: 14 | C4: 0 | E4: =SUM(C4*D4) -> 0
A5: 16 | C5: 0 | E5: =SUM(C5*D5) -> 0
A6: 18 | C6: 0 | E6: =SUM(C6*D6) -> 0
A7: 22 | C7: 0 | E7: =SUM(C7*D7) -> 0
A8: 28 | C8: 0 | E8: =SUM(C8*D8) -> 0
A9: 32 | C9: 0 | E9: =SUM(C9*D9) -> 0
A10: coude MF 90°
A11: 12 | E11: =SUM(C11*D11) -> 0
A12: 14 | E12: =SUM(C12*D12) -> 0
A13: 16 | E13: =SUM(C13*D13) -> 0
A14: 18 | E14: =SUM(C14*D14) -> 0
A15: 22 | E15: =SUM(C15*D15) -> 0
A16: 28 | E16: =SUM(C16*D16) -> 0
A17: 32 | E17: =SUM(C17*D17) -> 0
A18: coude FF 90°
A19: 12 | E19: =SUM(C19*D19) -> 0
A20: 14 | E20: =SUM(C20*D20) -> 0
A21: 16 | E21: =SUM(C21*D21) -> 0
A22: 18 | E22: =SUM(C22*D22) -> 0
A23: 22 | E23: =SUM(C23*D23) -> 0
A24: 28 | E24: =SUM(C24*D24) -> 0
A25: 32 | E25: =SUM(C25*D25) -> 0
A26: coude MF 45°
A27: 12 | E27: =SUM(C27*D27) -> 0
A28: 14 | E28: =SUM(C28*D28) -> 0
A29: 16 | E29: =SUM(C29*D29) -> 0
A30: 18 | E30: =SUM(C30*D30) -> 0
A31: 22 | E31: =SUM(C31*D31) -> 0
A32: 28 | E32: =SUM(C32*D32) -> 0
A33: 32 | E33: =SUM(C33*D33) -> 0
A34: coude FF 45°
A35: 12 | E35: =SUM(C35*D35) -> 0
A36: 14 | E36: =SUM(C36*D36) -> 0
A37: 16 | E37: =SUM(C37*D37) -> 0
A38: 18 | E38: =SUM(C38*D38) -> 0
A39: 22 | E39: =SUM(C39*D39) -> 0
A40: 28 | E40: =SUM(C40*D40) -> 0
A41: 32 | E41: =SUM(C41*D41) -> 0
A42: manchon
A43: 12 | E43: =SUM(C43*D43) -> 0
A44: 14 | E44: =SUM(C44*D44) -> 0
A45: 16 | E45: =SUM(C45*D45) -> 0
A46: 18 | E46: =SUM(C46*D46) -> 0
A47: 22 | E47: =SUM(C47*D47) -> 0
A48: 28 | E48: =SUM(C48*D48) -> 0
A49: 32 | E49: =SUM(C49*D49) -> 0
A50: té
A51: 12 | E51: =SUM(C51*D51) -> 0
A52: 14 | E52: =SUM(C52*D52) -> 0
A53: 16 | E53: =SUM(C53*D53) -> 0
A54: 18 | E54: =SUM(C54*D54) -> 0
A55: 22 | E55: =SUM(C55*D55) -> 0
A56: 28 | E56: =SUM(C56*D56) -> 0
A57: 32 | E57: =SUM(C57*D57) -> 0
A58: VANNE MF
A59: 12/17 | E59: =SUM(C59*D59) -> 0
A60: 15/21 | E60: =SUM(C60*D60) -> 0
A61: 20/27 | E61: =SUM(C61*D61) -> 0
A62: 26/34 | E62: =SUM(C62*D62) -> 0
A63: 33/42 | E63: =SUM(C63*D63) -> 0
A64: 40/49 | E64: =SUM(C64*D64) -> 0
A65: P.E.R ISOLES
A66: 12 | E66: =SUM(C66*D66) -> 0
A67: 16 | E67: =SUM(C67*D67) -> 0
A68: 20 | E68: =SUM(C68*D68) -> 0
A69: 25 | E69: =SUM(C69*D69) -> 0
A70: 32 | E70: =SUM(C70*D70) -> 0
A71: DIVERS
A72: pot à boue 26/34 | E72: =SUM(C72*D72) -> 0
A73: vase expension 18l | E73: =SUM(C73*D73) -> 0
A74: potence vase équipée | E74: =SUM(C74*D74) -> 0
A75: filtre à tamis 26/34 | E75: =SUM(C75*D75) -> 0
A76: soupape diff. 20/27 | E76: =SUM(C76*D76) -> 0
A77: purgeur auto | E77: =SUM(C77*D77) -> 0
A78: clapet york | E78: =SUM(C78*D78) -> 0
A79: glycol 20l | E79: =SUM(C79*D79) -> 0
E80: =SUM(C80*D80) -> 0
E81: =SUM(C81*D81) -> 0

Sheet mise en service
A2: référence | B2: prix net | C2: quantitée | D2: prix | E2: TOTAL | F2: =SUM(D5:D37) -> 0
A3: CLIMATISATION
A4: MONO-SPLIT
A5: 1 à 5 KW | B5: 0 | D5: =SUM(B5*C5) -> 0
A6: 5 à 15 KW | B6: 0 | D6: =SUM(B6*C6) -> 0
A7: + 15 KW | B7: 0 | D7: =SUM(B7*C7) -> 0
A8: BI-SPLITS
A9: 1 à 5 KW | B9: 0 | D9: =SUM(B9*C9) -> 0
A10: 5 à 10 KW | B10: 0 | D10: =SUM(B10*C10) -> 0
A11: + 10 KW | B11: 0 | D11: =SUM(B11*C11) -> 0
A12: TRI-SPLITS
A13: 5 à 10 KW | B13: 0 | D13: =SUM(B13*C13) -> 0
A14: + 10 KW | B14: 0 | D14: =SUM(B14*C14) -> 0
A15: QUADRI-SPLITS
A16: 5 à 10 KW | B16: 0 | D16: =SUM(B16*C16) -> 0
A17: + 10 KW | B17: 0 | D17: =SUM(B17*C17) -> 0
A18: 5 SPLITS
A19: 10 à 14 kw | B19: 0 | D19: =SUM(B19*C19) -> 0
A20: 6 SPLITS
A21: 10 à 14 kw | B21: 0 | D21: =SUM(B21*C21) -> 0
A22: P.A.C
A23: AIR/EAU
A24: 5 à 16 KW | B24: 0 | D24: =SUM(B24*C24) -> 0
A25: 16 à 50 KW | B25: 0 | D25: =SUM(B25*C25) -> 0
A26: AIR/EAU
A27: 5 à 16 KW | B27: 0 | D27: =SUM(B27*C27) -> 0
A28: 16 à 50 KW | B28: 0 | D28: =SUM(B28*C28) -> 0
A29: DRV
A30: GROUPE EXTERIEUR
A31: 1 à 6 cv | B31: 0 | D31: =SUM(B31*C31) -> 0
A32: 6 à 16 cv | B32: 0 | D32: =SUM(B32*C32) -> 0
A33: 16 à 45 cv | B33: 0 | D33: =SUM(B33*C33) -> 0
A34: UNITE INTERIEURE
A35: 1 à 3 cv | B35: 0 | D35: =SUM(B35*C35) -> 0
A36: 3 à 10 cv | B36: 0 | D36: =SUM(B36*C36) -> 0
A37: FORFAIT GESTION & RAPPORT | B37: 0 | D37: =SUM(B37*C37) -> 0

Sheet maintenance
A1: référence | B1: prix net | C1: quantitée | D1: prix | E1: TOTAL | F1: =SUM(D4:D36) -> 0
A2: CLIMATISATION
A3: MONO-SPLIT
A4: 1 à 5 KW | B4: 0 | D4: =SUM(B4*C4) -> 0
A5: 5 à 15 KW | B5: 0 | D5: =SUM(B5*C5) -> 0
A6: + 15 KW | B6: consulter
A7: BI-SPLITS
A8: 1 à 5 KW | B8: 0 | D8: =SUM(B8*C8) -> 0
A9: 5 à 10 KW | B9: 0 | D9: =SUM(B9*C9) -> 0
A10: + 10 KW | B10: consulter
A11: TRI-SPLITS
A12: 5 à 10 KW | B12: 0 | D12: =SUM(B12*C12) -> 0
A13: + 10 KW | B13: consulter
A14: QUADRI-SPLITS
A15: 5 à 10 KW | B15: 0 | D15: =SUM(B15*C15) -> 0
A16: + 10 KW | B16: consulter
A17: 5 SPLITS
A18: 10 à 14 kw | B18: 0 | D18: =SUM(B18*C18) -> 0
A19: 6 SPLITS
A20: 10 à 14 kw | B20: 0 | D20: =SUM(B20*C20) -> 0
A21: P.A.C
A22: AIR/EAU
A23: 5 à 16 KW | B23: 150 | D23: =SUM(B23*C23) -> 0
A24: 16 à 50 KW | B24: consulter
A25: AIR/EAU
A26: 5 à 16 KW | B26: 150 | D26: =SUM(B26*C26) -> 0
A27: 16 à 50 KW | B27: consulter
A28: DRV
A29: GROUPE EXTERIEUR
A30: 1 à 6 cv | B30: 140 | D30: =SUM(B30*C30) -> 0
A31: 6 à 16 cv | B31: 200 | D31: =SUM(B31*C31) -> 0
A32: 16 à 45 cv | B32: 350 | D32: =SUM(B32*C32) -> 0
A33: UNITE INTERIEURE
A34: 1 à 3 cv | B34: 30 | D34: =SUM(B34*C34) -> 0
A35: 3 à 10 cv | B35: 50 | D35: =SUM(B35*C35) -> 0
A36: FORFAIT GESTION & RAPPORT | B36: 30 | D36: =SUM(B36*C36) -> 0

Sheet TOTAL CHANTIER
A1: REFERENCE CHANTIER
A3: TOTAL CHANTIER
A5: TOTAL DES CONSOMMABLES PAR CATEGORIES
A6: Désignation | C6: prix de vente | D6: coef. de marge | E6: Total
A7: DIVERS | C7: =SUM(DIVERS!G1) -> 0 | D7: 0 | E7: =SUM(C7*D7) -> 0
A8: VMC | C8: =SUM(VMC!G1) -> 0 | D8: 0 | E8: =SUM(C8*D8) -> 0
A9: SUPPORT FIX. PRODUIT | C9: =SUM('support fixation produit'!G1) -> 0 | D9: 0 | E9: =SUM(C9*D9) -> 0
A10: EVACUATION CONDENSAT | C10: =SUM('evacuation condensat'!G1) -> 0 | D10: 0 | E10: =SUM(C10*D10) -> 0
A11: GAZ FLUIDE | C11: =SUM('gaz fluide'!G1) -> 0 | D11: 0 | E11: =SUM(C11*D11) -> 0
A12: ELECTRICITE | C12: =SUM(électricité!G1) -> 0 | D12: 0 | E12: =SUM(C12*D12) -> 0
A13: FROID | C13: =SUM(froid!G1) -> 0 | D13: 0 | E13: =SUM(C13*D13) -> 0
A14: CHAUFFAGE | C14: =SUM(chauffage!G1) -> 0 | D14: 0 | E14: =SUM(C14*D14) -> 0
A16: FRAIS DIVERS
A17: Désignation | C17: prix de vente | D17: quantitée | E17: Total
A18: Main d'œuvre/heure/personne | C18: 0 | E18: =SUM(C18*D18) -> 0
A19: Main d'œuvre/jour/personne | C19: 0 | E19: =SUM(C19*D19) -> 0
A20: Déplacement | C20: 0 | E20: =SUM(C20*D20) -> 0
A21: Repas | C21: 0 | E21: =SUM(C21*D21) -> 0
A22: Frais de gestion | E22: =SUM(C22*D22) -> 0
A23: Mise en service | E23: =SUM(C23*D23) -> 0
A24: Maintenance | E24: =SUM(maintenance!F1) -> 0
A26: TOTAL HT | C26: =SUM(E18:E23,E7:E14) -> 0
A27: T.V.A | C27: 19.6
A28: MONTANT T.V.A | C28: =SUM(C26*C27%) -> 0
A29: TOTAL TTC | C29: =SUM(C26+C28) -> 0

Sheet RECAP
A1: référence | B1: prix net | C1: quantitée | D1: prix

Sheet PROG
A2: 0.07
A3: 0.055
A4: 0.196
