Workbook
Name WeekDay: {1,2,3,4,5,6,7}
Name WeekDay: {1,2,3,4,5,6,7}
Name WeekDay: {1,2,3,4,5,6,7}
Name weekDayNames: {"Di","Lu","Ma","Me","Je","Ve","Sa"}
Name weekDayNames: {"Di","Lu","Ma","Me","Je","Ve","Sa"}
Name weekDayNames: {"Di","Lu","Ma","Me","Je","Ve","Sa"}
Name WeekNo: {1;2;3;4;5;6}
Name WeekNo: {1;2;3;4;5;6}
Name WeekNo: {1;2;3;4;5;6}

Sheet M
A1: code | B1: matiere | C1: instructeur | D1: Credit horaire | E1: code | F1: Code second | H1: Credit horaire pour code secondaire | I1: contenu code secondaire
A3: 1 | B3: Matiere 1 | C3: aabb | D3: 24 | E3: =IF(ISBLANK(A3),E2,A3) -> 1 | F3: 1 | G3: =CONCATENATE(E3,"-",F3) -> 1-1 | H3: 1 | I3: jkhkjhk
E4: =IF(ISBLANK(A4),E3,A4) -> 1 | F4: 2 | G4: =CONCATENATE(E4,"-",F4) -> 1-2 | H4: 2 | I4: gfhgfhfghfgfy
E5: =IF(ISBLANK(A5),E4,A5) -> 1 | F5: 3 | G5: =CONCATENATE(E5,"-",F5) -> 1-3 | H5: 3 | I5: gjgjhghjghghjghj
E6: =IF(ISBLANK(A6),E5,A6) -> 1 | F6: 4 | G6: =CONCATENATE(E6,"-",F6) -> 1-4 | H6: 4 | I6: kjhkjhjklhjhjhl
E7: =IF(ISBLANK(A7),E6,A7) -> 1 | F7: 5 | G7: =CONCATENATE(E7,"-",F7) -> 1-5 | H7: 5 | I7: kjljlkjlkj
E8: =IF(ISBLANK(A8),E7,A8) -> 1 | F8: 6 | G8: =CONCATENATE(E8,"-",F8) -> 1-6 | H8: 2 | I8: kljlkjkl
E9: =IF(ISBLANK(A9),E8,A9) -> 1 | F9: 7 | G9: =CONCATENATE(E9,"-",F9) -> 1-7 | H9: 1 | I9: ljlmmlkm
E10: =IF(ISBLANK(A10),E9,A10) -> 1 | F10: 8 | G10: =CONCATENATE(E10,"-",F10) -> 1-8 | H10: 1 | I10: hkjh
E11: =IF(ISBLANK(A11),E10,A11) -> 1 | F11: 9 | G11: =CONCATENATE(E11,"-",F11) -> 1-9 | H11: 3 | I11: jkhkjhk
E12: =IF(ISBLANK(A12),E11,A12) -> 1 | F12: 10 | G12: =CONCATENATE(E12,"-",F12) -> 1-10 | H12: 1 | I12: gfhgfhfghfgfy
E13: =IF(ISBLANK(A13),E12,A13) -> 1 | F13: 11 | G13: =CONCATENATE(E13,"-",F13) -> 1-11 | H13: 1 | I13: gjgjhghjghghjghj
A14: 2 | B14: Matiere 2 | C14: zerrrr | D14: 17 | E14: =IF(ISBLANK(A14),E13,A14) -> 2 | F14: 1 | G14: =CONCATENATE(E14,"-",F14) -> 2-1 | H14: 2 | I14: kjhkjhjklhjhjhl
E15: =IF(ISBLANK(A15),E14,A15) -> 2 | F15: 2 | G15: =CONCATENATE(E15,"-",F15) -> 2-2 | H15: 3 | I15: kjljlkjlkj
E16: =IF(ISBLANK(A16),E15,A16) -> 2 | F16: 3 | G16: =CONCATENATE(E16,"-",F16) -> 2-3 | H16: 4 | I16: kljlkjkl
E17: =IF(ISBLANK(A17),E16,A17) -> 2 | F17: 4 | G17: =CONCATENATE(E17,"-",F17) -> 2-4 | H17: 5 | I17: ljlmmlkm
E18: =IF(ISBLANK(A18),E17,A18) -> 2 | F18: 5 | G18: =CONCATENATE(E18,"-",F18) -> 2-5 | H18: 2 | I18: hkjh
E19: =IF(ISBLANK(A19),E18,A19) -> 2 | F19: 6 | G19: =CONCATENATE(E19,"-",F19) -> 2-6 | H19: 1 | I19: jkhkjhk
A20: 3 | B20: matiere3 | C20: ytyutyu | D20: 9 | E20: =IF(ISBLANK(A20),#REF!,A20) -> 3 | F20: 1 | G20: =CONCATENATE(E20,"-",F20) -> 3-1 | H20: 2 | I20: gfhgfhfghfgfy
E21: =IF(ISBLANK(A21),E20,A21) -> 3 | F21: 2 | G21: =CONCATENATE(E21,"-",F21) -> 3-2 | H21: 3 | I21: gjgjhghjghghjghj
E22: =IF(ISBLANK(A22),E21,A22) -> 3 | F22: 3 | G22: =CONCATENATE(E22,"-",F22) -> 3-3 | H22: 4 | I22: kjhkjhjklhjhjhl
A23: 4 | B23: matiere 4 | C23: kjhkjhkjh | D23: 11 | E23: =IF(ISBLANK(A23),#REF!,A23) -> 4 | F23: 1 | G23: =CONCATENATE(E23,"-",F23) -> 4-1 | H23: 5 | I23: kjljlkjlkj
E24: =IF(ISBLANK(A24),E23,A24) -> 4 | F24: 2 | G24: =CONCATENATE(E24,"-",F24) -> 4-2 | H24: 2 | I24: kljlkjkl
E25: =IF(ISBLANK(A25),E24,A25) -> 4 | F25: 3 | G25: =CONCATENATE(E25,"-",F25) -> 4-3 | H25: 1 | I25: ljlmmlkm
E26: =IF(ISBLANK(A26),E25,A26) -> 4 | F26: 4 | G26: =CONCATENATE(E26,"-",F26) -> 4-4 | H26: 3 | I26: hkjh
A27: 5 | B27: matiere 6 | C27: hjkhkhk | D27: 27 | E27: =IF(ISBLANK(A27),E26,A27) -> 5 | F27: 1 | G27: =CONCATENATE(E27,"-",F27) -> 5-1 | H27: 4 | I27: jkhkjhk
E28: =IF(ISBLANK(A28),E27,A28) -> 5 | F28: 2 | G28: =CONCATENATE(E28,"-",F28) -> 5-2 | H28: 5 | I28: gfhgfhfghfgfy
E29: =IF(ISBLANK(A29),E28,A29) -> 5 | F29: 3 | G29: =CONCATENATE(E29,"-",F29) -> 5-3 | H29: 2 | I29: gjgjhghjghghjghj
E30: =IF(ISBLANK(A30),E29,A30) -> 5 | F30: 4 | G30: =CONCATENATE(E30,"-",F30) -> 5-4 | H30: 1 | I30: kjhkjhjklhjhjhl
E31: =IF(ISBLANK(A31),E30,A31) -> 5 | F31: 5 | G31: =CONCATENATE(E31,"-",F31) -> 5-5 | H31: 3 | I31: kjljlkjlkj
E32: =IF(ISBLANK(A32),E31,A32) -> 5 | F32: 6 | G32: =CONCATENATE(E32,"-",F32) -> 5-6 | H32: 4 | I32: kljlkjkl
E33: =IF(ISBLANK(A33),E32,A33) -> 5 | F33: 7 | G33: =CONCATENATE(E33,"-",F33) -> 5-7 | H33: 5 | I33: ljlmmlkm
E34: =IF(ISBLANK(A34),E33,A34) -> 5 | F34: 8 | G34: =CONCATENATE(E34,"-",F34) -> 5-8 | H34: 2 | I34: hkjh
E35: =IF(ISBLANK(A35),E34,A35) -> 5 | F35: 9 | G35: =CONCATENATE(E35,"-",F35) -> 5-9 | H35: 1 | I35: ggggghjghjgggj
A36: 6 | B36: matiere 7
A45: 7 | B45: matiere 8
A54: 8 | B54: matiere 9
A63: 9 | B63: matiere 10
A72: 10 | B72: matiere 11

Sheet service
B1: =MAX(D3:D25) -> 40932.375 | D1: au | E1: =MIN(D3:D25) -> 40910.375 | G1: ,,,,,,,,,,,,,,,,,,,,,,,,,,,,,,
A2: Non et prenom | B2: Debut | E2: Fin | H2: Cause de l’indisponibilité | J2: date | K2: heure | M2: non | N2: si vrai Cause de l’indisponibilité
A3: aaaaaa | B3: 40910 | C3: 0.375 | D3: =B3+C3 -> 40910.375 | E3: 40910 | F3: 0.625 | G3: =E3+F3 -> 40910.625 | H3: mission | J3: 40910 | K3: 0.33333333 | L3: =J3+K3 -> 40910.333 | M3: josef
A4: bbbb | B4: 40910 | C4: 0.375 | D4: =B4+C4 -> 40910.375 | E4: 40910 | F4: 1.375 | G4: =E4+F4 -> 40911.375 | H4: permission | J4: 40911 | K4: 0.375 | L4: =J4+K4 -> 40911.375 | M4: jhkjhk
A5: hggjgjg | B5: 40910 | C5: 0.375 | D5: =B5+C5 -> 40910.375 | E5: 40912 | F5: 2.375 | G5: =E5+F5 -> 40914.375 | H5: service | J5: 40912 | K5: 0.41666667 | L5: =J5+K5 -> 40912.417 | M5: jljlj
A6: khkhkh | B6: 40913 | C6: 1.375 | D6: =B6+C6 -> 40914.375 | E6: 40913 | F6: 3.375 | G6: =E6+F6 -> 40916.375 | H6: permission | J6: 40913 | K6: 0.45833333 | L6: =J6+K6 -> 40913.458 | M6: mljkmlkm
A7: hkjhkhkh | B7: 40914 | C7: 2.375 | D7: =B7+C7 -> 40916.375 | E7: 40914 | F7: 4.375 | G7: =E7+F7 -> 40918.375 | H7: service | J7: 40914 | K7: 0.5 | L7: =J7+K7 -> 40914.5 | M7: lkmkm
A8: lkklhkhk | B8: 40915 | C8: 3.375 | D8: =B8+C8 -> 40918.375 | E8: 40915 | F8: 5.375 | G8: =E8+F8 -> 40920.375 | H8: permission | J8: 40915 | K8: 0.54166667 | L8: =J8+K8 -> 40915.542 | M8: lkmkm
A9: d | B9: 40916 | C9: 4.375 | D9: =B9+C9 -> 40920.375 | E9: 40916 | F9: 6.375 | G9: =E9+F9 -> 40922.375 | H9: service | J9: 40916 | K9: 0.58333333 | L9: =J9+K9 -> 40916.583 | M9: mlkmkm
A10: e | B10: 40917 | C10: 5.375 | D10: =B10+C10 -> 40922.375 | E10: 40917 | F10: 7.375 | G10: =E10+F10 -> 40924.375 | H10: mission | J10: 40917 | K10: 0.625 | L10: =J10+K10 -> 40917.625 | M10: mkmlkml
A11: e | B11: 40917 | C11: 0.375 | D11: =B11+C11 -> 40917.375 | E11: 40918 | F11: 8.375 | G11: =E11+F11 -> 40926.375 | H11: permission | J11: 40918 | K11: 0.66666667 | L11: =J11+K11 -> 40918.667 | M11: gfhfhg
A12: f | B12: 40919 | C12: 0.375 | D12: =B12+C12 -> 40919.375 | E12: 40919 | F12: 9.375 | G12: =E12+F12 -> 40928.375 | H12: mission
A13: g | B13: 40920 | C13: 0.375 | D13: =B13+C13 -> 40920.375 | E13: 40920 | F13: 10.375 | G13: =E13+F13 -> 40930.375 | H13: permission
A14: h | B14: 40921 | C14: 9.375 | D14: =B14+C14 -> 40930.375 | E14: 40921 | F14: 11.375 | G14: =E14+F14 -> 40932.375 | H14: service
A15: i | B15: 40922 | C15: 0.375 | D15: =B15+C15 -> 40922.375 | E15: 40922 | F15: 12.375 | G15: =E15+F15 -> 40934.375 | H15: permission
A16: j | B16: 40923 | C16: 0.375 | D16: =B16+C16 -> 40923.375 | E16: 40923 | F16: 13.375 | G16: =E16+F16 -> 40936.375 | H16: service | N16: je dois chercher si il ya des valeurs dans la meme ligne : - inferieur a " L " dans le colonne D - superieur a ' L" dans le colonne G - valeur egale a M2 dans le colonne H avec indication cause de l’indisponibilité | O16: probleme
A17: k | B17: 40924 | C17: 0.375 | D17: =B17+C17 -> 40924.375 | E17: 40924 | F17: 14.375 | G17: =E17+F17 -> 40938.375 | H17: mission
A18: l | B18: 40925 | C18: 0.375 | D18: =B18+C18 -> 40925.375 | E18: 40925 | F18: 15.375 | G18: =E18+F18 -> 40940.375 | H18: permission
A19: m | B19: 40926 | C19: 0.375 | D19: =B19+C19 -> 40926.375 | E19: 40926 | F19: 16.375 | G19: =E19+F19 -> 40942.375 | H19: mission
A20: n | B20: 40926 | C20: 0.375 | D20: =B20+C20 -> 40926.375 | E20: 40927 | F20: 17.375 | G20: =E20+F20 -> 40944.375 | H20: service
A21: o | B21: 40928 | C21: =C20 -> 0.375 | D21: =B21+C21 -> 40928.375 | E21: 40928 | F21: 18.375 | G21: =E21+F21 -> 40946.375 | H21: permission
A22: p | B22: 40929 | C22: =C21 -> 0.375 | D22: =B22+C22 -> 40929.375 | E22: 40929 | F22: 19.375 | G22: =E22+F22 -> 40948.375 | H22: service
A23: q | B23: 40930 | C23: =C22 -> 0.375 | D23: =B23+C23 -> 40930.375 | E23: 40930 | F23: 20.375 | G23: =E23+F23 -> 40950.375 | H23: mission
A24: r | B24: 40931 | C24: =C23 -> 0.375 | D24: =B24+C24 -> 40931.375 | E24: 40931 | F24: 21.375 | G24: =E24+F24 -> 40952.375 | H24: permission
A25: a | B25: 40932 | C25: 0.375 | D25: =B25+C25 -> 40932.375 | E25: 40932 | F25: 22.375 | G25: =E25+F25 -> 40954.375 | H25: mission

Sheet class1
A1: 40777
S3: TRUE | U3: #REF!
H4: 1 | I4: 2 | J4: 3 | K4: 4 | L4: 5 | M4: 6 | N4: 7 | O4: 8 | P4: 9 | Q4: 10 | R4: 11 | S4: 12 | T4: 13 | U4: 14 | V4: =ISBLANK(X4) -> TRUE
B5: #nom ? | I5: jour ferier | J5: Code matiere | S5: Proposition calculé | T5: Matiere | U5: Instructeur | V5: Cause de l’indisponibilité | X5: Proposition
J6: code primaire | K6: Total heure | N6: Code secondaire | P6: Total heure | V6: Occupé | W6: mission
A7: 1 | B7: =A1 -> 40777 | C7: =CHOOSE(WEEKDAY(B7),"الأحد","الإثنين","الثلاثاء","الإربعاء","الخميس","الجمعة","السبت") -> الإثنين | D7: =B7 -> 40777 | E7: 0.33333333 | F7: 0.36805556 | H7: =B7+F7 -> 40777.368 | I7: =IF(ISERROR(VLOOKUP(B7,#REF!,2,0)),"",(VLOOKUP(B7,#REF!,2,0))) | J7: 1 | K7: =COUNTIF(class1!$J$7:J7,J7) -> 1 | L7: / | M7: =VLOOKUP(J7,M!$A$3:$I$35,4,0) -> 24 | N7: 1 | O7: =CONCATENATE(J7,"-",N7) -> 1-1 | P7: =COUNTIF(class1!O$7:$O7,O7) -> 1 | Q7: / | R7: =VLOOKUP(O7,M!G3:I36,2,0) -> 1 | T7: =VLOOKUP(J7,M!$A$3:$I$35,2,0) -> Matiere 1 | U7: =VLOOKUP(J7,M!$A$3:$I$35,3,0) -> aabb | V7: je dois chercher si le prof na pas cour avec d'autre class le meme jour : feuille "prof" | W7: je dois chercher si il ya des feuille "service" avec des valeurs dans la meme ligne : - inferieur a " L " dans le colonne D - superieur a ' L" dans le colonne G - valeur egale a M2 dans le colonne H avec indication cause de l’indisponibilité
D8: =B7 -> 40777 | E8: 0.375 | F8: 0.40972222 | H8: =H7+F8-F7 -> 40777.41 | I8: =IF(ISERROR(VLOOKUP(B8,#REF!,2,0)),"",(VLOOKUP(B8,#REF!,2,0))) | J8: 1 | K8: =COUNTIF(class1!$J$7:J8,J8) -> 2 | L8: / | M8: =VLOOKUP(J8,M!$A$3:$I$35,4,0) -> 24 | N8: 2 | O8: =CONCATENATE(J8,"-",N8) -> 1-2 | P8: =COUNTIF(class1!O$7:$O8,O8) -> 1 | Q8: / | R8: =VLOOKUP(O8,M!G4:I37,2,0) -> 2 | T8: =VLOOKUP(J8,M!$A$3:$I$35,2,0) -> Matiere 1 | U8: =VLOOKUP(J8,M!$A$3:$I$35,3,0) -> aabb
D9: =B7 -> 40777 | E9: 0.42361111 | F9: 0.45833333 | H9: =H8+F9-F8 -> 40777.458 | I9: =IF(ISERROR(VLOOKUP(B9,#REF!,2,0)),"",(VLOOKUP(B9,#REF!,2,0))) | J9: 2 | K9: =COUNTIF(class1!$J$7:J9,J9) -> 1 | L9: / | M9: =VLOOKUP(J9,M!$A$3:$I$35,4,0) -> 17 | N9: 2 | O9: =CONCATENATE(J9,"-",N9) -> 2-2 | P9: =COUNTIF(class1!O$7:$O9,O9) -> 1 | Q9: / | R9: =VLOOKUP(O9,M!G5:I38,2,0) -> 3 | T9: =VLOOKUP(J9,M!$A$3:$I$35,2,0) -> Matiere 2 | U9: =VLOOKUP(J9,M!$A$3:$I$35,3,0) -> zerrrr
D10: =B7 -> 40777 | E10: 0.46527778 | F10: 0.5 | H10: =H9+F10-F9 -> 40777.5 | I10: =IF(ISERROR(VLOOKUP(B10,#REF!,2,0)),"",(VLOOKUP(B10,#REF!,2,0))) | J10: 2 | K10: =COUNTIF(class1!$J$7:J10,J10) -> 2 | L10: / | M10: =VLOOKUP(J10,M!$A$3:$I$35,4,0) -> 17 | N10: 2 | O10: =CONCATENATE(J10,"-",N10) -> 2-2 | P10: =COUNTIF(class1!O$7:$O10,O10) -> 2 | Q10: / | R10: =VLOOKUP(O10,M!G6:I39,2,0) -> 3 | T10: =VLOOKUP(J10,M!$A$3:$I$35,2,0) -> Matiere 2 | U10: =VLOOKUP(J10,M!$A$3:$I$35,3,0) -> zerrrr
D11: =B7 -> 40777 | E11: 0.58333333 | F11: 0.61805556 | H11: =H10+F11-F10 -> 40777.618 | I11: =IF(ISERROR(VLOOKUP(B11,#REF!,2,0)),"",(VLOOKUP(B11,#REF!,2,0))) | J11: 4 | K11: =COUNTIF(class1!$J$7:J11,J11) -> 1 | L11: / | M11: =VLOOKUP(J11,M!$A$3:$I$35,4,0) -> 11 | N11: 2 | O11: =CONCATENATE(J11,"-",N11) -> 4-2 | P11: =COUNTIF(class1!O$7:$O11,O11) -> 1 | Q11: / | R11: =VLOOKUP(O11,M!G7:I40,2,0) -> 2 | T11: =VLOOKUP(J11,M!$A$3:$I$35,2,0) -> matiere 4 | U11: =VLOOKUP(J11,M!$A$3:$I$35,3,0) -> kjhkjhkjh
D12: =B7 -> 40777 | E12: 0.625 | F12: 0.65972222 | H12: =H11+F12-F11 -> 40777.66 | I12: =IF(ISERROR(VLOOKUP(B12,#REF!,2,0)),"",(VLOOKUP(B12,#REF!,2,0))) | J12: 4 | K12: =COUNTIF(class1!$J$7:J12,J12) -> 2 | L12: / | M12: =VLOOKUP(J12,M!$A$3:$I$35,4,0) -> 11 | N12: 2 | O12: =CONCATENATE(J12,"-",N12) -> 4-2 | P12: =COUNTIF(class1!O$7:$O12,O12) -> 2 | Q12: / | R12: =VLOOKUP(O12,M!G8:I41,2,0) -> 2 | T12: =VLOOKUP(J12,M!$A$3:$I$35,2,0) -> matiere 4 | U12: =VLOOKUP(J12,M!$A$3:$I$35,3,0) -> kjhkjhkjh
D13: =B7 -> 40777 | E13: 0.67361111 | F13: 0.70833333 | H13: =H12+F13-F12 -> 40777.708 | I13: =IF(ISERROR(VLOOKUP(B13,#REF!,2,0)),"",(VLOOKUP(B13,#REF!,2,0))) | J13: 5 | K13: =COUNTIF(class1!$J$7:J13,J13) -> 1 | L13: / | M13: =VLOOKUP(J13,M!$A$3:$I$35,4,0) -> 27 | N13: 2 | O13: =CONCATENATE(J13,"-",N13) -> 5-2 | P13: =COUNTIF(class1!O$7:$O13,O13) -> 1 | Q13: / | R13: =VLOOKUP(O13,M!G9:I42,2,0) -> 5 | T13: =VLOOKUP(J13,M!$A$3:$I$35,2,0) -> matiere 6 | U13: =VLOOKUP(J13,M!$A$3:$I$35,3,0) -> hjkhkhk
A14: 2 | B14: =B7+1 -> 40778 | C14: =CHOOSE(WEEKDAY(B14),"الأحد","الإثنين","الثلاثاء","الإربعاء","الخميس","الجمعة","السبت") -> الثلاثاء | D14: =B14 -> 40778 | E14: 0.33333333 | F14: 0.36805556 | H14: =IF(ISBLANK(B14),H12+F13-F12,B14+F14) -> 40778.368 | I14: =IF(ISERROR(VLOOKUP(B14,#REF!,2,0)),"",(VLOOKUP(B14,#REF!,2,0))) | J14: 5 | K14: =COUNTIF(class1!$J$7:J14,J14) -> 2 | L14: / | M14: =VLOOKUP(J14,M!$A$3:$I$35,4,0) -> 27 | N14: 8 | O14: =CONCATENATE(J14,"-",N14) -> 5-8 | P14: =COUNTIF(class1!O$7:$O14,O14) -> 1 | Q14: / | R14: =VLOOKUP(O14,M!G10:I43,2,0) -> 2 | T14: =VLOOKUP(J14,M!$A$3:$I$35,2,0) -> matiere 6 | U14: =VLOOKUP(J14,M!$A$3:$I$35,3,0) -> hjkhkhk
D15: =B14 -> 40778 | E15: 0.375 | F15: 0.40972222 | H15: =H14+F15-F14 -> 40778.41 | I15: =IF(ISERROR(VLOOKUP(B15,#REF!,2,0)),"",(VLOOKUP(B15,#REF!,2,0))) | J15: 3 | K15: =COUNTIF(class1!$J$7:J15,J15) -> 1 | L15: / | M15: =VLOOKUP(J15,M!$A$3:$I$35,4,0) -> 9 | N15: 9 | O15: =CONCATENATE(J15,"-",N15) -> 3-9 | P15: =COUNTIF(class1!O$7:$O15,O15) -> 1 | Q15: / | R15: =VLOOKUP(O15,M!G11:I44,2,0) -> #N/A | T15: =VLOOKUP(J15,M!$A$3:$I$35,2,0) -> matiere3 | U15: =VLOOKUP(J15,M!$A$3:$I$35,3,0) -> ytyutyu
D16: =B14 -> 40778 | E16: 0.42361111 | F16: 0.45833333 | H16: =H15+F16-F15 -> 40778.458 | I16: =IF(ISERROR(VLOOKUP(B16,#REF!,2,0)),"",(VLOOKUP(B16,#REF!,2,0))) | J16: 3 | K16: =COUNTIF(class1!$J$7:J16,J16) -> 2 | L16: / | M16: =VLOOKUP(J16,M!$A$3:$I$35,4,0) -> 9 | N16: 10 | O16: =CONCATENATE(J16,"-",N16) -> 3-10 | P16: =COUNTIF(class1!O$7:$O16,O16) -> 1 | Q16: / | R16: =VLOOKUP(O16,M!G12:I45,2,0) -> #N/A | T16: =VLOOKUP(J16,M!$A$3:$I$35,2,0) -> matiere3 | U16: =VLOOKUP(J16,M!$A$3:$I$35,3,0) -> ytyutyu
D17: =B14 -> 40778 | E17: 0.46527778 | F17: 0.5 | H17: =H16+F17-F16 -> 40778.5 | I17: =IF(ISERROR(VLOOKUP(B17,#REF!,2,0)),"",(VLOOKUP(B17,#REF!,2,0))) | J17: 3 | K17: =COUNTIF(class1!$J$7:J17,J17) -> 3 | L17: / | M17: =VLOOKUP(J17,M!$A$3:$I$35,4,0) -> 9 | N17: 11 | O17: =CONCATENATE(J17,"-",N17) -> 3-11 | P17: =COUNTIF(class1!O$7:$O17,O17) -> 1 | Q17: / | R17: =VLOOKUP(O17,M!G13:I46,2,0) -> #N/A | T17: =VLOOKUP(J17,M!$A$3:$I$35,2,0) -> matiere3 | U17: =VLOOKUP(J17,M!$A$3:$I$35,3,0) -> ytyutyu
D18: =B14 -> 40778 | E18: 0.58333333 | F18: 0.61805556 | H18: =H17+F18-F17 -> 40778.618 | I18: =IF(ISERROR(VLOOKUP(B18,#REF!,2,0)),"",(VLOOKUP(B18,#REF!,2,0))) | J18: 3 | K18: =COUNTIF(class1!$J$7:J18,J18) -> 4 | L18: / | M18: =VLOOKUP(J18,M!$A$3:$I$35,4,0) -> 9 | N18: 12 | O18: =CONCATENATE(J18,"-",N18) -> 3-12 | P18: =COUNTIF(class1!O$7:$O18,O18) -> 1 | Q18: / | R18: =VLOOKUP(O18,M!G14:I47,2,0) -> #N/A | T18: =VLOOKUP(J18,M!$A$3:$I$35,2,0) -> matiere3 | U18: =VLOOKUP(J18,M!$A$3:$I$35,3,0) -> ytyutyu
D19: =B14 -> 40778 | E19: 0.625 | F19: 0.65972222 | H19: =H18+F19-F18 -> 40778.66 | I19: =IF(ISERROR(VLOOKUP(B19,#REF!,2,0)),"",(VLOOKUP(B19,#REF!,2,0))) | J19: 5 | K19: =COUNTIF(class1!$J$7:J19,J19) -> 3 | L19: / | M19: =VLOOKUP(J19,M!$A$3:$I$35,4,0) -> 27 | N19: 13 | O19: =CONCATENATE(J19,"-",N19) -> 5-13 | P19: =COUNTIF(class1!O$7:$O19,O19) -> 1 | Q19: / | R19: =VLOOKUP(O19,M!G15:I48,2,0) -> #N/A | T19: =VLOOKUP(J19,M!$A$3:$I$35,2,0) -> matiere 6 | U19: =VLOOKUP(J19,M!$A$3:$I$35,3,0) -> hjkhkhk
D20: =B14 -> 40778 | E20: 0.67361111 | F20: 0.70833333 | H20: =H19+F20-F19 -> 40778.708 | I20: =IF(ISERROR(VLOOKUP(B20,#REF!,2,0)),"",(VLOOKUP(B20,#REF!,2,0))) | J20: 5 | K20: =COUNTIF(class1!$J$7:J20,J20) -> 4 | L20: / | M20: =VLOOKUP(J20,M!$A$3:$I$35,4,0) -> 27 | N20: 14 | O20: =CONCATENATE(J20,"-",N20) -> 5-14 | P20: =COUNTIF(class1!O$7:$O20,O20) -> 1 | Q20: / | R20: =VLOOKUP(O20,M!G16:I49,2,0) -> #N/A | T20: =VLOOKUP(J20,M!$A$3:$I$35,2,0) -> matiere 6 | U20: =VLOOKUP(J20,M!$A$3:$I$35,3,0) -> hjkhkhk
A21: 3 | B21: =B14+1 -> 40779 | C21: =CHOOSE(WEEKDAY(B21),"الأحد","الإثنين","الثلاثاء","الإربعاء","الخميس","الجمعة","السبت") -> الإربعاء | D21: =B21 -> 40779 | E21: 0.33333333 | F21: 0.36805556 | H21: =IF(ISBLANK(B21),H19+F20-F19,B21+F21) -> 40779.368 | I21: =IF(ISERROR(VLOOKUP(B21,#REF!,2,0)),"",(VLOOKUP(B21,#REF!,2,0))) | J21: 5 | K21: =COUNTIF(class1!$J$7:J21,J21) -> 5 | L21: / | M21: =VLOOKUP(J21,M!$A$3:$I$35,4,0) -> 27 | N21: 15 | O21: =CONCATENATE(J21,"-",N21) -> 5-15 | P21: =COUNTIF(class1!O$7:$O21,O21) -> 1 | Q21: / | R21: =VLOOKUP(O21,M!G17:I50,2,0) -> #N/A | T21: =VLOOKUP(J21,M!$A$3:$I$35,2,0) -> matiere 6 | U21: =VLOOKUP(J21,M!$A$3:$I$35,3,0) -> hjkhkhk
D22: =B21 -> 40779 | E22: 0.375 | F22: 0.40972222 | H22: =H21+F22-F21 -> 40779.41 | I22: =IF(ISERROR(VLOOKUP(B22,#REF!,2,0)),"",(VLOOKUP(B22,#REF!,2,0))) | J22: 1 | K22: =COUNTIF(class1!$J$7:J22,J22) -> 3 | L22: / | M22: =VLOOKUP(J22,M!$A$3:$I$35,4,0) -> 24 | N22: 16 | O22: =CONCATENATE(J22,"-",N22) -> 1-16 | P22: =COUNTIF(class1!O$7:$O22,O22) -> 1 | Q22: / | R22: =VLOOKUP(O22,M!G18:I51,2,0) -> #N/A | T22: =VLOOKUP(J22,M!$A$3:$I$35,2,0) -> Matiere 1 | U22: =VLOOKUP(J22,M!$A$3:$I$35,3,0) -> aabb
D23: =B21 -> 40779 | E23: 0.42361111 | F23: 0.45833333 | H23: =H22+F23-F22 -> 40779.458 | I23: =IF(ISERROR(VLOOKUP(B23,#REF!,2,0)),"",(VLOOKUP(B23,#REF!,2,0))) | J23: 1 | K23: =COUNTIF(class1!$J$7:J23,J23) -> 4 | L23: / | M23: =VLOOKUP(J23,M!$A$3:$I$35,4,0) -> 24 | N23: 17 | O23: =CONCATENATE(J23,"-",N23) -> 1-17 | P23: =COUNTIF(class1!O$7:$O23,O23) -> 1 | Q23: / | R23: =VLOOKUP(O23,M!G19:I52,2,0) -> #N/A | T23: =VLOOKUP(J23,M!$A$3:$I$35,2,0) -> Matiere 1 | U23: =VLOOKUP(J23,M!$A$3:$I$35,3,0) -> aabb
D24: =B21 -> 40779 | E24: 0.46527778 | F24: 0.5 | H24: =H23+F24-F23 -> 40779.5 | I24: =IF(ISERROR(VLOOKUP(B24,#REF!,2,0)),"",(VLOOKUP(B24,#REF!,2,0))) | J24: 1 | K24: =COUNTIF(class1!$J$7:J24,J24) -> 5 | L24: / | M24: =VLOOKUP(J24,M!$A$3:$I$35,4,0) -> 24 | N24: 18 | O24: =CONCATENATE(J24,"-",N24) -> 1-18 | P24: =COUNTIF(class1!O$7:$O24,O24) -> 1 | Q24: / | R24: =VLOOKUP(O24,M!G20:I53,2,0) -> #N/A | T24: =VLOOKUP(J24,M!$A$3:$I$35,2,0) -> Matiere 1 | U24: =VLOOKUP(J24,M!$A$3:$I$35,3,0) -> aabb
D25: =B21 -> 40779 | E25: 0.58333333 | F25: 0.61805556 | H25: =H24+F25-F24 -> 40779.618 | I25: =IF(ISERROR(VLOOKUP(B25,#REF!,2,0)),"",(VLOOKUP(B25,#REF!,2,0))) | J25: 1 | K25: =COUNTIF(class1!$J$7:J25,J25) -> 6 | L25: / | M25: =VLOOKUP(J25,M!$A$3:$I$35,4,0) -> 24 | N25: 19 | O25: =CONCATENATE(J25,"-",N25) -> 1-19 | P25: =COUNTIF(class1!O$7:$O25,O25) -> 1 | Q25: / | R25: =VLOOKUP(O25,M!G21:I54,2,0) -> #N/A | T25: =VLOOKUP(J25,M!$A$3:$I$35,2,0) -> Matiere 1 | U25: =VLOOKUP(J25,M!$A$3:$I$35,3,0) -> aabb
D26: =B21 -> 40779 | E26: 0.625 | F26: 0.65972222 | H26: =H25+F26-F25 -> 40779.66 | I26: =IF(ISERROR(VLOOKUP(B26,#REF!,2,0)),"",(VLOOKUP(B26,#REF!,2,0))) | J26: 4 | K26: =COUNTIF(class1!$J$7:J26,J26) -> 3 | L26: / | M26: =VLOOKUP(J26,M!$A$3:$I$35,4,0) -> 11 | N26: 20 | O26: =CONCATENATE(J26,"-",N26) -> 4-20 | P26: =COUNTIF(class1!O$7:$O26,O26) -> 1 | Q26: / | R26: =VLOOKUP(O26,M!G22:I55,2,0) -> #N/A | T26: =VLOOKUP(J26,M!$A$3:$I$35,2,0) -> matiere 4 | U26: =VLOOKUP(J26,M!$A$3:$I$35,3,0) -> kjhkjhkjh
D27: =B21 -> 40779 | E27: 0.67361111 | F27: 0.70833333 | H27: =H26+F27-F26 -> 40779.708 | I27: =IF(ISERROR(VLOOKUP(B27,#REF!,2,0)),"",(VLOOKUP(B27,#REF!,2,0))) | J27: 4 | K27: =COUNTIF(class1!$J$7:J27,J27) -> 4 | L27: / | M27: =VLOOKUP(J27,M!$A$3:$I$35,4,0) -> 11 | N27: 21 | O27: =CONCATENATE(J27,"-",N27) -> 4-21 | P27: =COUNTIF(class1!O$7:$O27,O27) -> 1 | Q27: / | R27: =VLOOKUP(O27,M!G23:I56,2,0) -> #N/A | T27: =VLOOKUP(J27,M!$A$3:$I$35,2,0) -> matiere 4 | U27: =VLOOKUP(J27,M!$A$3:$I$35,3,0) -> kjhkjhkjh
A28: 4 | B28: =B21+1 -> 40780 | C28: =CHOOSE(WEEKDAY(B28),"الأحد","الإثنين","الثلاثاء","الإربعاء","الخميس","الجمعة","السبت") -> الخميس | D28: =B28 -> 40780 | E28: 0.33333333 | F28: 0.36805556 | H28: =IF(ISBLANK(B28),H26+F27-F26,B28+F28) -> 40780.368 | I28: =IF(ISERROR(VLOOKUP(B28,#REF!,2,0)),"",(VLOOKUP(B28,#REF!,2,0))) | J28: 3 | K28: =COUNTIF(class1!$J$7:J28,J28) -> 5 | L28: / | M28: =VLOOKUP(J28,M!$A$3:$I$35,4,0) -> 9 | N28: 22 | O28: =CONCATENATE(J28,"-",N28) -> 3-22 | P28: =COUNTIF(class1!O$7:$O28,O28) -> 1 | Q28: / | R28: =VLOOKUP(O28,M!G24:I57,2,0) -> #N/A | T28: =VLOOKUP(J28,M!$A$3:$I$35,2,0) -> matiere3 | U28: =VLOOKUP(J28,M!$A$3:$I$35,3,0) -> ytyutyu
D29: =B28 -> 40780 | E29: 0.375 | F29: 0.40972222 | H29: =H28+F29-F28 -> 40780.41 | I29: =IF(ISERROR(VLOOKUP(B29,#REF!,2,0)),"",(VLOOKUP(B29,#REF!,2,0))) | J29: 3 | K29: =COUNTIF(class1!$J$7:J29,J29) -> 6 | L29: / | M29: =VLOOKUP(J29,M!$A$3:$I$35,4,0) -> 9 | N29: 23 | O29: =CONCATENATE(J29,"-",N29) -> 3-23 | P29: =COUNTIF(class1!O$7:$O29,O29) -> 1 | Q29: / | R29: =VLOOKUP(O29,M!G25:I58,2,0) -> #N/A | T29: =VLOOKUP(J29,M!$A$3:$I$35,2,0) -> matiere3 | U29: =VLOOKUP(J29,M!$A$3:$I$35,3,0) -> ytyutyu
D30: =B28 -> 40780 | E30: 0.42361111 | F30: 0.45833333 | H30: =H29+F30-F29 -> 40780.458 | I30: =IF(ISERROR(VLOOKUP(B30,#REF!,2,0)),"",(VLOOKUP(B30,#REF!,2,0))) | J30: 5 | K30: =COUNTIF(class1!$J$7:J30,J30) -> 6 | L30: / | M30: =VLOOKUP(J30,M!$A$3:$I$35,4,0) -> 27 | N30: 24 | O30: =CONCATENATE(J30,"-",N30) -> 5-24 | P30: =COUNTIF(class1!O$7:$O30,O30) -> 1 | Q30: / | R30: =VLOOKUP(O30,M!G26:I59,2,0) -> #N/A | T30: =VLOOKUP(J30,M!$A$3:$I$35,2,0) -> matiere 6 | U30: =VLOOKUP(J30,M!$A$3:$I$35,3,0) -> hjkhkhk
D31: =B28 -> 40780 | E31: 0.46527778 | F31: 0.5 | H31: =H30+F31-F30 -> 40780.5 | I31: =IF(ISERROR(VLOOKUP(B31,#REF!,2,0)),"",(VLOOKUP(B31,#REF!,2,0))) | J31: 5 | K31: =COUNTIF(class1!$J$7:J31,J31) -> 7 | L31: / | M31: =VLOOKUP(J31,M!$A$3:$I$35,4,0) -> 27 | N31: 25 | O31: =CONCATENATE(J31,"-",N31) -> 5-25 | P31: =COUNTIF(class1!O$7:$O31,O31) -> 1 | Q31: / | R31: =VLOOKUP(O31,M!G27:I60,2,0) -> #N/A | T31: =VLOOKUP(J31,M!$A$3:$I$35,2,0) -> matiere 6 | U31: =VLOOKUP(J31,M!$A$3:$I$35,3,0) -> hjkhkhk
D32: =B28 -> 40780 | E32: 0.58333333 | F32: 0.61805556 | H32: =H31+F32-F31 -> 40780.618 | I32: =IF(ISERROR(VLOOKUP(B32,#REF!,2,0)),"",(VLOOKUP(B32,#REF!,2,0))) | J32: 5 | K32: =COUNTIF(class1!$J$7:J32,J32) -> 8 | L32: / | M32: =VLOOKUP(J32,M!$A$3:$I$35,4,0) -> 27 | N32: 26 | O32: =CONCATENATE(J32,"-",N32) -> 5-26 | P32: =COUNTIF(class1!O$7:$O32,O32) -> 1 | Q32: / | R32: =VLOOKUP(O32,M!G28:I61,2,0) -> #N/A | T32: =VLOOKUP(J32,M!$A$3:$I$35,2,0) -> matiere 6 | U32: =VLOOKUP(J32,M!$A$3:$I$35,3,0) -> hjkhkhk
D33: =B28 -> 40780 | E33: 0.625 | F33: 0.65972222 | H33: =H32+F33-F32 -> 40780.66 | I33: =IF(ISERROR(VLOOKUP(B33,#REF!,2,0)),"",(VLOOKUP(B33,#REF!,2,0))) | J33: 5 | K33: =COUNTIF(class1!$J$7:J33,J33) -> 9 | L33: / | M33: =VLOOKUP(J33,M!$A$3:$I$35,4,0) -> 27 | N33: 27 | O33: =CONCATENATE(J33,"-",N33) -> 5-27 | P33: =COUNTIF(class1!O$7:$O33,O33) -> 1 | Q33: / | R33: =VLOOKUP(O33,M!G29:I62,2,0) -> #N/A | T33: =VLOOKUP(J33,M!$A$3:$I$35,2,0) -> matiere 6 | U33: =VLOOKUP(J33,M!$A$3:$I$35,3,0) -> hjkhkhk
D34: =B28 -> 40780 | E34: 0.67361111 | F34: 0.70833333 | H34: =H33+F34-F33 -> 40780.708 | I34: =IF(ISERROR(VLOOKUP(B34,#REF!,2,0)),"",(VLOOKUP(B34,#REF!,2,0))) | J34: 3 | K34: =COUNTIF(class1!$J$7:J34,J34) -> 7 | L34: / | M34: =VLOOKUP(J34,M!$A$3:$I$35,4,0) -> 9 | N34: 28 | O34: =CONCATENATE(J34,"-",N34) -> 3-28 | P34: =COUNTIF(class1!O$7:$O34,O34) -> 1 | Q34: / | R34: =VLOOKUP(O34,M!G30:I63,2,0) -> #N/A | T34: =VLOOKUP(J34,M!$A$3:$I$35,2,0) -> matiere3 | U34: =VLOOKUP(J34,M!$A$3:$I$35,3,0) -> ytyutyu
A35: 5 | B35: =B28+1 -> 40781 | C35: =CHOOSE(WEEKDAY(B35),"الأحد","الإثنين","الثلاثاء","الإربعاء","الخميس","الجمعة","السبت") -> الجمعة | D35: =B35 -> 40781 | E35: 0.33333333 | F35: 0.36805556 | H35: =IF(ISBLANK(B35),H33+F34-F33,B35+F35) -> 40781.368 | I35: =IF(ISERROR(VLOOKUP(B35,#REF!,2,0)),"",(VLOOKUP(B35,#REF!,2,0))) | J35: 3 | K35: =COUNTIF(class1!$J$7:J35,J35) -> 8 | L35: / | M35: =VLOOKUP(J35,M!$A$3:$I$35,4,0) -> 9 | N35: 29 | O35: =CONCATENATE(J35,"-",N35) -> 3-29 | P35: =COUNTIF(class1!O$7:$O35,O35) -> 1 | Q35: / | R35: =VLOOKUP(O35,M!G31:I64,2,0) -> #N/A | T35: =VLOOKUP(J35,M!$A$3:$I$35,2,0) -> matiere3 | U35: =VLOOKUP(J35,M!$A$3:$I$35,3,0) -> ytyutyu
D36: =B35 -> 40781 | E36: 0.375 | F36: 0.40972222 | H36: =H35+F36-F35 -> 40781.41 | I36: =IF(ISERROR(VLOOKUP(B36,#REF!,2,0)),"",(VLOOKUP(B36,#REF!,2,0))) | J36: 3 | K36: =COUNTIF(class1!$J$7:J36,J36) -> 9 | L36: / | M36: =VLOOKUP(J36,M!$A$3:$I$35,4,0) -> 9 | N36: 30 | O36: =CONCATENATE(J36,"-",N36) -> 3-30 | P36: =COUNTIF(class1!O$7:$O36,O36) -> 1 | Q36: / | R36: =VLOOKUP(O36,M!G32:I65,2,0) -> #N/A | T36: =VLOOKUP(J36,M!$A$3:$I$35,2,0) -> matiere3 | U36: =VLOOKUP(J36,M!$A$3:$I$35,3,0) -> ytyutyu
D37: =B35 -> 40781 | E37: 0.42361111 | F37: 0.45833333 | H37: =H36+F37-F36 -> 40781.458 | I37: =IF(ISERROR(VLOOKUP(B37,#REF!,2,0)),"",(VLOOKUP(B37,#REF!,2,0))) | J37: 2 | K37: =COUNTIF(class1!$J$7:J37,J37) -> 3 | L37: / | M37: =VLOOKUP(J37,M!$A$3:$I$35,4,0) -> 17 | N37: 31 | O37: =CONCATENATE(J37,"-",N37) -> 2-31 | P37: =COUNTIF(class1!O$7:$O37,O37) -> 1 | Q37: / | R37: =VLOOKUP(O37,M!G33:I66,2,0) -> #N/A | T37: =VLOOKUP(J37,M!$A$3:$I$35,2,0) -> Matiere 2 | U37: =VLOOKUP(J37,M!$A$3:$I$35,3,0) -> zerrrr
D38: =B35 -> 40781 | E38: 0.46527778 | F38: 0.5 | H38: =H37+F38-F37 -> 40781.5 | I38: =IF(ISERROR(VLOOKUP(B38,#REF!,2,0)),"",(VLOOKUP(B38,#REF!,2,0))) | J38: 2 | K38: =COUNTIF(class1!$J$7:J38,J38) -> 4 | L38: / | M38: =VLOOKUP(J38,M!$A$3:$I$35,4,0) -> 17 | N38: 32 | O38: =CONCATENATE(J38,"-",N38) -> 2-32 | P38: =COUNTIF(class1!O$7:$O38,O38) -> 1 | Q38: / | R38: =VLOOKUP(O38,M!G34:I67,2,0) -> #N/A | T38: =VLOOKUP(J38,M!$A$3:$I$35,2,0) -> Matiere 2 | U38: =VLOOKUP(J38,M!$A$3:$I$35,3,0) -> zerrrr
D39: =B35 -> 40781 | E39: 0.58333333 | F39: 0.61805556 | H39: =H38+F39-F38 -> 40781.618 | I39: =IF(ISERROR(VLOOKUP(B39,#REF!,2,0)),"",(VLOOKUP(B39,#REF!,2,0))) | J39: 2 | K39: =COUNTIF(class1!$J$7:J39,J39) -> 5 | L39: / | M39: =VLOOKUP(J39,M!$A$3:$I$35,4,0) -> 17 | N39: 33 | O39: =CONCATENATE(J39,"-",N39) -> 2-33 | P39: =COUNTIF(class1!O$7:$O39,O39) -> 1 | Q39: / | R39: =VLOOKUP(O39,M!G35:I68,2,0) -> #N/A | T39: =VLOOKUP(J39,M!$A$3:$I$35,2,0) -> Matiere 2 | U39: =VLOOKUP(J39,M!$A$3:$I$35,3,0) -> zerrrr
D40: =B35 -> 40781 | E40: 0.625 | F40: 0.65972222 | H40: =H39+F40-F39 -> 40781.66 | I40: =IF(ISERROR(VLOOKUP(B40,#REF!,2,0)),"",(VLOOKUP(B40,#REF!,2,0))) | J40: 5 | K40: =COUNTIF(class1!$J$7:J40,J40) -> 10 | L40: / | M40: =VLOOKUP(J40,M!$A$3:$I$35,4,0) -> 27 | N40: 34 | O40: =CONCATENATE(J40,"-",N40) -> 5-34 | P40: =COUNTIF(class1!O$7:$O40,O40) -> 1 | Q40: / | R40: =VLOOKUP(O40,M!G36:I69,2,0) -> #N/A | T40: =VLOOKUP(J40,M!$A$3:$I$35,2,0) -> matiere 6 | U40: =VLOOKUP(J40,M!$A$3:$I$35,3,0) -> hjkhkhk
D41: =B35 -> 40781 | E41: 0.67361111 | F41: 0.70833333 | H41: =H40+F41-F40 -> 40781.708 | I41: =IF(ISERROR(VLOOKUP(B41,#REF!,2,0)),"",(VLOOKUP(B41,#REF!,2,0))) | J41: 5 | K41: =COUNTIF(class1!$J$7:J41,J41) -> 11 | L41: / | M41: =VLOOKUP(J41,M!$A$3:$I$35,4,0) -> 27 | N41: 35 | O41: =CONCATENATE(J41,"-",N41) -> 5-35 | P41: =COUNTIF(class1!O$7:$O41,O41) -> 1 | Q41: / | R41: =VLOOKUP(O41,M!G37:I70,2,0) -> #N/A | T41: =VLOOKUP(J41,M!$A$3:$I$35,2,0) -> matiere 6 | U41: =VLOOKUP(J41,M!$A$3:$I$35,3,0) -> hjkhkhk
A42: 6 | B42: =B35+1 -> 40782 | C42: =CHOOSE(WEEKDAY(B42),"الأحد","الإثنين","الثلاثاء","الإربعاء","الخميس","الجمعة","السبت") -> السبت | D42: =B42 -> 40782 | E42: 0.33333333 | F42: 0.36805556 | H42: =IF(ISBLANK(B42),H40+F41-F40,B42+F42) -> 40782.368 | I42: =IF(ISERROR(VLOOKUP(B42,#REF!,2,0)),"",(VLOOKUP(B42,#REF!,2,0))) | J42: 1 | K42: =COUNTIF(class1!$J$7:J42,J42) -> 7 | L42: / | M42: =VLOOKUP(J42,M!$A$3:$I$35,4,0) -> 24 | N42: 36 | O42: =CONCATENATE(J42,"-",N42) -> 1-36 | P42: =COUNTIF(class1!O$7:$O42,O42) -> 1 | Q42: / | R42: =VLOOKUP(O42,M!G38:I71,2,0) -> #N/A | T42: =VLOOKUP(J42,M!$A$3:$I$35,2,0) -> Matiere 1 | U42: =VLOOKUP(J42,M!$A$3:$I$35,3,0) -> aabb
D43: =B42 -> 40782 | E43: 0.375 | F43: 0.40972222 | H43: =H42+F43-F42 -> 40782.41 | I43: =IF(ISERROR(VLOOKUP(B43,#REF!,2,0)),"",(VLOOKUP(B43,#REF!,2,0))) | J43: 1 | K43: =COUNTIF(class1!$J$7:J43,J43) -> 8 | L43: / | M43: =VLOOKUP(J43,M!$A$3:$I$35,4,0) -> 24 | N43: 37 | O43: =CONCATENATE(J43,"-",N43) -> 1-37 | P43: =COUNTIF(class1!O$7:$O43,O43) -> 1 | Q43: / | R43: =VLOOKUP(O43,M!G39:I72,2,0) -> #N/A | T43: =VLOOKUP(J43,M!$A$3:$I$35,2,0) -> Matiere 1 | U43: =VLOOKUP(J43,M!$A$3:$I$35,3,0) -> aabb
D44: =B42 -> 40782 | E44: 0.42361111 | F44: 0.45833333 | H44: =H43+F44-F43 -> 40782.458 | I44: =IF(ISERROR(VLOOKUP(B44,#REF!,2,0)),"",(VLOOKUP(B44,#REF!,2,0))) | J44: 1 | K44: =COUNTIF(class1!$J$7:J44,J44) -> 9 | L44: / | M44: =VLOOKUP(J44,M!$A$3:$I$35,4,0) -> 24 | N44: 38 | O44: =CONCATENATE(J44,"-",N44) -> 1-38 | P44: =COUNTIF(class1!O$7:$O44,O44) -> 1 | Q44: / | R44: =VLOOKUP(O44,M!G40:I73,2,0) -> #N/A | T44: =VLOOKUP(J44,M!$A$3:$I$35,2,0) -> Matiere 1 | U44: =VLOOKUP(J44,M!$A$3:$I$35,3,0) -> aabb
D45: =B42 -> 40782 | E45: 0.46527778 | F45: 0.5 | H45: =H44+F45-F44 -> 40782.5 | I45: =IF(ISERROR(VLOOKUP(B45,#REF!,2,0)),"",(VLOOKUP(B45,#REF!,2,0))) | J45: 1 | K45: =COUNTIF(class1!$J$7:J45,J45) -> 10 | L45: / | M45: =VLOOKUP(J45,M!$A$3:$I$35,4,0) -> 24 | N45: 39 | O45: =CONCATENATE(J45,"-",N45) -> 1-39 | P45: =COUNTIF(class1!O$7:$O45,O45) -> 1 | Q45: / | R45: =VLOOKUP(O45,M!G41:I74,2,0) -> #N/A | T45: =VLOOKUP(J45,M!$A$3:$I$35,2,0) -> Matiere 1 | U45: =VLOOKUP(J45,M!$A$3:$I$35,3,0) -> aabb
A46: =A42+1 -> 7 | B46: =B42+1 -> 40783 | C46: =CHOOSE(WEEKDAY(B46),"الأحد","الإثنين","الثلاثاء","الإربعاء","الخميس","الجمعة","السبت") -> الأحد | D46: =B46 -> 40783 | E46: 0.33333333 | F46: 0.36805556 | H46: =B46+F46 -> 40783.368 | I46: =IF(ISERROR(VLOOKUP(B46,#REF!,2,0)),"",(VLOOKUP(B46,#REF!,2,0)))
D47: =B46 -> 40783 | E47: 0.375 | F47: 0.40972222 | H47: =H46+F47-F46 -> 40783.41 | I47: =IF(ISERROR(VLOOKUP(B47,#REF!,2,0)),"",(VLOOKUP(B47,#REF!,2,0)))
D48: =B46 -> 40783 | E48: 0.42361111 | F48: 0.45833333 | H48: =H47+F48-F47 -> 40783.458 | I48: =IF(ISERROR(VLOOKUP(B48,#REF!,2,0)),"",(VLOOKUP(B48,#REF!,2,0)))
D49: =B46 -> 40783 | E49: 0.46527778 | F49: 0.5 | H49: =H48+F49-F48 -> 40783.5 | I49: =IF(ISERROR(VLOOKUP(B49,#REF!,2,0)),"",(VLOOKUP(B49,#REF!,2,0)))
D50: =B46 -> 40783 | E50: 0.58333333 | F50: 0.61805556 | H50: =H49+F50-F49 -> 40783.618 | I50: =IF(ISERROR(VLOOKUP(B50,#REF!,2,0)),"",(VLOOKUP(B50,#REF!,2,0)))
D51: =B46 -> 40783 | E51: 0.625 | F51: 0.65972222 | H51: =H50+F51-F50 -> 40783.66 | I51: =IF(ISERROR(VLOOKUP(B51,#REF!,2,0)),"",(VLOOKUP(B51,#REF!,2,0)))
D52: =B46 -> 40783 | E52: 0.67361111 | F52: 0.70833333 | H52: =H51+F52-F51 -> 40783.708 | I52: =IF(ISERROR(VLOOKUP(B52,#REF!,2,0)),"",(VLOOKUP(B52,#REF!,2,0)))
A53: 2 | B53: =B46+1 -> 40784 | C53: =CHOOSE(WEEKDAY(B53),"الأحد","الإثنين","الثلاثاء","الإربعاء","الخميس","الجمعة","السبت") -> الإثنين | D53: =B53 -> 40784 | E53: 0.33333333 | F53: 0.36805556 | H53: =IF(ISBLANK(B53),H51+F52-F51,B53+F53) -> 40784.368 | I53: =IF(ISERROR(VLOOKUP(B53,#REF!,2,0)),"",(VLOOKUP(B53,#REF!,2,0)))
D54: =B53 -> 40784 | E54: 0.375 | F54: 0.40972222 | H54: =H53+F54-F53 -> 40784.41 | I54: =IF(ISERROR(VLOOKUP(B54,#REF!,2,0)),"",(VLOOKUP(B54,#REF!,2,0))) | J54: 3 | K54: =COUNTIF(class1!$J$7:J54,J54) -> 10 | L54: / | M54: =VLOOKUP(J54,M!$A$3:$I$35,4,0) -> 9 | N54: 9 | O54: =CONCATENATE(J54,"-",N54) -> 3-9 | P54: =COUNTIF(class1!O$7:$O54,O54) -> 2 | Q54: / | R54: =VLOOKUP(O54,M!G50:I83,2,0) -> #N/A | T54: =VLOOKUP(J54,M!$A$3:$I$35,2,0) -> matiere3 | U54: =VLOOKUP(J54,M!$A$3:$I$35,3,0) -> ytyutyu
D55: =B53 -> 40784 | E55: 0.42361111 | F55: 0.45833333 | H55: =H54+F55-F54 -> 40784.458 | I55: =IF(ISERROR(VLOOKUP(B55,#REF!,2,0)),"",(VLOOKUP(B55,#REF!,2,0))) | J55: 3 | K55: =COUNTIF(class1!$J$7:J55,J55) -> 11 | L55: / | M55: =VLOOKUP(J55,M!$A$3:$I$35,4,0) -> 9 | N55: 10 | O55: =CONCATENATE(J55,"-",N55) -> 3-10 | P55: =COUNTIF(class1!O$7:$O55,O55) -> 2 | Q55: / | R55: =VLOOKUP(O55,M!G51:I84,2,0) -> #N/A | T55: =VLOOKUP(J55,M!$A$3:$I$35,2,0) -> matiere3 | U55: =VLOOKUP(J55,M!$A$3:$I$35,3,0) -> ytyutyu
D56: =B53 -> 40784 | E56: 0.46527778 | F56: 0.5 | H56: =H55+F56-F55 -> 40784.5 | I56: =IF(ISERROR(VLOOKUP(B56,#REF!,2,0)),"",(VLOOKUP(B56,#REF!,2,0))) | J56: 3 | K56: =COUNTIF(class1!$J$7:J56,J56) -> 12 | L56: / | M56: =VLOOKUP(J56,M!$A$3:$I$35,4,0) -> 9 | N56: 11 | O56: =CONCATENATE(J56,"-",N56) -> 3-11 | P56: =COUNTIF(class1!O$7:$O56,O56) -> 2 | Q56: / | R56: =VLOOKUP(O56,M!G52:I85,2,0) -> #N/A | T56: =VLOOKUP(J56,M!$A$3:$I$35,2,0) -> matiere3 | U56: =VLOOKUP(J56,M!$A$3:$I$35,3,0) -> ytyutyu
D57: =B53 -> 40784 | E57: 0.58333333 | F57: 0.61805556 | H57: =H56+F57-F56 -> 40784.618 | I57: =IF(ISERROR(VLOOKUP(B57,#REF!,2,0)),"",(VLOOKUP(B57,#REF!,2,0))) | J57: 3 | K57: =COUNTIF(class1!$J$7:J57,J57) -> 13 | L57: / | M57: =VLOOKUP(J57,M!$A$3:$I$35,4,0) -> 9 | N57: 12 | O57: =CONCATENATE(J57,"-",N57) -> 3-12 | P57: =COUNTIF(class1!O$7:$O57,O57) -> 2 | Q57: / | R57: =VLOOKUP(O57,M!G53:I86,2,0) -> #N/A | T57: =VLOOKUP(J57,M!$A$3:$I$35,2,0) -> matiere3 | U57: =VLOOKUP(J57,M!$A$3:$I$35,3,0) -> ytyutyu
D58: =B53 -> 40784 | E58: 0.625 | F58: 0.65972222 | H58: =H57+F58-F57 -> 40784.66 | I58: =IF(ISERROR(VLOOKUP(B58,#REF!,2,0)),"",(VLOOKUP(B58,#REF!,2,0))) | J58: 5 | K58: =COUNTIF(class1!$J$7:J58,J58) -> 12 | L58: / | M58: =VLOOKUP(J58,M!$A$3:$I$35,4,0) -> 27 | N58: 13 | O58: =CONCATENATE(J58,"-",N58) -> 5-13 | P58: =COUNTIF(class1!O$7:$O58,O58) -> 2 | Q58: / | R58: =VLOOKUP(O58,M!G54:I87,2,0) -> #N/A | T58: =VLOOKUP(J58,M!$A$3:$I$35,2,0) -> matiere 6 | U58: =VLOOKUP(J58,M!$A$3:$I$35,3,0) -> hjkhkhk
D59: =B53 -> 40784 | E59: 0.67361111 | F59: 0.70833333 | H59: =H58+F59-F58 -> 40784.708 | I59: =IF(ISERROR(VLOOKUP(B59,#REF!,2,0)),"",(VLOOKUP(B59,#REF!,2,0))) | J59: 5 | K59: =COUNTIF(class1!$J$7:J59,J59) -> 13 | L59: / | M59: =VLOOKUP(J59,M!$A$3:$I$35,4,0) -> 27 | N59: 14 | O59: =CONCATENATE(J59,"-",N59) -> 5-14 | P59: =COUNTIF(class1!O$7:$O59,O59) -> 2 | Q59: / | R59: =VLOOKUP(O59,M!G55:I88,2,0) -> #N/A | T59: =VLOOKUP(J59,M!$A$3:$I$35,2,0) -> matiere 6 | U59: =VLOOKUP(J59,M!$A$3:$I$35,3,0) -> hjkhkhk

Sheet prof
A1: date
A3: date | B3: compagnie | C3: stage | D3: Lundi | R3: Mardi | AF3: Mercredi | AT3: Jeudi | BH3: Vendredi | BV3: Samedi
D5: 08:00 - 08:50 | F5: 09:00 - 09:50 | H5: 10:10 - 11:00 | J5: 11:10 - 12:00 | L5: 14:00 - 14:50 | N5: 15:00 - 15:50 | P5: 16:10 - 17:00 | R5: 08:00 - 08:50 | T5: 09:00 - 09:50 | V5: 10:10 - 11:00 | X5: 11:10 - 12:00 | Z5: 14:00 - 14:50 | AB5: 15:00 - 15:50 | AD5: 16:10 - 17:00 | AF5: 08:00 - 08:50 | AH5: 09:00 - 09:50 | AJ5: 10:10 - 11:00 | AL5: 11:10 - 12:00 | AN5: 14:00 - 14:50 | AP5: 15:00 - 15:50 | AR5: 16:10 - 17:00 | AT5: 08:00 - 08:50 | AV5: 09:00 - 09:50 | AX5: 10:10 - 11:00 | AZ5: 11:10 - 12:00 | BB5: 14:00 - 14:50 | BD5: 15:00 - 15:50 | BF5: 16:10 - 17:00 | BH5: 08:00 - 08:50 | BJ5: 09:00 - 09:50 | BL5: 10:10 - 11:00 | BN5: 11:10 - 12:00 | BP5: 14:00 - 14:50 | BR5: 15:00 - 15:50 | BT5: 16:10 - 17:00 | BV5: 08:00 - 08:50 | BX5: 09:00 - 09:50 | BZ5: 10:10 - 11:00 | CB5: 11:10 - 12:00 | CD5: 14:00 - 14:50 | CF5: 15:00 - 15:50 | CH5: 16:10 - 17:00
A6: lundi | B6: administration | C6: classe1 | E6: =IF(ISBLANK(D6),0,SUMPRODUCT(($D$6:$D$19=D6))) -> 0 | G6: =IF(ISBLANK(F6),0,SUMPRODUCT(($F$6:$F$19=F6))) -> 0 | I6: =IF(ISBLANK(H6),0,SUMPRODUCT(($H$6:$H$19=H6))) -> 0 | K6: =IF(ISBLANK(J6),0,SUMPRODUCT(($J$6:$J$19=J6))) -> 0 | M6: =IF(ISBLANK(L6),0,SUMPRODUCT(($L$6:$L$19=L6))) -> 0 | O6: =IF(ISBLANK(N6),0,SUMPRODUCT(($N$6:$N$19=N6))) -> 0 | Q6: =IF(ISBLANK(P6),0,SUMPRODUCT(($P$6:$P$19=P6))) -> 0 | S6: =IF(ISBLANK(R6),0,SUMPRODUCT(($D$6:$D$19=R6))) -> 0 | U6: =IF(ISBLANK(T6),0,SUMPRODUCT(($F$6:$F$19=T6))) -> 0 | W6: =IF(ISBLANK(V6),0,SUMPRODUCT(($H$6:$H$19=V6))) -> 0 | Y6: =IF(ISBLANK(X6),0,SUMPRODUCT(($J$6:$J$19=X6))) -> 0 | AA6: =IF(ISBLANK(Z6),0,SUMPRODUCT(($L$6:$L$19=Z6))) -> 0 | AC6: =IF(ISBLANK(AB6),0,SUMPRODUCT(($N$6:$N$19=AB6))) -> 0 | AE6: =IF(ISBLANK(AD6),0,SUMPRODUCT(($P$6:$P$19=AD6))) -> 0 | AG6: =IF(ISBLANK(AF6),0,SUMPRODUCT(($D$6:$D$19=AF6))) -> 0 | AI6: =IF(ISBLANK(AH6),0,SUMPRODUCT(($F$6:$F$19=AH6))) -> 0 | AK6: =IF(ISBLANK(AJ6),0,SUMPRODUCT(($H$6:$H$19=AJ6))) -> 0 | AM6: =IF(ISBLANK(AL6),0,SUMPRODUCT(($J$6:$J$19=AL6))) -> 0 | AO6: =IF(ISBLANK(AN6),0,SUMPRODUCT(($L$6:$L$19=AN6))) -> 0 | AQ6: =IF(ISBLANK(AP6),0,SUMPRODUCT(($N$6:$N$19=AP6))) -> 0 | AS6: =IF(ISBLANK(AR6),0,SUMPRODUCT(($P$6:$P$19=AR6))) -> 0 | AU6: =IF(ISBLANK(AT6),0,SUMPRODUCT(($D$6:$D$19=AT6))) -> 0 | AW6: =IF(ISBLANK(AV6),0,SUMPRODUCT(($F$6:$F$19=AV6))) -> 0 | AY6: =IF(ISBLANK(AX6),0,SUMPRODUCT(($H$6:$H$19=AX6))) -> 0 | BA6: =IF(ISBLANK(AZ6),0,SUMPRODUCT(($J$6:$J$19=AZ6))) -> 0 | BC6: =IF(ISBLANK(BB6),0,SUMPRODUCT(($L$6:$L$19=BB6))) -> 0 | BE6: =IF(ISBLANK(BD6),0,SUMPRODUCT(($N$6:$N$19=BD6))) -> 0 | BG6: =IF(ISBLANK(BF6),0,SUMPRODUCT(($P$6:$P$19=BF6))) -> 0 | BI6: =IF(ISBLANK(BH6),0,SUMPRODUCT(($D$6:$D$19=BH6))) -> 0 | BK6: =IF(ISBLANK(BJ6),0,SUMPRODUCT(($F$6:$F$19=BJ6))) -> 0 | BM6: =IF(ISBLANK(BL6),0,SUMPRODUCT(($H$6:$H$19=BL6))) -> 0 | BO6: =IF(ISBLANK(BN6),0,SUMPRODUCT(($J$6:$J$19=BN6))) -> 0 | BQ6: =IF(ISBLANK(BP6),0,SUMPRODUCT(($L$6:$L$19=BP6))) -> 0 | BS6: =IF(ISBLANK(BR6),0,SUMPRODUCT(($N$6:$N$19=BR6))) -> 0 | BU6: =IF(ISBLANK(BT6),0,SUMPRODUCT(($P$6:$P$19=BT6))) -> 0 | BW6: =IF(ISBLANK(BV6),0,SUMPRODUCT(($D$6:$D$19=BV6))) -> 0 | BY6: =IF(ISBLANK(BX6),0,SUMPRODUCT(($F$6:$F$19=BX6))) -> 0 | CA6: =IF(ISBLANK(BZ6),0,SUMPRODUCT(($H$6:$H$19=BZ6))) -> 0 | CC6: =IF(ISBLANK(CB6),0,SUMPRODUCT(($J$6:$J$19=CB6))) -> 0 | CE6: =IF(ISBLANK(CD6),0,SUMPRODUCT(($L$6:$L$19=CD6))) -> 0 | CG6: =IF(ISBLANK(CF6),0,SUMPRODUCT(($N$6:$N$19=CF6))) -> 0 | CI6: =IF(ISBLANK(CH6),0,SUMPRODUCT(($P$6:$P$19=CH6))) -> 0
C7: classe2 | E7: =IF(ISBLANK(D7),0,SUMPRODUCT(($D$6:$D$19=D7))) -> 0 | G7: =IF(ISBLANK(F7),0,SUMPRODUCT(($F$6:$F$19=F7))) -> 0 | I7: =IF(ISBLANK(H7),0,SUMPRODUCT(($H$6:$H$19=H7))) -> 0 | K7: =IF(ISBLANK(J7),0,SUMPRODUCT(($J$6:$J$19=J7))) -> 0 | M7: =IF(ISBLANK(L7),0,SUMPRODUCT(($L$6:$L$19=L7))) -> 0 | O7: =IF(ISBLANK(N7),0,SUMPRODUCT(($N$6:$N$19=N7))) -> 0 | Q7: =IF(ISBLANK(P7),0,SUMPRODUCT(($P$6:$P$19=P7))) -> 0 | S7: =IF(ISBLANK(R7),0,SUMPRODUCT(($D$6:$D$19=R7))) -> 0 | U7: =IF(ISBLANK(T7),0,SUMPRODUCT(($F$6:$F$19=T7))) -> 0 | W7: =IF(ISBLANK(V7),0,SUMPRODUCT(($H$6:$H$19=V7))) -> 0 | Y7: =IF(ISBLANK(X7),0,SUMPRODUCT(($J$6:$J$19=X7))) -> 0 | AA7: =IF(ISBLANK(Z7),0,SUMPRODUCT(($L$6:$L$19=Z7))) -> 0 | AC7: =IF(ISBLANK(AB7),0,SUMPRODUCT(($N$6:$N$19=AB7))) -> 0 | AE7: =IF(ISBLANK(AD7),0,SUMPRODUCT(($P$6:$P$19=AD7))) -> 0 | AG7: =IF(ISBLANK(AF7),0,SUMPRODUCT(($D$6:$D$19=AF7))) -> 0 | AI7: =IF(ISBLANK(AH7),0,SUMPRODUCT(($F$6:$F$19=AH7))) -> 0 | AK7: =IF(ISBLANK(AJ7),0,SUMPRODUCT(($H$6:$H$19=AJ7))) -> 0 | AM7: =IF(ISBLANK(AL7),0,SUMPRODUCT(($J$6:$J$19=AL7))) -> 0 | AO7: =IF(ISBLANK(AN7),0,SUMPRODUCT(($L$6:$L$19=AN7))) -> 0 | AQ7: =IF(ISBLANK(AP7),0,SUMPRODUCT(($N$6:$N$19=AP7))) -> 0 | AS7: =IF(ISBLANK(AR7),0,SUMPRODUCT(($P$6:$P$19=AR7))) -> 0 | AU7: =IF(ISBLANK(AT7),0,SUMPRODUCT(($D$6:$D$19=AT7))) -> 0 | AW7: =IF(ISBLANK(AV7),0,SUMPRODUCT(($F$6:$F$19=AV7))) -> 0 | AY7: =IF(ISBLANK(AX7),0,SUMPRODUCT(($H$6:$H$19=AX7))) -> 0 | BA7: =IF(ISBLANK(AZ7),0,SUMPRODUCT(($J$6:$J$19=AZ7))) -> 0 | BC7: =IF(ISBLANK(BB7),0,SUMPRODUCT(($L$6:$L$19=BB7))) -> 0 | BE7: =IF(ISBLANK(BD7),0,SUMPRODUCT(($N$6:$N$19=BD7))) -> 0 | BG7: =IF(ISBLANK(BF7),0,SUMPRODUCT(($P$6:$P$19=BF7))) -> 0 | BI7: =IF(ISBLANK(BH7),0,SUMPRODUCT(($D$6:$D$19=BH7))) -> 0 | BK7: =IF(ISBLANK(BJ7),0,SUMPRODUCT(($F$6:$F$19=BJ7))) -> 0 | BM7: =IF(ISBLANK(BL7),0,SUMPRODUCT(($H$6:$H$19=BL7))) -> 0 | BO7: =IF(ISBLANK(BN7),0,SUMPRODUCT(($J$6:$J$19=BN7))) -> 0 | BQ7: =IF(ISBLANK(BP7),0,SUMPRODUCT(($L$6:$L$19=BP7))) -> 0 | BS7: =IF(ISBLANK(BR7),0,SUMPRODUCT(($N$6:$N$19=BR7))) -> 0 | BU7: =IF(ISBLANK(BT7),0,SUMPRODUCT(($P$6:$P$19=BT7))) -> 0 | BW7: =IF(ISBLANK(BV7),0,SUMPRODUCT(($D$6:$D$19=BV7))) -> 0 | BY7: =IF(ISBLANK(BX7),0,SUMPRODUCT(($F$6:$F$19=BX7))) -> 0 | CA7: =IF(ISBLANK(BZ7),0,SUMPRODUCT(($H$6:$H$19=BZ7))) -> 0 | CC7: =IF(ISBLANK(CB7),0,SUMPRODUCT(($J$6:$J$19=CB7))) -> 0 | CE7: =IF(ISBLANK(CD7),0,SUMPRODUCT(($L$6:$L$19=CD7))) -> 0 | CG7: =IF(ISBLANK(CF7),0,SUMPRODUCT(($N$6:$N$19=CF7))) -> 0 | CI7: =IF(ISBLANK(CH7),0,SUMPRODUCT(($P$6:$P$19=CH7))) -> 0
C8: classe3 | E8: =IF(ISBLANK(D8),0,SUMPRODUCT(($D$6:$D$19=D8))) -> 0 | G8: =IF(ISBLANK(F8),0,SUMPRODUCT(($F$6:$F$19=F8))) -> 0 | I8: =IF(ISBLANK(H8),0,SUMPRODUCT(($H$6:$H$19=H8))) -> 0 | K8: =IF(ISBLANK(J8),0,SUMPRODUCT(($J$6:$J$19=J8))) -> 0 | M8: =IF(ISBLANK(L8),0,SUMPRODUCT(($L$6:$L$19=L8))) -> 0 | O8: =IF(ISBLANK(N8),0,SUMPRODUCT(($N$6:$N$19=N8))) -> 0 | Q8: =IF(ISBLANK(P8),0,SUMPRODUCT(($P$6:$P$19=P8))) -> 0 | S8: =IF(ISBLANK(R8),0,SUMPRODUCT(($D$6:$D$19=R8))) -> 0 | U8: =IF(ISBLANK(T8),0,SUMPRODUCT(($F$6:$F$19=T8))) -> 0 | W8: =IF(ISBLANK(V8),0,SUMPRODUCT(($H$6:$H$19=V8))) -> 0 | Y8: =IF(ISBLANK(X8),0,SUMPRODUCT(($J$6:$J$19=X8))) -> 0 | AA8: =IF(ISBLANK(Z8),0,SUMPRODUCT(($L$6:$L$19=Z8))) -> 0 | AC8: =IF(ISBLANK(AB8),0,SUMPRODUCT(($N$6:$N$19=AB8))) -> 0 | AE8: =IF(ISBLANK(AD8),0,SUMPRODUCT(($P$6:$P$19=AD8))) -> 0 | AG8: =IF(ISBLANK(AF8),0,SUMPRODUCT(($D$6:$D$19=AF8))) -> 0 | AI8: =IF(ISBLANK(AH8),0,SUMPRODUCT(($F$6:$F$19=AH8))) -> 0 | AK8: =IF(ISBLANK(AJ8),0,SUMPRODUCT(($H$6:$H$19=AJ8))) -> 0 | AM8: =IF(ISBLANK(AL8),0,SUMPRODUCT(($J$6:$J$19=AL8))) -> 0 | AO8: =IF(ISBLANK(AN8),0,SUMPRODUCT(($L$6:$L$19=AN8))) -> 0 | AQ8: =IF(ISBLANK(AP8),0,SUMPRODUCT(($N$6:$N$19=AP8))) -> 0 | AS8: =IF(ISBLANK(AR8),0,SUMPRODUCT(($P$6:$P$19=AR8))) -> 0 | AU8: =IF(ISBLANK(AT8),0,SUMPRODUCT(($D$6:$D$19=AT8))) -> 0 | AW8: =IF(ISBLANK(AV8),0,SUMPRODUCT(($F$6:$F$19=AV8))) -> 0 | AY8: =IF(ISBLANK(AX8),0,SUMPRODUCT(($H$6:$H$19=AX8))) -> 0 | BA8: =IF(ISBLANK(AZ8),0,SUMPRODUCT(($J$6:$J$19=AZ8))) -> 0 | BC8: =IF(ISBLANK(BB8),0,SUMPRODUCT(($L$6:$L$19=BB8))) -> 0 | BE8: =IF(ISBLANK(BD8),0,SUMPRODUCT(($N$6:$N$19=BD8))) -> 0 | BG8: =IF(ISBLANK(BF8),0,SUMPRODUCT(($P$6:$P$19=BF8))) -> 0 | BI8: =IF(ISBLANK(BH8),0,SUMPRODUCT(($D$6:$D$19=BH8))) -> 0 | BK8: =IF(ISBLANK(BJ8),0,SUMPRODUCT(($F$6:$F$19=BJ8))) -> 0 | BM8: =IF(ISBLANK(BL8),0,SUMPRODUCT(($H$6:$H$19=BL8))) -> 0 | BO8: =IF(ISBLANK(BN8),0,SUMPRODUCT(($J$6:$J$19=BN8))) -> 0 | BQ8: =IF(ISBLANK(BP8),0,SUMPRODUCT(($L$6:$L$19=BP8))) -> 0 | BS8: =IF(ISBLANK(BR8),0,SUMPRODUCT(($N$6:$N$19=BR8))) -> 0 | BU8: =IF(ISBLANK(BT8),0,SUMPRODUCT(($P$6:$P$19=BT8))) -> 0 | BW8: =IF(ISBLANK(BV8),0,SUMPRODUCT(($D$6:$D$19=BV8))) -> 0 | BY8: =IF(ISBLANK(BX8),0,SUMPRODUCT(($F$6:$F$19=BX8))) -> 0 | CA8: =IF(ISBLANK(BZ8),0,SUMPRODUCT(($H$6:$H$19=BZ8))) -> 0 | CC8: =IF(ISBLANK(CB8),0,SUMPRODUCT(($J$6:$J$19=CB8))) -> 0 | CE8: =IF(ISBLANK(CD8),0,SUMPRODUCT(($L$6:$L$19=CD8))) -> 0 | CG8: =IF(ISBLANK(CF8),0,SUMPRODUCT(($N$6:$N$19=CF8))) -> 0 | CI8: =IF(ISBLANK(CH8),0,SUMPRODUCT(($P$6:$P$19=CH8))) -> 0
C9: classe4 | E9: =IF(ISBLANK(D9),0,SUMPRODUCT(($D$6:$D$19=D9))) -> 0 | G9: =IF(ISBLANK(F9),0,SUMPRODUCT(($F$6:$F$19=F9))) -> 0 | I9: =IF(ISBLANK(H9),0,SUMPRODUCT(($H$6:$H$19=H9))) -> 0 | K9: =IF(ISBLANK(J9),0,SUMPRODUCT(($J$6:$J$19=J9))) -> 0 | M9: =IF(ISBLANK(L9),0,SUMPRODUCT(($L$6:$L$19=L9))) -> 0 | O9: =IF(ISBLANK(N9),0,SUMPRODUCT(($N$6:$N$19=N9))) -> 0 | Q9: =IF(ISBLANK(P9),0,SUMPRODUCT(($P$6:$P$19=P9))) -> 0 | S9: =IF(ISBLANK(R9),0,SUMPRODUCT(($D$6:$D$19=R9))) -> 0 | U9: =IF(ISBLANK(T9),0,SUMPRODUCT(($F$6:$F$19=T9))) -> 0 | W9: =IF(ISBLANK(V9),0,SUMPRODUCT(($H$6:$H$19=V9))) -> 0 | Y9: =IF(ISBLANK(X9),0,SUMPRODUCT(($J$6:$J$19=X9))) -> 0 | AA9: =IF(ISBLANK(Z9),0,SUMPRODUCT(($L$6:$L$19=Z9))) -> 0 | AC9: =IF(ISBLANK(AB9),0,SUMPRODUCT(($N$6:$N$19=AB9))) -> 0 | AE9: =IF(ISBLANK(AD9),0,SUMPRODUCT(($P$6:$P$19=AD9))) -> 0 | AG9: =IF(ISBLANK(AF9),0,SUMPRODUCT(($D$6:$D$19=AF9))) -> 0 | AI9: =IF(ISBLANK(AH9),0,SUMPRODUCT(($F$6:$F$19=AH9))) -> 0 | AK9: =IF(ISBLANK(AJ9),0,SUMPRODUCT(($H$6:$H$19=AJ9))) -> 0 | AM9: =IF(ISBLANK(AL9),0,SUMPRODUCT(($J$6:$J$19=AL9))) -> 0 | AO9: =IF(ISBLANK(AN9),0,SUMPRODUCT(($L$6:$L$19=AN9))) -> 0 | AQ9: =IF(ISBLANK(AP9),0,SUMPRODUCT(($N$6:$N$19=AP9))) -> 0 | AS9: =IF(ISBLANK(AR9),0,SUMPRODUCT(($P$6:$P$19=AR9))) -> 0 | AU9: =IF(ISBLANK(AT9),0,SUMPRODUCT(($D$6:$D$19=AT9))) -> 0 | AW9: =IF(ISBLANK(AV9),0,SUMPRODUCT(($F$6:$F$19=AV9))) -> 0 | AY9: =IF(ISBLANK(AX9),0,SUMPRODUCT(($H$6:$H$19=AX9))) -> 0 | BA9: =IF(ISBLANK(AZ9),0,SUMPRODUCT(($J$6:$J$19=AZ9))) -> 0 | BC9: =IF(ISBLANK(BB9),0,SUMPRODUCT(($L$6:$L$19=BB9))) -> 0 | BE9: =IF(ISBLANK(BD9),0,SUMPRODUCT(($N$6:$N$19=BD9))) -> 0 | BG9: =IF(ISBLANK(BF9),0,SUMPRODUCT(($P$6:$P$19=BF9))) -> 0 | BI9: =IF(ISBLANK(BH9),0,SUMPRODUCT(($D$6:$D$19=BH9))) -> 0 | BK9: =IF(ISBLANK(BJ9),0,SUMPRODUCT(($F$6:$F$19=BJ9))) -> 0 | BM9: =IF(ISBLANK(BL9),0,SUMPRODUCT(($H$6:$H$19=BL9))) -> 0 | BO9: =IF(ISBLANK(BN9),0,SUMPRODUCT(($J$6:$J$19=BN9))) -> 0 | BQ9: =IF(ISBLANK(BP9),0,SUMPRODUCT(($L$6:$L$19=BP9))) -> 0 | BS9: =IF(ISBLANK(BR9),0,SUMPRODUCT(($N$6:$N$19=BR9))) -> 0 | BU9: =IF(ISBLANK(BT9),0,SUMPRODUCT(($P$6:$P$19=BT9))) -> 0 | BW9: =IF(ISBLANK(BV9),0,SUMPRODUCT(($D$6:$D$19=BV9))) -> 0 | BY9: =IF(ISBLANK(BX9),0,SUMPRODUCT(($F$6:$F$19=BX9))) -> 0 | CA9: =IF(ISBLANK(BZ9),0,SUMPRODUCT(($H$6:$H$19=BZ9))) -> 0 | CC9: =IF(ISBLANK(CB9),0,SUMPRODUCT(($J$6:$J$19=CB9))) -> 0 | CE9: =IF(ISBLANK(CD9),0,SUMPRODUCT(($L$6:$L$19=CD9))) -> 0 | CG9: =IF(ISBLANK(CF9),0,SUMPRODUCT(($N$6:$N$19=CF9))) -> 0 | CI9: =IF(ISBLANK(CH9),0,SUMPRODUCT(($P$6:$P$19=CH9))) -> 0
C10: classe5 | E10: =IF(ISBLANK(D10),0,SUMPRODUCT(($D$6:$D$19=D10))) -> 0 | G10: =IF(ISBLANK(F10),0,SUMPRODUCT(($F$6:$F$19=F10))) -> 0 | I10: =IF(ISBLANK(H10),0,SUMPRODUCT(($H$6:$H$19=H10))) -> 0 | K10: =IF(ISBLANK(J10),0,SUMPRODUCT(($J$6:$J$19=J10))) -> 0 | M10: =IF(ISBLANK(L10),0,SUMPRODUCT(($L$6:$L$19=L10))) -> 0 | O10: =IF(ISBLANK(N10),0,SUMPRODUCT(($N$6:$N$19=N10))) -> 0 | Q10: =IF(ISBLANK(P10),0,SUMPRODUCT(($P$6:$P$19=P10))) -> 0 | S10: =IF(ISBLANK(R10),0,SUMPRODUCT(($D$6:$D$19=R10))) -> 0 | U10: =IF(ISBLANK(T10),0,SUMPRODUCT(($F$6:$F$19=T10))) -> 0 | W10: =IF(ISBLANK(V10),0,SUMPRODUCT(($H$6:$H$19=V10))) -> 0 | Y10: =IF(ISBLANK(X10),0,SUMPRODUCT(($J$6:$J$19=X10))) -> 0 | AA10: =IF(ISBLANK(Z10),0,SUMPRODUCT(($L$6:$L$19=Z10))) -> 0 | AC10: =IF(ISBLANK(AB10),0,SUMPRODUCT(($N$6:$N$19=AB10))) -> 0 | AE10: =IF(ISBLANK(AD10),0,SUMPRODUCT(($P$6:$P$19=AD10))) -> 0 | AG10: =IF(ISBLANK(AF10),0,SUMPRODUCT(($D$6:$D$19=AF10))) -> 0 | AI10: =IF(ISBLANK(AH10),0,SUMPRODUCT(($F$6:$F$19=AH10))) -> 0 | AK10: =IF(ISBLANK(AJ10),0,SUMPRODUCT(($H$6:$H$19=AJ10))) -> 0 | AM10: =IF(ISBLANK(AL10),0,SUMPRODUCT(($J$6:$J$19=AL10))) -> 0 | AO10: =IF(ISBLANK(AN10),0,SUMPRODUCT(($L$6:$L$19=AN10))) -> 0 | AQ10: =IF(ISBLANK(AP10),0,SUMPRODUCT(($N$6:$N$19=AP10))) -> 0 | AS10: =IF(ISBLANK(AR10),0,SUMPRODUCT(($P$6:$P$19=AR10))) -> 0 | AU10: =IF(ISBLANK(AT10),0,SUMPRODUCT(($D$6:$D$19=AT10))) -> 0 | AW10: =IF(ISBLANK(AV10),0,SUMPRODUCT(($F$6:$F$19=AV10))) -> 0 | AY10: =IF(ISBLANK(AX10),0,SUMPRODUCT(($H$6:$H$19=AX10))) -> 0 | BA10: =IF(ISBLANK(AZ10),0,SUMPRODUCT(($J$6:$J$19=AZ10))) -> 0 | BC10: =IF(ISBLANK(BB10),0,SUMPRODUCT(($L$6:$L$19=BB10))) -> 0 | BE10: =IF(ISBLANK(BD10),0,SUMPRODUCT(($N$6:$N$19=BD10))) -> 0 | BG10: =IF(ISBLANK(BF10),0,SUMPRODUCT(($P$6:$P$19=BF10))) -> 0 | BI10: =IF(ISBLANK(BH10),0,SUMPRODUCT(($D$6:$D$19=BH10))) -> 0 | BK10: =IF(ISBLANK(BJ10),0,SUMPRODUCT(($F$6:$F$19=BJ10))) -> 0 | BM10: =IF(ISBLANK(BL10),0,SUMPRODUCT(($H$6:$H$19=BL10))) -> 0 | BO10: =IF(ISBLANK(BN10),0,SUMPRODUCT(($J$6:$J$19=BN10))) -> 0 | BQ10: =IF(ISBLANK(BP10),0,SUMPRODUCT(($L$6:$L$19=BP10))) -> 0 | BS10: =IF(ISBLANK(BR10),0,SUMPRODUCT(($N$6:$N$19=BR10))) -> 0 | BU10: =IF(ISBLANK(BT10),0,SUMPRODUCT(($P$6:$P$19=BT10))) -> 0 | BW10: =IF(ISBLANK(BV10),0,SUMPRODUCT(($D$6:$D$19=BV10))) -> 0 | BY10: =IF(ISBLANK(BX10),0,SUMPRODUCT(($F$6:$F$19=BX10))) -> 0 | CA10: =IF(ISBLANK(BZ10),0,SUMPRODUCT(($H$6:$H$19=BZ10))) -> 0 | CC10: =IF(ISBLANK(CB10),0,SUMPRODUCT(($J$6:$J$19=CB10))) -> 0 | CE10: =IF(ISBLANK(CD10),0,SUMPRODUCT(($L$6:$L$19=CD10))) -> 0 | CG10: =IF(ISBLANK(CF10),0,SUMPRODUCT(($N$6:$N$19=CF10))) -> 0 | CI10: =IF(ISBLANK(CH10),0,SUMPRODUCT(($P$6:$P$19=CH10))) -> 0
C11: classe6 | E11: =IF(ISBLANK(D11),0,SUMPRODUCT(($D$6:$D$19=D11))) -> 0 | G11: =IF(ISBLANK(F11),0,SUMPRODUCT(($F$6:$F$19=F11))) -> 0 | I11: =IF(ISBLANK(H11),0,SUMPRODUCT(($H$6:$H$19=H11))) -> 0 | K11: =IF(ISBLANK(J11),0,SUMPRODUCT(($J$6:$J$19=J11))) -> 0 | M11: =IF(ISBLANK(L11),0,SUMPRODUCT(($L$6:$L$19=L11))) -> 0 | O11: =IF(ISBLANK(N11),0,SUMPRODUCT(($N$6:$N$19=N11))) -> 0 | Q11: =IF(ISBLANK(P11),0,SUMPRODUCT(($P$6:$P$19=P11))) -> 0 | S11: =IF(ISBLANK(R11),0,SUMPRODUCT(($D$6:$D$19=R11))) -> 0 | U11: =IF(ISBLANK(T11),0,SUMPRODUCT(($F$6:$F$19=T11))) -> 0 | W11: =IF(ISBLANK(V11),0,SUMPRODUCT(($H$6:$H$19=V11))) -> 0 | Y11: =IF(ISBLANK(X11),0,SUMPRODUCT(($J$6:$J$19=X11))) -> 0 | AA11: =IF(ISBLANK(Z11),0,SUMPRODUCT(($L$6:$L$19=Z11))) -> 0 | AC11: =IF(ISBLANK(AB11),0,SUMPRODUCT(($N$6:$N$19=AB11))) -> 0 | AE11: =IF(ISBLANK(AD11),0,SUMPRODUCT(($P$6:$P$19=AD11))) -> 0 | AG11: =IF(ISBLANK(AF11),0,SUMPRODUCT(($D$6:$D$19=AF11))) -> 0 | AI11: =IF(ISBLANK(AH11),0,SUMPRODUCT(($F$6:$F$19=AH11))) -> 0 | AK11: =IF(ISBLANK(AJ11),0,SUMPRODUCT(($H$6:$H$19=AJ11))) -> 0 | AM11: =IF(ISBLANK(AL11),0,SUMPRODUCT(($J$6:$J$19=AL11))) -> 0 | AO11: =IF(ISBLANK(AN11),0,SUMPRODUCT(($L$6:$L$19=AN11))) -> 0 | AQ11: =IF(ISBLANK(AP11),0,SUMPRODUCT(($N$6:$N$19=AP11))) -> 0 | AS11: =IF(ISBLANK(AR11),0,SUMPRODUCT(($P$6:$P$19=AR11))) -> 0 | AU11: =IF(ISBLANK(AT11),0,SUMPRODUCT(($D$6:$D$19=AT11))) -> 0 | AW11: =IF(ISBLANK(AV11),0,SUMPRODUCT(($F$6:$F$19=AV11))) -> 0 | AY11: =IF(ISBLANK(AX11),0,SUMPRODUCT(($H$6:$H$19=AX11))) -> 0 | BA11: =IF(ISBLANK(AZ11),0,SUMPRODUCT(($J$6:$J$19=AZ11))) -> 0 | BC11: =IF(ISBLANK(BB11),0,SUMPRODUCT(($L$6:$L$19=BB11))) -> 0 | BE11: =IF(ISBLANK(BD11),0,SUMPRODUCT(($N$6:$N$19=BD11))) -> 0 | BG11: =IF(ISBLANK(BF11),0,SUMPRODUCT(($P$6:$P$19=BF11))) -> 0 | BI11: =IF(ISBLANK(BH11),0,SUMPRODUCT(($D$6:$D$19=BH11))) -> 0 | BK11: =IF(ISBLANK(BJ11),0,SUMPRODUCT(($F$6:$F$19=BJ11))) -> 0 | BM11: =IF(ISBLANK(BL11),0,SUMPRODUCT(($H$6:$H$19=BL11))) -> 0 | BO11: =IF(ISBLANK(BN11),0,SUMPRODUCT(($J$6:$J$19=BN11))) -> 0 | BQ11: =IF(ISBLANK(BP11),0,SUMPRODUCT(($L$6:$L$19=BP11))) -> 0 | BS11: =IF(ISBLANK(BR11),0,SUMPRODUCT(($N$6:$N$19=BR11))) -> 0 | BU11: =IF(ISBLANK(BT11),0,SUMPRODUCT(($P$6:$P$19=BT11))) -> 0 | BW11: =IF(ISBLANK(BV11),0,SUMPRODUCT(($D$6:$D$19=BV11))) -> 0 | BY11: =IF(ISBLANK(BX11),0,SUMPRODUCT(($F$6:$F$19=BX11))) -> 0 | CA11: =IF(ISBLANK(BZ11),0,SUMPRODUCT(($H$6:$H$19=BZ11))) -> 0 | CC11: =IF(ISBLANK(CB11),0,SUMPRODUCT(($J$6:$J$19=CB11))) -> 0 | CE11: =IF(ISBLANK(CD11),0,SUMPRODUCT(($L$6:$L$19=CD11))) -> 0 | CG11: =IF(ISBLANK(CF11),0,SUMPRODUCT(($N$6:$N$19=CF11))) -> 0 | CI11: =IF(ISBLANK(CH11),0,SUMPRODUCT(($P$6:$P$19=CH11))) -> 0
C12: classe7 | E12: =IF(ISBLANK(D12),0,SUMPRODUCT(($D$6:$D$19=D12))) -> 0 | G12: =IF(ISBLANK(F12),0,SUMPRODUCT(($F$6:$F$19=F12))) -> 0 | I12: =IF(ISBLANK(H12),0,SUMPRODUCT(($H$6:$H$19=H12))) -> 0 | K12: =IF(ISBLANK(J12),0,SUMPRODUCT(($J$6:$J$19=J12))) -> 0 | M12: =IF(ISBLANK(L12),0,SUMPRODUCT(($L$6:$L$19=L12))) -> 0 | O12: =IF(ISBLANK(N12),0,SUMPRODUCT(($N$6:$N$19=N12))) -> 0 | Q12: =IF(ISBLANK(P12),0,SUMPRODUCT(($P$6:$P$19=P12))) -> 0 | S12: =IF(ISBLANK(R12),0,SUMPRODUCT(($D$6:$D$19=R12))) -> 0 | U12: =IF(ISBLANK(T12),0,SUMPRODUCT(($F$6:$F$19=T12))) -> 0 | W12: =IF(ISBLANK(V12),0,SUMPRODUCT(($H$6:$H$19=V12))) -> 0 | Y12: =IF(ISBLANK(X12),0,SUMPRODUCT(($J$6:$J$19=X12))) -> 0 | AA12: =IF(ISBLANK(Z12),0,SUMPRODUCT(($L$6:$L$19=Z12))) -> 0 | AC12: =IF(ISBLANK(AB12),0,SUMPRODUCT(($N$6:$N$19=AB12))) -> 0 | AE12: =IF(ISBLANK(AD12),0,SUMPRODUCT(($P$6:$P$19=AD12))) -> 0 | AG12: =IF(ISBLANK(AF12),0,SUMPRODUCT(($D$6:$D$19=AF12))) -> 0 | AI12: =IF(ISBLANK(AH12),0,SUMPRODUCT(($F$6:$F$19=AH12))) -> 0 | AK12: =IF(ISBLANK(AJ12),0,SUMPRODUCT(($H$6:$H$19=AJ12))) -> 0 | AM12: =IF(ISBLANK(AL12),0,SUMPRODUCT(($J$6:$J$19=AL12))) -> 0 | AO12: =IF(ISBLANK(AN12),0,SUMPRODUCT(($L$6:$L$19=AN12))) -> 0 | AQ12: =IF(ISBLANK(AP12),0,SUMPRODUCT(($N$6:$N$19=AP12))) -> 0 | AS12: =IF(ISBLANK(AR12),0,SUMPRODUCT(($P$6:$P$19=AR12))) -> 0 | AU12: =IF(ISBLANK(AT12),0,SUMPRODUCT(($D$6:$D$19=AT12))) -> 0 | AW12: =IF(ISBLANK(AV12),0,SUMPRODUCT(($F$6:$F$19=AV12))) -> 0 | AY12: =IF(ISBLANK(AX12),0,SUMPRODUCT(($H$6:$H$19=AX12))) -> 0 | BA12: =IF(ISBLANK(AZ12),0,SUMPRODUCT(($J$6:$J$19=AZ12))) -> 0 | BC12: =IF(ISBLANK(BB12),0,SUMPRODUCT(($L$6:$L$19=BB12))) -> 0 | BE12: =IF(ISBLANK(BD12),0,SUMPRODUCT(($N$6:$N$19=BD12))) -> 0 | BG12: =IF(ISBLANK(BF12),0,SUMPRODUCT(($P$6:$P$19=BF12))) -> 0 | BI12: =IF(ISBLANK(BH12),0,SUMPRODUCT(($D$6:$D$19=BH12))) -> 0 | BK12: =IF(ISBLANK(BJ12),0,SUMPRODUCT(($F$6:$F$19=BJ12))) -> 0 | BM12: =IF(ISBLANK(BL12),0,SUMPRODUCT(($H$6:$H$19=BL12))) -> 0 | BO12: =IF(ISBLANK(BN12),0,SUMPRODUCT(($J$6:$J$19=BN12))) -> 0 | BQ12: =IF(ISBLANK(BP12),0,SUMPRODUCT(($L$6:$L$19=BP12))) -> 0 | BS12: =IF(ISBLANK(BR12),0,SUMPRODUCT(($N$6:$N$19=BR12))) -> 0 | BU12: =IF(ISBLANK(BT12),0,SUMPRODUCT(($P$6:$P$19=BT12))) -> 0 | BW12: =IF(ISBLANK(BV12),0,SUMPRODUCT(($D$6:$D$19=BV12))) -> 0 | BY12: =IF(ISBLANK(BX12),0,SUMPRODUCT(($F$6:$F$19=BX12))) -> 0 | CA12: =IF(ISBLANK(BZ12),0,SUMPRODUCT(($H$6:$H$19=BZ12))) -> 0 | CC12: =IF(ISBLANK(CB12),0,SUMPRODUCT(($J$6:$J$19=CB12))) -> 0 | CE12: =IF(ISBLANK(CD12),0,SUMPRODUCT(($L$6:$L$19=CD12))) -> 0 | CG12: =IF(ISBLANK(CF12),0,SUMPRODUCT(($N$6:$N$19=CF12))) -> 0 | CI12: =IF(ISBLANK(CH12),0,SUMPRODUCT(($P$6:$P$19=CH12))) -> 0
C13: classe8 | E13: =IF(ISBLANK(D13),0,SUMPRODUCT(($D$6:$D$19=D13))) -> 0 | G13: =IF(ISBLANK(F13),0,SUMPRODUCT(($F$6:$F$19=F13))) -> 0 | I13: =IF(ISBLANK(H13),0,SUMPRODUCT(($H$6:$H$19=H13))) -> 0 | K13: =IF(ISBLANK(J13),0,SUMPRODUCT(($J$6:$J$19=J13))) -> 0 | M13: =IF(ISBLANK(L13),0,SUMPRODUCT(($L$6:$L$19=L13))) -> 0 | O13: =IF(ISBLANK(N13),0,SUMPRODUCT(($N$6:$N$19=N13))) -> 0 | Q13: =IF(ISBLANK(P13),0,SUMPRODUCT(($P$6:$P$19=P13))) -> 0 | S13: =IF(ISBLANK(R13),0,SUMPRODUCT(($D$6:$D$19=R13))) -> 0 | U13: =IF(ISBLANK(T13),0,SUMPRODUCT(($F$6:$F$19=T13))) -> 0 | W13: =IF(ISBLANK(V13),0,SUMPRODUCT(($H$6:$H$19=V13))) -> 0 | Y13: =IF(ISBLANK(X13),0,SUMPRODUCT(($J$6:$J$19=X13))) -> 0 | AA13: =IF(ISBLANK(Z13),0,SUMPRODUCT(($L$6:$L$19=Z13))) -> 0 | AC13: =IF(ISBLANK(AB13),0,SUMPRODUCT(($N$6:$N$19=AB13))) -> 0 | AE13: =IF(ISBLANK(AD13),0,SUMPRODUCT(($P$6:$P$19=AD13))) -> 0 | AG13: =IF(ISBLANK(AF13),0,SUMPRODUCT(($D$6:$D$19=AF13))) -> 0 | AI13: =IF(ISBLANK(AH13),0,SUMPRODUCT(($F$6:$F$19=AH13))) -> 0 | AK13: =IF(ISBLANK(AJ13),0,SUMPRODUCT(($H$6:$H$19=AJ13))) -> 0 | AM13: =IF(ISBLANK(AL13),0,SUMPRODUCT(($J$6:$J$19=AL13))) -> 0 | AO13: =IF(ISBLANK(AN13),0,SUMPRODUCT(($L$6:$L$19=AN13))) -> 0 | AQ13: =IF(ISBLANK(AP13),0,SUMPRODUCT(($N$6:$N$19=AP13))) -> 0 | AS13: =IF(ISBLANK(AR13),0,SUMPRODUCT(($P$6:$P$19=AR13))) -> 0 | AU13: =IF(ISBLANK(AT13),0,SUMPRODUCT(($D$6:$D$19=AT13))) -> 0 | AW13: =IF(ISBLANK(AV13),0,SUMPRODUCT(($F$6:$F$19=AV13))) -> 0 | AY13: =IF(ISBLANK(AX13),0,SUMPRODUCT(($H$6:$H$19=AX13))) -> 0 | BA13: =IF(ISBLANK(AZ13),0,SUMPRODUCT(($J$6:$J$19=AZ13))) -> 0 | BC13: =IF(ISBLANK(BB13),0,SUMPRODUCT(($L$6:$L$19=BB13))) -> 0 | BE13: =IF(ISBLANK(BD13),0,SUMPRODUCT(($N$6:$N$19=BD13))) -> 0 | BG13: =IF(ISBLANK(BF13),0,SUMPRODUCT(($P$6:$P$19=BF13))) -> 0 | BI13: =IF(ISBLANK(BH13),0,SUMPRODUCT(($D$6:$D$19=BH13))) -> 0 | BK13: =IF(ISBLANK(BJ13),0,SUMPRODUCT(($F$6:$F$19=BJ13))) -> 0 | BM13: =IF(ISBLANK(BL13),0,SUMPRODUCT(($H$6:$H$19=BL13))) -> 0 | BO13: =IF(ISBLANK(BN13),0,SUMPRODUCT(($J$6:$J$19=BN13))) -> 0 | BQ13: =IF(ISBLANK(BP13),0,SUMPRODUCT(($L$6:$L$19=BP13))) -> 0 | BS13: =IF(ISBLANK(BR13),0,SUMPRODUCT(($N$6:$N$19=BR13))) -> 0 | BU13: =IF(ISBLANK(BT13),0,SUMPRODUCT(($P$6:$P$19=BT13))) -> 0 | BW13: =IF(ISBLANK(BV13),0,SUMPRODUCT(($D$6:$D$19=BV13))) -> 0 | BY13: =IF(ISBLANK(BX13),0,SUMPRODUCT(($F$6:$F$19=BX13))) -> 0 | CA13: =IF(ISBLANK(BZ13),0,SUMPRODUCT(($H$6:$H$19=BZ13))) -> 0 | CC13: =IF(ISBLANK(CB13),0,SUMPRODUCT(($J$6:$J$19=CB13))) -> 0 | CE13: =IF(ISBLANK(CD13),0,SUMPRODUCT(($L$6:$L$19=CD13))) -> 0 | CG13: =IF(ISBLANK(CF13),0,SUMPRODUCT(($N$6:$N$19=CF13))) -> 0 | CI13: =IF(ISBLANK(CH13),0,SUMPRODUCT(($P$6:$P$19=CH13))) -> 0
C14: classe9 | E14: =IF(ISBLANK(D14),0,SUMPRODUCT(($D$6:$D$19=D14))) -> 0 | G14: =IF(ISBLANK(F14),0,SUMPRODUCT(($F$6:$F$19=F14))) -> 0 | I14: =IF(ISBLANK(H14),0,SUMPRODUCT(($H$6:$H$19=H14))) -> 0 | K14: =IF(ISBLANK(J14),0,SUMPRODUCT(($J$6:$J$19=J14))) -> 0 | M14: =IF(ISBLANK(L14),0,SUMPRODUCT(($L$6:$L$19=L14))) -> 0 | O14: =IF(ISBLANK(N14),0,SUMPRODUCT(($N$6:$N$19=N14))) -> 0 | Q14: =IF(ISBLANK(P14),0,SUMPRODUCT(($P$6:$P$19=P14))) -> 0 | S14: =IF(ISBLANK(R14),0,SUMPRODUCT(($D$6:$D$19=R14))) -> 0 | U14: =IF(ISBLANK(T14),0,SUMPRODUCT(($F$6:$F$19=T14))) -> 0 | W14: =IF(ISBLANK(V14),0,SUMPRODUCT(($H$6:$H$19=V14))) -> 0 | Y14: =IF(ISBLANK(X14),0,SUMPRODUCT(($J$6:$J$19=X14))) -> 0 | AA14: =IF(ISBLANK(Z14),0,SUMPRODUCT(($L$6:$L$19=Z14))) -> 0 | AC14: =IF(ISBLANK(AB14),0,SUMPRODUCT(($N$6:$N$19=AB14))) -> 0 | AE14: =IF(ISBLANK(AD14),0,SUMPRODUCT(($P$6:$P$19=AD14))) -> 0 | AG14: =IF(ISBLANK(AF14),0,SUMPRODUCT(($D$6:$D$19=AF14))) -> 0 | AI14: =IF(ISBLANK(AH14),0,SUMPRODUCT(($F$6:$F$19=AH14))) -> 0 | AK14: =IF(ISBLANK(AJ14),0,SUMPRODUCT(($H$6:$H$19=AJ14))) -> 0 | AM14: =IF(ISBLANK(AL14),0,SUMPRODUCT(($J$6:$J$19=AL14))) -> 0 | AO14: =IF(ISBLANK(AN14),0,SUMPRODUCT(($L$6:$L$19=AN14))) -> 0 | AQ14: =IF(ISBLANK(AP14),0,SUMPRODUCT(($N$6:$N$19=AP14))) -> 0 | AS14: =IF(ISBLANK(AR14),0,SUMPRODUCT(($P$6:$P$19=AR14))) -> 0 | AU14: =IF(ISBLANK(AT14),0,SUMPRODUCT(($D$6:$D$19=AT14))) -> 0 | AW14: =IF(ISBLANK(AV14),0,SUMPRODUCT(($F$6:$F$19=AV14))) -> 0 | AY14: =IF(ISBLANK(AX14),0,SUMPRODUCT(($H$6:$H$19=AX14))) -> 0 | BA14: =IF(ISBLANK(AZ14),0,SUMPRODUCT(($J$6:$J$19=AZ14))) -> 0 | BC14: =IF(ISBLANK(BB14),0,SUMPRODUCT(($L$6:$L$19=BB14))) -> 0 | BE14: =IF(ISBLANK(BD14),0,SUMPRODUCT(($N$6:$N$19=BD14))) -> 0 | BG14: =IF(ISBLANK(BF14),0,SUMPRODUCT(($P$6:$P$19=BF14))) -> 0 | BI14: =IF(ISBLANK(BH14),0,SUMPRODUCT(($D$6:$D$19=BH14))) -> 0 | BK14: =IF(ISBLANK(BJ14),0,SUMPRODUCT(($F$6:$F$19=BJ14))) -> 0 | BM14: =IF(ISBLANK(BL14),0,SUMPRODUCT(($H$6:$H$19=BL14))) -> 0 | BO14: =IF(ISBLANK(BN14),0,SUMPRODUCT(($J$6:$J$19=BN14))) -> 0 | BQ14: =IF(ISBLANK(BP14),0,SUMPRODUCT(($L$6:$L$19=BP14))) -> 0 | BS14: =IF(ISBLANK(BR14),0,SUMPRODUCT(($N$6:$N$19=BR14))) -> 0 | BU14: =IF(ISBLANK(BT14),0,SUMPRODUCT(($P$6:$P$19=BT14))) -> 0 | BW14: =IF(ISBLANK(BV14),0,SUMPRODUCT(($D$6:$D$19=BV14))) -> 0 | BY14: =IF(ISBLANK(BX14),0,SUMPRODUCT(($F$6:$F$19=BX14))) -> 0 | CA14: =IF(ISBLANK(BZ14),0,SUMPRODUCT(($H$6:$H$19=BZ14))) -> 0 | CC14: =IF(ISBLANK(CB14),0,SUMPRODUCT(($J$6:$J$19=CB14))) -> 0 | CE14: =IF(ISBLANK(CD14),0,SUMPRODUCT(($L$6:$L$19=CD14))) -> 0 | CG14: =IF(ISBLANK(CF14),0,SUMPRODUCT(($N$6:$N$19=CF14))) -> 0 | CI14: =IF(ISBLANK(CH14),0,SUMPRODUCT(($P$6:$P$19=CH14))) -> 0
C15: classe6 | E15: =IF(ISBLANK(D15),0,SUMPRODUCT(($D$6:$D$19=D15))) -> 0 | G15: =IF(ISBLANK(F15),0,SUMPRODUCT(($F$6:$F$19=F15))) -> 0 | I15: =IF(ISBLANK(H15),0,SUMPRODUCT(($H$6:$H$19=H15))) -> 0 | K15: =IF(ISBLANK(J15),0,SUMPRODUCT(($J$6:$J$19=J15))) -> 0 | M15: =IF(ISBLANK(L15),0,SUMPRODUCT(($L$6:$L$19=L15))) -> 0 | O15: =IF(ISBLANK(N15),0,SUMPRODUCT(($N$6:$N$19=N15))) -> 0 | Q15: =IF(ISBLANK(P15),0,SUMPRODUCT(($P$6:$P$19=P15))) -> 0 | S15: =IF(ISBLANK(R15),0,SUMPRODUCT(($D$6:$D$19=R15))) -> 0 | U15: =IF(ISBLANK(T15),0,SUMPRODUCT(($F$6:$F$19=T15))) -> 0 | W15: =IF(ISBLANK(V15),0,SUMPRODUCT(($H$6:$H$19=V15))) -> 0 | Y15: =IF(ISBLANK(X15),0,SUMPRODUCT(($J$6:$J$19=X15))) -> 0 | AA15: =IF(ISBLANK(Z15),0,SUMPRODUCT(($L$6:$L$19=Z15))) -> 0 | AC15: =IF(ISBLANK(AB15),0,SUMPRODUCT(($N$6:$N$19=AB15))) -> 0 | AE15: =IF(ISBLANK(AD15),0,SUMPRODUCT(($P$6:$P$19=AD15))) -> 0 | AG15: =IF(ISBLANK(AF15),0,SUMPRODUCT(($D$6:$D$19=AF15))) -> 0 | AI15: =IF(ISBLANK(AH15),0,SUMPRODUCT(($F$6:$F$19=AH15))) -> 0 | AK15: =IF(ISBLANK(AJ15),0,SUMPRODUCT(($H$6:$H$19=AJ15))) -> 0 | AM15: =IF(ISBLANK(AL15),0,SUMPRODUCT(($J$6:$J$19=AL15))) -> 0 | AO15: =IF(ISBLANK(AN15),0,SUMPRODUCT(($L$6:$L$19=AN15))) -> 0 | AQ15: =IF(ISBLANK(AP15),0,SUMPRODUCT(($N$6:$N$19=AP15))) -> 0 | AS15: =IF(ISBLANK(AR15),0,SUMPRODUCT(($P$6:$P$19=AR15))) -> 0 | AU15: =IF(ISBLANK(AT15),0,SUMPRODUCT(($D$6:$D$19=AT15))) -> 0 | AW15: =IF(ISBLANK(AV15),0,SUMPRODUCT(($F$6:$F$19=AV15))) -> 0 | AY15: =IF(ISBLANK(AX15),0,SUMPRODUCT(($H$6:$H$19=AX15))) -> 0 | BA15: =IF(ISBLANK(AZ15),0,SUMPRODUCT(($J$6:$J$19=AZ15))) -> 0 | BC15: =IF(ISBLANK(BB15),0,SUMPRODUCT(($L$6:$L$19=BB15))) -> 0 | BE15: =IF(ISBLANK(BD15),0,SUMPRODUCT(($N$6:$N$19=BD15))) -> 0 | BG15: =IF(ISBLANK(BF15),0,SUMPRODUCT(($P$6:$P$19=BF15))) -> 0 | BI15: =IF(ISBLANK(BH15),0,SUMPRODUCT(($D$6:$D$19=BH15))) -> 0 | BK15: =IF(ISBLANK(BJ15),0,SUMPRODUCT(($F$6:$F$19=BJ15))) -> 0 | BM15: =IF(ISBLANK(BL15),0,SUMPRODUCT(($H$6:$H$19=BL15))) -> 0 | BO15: =IF(ISBLANK(BN15),0,SUMPRODUCT(($J$6:$J$19=BN15))) -> 0 | BQ15: =IF(ISBLANK(BP15),0,SUMPRODUCT(($L$6:$L$19=BP15))) -> 0 | BS15: =IF(ISBLANK(BR15),0,SUMPRODUCT(($N$6:$N$19=BR15))) -> 0 | BU15: =IF(ISBLANK(BT15),0,SUMPRODUCT(($P$6:$P$19=BT15))) -> 0 | BW15: =IF(ISBLANK(BV15),0,SUMPRODUCT(($D$6:$D$19=BV15))) -> 0 | BY15: =IF(ISBLANK(BX15),0,SUMPRODUCT(($F$6:$F$19=BX15))) -> 0 | CA15: =IF(ISBLANK(BZ15),0,SUMPRODUCT(($H$6:$H$19=BZ15))) -> 0 | CC15: =IF(ISBLANK(CB15),0,SUMPRODUCT(($J$6:$J$19=CB15))) -> 0 | CE15: =IF(ISBLANK(CD15),0,SUMPRODUCT(($L$6:$L$19=CD15))) -> 0 | CG15: =IF(ISBLANK(CF15),0,SUMPRODUCT(($N$6:$N$19=CF15))) -> 0 | CI15: =IF(ISBLANK(CH15),0,SUMPRODUCT(($P$6:$P$19=CH15))) -> 0
C16: classe7 | E16: =IF(ISBLANK(D16),0,SUMPRODUCT(($D$6:$D$19=D16))) -> 0 | G16: =IF(ISBLANK(F16),0,SUMPRODUCT(($F$6:$F$19=F16))) -> 0 | I16: =IF(ISBLANK(H16),0,SUMPRODUCT(($H$6:$H$19=H16))) -> 0 | K16: =IF(ISBLANK(J16),0,SUMPRODUCT(($J$6:$J$19=J16))) -> 0 | M16: =IF(ISBLANK(L16),0,SUMPRODUCT(($L$6:$L$19=L16))) -> 0 | O16: =IF(ISBLANK(N16),0,SUMPRODUCT(($N$6:$N$19=N16))) -> 0 | Q16: =IF(ISBLANK(P16),0,SUMPRODUCT(($P$6:$P$19=P16))) -> 0 | S16: =IF(ISBLANK(R16),0,SUMPRODUCT(($D$6:$D$19=R16))) -> 0 | U16: =IF(ISBLANK(T16),0,SUMPRODUCT(($F$6:$F$19=T16))) -> 0 | W16: =IF(ISBLANK(V16),0,SUMPRODUCT(($H$6:$H$19=V16))) -> 0 | Y16: =IF(ISBLANK(X16),0,SUMPRODUCT(($J$6:$J$19=X16))) -> 0 | AA16: =IF(ISBLANK(Z16),0,SUMPRODUCT(($L$6:$L$19=Z16))) -> 0 | AC16: =IF(ISBLANK(AB16),0,SUMPRODUCT(($N$6:$N$19=AB16))) -> 0 | AE16: =IF(ISBLANK(AD16),0,SUMPRODUCT(($P$6:$P$19=AD16))) -> 0 | AG16: =IF(ISBLANK(AF16),0,SUMPRODUCT(($D$6:$D$19=AF16))) -> 0 | AI16: =IF(ISBLANK(AH16),0,SUMPRODUCT(($F$6:$F$19=AH16))) -> 0 | AK16: =IF(ISBLANK(AJ16),0,SUMPRODUCT(($H$6:$H$19=AJ16))) -> 0 | AM16: =IF(ISBLANK(AL16),0,SUMPRODUCT(($J$6:$J$19=AL16))) -> 0 | AO16: =IF(ISBLANK(AN16),0,SUMPRODUCT(($L$6:$L$19=AN16))) -> 0 | AQ16: =IF(ISBLANK(AP16),0,SUMPRODUCT(($N$6:$N$19=AP16))) -> 0 | AS16: =IF(ISBLANK(AR16),0,SUMPRODUCT(($P$6:$P$19=AR16))) -> 0 | AU16: =IF(ISBLANK(AT16),0,SUMPRODUCT(($D$6:$D$19=AT16))) -> 0 | AW16: =IF(ISBLANK(AV16),0,SUMPRODUCT(($F$6:$F$19=AV16))) -> 0 | AY16: =IF(ISBLANK(AX16),0,SUMPRODUCT(($H$6:$H$19=AX16))) -> 0 | BA16: =IF(ISBLANK(AZ16),0,SUMPRODUCT(($J$6:$J$19=AZ16))) -> 0 | BC16: =IF(ISBLANK(BB16),0,SUMPRODUCT(($L$6:$L$19=BB16))) -> 0 | BE16: =IF(ISBLANK(BD16),0,SUMPRODUCT(($N$6:$N$19=BD16))) -> 0 | BG16: =IF(ISBLANK(BF16),0,SUMPRODUCT(($P$6:$P$19=BF16))) -> 0 | BI16: =IF(ISBLANK(BH16),0,SUMPRODUCT(($D$6:$D$19=BH16))) -> 0 | BK16: =IF(ISBLANK(BJ16),0,SUMPRODUCT(($F$6:$F$19=BJ16))) -> 0 | BM16: =IF(ISBLANK(BL16),0,SUMPRODUCT(($H$6:$H$19=BL16))) -> 0 | BO16: =IF(ISBLANK(BN16),0,SUMPRODUCT(($J$6:$J$19=BN16))) -> 0 | BQ16: =IF(ISBLANK(BP16),0,SUMPRODUCT(($L$6:$L$19=BP16))) -> 0 | BS16: =IF(ISBLANK(BR16),0,SUMPRODUCT(($N$6:$N$19=BR16))) -> 0 | BU16: =IF(ISBLANK(BT16),0,SUMPRODUCT(($P$6:$P$19=BT16))) -> 0 | BW16: =IF(ISBLANK(BV16),0,SUMPRODUCT(($D$6:$D$19=BV16))) -> 0 | BY16: =IF(ISBLANK(BX16),0,SUMPRODUCT(($F$6:$F$19=BX16))) -> 0 | CA16: =IF(ISBLANK(BZ16),0,SUMPRODUCT(($H$6:$H$19=BZ16))) -> 0 | CC16: =IF(ISBLANK(CB16),0,SUMPRODUCT(($J$6:$J$19=CB16))) -> 0 | CE16: =IF(ISBLANK(CD16),0,SUMPRODUCT(($L$6:$L$19=CD16))) -> 0 | CG16: =IF(ISBLANK(CF16),0,SUMPRODUCT(($N$6:$N$19=CF16))) -> 0 | CI16: =IF(ISBLANK(CH16),0,SUMPRODUCT(($P$6:$P$19=CH16))) -> 0
C17: classe8 | E17: =IF(ISBLANK(D17),0,SUMPRODUCT(($D$6:$D$19=D17))) -> 0 | G17: =IF(ISBLANK(F17),0,SUMPRODUCT(($F$6:$F$19=F17))) -> 0 | I17: =IF(ISBLANK(H17),0,SUMPRODUCT(($H$6:$H$19=H17))) -> 0 | K17: =IF(ISBLANK(J17),0,SUMPRODUCT(($J$6:$J$19=J17))) -> 0 | M17: =IF(ISBLANK(L17),0,SUMPRODUCT(($L$6:$L$19=L17))) -> 0 | O17: =IF(ISBLANK(N17),0,SUMPRODUCT(($N$6:$N$19=N17))) -> 0 | Q17: =IF(ISBLANK(P17),0,SUMPRODUCT(($P$6:$P$19=P17))) -> 0 | S17: =IF(ISBLANK(R17),0,SUMPRODUCT(($D$6:$D$19=R17))) -> 0 | U17: =IF(ISBLANK(T17),0,SUMPRODUCT(($F$6:$F$19=T17))) -> 0 | W17: =IF(ISBLANK(V17),0,SUMPRODUCT(($H$6:$H$19=V17))) -> 0 | Y17: =IF(ISBLANK(X17),0,SUMPRODUCT(($J$6:$J$19=X17))) -> 0 | AA17: =IF(ISBLANK(Z17),0,SUMPRODUCT(($L$6:$L$19=Z17))) -> 0 | AC17: =IF(ISBLANK(AB17),0,SUMPRODUCT(($N$6:$N$19=AB17))) -> 0 | AE17: =IF(ISBLANK(AD17),0,SUMPRODUCT(($P$6:$P$19=AD17))) -> 0 | AG17: =IF(ISBLANK(AF17),0,SUMPRODUCT(($D$6:$D$19=AF17))) -> 0 | AI17: =IF(ISBLANK(AH17),0,SUMPRODUCT(($F$6:$F$19=AH17))) -> 0 | AK17: =IF(ISBLANK(AJ17),0,SUMPRODUCT(($H$6:$H$19=AJ17))) -> 0 | AM17: =IF(ISBLANK(AL17),0,SUMPRODUCT(($J$6:$J$19=AL17))) -> 0 | AO17: =IF(ISBLANK(AN17),0,SUMPRODUCT(($L$6:$L$19=AN17))) -> 0 | AQ17: =IF(ISBLANK(AP17),0,SUMPRODUCT(($N$6:$N$19=AP17))) -> 0 | AS17: =IF(ISBLANK(AR17),0,SUMPRODUCT(($P$6:$P$19=AR17))) -> 0 | AU17: =IF(ISBLANK(AT17),0,SUMPRODUCT(($D$6:$D$19=AT17))) -> 0 | AW17: =IF(ISBLANK(AV17),0,SUMPRODUCT(($F$6:$F$19=AV17))) -> 0 | AY17: =IF(ISBLANK(AX17),0,SUMPRODUCT(($H$6:$H$19=AX17))) -> 0 | BA17: =IF(ISBLANK(AZ17),0,SUMPRODUCT(($J$6:$J$19=AZ17))) -> 0 | BC17: =IF(ISBLANK(BB17),0,SUMPRODUCT(($L$6:$L$19=BB17))) -> 0 | BE17: =IF(ISBLANK(BD17),0,SUMPRODUCT(($N$6:$N$19=BD17))) -> 0 | BG17: =IF(ISBLANK(BF17),0,SUMPRODUCT(($P$6:$P$19=BF17))) -> 0 | BI17: =IF(ISBLANK(BH17),0,SUMPRODUCT(($D$6:$D$19=BH17))) -> 0 | BK17: =IF(ISBLANK(BJ17),0,SUMPRODUCT(($F$6:$F$19=BJ17))) -> 0 | BM17: =IF(ISBLANK(BL17),0,SUMPRODUCT(($H$6:$H$19=BL17))) -> 0 | BO17: =IF(ISBLANK(BN17),0,SUMPRODUCT(($J$6:$J$19=BN17))) -> 0 | BQ17: =IF(ISBLANK(BP17),0,SUMPRODUCT(($L$6:$L$19=BP17))) -> 0 | BS17: =IF(ISBLANK(BR17),0,SUMPRODUCT(($N$6:$N$19=BR17))) -> 0 | BU17: =IF(ISBLANK(BT17),0,SUMPRODUCT(($P$6:$P$19=BT17))) -> 0 | BW17: =IF(ISBLANK(BV17),0,SUMPRODUCT(($D$6:$D$19=BV17))) -> 0 | BY17: =IF(ISBLANK(BX17),0,SUMPRODUCT(($F$6:$F$19=BX17))) -> 0 | CA17: =IF(ISBLANK(BZ17),0,SUMPRODUCT(($H$6:$H$19=BZ17))) -> 0 | CC17: =IF(ISBLANK(CB17),0,SUMPRODUCT(($J$6:$J$19=CB17))) -> 0 | CE17: =IF(ISBLANK(CD17),0,SUMPRODUCT(($L$6:$L$19=CD17))) -> 0 | CG17: =IF(ISBLANK(CF17),0,SUMPRODUCT(($N$6:$N$19=CF17))) -> 0 | CI17: =IF(ISBLANK(CH17),0,SUMPRODUCT(($P$6:$P$19=CH17))) -> 0
C18: classe9 | E18: =IF(ISBLANK(D18),0,SUMPRODUCT(($D$6:$D$19=D18))) -> 0 | G18: =IF(ISBLANK(F18),0,SUMPRODUCT(($F$6:$F$19=F18))) -> 0 | I18: =IF(ISBLANK(H18),0,SUMPRODUCT(($H$6:$H$19=H18))) -> 0 | K18: =IF(ISBLANK(J18),0,SUMPRODUCT(($J$6:$J$19=J18))) -> 0 | M18: =IF(ISBLANK(L18),0,SUMPRODUCT(($L$6:$L$19=L18))) -> 0 | O18: =IF(ISBLANK(N18),0,SUMPRODUCT(($N$6:$N$19=N18))) -> 0 | Q18: =IF(ISBLANK(P18),0,SUMPRODUCT(($P$6:$P$19=P18))) -> 0 | S18: =IF(ISBLANK(R18),0,SUMPRODUCT(($D$6:$D$19=R18))) -> 0 | U18: =IF(ISBLANK(T18),0,SUMPRODUCT(($F$6:$F$19=T18))) -> 0 | W18: =IF(ISBLANK(V18),0,SUMPRODUCT(($H$6:$H$19=V18))) -> 0 | Y18: =IF(ISBLANK(X18),0,SUMPRODUCT(($J$6:$J$19=X18))) -> 0 | AA18: =IF(ISBLANK(Z18),0,SUMPRODUCT(($L$6:$L$19=Z18))) -> 0 | AC18: =IF(ISBLANK(AB18),0,SUMPRODUCT(($N$6:$N$19=AB18))) -> 0 | AE18: =IF(ISBLANK(AD18),0,SUMPRODUCT(($P$6:$P$19=AD18))) -> 0 | AG18: =IF(ISBLANK(AF18),0,SUMPRODUCT(($D$6:$D$19=AF18))) -> 0 | AI18: =IF(ISBLANK(AH18),0,SUMPRODUCT(($F$6:$F$19=AH18))) -> 0 | AK18: =IF(ISBLANK(AJ18),0,SUMPRODUCT(($H$6:$H$19=AJ18))) -> 0 | AM18: =IF(ISBLANK(AL18),0,SUMPRODUCT(($J$6:$J$19=AL18))) -> 0 | AO18: =IF(ISBLANK(AN18),0,SUMPRODUCT(($L$6:$L$19=AN18))) -> 0 | AQ18: =IF(ISBLANK(AP18),0,SUMPRODUCT(($N$6:$N$19=AP18))) -> 0 | AS18: =IF(ISBLANK(AR18),0,SUMPRODUCT(($P$6:$P$19=AR18))) -> 0 | AU18: =IF(ISBLANK(AT18),0,SUMPRODUCT(($D$6:$D$19=AT18))) -> 0 | AW18: =IF(ISBLANK(AV18),0,SUMPRODUCT(($F$6:$F$19=AV18))) -> 0 | AY18: =IF(ISBLANK(AX18),0,SUMPRODUCT(($H$6:$H$19=AX18))) -> 0 | BA18: =IF(ISBLANK(AZ18),0,SUMPRODUCT(($J$6:$J$19=AZ18))) -> 0 | BC18: =IF(ISBLANK(BB18),0,SUMPRODUCT(($L$6:$L$19=BB18))) -> 0 | BE18: =IF(ISBLANK(BD18),0,SUMPRODUCT(($N$6:$N$19=BD18))) -> 0 | BG18: =IF(ISBLANK(BF18),0,SUMPRODUCT(($P$6:$P$19=BF18))) -> 0 | BI18: =IF(ISBLANK(BH18),0,SUMPRODUCT(($D$6:$D$19=BH18))) -> 0 | BK18: =IF(ISBLANK(BJ18),0,SUMPRODUCT(($F$6:$F$19=BJ18))) -> 0 | BM18: =IF(ISBLANK(BL18),0,SUMPRODUCT(($H$6:$H$19=BL18))) -> 0 | BO18: =IF(ISBLANK(BN18),0,SUMPRODUCT(($J$6:$J$19=BN18))) -> 0 | BQ18: =IF(ISBLANK(BP18),0,SUMPRODUCT(($L$6:$L$19=BP18))) -> 0 | BS18: =IF(ISBLANK(BR18),0,SUMPRODUCT(($N$6:$N$19=BR18))) -> 0 | BU18: =IF(ISBLANK(BT18),0,SUMPRODUCT(($P$6:$P$19=BT18))) -> 0 | BW18: =IF(ISBLANK(BV18),0,SUMPRODUCT(($D$6:$D$19=BV18))) -> 0 | BY18: =IF(ISBLANK(BX18),0,SUMPRODUCT(($F$6:$F$19=BX18))) -> 0 | CA18: =IF(ISBLANK(BZ18),0,SUMPRODUCT(($H$6:$H$19=BZ18))) -> 0 | CC18: =IF(ISBLANK(CB18),0,SUMPRODUCT(($J$6:$J$19=CB18))) -> 0 | CE18: =IF(ISBLANK(CD18),0,SUMPRODUCT(($L$6:$L$19=CD18))) -> 0 | CG18: =IF(ISBLANK(CF18),0,SUMPRODUCT(($N$6:$N$19=CF18))) -> 0 | CI18: =IF(ISBLANK(CH18),0,SUMPRODUCT(($P$6:$P$19=CH18))) -> 0
C19: classe10 | E19: =IF(ISBLANK(D19),0,SUMPRODUCT(($D$6:$D$19=D19))) -> 0 | G19: =IF(ISBLANK(F19),0,SUMPRODUCT(($F$6:$F$19=F19))) -> 0 | I19: =IF(ISBLANK(H19),0,SUMPRODUCT(($H$6:$H$19=H19))) -> 0 | K19: =IF(ISBLANK(J19),0,SUMPRODUCT(($J$6:$J$19=J19))) -> 0 | M19: =IF(ISBLANK(L19),0,SUMPRODUCT(($L$6:$L$19=L19))) -> 0 | O19: =IF(ISBLANK(N19),0,SUMPRODUCT(($N$6:$N$19=N19))) -> 0 | Q19: =IF(ISBLANK(P19),0,SUMPRODUCT(($P$6:$P$19=P19))) -> 0 | S19: =IF(ISBLANK(R19),0,SUMPRODUCT(($D$6:$D$19=R19))) -> 0 | U19: =IF(ISBLANK(T19),0,SUMPRODUCT(($F$6:$F$19=T19))) -> 0 | W19: =IF(ISBLANK(V19),0,SUMPRODUCT(($H$6:$H$19=V19))) -> 0 | Y19: =IF(ISBLANK(X19),0,SUMPRODUCT(($J$6:$J$19=X19))) -> 0 | AA19: =IF(ISBLANK(Z19),0,SUMPRODUCT(($L$6:$L$19=Z19))) -> 0 | AC19: =IF(ISBLANK(AB19),0,SUMPRODUCT(($N$6:$N$19=AB19))) -> 0 | AE19: =IF(ISBLANK(AD19),0,SUMPRODUCT(($P$6:$P$19=AD19))) -> 0 | AG19: =IF(ISBLANK(AF19),0,SUMPRODUCT(($D$6:$D$19=AF19))) -> 0 | AI19: =IF(ISBLANK(AH19),0,SUMPRODUCT(($F$6:$F$19=AH19))) -> 0 | AK19: =IF(ISBLANK(AJ19),0,SUMPRODUCT(($H$6:$H$19=AJ19))) -> 0 | AM19: =IF(ISBLANK(AL19),0,SUMPRODUCT(($J$6:$J$19=AL19))) -> 0 | AO19: =IF(ISBLANK(AN19),0,SUMPRODUCT(($L$6:$L$19=AN19))) -> 0 | AQ19: =IF(ISBLANK(AP19),0,SUMPRODUCT(($N$6:$N$19=AP19))) -> 0 | AS19: =IF(ISBLANK(AR19),0,SUMPRODUCT(($P$6:$P$19=AR19))) -> 0 | AU19: =IF(ISBLANK(AT19),0,SUMPRODUCT(($D$6:$D$19=AT19))) -> 0 | AW19: =IF(ISBLANK(AV19),0,SUMPRODUCT(($F$6:$F$19=AV19))) -> 0 | AY19: =IF(ISBLANK(AX19),0,SUMPRODUCT(($H$6:$H$19=AX19))) -> 0 | BA19: =IF(ISBLANK(AZ19),0,SUMPRODUCT(($J$6:$J$19=AZ19))) -> 0 | BC19: =IF(ISBLANK(BB19),0,SUMPRODUCT(($L$6:$L$19=BB19))) -> 0 | BE19: =IF(ISBLANK(BD19),0,SUMPRODUCT(($N$6:$N$19=BD19))) -> 0 | BG19: =IF(ISBLANK(BF19),0,SUMPRODUCT(($P$6:$P$19=BF19))) -> 0 | BI19: =IF(ISBLANK(BH19),0,SUMPRODUCT(($D$6:$D$19=BH19))) -> 0 | BK19: =IF(ISBLANK(BJ19),0,SUMPRODUCT(($F$6:$F$19=BJ19))) -> 0 | BM19: =IF(ISBLANK(BL19),0,SUMPRODUCT(($H$6:$H$19=BL19))) -> 0 | BO19: =IF(ISBLANK(BN19),0,SUMPRODUCT(($J$6:$J$19=BN19))) -> 0 | BQ19: =IF(ISBLANK(BP19),0,SUMPRODUCT(($L$6:$L$19=BP19))) -> 0 | BS19: =IF(ISBLANK(BR19),0,SUMPRODUCT(($N$6:$N$19=BR19))) -> 0 | BU19: =IF(ISBLANK(BT19),0,SUMPRODUCT(($P$6:$P$19=BT19))) -> 0 | BW19: =IF(ISBLANK(BV19),0,SUMPRODUCT(($D$6:$D$19=BV19))) -> 0 | BY19: =IF(ISBLANK(BX19),0,SUMPRODUCT(($F$6:$F$19=BX19))) -> 0 | CA19: =IF(ISBLANK(BZ19),0,SUMPRODUCT(($H$6:$H$19=BZ19))) -> 0 | CC19: =IF(ISBLANK(CB19),0,SUMPRODUCT(($J$6:$J$19=CB19))) -> 0 | CE19: =IF(ISBLANK(CD19),0,SUMPRODUCT(($L$6:$L$19=CD19))) -> 0 | CG19: =IF(ISBLANK(CF19),0,SUMPRODUCT(($N$6:$N$19=CF19))) -> 0 | CI19: =IF(ISBLANK(CH19),0,SUMPRODUCT(($P$6:$P$19=CH19))) -> 0

Sheet TSS
A1: stage | B1: debut | D1: fin | F1: nbr semaine | G1: 40987
A3: classe1 | B3: =CHOOSE(WEEKDAY(C3),"الأحد","الإثنين","الثلاثاء","الإربعاء","الخميس","الجمعة","السبت") -> الإثنين | C3: 40826 | D3: =CHOOSE(WEEKDAY(E3),"الأحد","الإثنين","الثلاثاء","الإربعاء","الخميس","الجمعة","السبت") -> الإثنين | E3: 41036 | F3: =(E3-C3)/7 -> 30 | G3: =($G$1-C3)/7 -> 23
A4: classe2 | B4: =CHOOSE(WEEKDAY(C4),"الأحد","الإثنين","الثلاثاء","الإربعاء","الخميس","الجمعة","السبت") -> الإثنين | C4: 40819 | D4: =CHOOSE(WEEKDAY(E4),"الأحد","الإثنين","الثلاثاء","الإربعاء","الخميس","الجمعة","السبت") -> الإثنين | E4: 41064 | F4: =(E4-C4)/7 -> 35 | G4: =($G$1-C4)/7 -> 24
A5: classe3 | B5: =CHOOSE(WEEKDAY(C5),"الأحد","الإثنين","الثلاثاء","الإربعاء","الخميس","الجمعة","السبت") -> الإثنين | C5: 40637 | D5: =CHOOSE(WEEKDAY(E5),"الأحد","الإثنين","الثلاثاء","الإربعاء","الخميس","الجمعة","السبت") -> الإثنين | E5: 41092 | F5: =(E5-C5)/7 -> 65 | G5: =($G$1-C5)/7 -> 50
A6: classe4 | B6: =CHOOSE(WEEKDAY(C6),"الأحد","الإثنين","الثلاثاء","الإربعاء","الخميس","الجمعة","السبت") -> السبت | D6: =CHOOSE(WEEKDAY(E6),"الأحد","الإثنين","الثلاثاء","الإربعاء","الخميس","الجمعة","السبت") -> السبت | F6: 5 | G6: =($G$1-C6)/7 -> 5855.2857
A7: classe5 | B7: =CHOOSE(WEEKDAY(C7),"الأحد","الإثنين","الثلاثاء","الإربعاء","الخميس","الجمعة","السبت") -> السبت | D7: =CHOOSE(WEEKDAY(E7),"الأحد","الإثنين","الثلاثاء","الإربعاء","الخميس","الجمعة","السبت") -> السبت | F7: 10 | G7: =($G$1-C7)/7 -> 5855.2857
A8: classe6 | B8: =CHOOSE(WEEKDAY(C8),"الأحد","الإثنين","الثلاثاء","الإربعاء","الخميس","الجمعة","السبت") -> السبت | D8: =CHOOSE(WEEKDAY(E8),"الأحد","الإثنين","الثلاثاء","الإربعاء","الخميس","الجمعة","السبت") -> السبت | F8: 20 | G8: =($G$1-C8)/7 -> 5855.2857
A9: classe7 | B9: =CHOOSE(WEEKDAY(C9),"الأحد","الإثنين","الثلاثاء","الإربعاء","الخميس","الجمعة","السبت") -> السبت | D9: =CHOOSE(WEEKDAY(E9),"الأحد","الإثنين","الثلاثاء","الإربعاء","الخميس","الجمعة","السبت") -> السبت | F9: 30 | G9: =($G$1-C9)/7 -> 5855.2857
A10: classe8 | B10: =CHOOSE(WEEKDAY(C10),"الأحد","الإثنين","الثلاثاء","الإربعاء","الخميس","الجمعة","السبت") -> السبت | D10: =CHOOSE(WEEKDAY(E10),"الأحد","الإثنين","الثلاثاء","الإربعاء","الخميس","الجمعة","السبت") -> السبت | F10: 40 | G10: =($G$1-C10)/7 -> 5855.2857
A11: classe9 | B11: =CHOOSE(WEEKDAY(C11),"الأحد","الإثنين","الثلاثاء","الإربعاء","الخميس","الجمعة","السبت") -> السبت | D11: =CHOOSE(WEEKDAY(E11),"الأحد","الإثنين","الثلاثاء","الإربعاء","الخميس","الجمعة","السبت") -> السبت | F11: 20 | G11: =($G$1-C11)/7 -> 5855.2857
A12: classe10 | B12: =CHOOSE(WEEKDAY(C12),"الأحد","الإثنين","الثلاثاء","الإربعاء","الخميس","الجمعة","السبت") -> السبت | D12: =CHOOSE(WEEKDAY(E12),"الأحد","الإثنين","الثلاثاء","الإربعاء","الخميس","الجمعة","السبت") -> السبت | F12: 20 | G12: =($G$1-C12)/7 -> 5855.2857
A13: classe11 | B13: =CHOOSE(WEEKDAY(C13),"الأحد","الإثنين","الثلاثاء","الإربعاء","الخميس","الجمعة","السبت") -> السبت | D13: =CHOOSE(WEEKDAY(E13),"الأحد","الإثنين","الثلاثاء","الإربعاء","الخميس","الجمعة","السبت") -> السبت | F13: 10 | G13: =($G$1-C13)/7 -> 5855.2857
A14: classe12 | B14: =CHOOSE(WEEKDAY(C14),"الأحد","الإثنين","الثلاثاء","الإربعاء","الخميس","الجمعة","السبت") -> السبت | D14: =CHOOSE(WEEKDAY(E14),"الأحد","الإثنين","الثلاثاء","الإربعاء","الخميس","الجمعة","السبت") -> السبت | F14: 5 | G14: =($G$1-C14)/7 -> 5855.2857
A15: classe13 | B15: =CHOOSE(WEEKDAY(C15),"الأحد","الإثنين","الثلاثاء","الإربعاء","الخميس","الجمعة","السبت") -> السبت | D15: =CHOOSE(WEEKDAY(E15),"الأحد","الإثنين","الثلاثاء","الإربعاء","الخميس","الجمعة","السبت") -> السبت | F15: 6 | G15: =($G$1-C15)/7 -> 5855.2857
A16: classe14 | B16: =CHOOSE(WEEKDAY(C16),"الأحد","الإثنين","الثلاثاء","الإربعاء","الخميس","الجمعة","السبت") -> السبت | D16: =CHOOSE(WEEKDAY(E16),"الأحد","الإثنين","الثلاثاء","الإربعاء","الخميس","الجمعة","السبت") -> السبت | F16: 8 | G16: =($G$1-C16)/7 -> 5855.2857

Sheet Feuil2
