Workbook
Name BEGUE: 'NOM SALARIE'!$A$3:$A$9
Name CALENDRIER: CALENDRIER!$A$1:$D$367
Name FERIE: FERIES!$A$3:$A$14
Name FEVRIERTEST: CALENDRIER!$A$33:$A$61
Name FRIE: FERIES!#REF!
Name FRIE: FERIES!#REF!
Name JOURS_FERIES: FERIES!#REF!
Name JOURS_FERIES: FERIES!#REF!
Name NOM_DES_SALARIES: 'NOM SALARIE'!$A$1:$A$9
Name SALARIE: 'NOM SALARIE'!$A$3:$A$9
Name SALARIES: 'NOM SALARIE'!$A$3:$A$9

Sheet JANVIER
A1: NOM | B1: DATES | H1: JANVIER 2012
B2: DEBUT | C2: FIN | D2: TYPE ABSCENCE | E2: NB JRS PRIS | F2: CONG. A PRENDRE | G2: DECOMPTE DES CONG. | H2: 40909 | I2: 40910 | J2: 40911 | K2: 40912 | L2: 40913 | M2: 40914 | N2: 40915 | O2: 40916 | P2: 40917 | Q2: 40918 | R2: 40919 | S2: 40920 | T2: 40921 | U2: 40922 | V2: 40923 | W2: 40924 | X2: 40925 | Y2: 40926 | Z2: 40927 | AA2: 40928 | AB2: 40929 | AC2: 40930 | AD2: 40931 | AE2: 40932 | AF2: 40933 | AG2: 40934 | AH2: 40935 | AI2: 40936 | AJ2: 40937 | AK2: 40938 | AL2: 40939
A3: BEGUE | B3: 40931 | C3: 40938 | D3: CM | E3: =NETWORKDAYS(B3,C3,FERIE) -> 6 | F3: 30 | G3: =F3-E3 -> 24
A4: TECHER | B4: 40909 | C4: 40914 | D4: CP | E4: =NETWORKDAYS(B4,C4,FERIE) -> 5 | F4: 30 | G4: =F4-E4 -> 25
A5: GONTHIER | B5: 40919 | C5: 40924 | D5: CE | E5: =NETWORKDAYS(B5,C5,FERIE) -> 4 | F5: 30 | G5: =F5-E5 -> 26
A6: DORSEUIL | D6: CP | E6: =NETWORKDAYS(B6,C6,FERIE) -> 0 | F6: 30 | G6: =F6-E6 -> 30
A7: J.D HOAREAU | B7: 40925 | C7: 40928 | D7: CE | E7: =NETWORKDAYS(B7,C7,FERIE) -> 4 | F7: 30 | G7: =F7-E7 -> 26
A8: J.P HOAREAU | D8: CE | E8: =NETWORKDAYS(B8,C8,FERIE) -> 0 | F8: 30 | G8: =F8-E8 -> 30
A9: ROBERT | D9: CM | E9: =NETWORKDAYS(B9,C9,FERIE) -> 0 | F9: 30 | G9: =F9-E9 -> 30
D12: CE
D13: CP
A14: BEGUE | D14: CM | M14: CONGE PAYE
A15: TECHER | M15: CONGE MALADIE
A16: GONTHIER | M16: CONGE EXCEPTIONNEL
A17: DORSEUIL
A18: J.D HOAREAU
A19: J.P HOAREAU
A20: ROBERT

Sheet TEST FEVRIER
A1: NOM | B1: DATES | H1: FEVRIER 2012
B2: DEBUT | C2: FIN | D2: TYPE ABSCENCE | E2: NB JRS PRIS | F2: CONG. A PRENDRE | G2: DECOMPTE DES CONG. | H2: 1 | I2: 2 | J2: 3 | K2: 4 | L2: 5 | M2: 6 | N2: 7 | O2: 8 | P2: 9 | Q2: 10 | R2: 11 | S2: 12 | T2: 13 | U2: 14 | V2: 15 | W2: 16 | X2: 17 | Y2: 18 | Z2: 19 | AA2: 20 | AB2: 21 | AC2: 22 | AD2: 23 | AE2: 24 | AF2: 25 | AG2: 26 | AH2: 27 | AI2: 28 | AJ2: 29
A3: BEGUE | D3: CP | E3: =NETWORKDAYS(B3,C3,FERIE) -> 0 | F3: =JANVIER!G3 -> 24 | G3: =F3-E3 -> 24
A4: TECHER | E4: =NETWORKDAYS(B4,C4,FERIE) -> 0 | F4: =JANVIER!G4 -> 25 | G4: =F4-E4 -> 25
A5: GONTHIER | E5: =NETWORKDAYS(B5,C5,FERIE) -> 0 | F5: =JANVIER!G5 -> 26 | G5: =F5-E5 -> 26
A6: DORSEUIL | E6: =NETWORKDAYS(B6,C6,FERIE) -> 0 | F6: =JANVIER!G6 -> 30 | G6: =F6-E6 -> 30
A7: J.D HOAREAU | E7: =NETWORKDAYS(B7,C7,FERIE) -> 0 | F7: =JANVIER!G7 -> 26 | G7: =F7-E7 -> 26
A8: J.P HOAREAU | E8: =NETWORKDAYS(B8,C8,FERIE) -> 0 | F8: =JANVIER!G8 -> 30 | G8: =F8-E8 -> 30
A9: ROBERT | E9: =NETWORKDAYS(B9,C9,FERIE) -> 0 | F9: =JANVIER!G9 -> 30 | G9: =F9-E9 -> 30
D12: CE
D13: CP
A14: BEGUE | D14: CM
A15: TECHER
A16: GONTHIER
A17: DORSEUIL
A18: J.D HOAREAU
A19: J.P HOAREAU
A20: ROBERT

Sheet FEVRIER
A1: NOM | B1: DATES | H1: FEVRIER 2012
B2: DEBUT | C2: FIN | D2: TYPE ABSCENCE | E2: NB JRS PRIS | F2: CONG. A PRENDRE | G2: DECOMPTE DES CONG. | H2: 1 | I2: 2 | J2: 3 | K2: 4 | L2: 5 | M2: 6 | N2: 7 | O2: 8 | P2: 9 | Q2: 10 | R2: 11 | S2: 12 | T2: 13 | U2: 14 | V2: 15 | W2: 16 | X2: 17 | Y2: 18 | Z2: 19 | AA2: 20 | AB2: 21 | AC2: 22 | AD2: 23 | AE2: 24 | AF2: 25 | AG2: 26 | AH2: 27 | AI2: 28 | AJ2: 29
A3: BEGUE | B3: 40951 | C3: 40967 | D3: CE | E3: =NETWORKDAYS(B3,C3,FERIE) -> 12 | F3: 30 | G3: =F3-E3 -> 18
A4: TECHER | E4: =NETWORKDAYS(B4,C4,FERIE) -> 0 | F4: 30 | G4: =F4-E4 -> 30
A5: GONTHIER | E5: =NETWORKDAYS(B5,C5,FERIE) -> 0 | F5: 30 | G5: =F5-E5 -> 30
A6: DORSEUIL | E6: =NETWORKDAYS(B6,C6,FERIE) -> 0 | F6: 30 | G6: =F6-E6 -> 30
A7: J.D HOAREAU | E7: =NETWORKDAYS(B7,C7,FERIE) -> 0 | F7: 30 | G7: =F7-E7 -> 30
A8: J.P HOAREAU | E8: =NETWORKDAYS(B8,C8,FERIE) -> 0 | F8: 30 | G8: =F8-E8 -> 30
A9: ROBERT | E9: =NETWORKDAYS(B9,C9,FERIE) -> 0 | F9: 30 | G9: =F9-E9 -> 30
A15: BEGUE | D15: CE
A16: TECHER | D16: CP
A17: GONTHIER | D17: CM
A18: DORSEUIL
A19: J.D HOAREAU
A20: J.P HOAREAU
A21: ROBERT

Sheet MARS
A1: NOM | B1: DATES | H1: MARS 2012
B2: DEBUT | C2: FIN | D2: TYPE ABSCENCE | E2: NB JRS PRIS | F2: CONG. A PRENDRE | G2: DECOMPTE DES CONG. | H2: 1 | I2: 2 | J2: 3 | K2: 4 | L2: 5 | M2: 6 | N2: 7 | O2: 8 | P2: 9 | Q2: 10 | R2: 11 | S2: 12 | T2: 13 | U2: 14 | V2: 15 | W2: 16 | X2: 17 | Y2: 18 | Z2: 19 | AA2: 20 | AB2: 21 | AC2: 22 | AD2: 23 | AE2: 24 | AF2: 25 | AG2: 26 | AH2: 27 | AI2: 28 | AJ2: 29 | AK2: 30 | AL2: 31
A3: BEGUE | E3: =NETWORKDAYS(B3,C3,FERIE) -> 0 | F3: 30 | G3: =F3-E3 -> 30
A4: TECHER | E4: =NETWORKDAYS(B4,C4,FERIE) -> 0 | F4: 30 | G4: =F4-E4 -> 30
A5: GONTHIER | E5: =NETWORKDAYS(B5,C5,FERIE) -> 0 | F5: 30 | G5: =F5-E5 -> 30
A6: DORSEUIL | B6: 40983 | C6: 40993 | D6: CP | E6: =NETWORKDAYS(B6,C6,FERIE) -> 7 | F6: 30 | G6: =F6-E6 -> 23
A7: J.D HOAREAU | E7: =NETWORKDAYS(B7,C7,FERIE) -> 0 | F7: 30 | G7: =F7-E7 -> 30
A8: J.P HOAREAU | E8: =NETWORKDAYS(B8,C8,FERIE) -> 0 | F8: 30 | G8: =F8-E8 -> 30
A9: ROBERT | E9: =NETWORKDAYS(B9,C9,FERIE) -> 0 | F9: 30 | G9: =F9-E9 -> 30
A15: BEGUE | D15: CE
A16: TECHER | D16: CP
A17: GONTHIER | D17: CM
A18: DORSEUIL
A19: J.D HOAREAU
A20: J.P HOAREAU
A21: ROBERT

Sheet AVRIL
A1: NOM | B1: DATES | H1: AVRIL 2012
B2: DEBUT | C2: FIN | D2: TYPE ABSCENCE | E2: NB JRS PRIS | F2: CONG. A PRENDRE | G2: DECOMPTE DES CONG. | H2: 1 | I2: 2 | J2: 3 | K2: 4 | L2: 5 | M2: 6 | N2: 7 | O2: 8 | P2: 9 | Q2: 10 | R2: 11 | S2: 12 | T2: 13 | U2: 14 | V2: 15 | W2: 16 | X2: 17 | Y2: 18 | Z2: 19 | AA2: 20 | AB2: 21 | AC2: 22 | AD2: 23 | AE2: 24 | AF2: 25 | AG2: 26 | AH2: 27 | AI2: 28 | AJ2: 29 | AK2: 30 | AL2: 31
A3: BEGUE | E3: =NETWORKDAYS(B3,C3,FERIE) -> 0 | F3: 30 | G3: =F3-E3 -> 30
A4: TECHER | E4: =NETWORKDAYS(B4,C4,FERIE) -> 0 | F4: 30 | G4: =F4-E4 -> 30
A5: GONTHIER | B5: 41001 | C5: 41011 | E5: =NETWORKDAYS(B5,C5,FERIE) -> 8 | F5: 30 | G5: =F5-E5 -> 22
A6: DORSEUIL | E6: =NETWORKDAYS(B6,C6,FERIE) -> 0 | F6: 30 | G6: =F6-E6 -> 30
A7: J.D HOAREAU | E7: =NETWORKDAYS(B7,C7,FERIE) -> 0 | F7: 30 | G7: =F7-E7 -> 30
A8: J.P HOAREAU | E8: =NETWORKDAYS(B8,C8,FERIE) -> 0 | F8: 30 | G8: =F8-E8 -> 30
A9: ROBERT | E9: =NETWORKDAYS(B9,C9,FERIE) -> 0 | F9: 30 | G9: =F9-E9 -> 30
A14: BEGUE | D14: CE
A15: TECHER | D15: CP
A16: GONTHIER | D16: CM
A17: DORSEUIL
A18: J.D HOAREAU
A19: J.P HOAREAU
A20: ROBERT

Sheet MAI
A1: NOM | B1: DATES | H1: MAI2012
B2: DEBUT | C2: FIN | D2: TYPE ABSCENCE | E2: NB JRS PRIS | F2: CONG. A PRENDRE | G2: DECOMPTE DES CONG. | H2: 1 | I2: 2 | J2: 3 | K2: 4 | L2: 5 | M2: 6 | N2: 7 | O2: 8 | P2: 9 | Q2: 10 | R2: 11 | S2: 12 | T2: 13 | U2: 14 | V2: 15 | W2: 16 | X2: 17 | Y2: 18 | Z2: 19 | AA2: 20 | AB2: 21 | AC2: 22 | AD2: 23 | AE2: 24 | AF2: 25 | AG2: 26 | AH2: 27 | AI2: 28 | AJ2: 29 | AK2: 30 | AL2: 31
A3: BEGUE | E3: =NETWORKDAYS(B3,C3,FERIE) -> 0 | F3: 30 | G3: =F3-E3 -> 30
A4: TECHER | E4: =NETWORKDAYS(B4,C4,FERIE) -> 0 | F4: 30 | G4: =F4-E4 -> 30
A5: GONTHIER | E5: =NETWORKDAYS(B5,C5,FERIE) -> 0 | F5: 30 | G5: =F5-E5 -> 30
A6: DORSEUIL | E6: =NETWORKDAYS(B6,C6,FERIE) -> 0 | F6: 30 | G6: =F6-E6 -> 30
A7: J.D HOAREAU | E7: =NETWORKDAYS(B7,C7,FERIE) -> 0 | F7: 30 | G7: =F7-E7 -> 30
A8: J.P HOAREAU | E8: =NETWORKDAYS(B8,C8,FERIE) -> 0 | F8: 30 | G8: =F8-E8 -> 30
A9: ROBERT | E9: =NETWORKDAYS(B9,C9,FERIE) -> 0 | F9: 30 | G9: =F9-E9 -> 30
A14: BEGUE | D14: CE
A15: TECHER | D15: CP
A16: GONTHIER | D16: CM
A17: DORSEUIL
A18: J.D HOAREAU
A19: J.P HOAREAU
A20: ROBERT

Sheet JUIN
A1: NOM | B1: DATES | H1: JUIN 2012
B2: DEBUT | C2: FIN | D2: TYPE ABSCENCE | E2: NB JRS PRIS | F2: CONG. A PRENDRE | G2: DECOMPTE DES CONG. | H2: 1 | I2: 2 | J2: 3 | K2: 4 | L2: 5 | M2: 6 | N2: 7 | O2: 8 | P2: 9 | Q2: 10 | R2: 11 | S2: 12 | T2: 13 | U2: 14 | V2: 15 | W2: 16 | X2: 17 | Y2: 18 | Z2: 19 | AA2: 20 | AB2: 21 | AC2: 22 | AD2: 23 | AE2: 24 | AF2: 25 | AG2: 26 | AH2: 27 | AI2: 28 | AJ2: 29 | AK2: 30 | AL2: 31
A3: BEGUE | E3: =NETWORKDAYS(B3,C3,FERIE) -> 0 | F3: 30 | G3: =F3-E3 -> 30
A4: TECHER | E4: =NETWORKDAYS(B4,C4,FERIE) -> 0 | F4: 30 | G4: =F4-E4 -> 30
A5: GONTHIER | E5: =NETWORKDAYS(B5,C5,FERIE) -> 0 | F5: 30 | G5: =F5-E5 -> 30
A6: DORSEUIL | E6: =NETWORKDAYS(B6,C6,FERIE) -> 0 | F6: 30 | G6: =F6-E6 -> 30
A7: J.D HOAREAU | E7: =NETWORKDAYS(B7,C7,FERIE) -> 0 | F7: 30 | G7: =F7-E7 -> 30
A8: J.P HOAREAU | E8: =NETWORKDAYS(B8,C8,FERIE) -> 0 | F8: 30 | G8: =F8-E8 -> 30
A9: ROBERT | E9: =NETWORKDAYS(B9,C9,FERIE) -> 0 | F9: 30 | G9: =F9-E9 -> 30
A15: BEGUE | D15: CE
A16: TECHER | D16: CP
A17: GONTHIER | D17: CM
A18: DORSEUIL
A19: J.D HOAREAU
A20: J.P HOAREAU
A21: ROBERT

Sheet JUILLET
A1: NOM | B1: DATES | H1: JUILLET 2012
B2: DEBUT | C2: FIN | D2: TYPE ABSCENCE | E2: NB JRS PRIS | F2: CONG. A PRENDRE | G2: DECOMPTE DES CONG. | H2: 1 | I2: 2 | J2: 3 | K2: 4 | L2: 5 | M2: 6 | N2: 7 | O2: 8 | P2: 9 | Q2: 10 | R2: 11 | S2: 12 | T2: 13 | U2: 14 | V2: 15 | W2: 16 | X2: 17 | Y2: 18 | Z2: 19 | AA2: 20 | AB2: 21 | AC2: 22 | AD2: 23 | AE2: 24 | AF2: 25 | AG2: 26 | AH2: 27 | AI2: 28 | AJ2: 29 | AK2: 30 | AL2: 31
A3: BEGUE | E3: =NETWORKDAYS(B3,C3,FERIE) -> 0 | F3: 30 | G3: =F3-E3 -> 30
A4: TECHER | E4: =NETWORKDAYS(B4,C4,FERIE) -> 0 | F4: 30 | G4: =F4-E4 -> 30
A5: GONTHIER | E5: =NETWORKDAYS(B5,C5,FERIE) -> 0 | F5: 30 | G5: =F5-E5 -> 30
A6: DORSEUIL | E6: =NETWORKDAYS(B6,C6,FERIE) -> 0 | F6: 30 | G6: =F6-E6 -> 30
A7: J.D HOAREAU | E7: =NETWORKDAYS(B7,C7,FERIE) -> 0 | F7: 30 | G7: =F7-E7 -> 30
A8: J.P HOAREAU | E8: =NETWORKDAYS(B8,C8,FERIE) -> 0 | F8: 30 | G8: =F8-E8 -> 30
A9: ROBERT | E9: =NETWORKDAYS(B9,C9,FERIE) -> 0 | F9: 30 | G9: =F9-E9 -> 30
A15: BEGUE | D15: CE
A16: TECHER | D16: CP
A17: GONTHIER | D17: CM
A18: DORSEUIL
A19: J.D HOAREAU
A20: J.P HOAREAU
A21: ROBERT

Sheet AOUT
A1: NOM | B1: DATES | H1: AOUT 2012
B2: DEBUT | C2: FIN | D2: TYPE ABSCENCE | E2: NB JRS PRIS | F2: CONG. A PRENDRE | G2: DECOMPTE DES CONG. | H2: 1 | I2: 2 | J2: 3 | K2: 4 | L2: 5 | M2: 6 | N2: 7 | O2: 8 | P2: 9 | Q2: 10 | R2: 11 | S2: 12 | T2: 13 | U2: 14 | V2: 15 | W2: 16 | X2: 17 | Y2: 18 | Z2: 19 | AA2: 20 | AB2: 21 | AC2: 22 | AD2: 23 | AE2: 24 | AF2: 25 | AG2: 26 | AH2: 27 | AI2: 28 | AJ2: 29 | AK2: 30 | AL2: 31
A3: BEGUE | E3: =NETWORKDAYS(B3,C3,FERIE) -> 0 | F3: 30 | G3: =F3-E3 -> 30
A4: TECHER | E4: =NETWORKDAYS(B4,C4,FERIE) -> 0 | F4: 30 | G4: =F4-E4 -> 30
A5: GONTHIER | E5: =NETWORKDAYS(B5,C5,FERIE) -> 0 | F5: 30 | G5: =F5-E5 -> 30
A6: DORSEUIL | E6: =NETWORKDAYS(B6,C6,FERIE) -> 0 | F6: 30 | G6: =F6-E6 -> 30
A7: J.D HOAREAU | E7: =NETWORKDAYS(B7,C7,FERIE) -> 0 | F7: 30 | G7: =F7-E7 -> 30
A8: J.P HOAREAU | E8: =NETWORKDAYS(B8,C8,FERIE) -> 0 | F8: 30 | G8: =F8-E8 -> 30
A9: ROBERT | E9: =NETWORKDAYS(B9,C9,FERIE) -> 0 | F9: 30 | G9: =F9-E9 -> 30
A15: BEGUE | D15: CE
A16: TECHER | D16: CP
A17: GONTHIER | D17: CM
A18: DORSEUIL
A19: J.D HOAREAU
A20: J.P HOAREAU
A21: ROBERT

Sheet SEPTEMBRE
A1: NOM | B1: DATES | H1: SEPTEMBRE 2012
B2: DEBUT | C2: FIN | D2: TYPE ABSCENCE | E2: NB JRS PRIS | F2: CONG. A PRENDRE | G2: DECOMPTE DES CONG. | H2: 1 | I2: 2 | J2: 3 | K2: 4 | L2: 5 | M2: 6 | N2: 7 | O2: 8 | P2: 9 | Q2: 10 | R2: 11 | S2: 12 | T2: 13 | U2: 14 | V2: 15 | W2: 16 | X2: 17 | Y2: 18 | Z2: 19 | AA2: 20 | AB2: 21 | AC2: 22 | AD2: 23 | AE2: 24 | AF2: 25 | AG2: 26 | AH2: 27 | AI2: 28 | AJ2: 29 | AK2: 30 | AL2: 31
A3: BEGUE | E3: =NETWORKDAYS(B3,C3,FERIE) -> 0 | F3: 30 | G3: =F3-E3 -> 30
A4: TECHER | E4: =NETWORKDAYS(B4,C4,FERIE) -> 0 | F4: 30 | G4: =F4-E4 -> 30
A5: GONTHIER | E5: =NETWORKDAYS(B5,C5,FERIE) -> 0 | F5: 30 | G5: =F5-E5 -> 30
A6: DORSEUIL | E6: =NETWORKDAYS(B6,C6,FERIE) -> 0 | F6: 30 | G6: =F6-E6 -> 30
A7: J.D HOAREAU | E7: =NETWORKDAYS(B7,C7,FERIE) -> 0 | F7: 30 | G7: =F7-E7 -> 30
A8: J.P HOAREAU | E8: =NETWORKDAYS(B8,C8,FERIE) -> 0 | F8: 30 | G8: =F8-E8 -> 30
A9: ROBERT | E9: =NETWORKDAYS(B9,C9,FERIE) -> 0 | F9: 30 | G9: =F9-E9 -> 30
A15: BEGUE | D15: CE
A16: TECHER | D16: CP
A17: GONTHIER | D17: CM
A18: DORSEUIL
A19: J.D HOAREAU
A20: J.P HOAREAU
A21: ROBERT

Sheet OCTOBRE
A1: NOM | B1: DATES | H1: OCTOBRE 2012
B2: DEBUT | C2: FIN | D2: TYPE ABSCENCE | E2: NB JRS PRIS | F2: CONG. A PRENDRE | G2: DECOMPTE DES CONG. | H2: 1 | I2: 2 | J2: 3 | K2: 4 | L2: 5 | M2: 6 | N2: 7 | O2: 8 | P2: 9 | Q2: 10 | R2: 11 | S2: 12 | T2: 13 | U2: 14 | V2: 15 | W2: 16 | X2: 17 | Y2: 18 | Z2: 19 | AA2: 20 | AB2: 21 | AC2: 22 | AD2: 23 | AE2: 24 | AF2: 25 | AG2: 26 | AH2: 27 | AI2: 28 | AJ2: 29 | AK2: 30 | AL2: 31
A3: BEGUE | E3: =NETWORKDAYS(B3,C3,FERIE) -> 0 | F3: 30 | G3: =F3-E3 -> 30
A4: TECHER | E4: =NETWORKDAYS(B4,C4,FERIE) -> 0 | F4: 30 | G4: =F4-E4 -> 30
A5: GONTHIER | E5: =NETWORKDAYS(B5,C5,FERIE) -> 0 | F5: 30 | G5: =F5-E5 -> 30
A6: DORSEUIL | E6: =NETWORKDAYS(B6,C6,FERIE) -> 0 | F6: 30 | G6: =F6-E6 -> 30
A7: J.D HOAREAU | E7: =NETWORKDAYS(B7,C7,FERIE) -> 0 | F7: 30 | G7: =F7-E7 -> 30
A8: J.P HOAREAU | E8: =NETWORKDAYS(B8,C8,FERIE) -> 0 | F8: 30 | G8: =F8-E8 -> 30
A9: ROBERT | E9: =NETWORKDAYS(B9,C9,FERIE) -> 0 | F9: 30 | G9: =F9-E9 -> 30
A14: BEGUE | D14: CE
A15: TECHER | D15: CP
A16: GONTHIER | D16: CM
A17: DORSEUIL
A18: J.D HOAREAU
A19: J.P HOAREAU
A20: ROBERT

Sheet NOVEMBRE
A1: NOM | B1: DATES | H1: NOVEMBRE 2012
B2: DEBUT | C2: FIN | D2: TYPE ABSCENCE | E2: NB JRS PRIS | F2: CONG. A PRENDRE | G2: DECOMPTE DES CONG. | H2: 1 | I2: 2 | J2: 3 | K2: 4 | L2: 5 | M2: 6 | N2: 7 | O2: 8 | P2: 9 | Q2: 10 | R2: 11 | S2: 12 | T2: 13 | U2: 14 | V2: 15 | W2: 16 | X2: 17 | Y2: 18 | Z2: 19 | AA2: 20 | AB2: 21 | AC2: 22 | AD2: 23 | AE2: 24 | AF2: 25 | AG2: 26 | AH2: 27 | AI2: 28 | AJ2: 29 | AK2: 30 | AL2: 31
A3: BEGUE | E3: =NETWORKDAYS(B3,C3,FERIE) -> 0 | F3: 30 | G3: =F3-E3 -> 30
A4: TECHER | E4: =NETWORKDAYS(B4,C4,FERIE) -> 0 | F4: 30 | G4: =F4-E4 -> 30
A5: GONTHIER | E5: =NETWORKDAYS(B5,C5,FERIE) -> 0 | F5: 30 | G5: =F5-E5 -> 30
A6: DORSEUIL | E6: =NETWORKDAYS(B6,C6,FERIE) -> 0 | F6: 30 | G6: =F6-E6 -> 30
A7: J.D HOAREAU | E7: =NETWORKDAYS(B7,C7,FERIE) -> 0 | F7: 30 | G7: =F7-E7 -> 30
A8: J.P HOAREAU | E8: =NETWORKDAYS(B8,C8,FERIE) -> 0 | F8: 30 | G8: =F8-E8 -> 30
A9: ROBERT | E9: =NETWORKDAYS(B9,C9,FERIE) -> 0 | F9: 30 | G9: =F9-E9 -> 30
A14: BEGUE | D14: CE
A15: TECHER | D15: CP
A16: GONTHIER | D16: CM
A17: DORSEUIL
A18: J.D HOAREAU
A19: J.P HOAREAU
A20: ROBERT

Sheet DECEMBRE
A1: NOM | B1: DATES | H1: DECEMBRE 2012
B2: DEBUT | C2: FIN | D2: TYPE ABSCENCE | E2: NB JRS PRIS | F2: CONG. A PRENDRE | G2: DECOMPTE DES CONG. | H2: 1 | I2: 2 | J2: 3 | K2: 4 | L2: 5 | M2: 6 | N2: 7 | O2: 8 | P2: 9 | Q2: 10 | R2: 11 | S2: 12 | T2: 13 | U2: 14 | V2: 15 | W2: 16 | X2: 17 | Y2: 18 | Z2: 19 | AA2: 20 | AB2: 21 | AC2: 22 | AD2: 23 | AE2: 24 | AF2: 25 | AG2: 26 | AH2: 27 | AI2: 28 | AJ2: 29 | AK2: 30 | AL2: 31
A3: BEGUE | E3: =NETWORKDAYS(B3,C3,FERIE) -> 0 | F3: 30 | G3: =F3-E3 -> 30
A4: TECHER | E4: =NETWORKDAYS(B4,C4,FERIE) -> 0 | F4: 30 | G4: =F4-E4 -> 30
A5: GONTHIER | E5: =NETWORKDAYS(B5,C5,FERIE) -> 0 | F5: 30 | G5: =F5-E5 -> 30
A6: DORSEUIL | E6: =NETWORKDAYS(B6,C6,FERIE) -> 0 | F6: 30 | G6: =F6-E6 -> 30
A7: J.D HOAREAU | E7: =NETWORKDAYS(B7,C7,FERIE) -> 0 | F7: 30 | G7: =F7-E7 -> 30
A8: J.P HOAREAU | E8: =NETWORKDAYS(B8,C8,FERIE) -> 0 | F8: 30 | G8: =F8-E8 -> 30
A9: ROBERT | E9: =NETWORKDAYS(B9,C9,FERIE) -> 0 | F9: 30 | G9: =F9-E9 -> 30
A14: BEGUE | D14: CE
A15: TECHER | D15: CP
A16: GONTHIER | D16: CM
A17: DORSEUIL
A18: J.D HOAREAU
A19: J.P HOAREAU
A20: ROBERT

Sheet NOM SALARIE
A1: NOM DES SALARIES
A3: BEGUE
A4: TECHER
A5: GONTHIER
A6: DORSEUIL
A7: J.D HOAREAU
A8: J.P HOAREAU
A9: ROBERT

Sheet CALENDRIER
A1: DATE | B1: MOIS | C1: date abrégée | D1: jour
A2: 40909 | B2: JANVIER | C2: 40909 | D2: d
A3: 40910 | B3: JANVIER | C3: 40910 | D3: l
A4: 40911 | B4: JANVIER | C4: 40911 | D4: m
A5: 40912 | B5: JANVIER | C5: 40912 | D5: m
A6: 40913 | B6: JANVIER | C6: 40913 | D6: j
A7: 40914 | B7: JANVIER | C7: 40914 | D7: v
A8: 40915 | B8: JANVIER | C8: 40915 | D8: s
A9: 40916 | B9: JANVIER | C9: 40916 | D9: d
A10: 40917 | B10: JANVIER | C10: 40917 | D10: l
A11: 40918 | B11: JANVIER | C11: 40918 | D11: m
A12: 40919 | B12: JANVIER | C12: 40919 | D12: m
A13: 40920 | B13: JANVIER | C13: 40920 | D13: j
... A367: 41274 | B367: DECEMBRE | C367: 41274 | D367: l
A368: 41275 | C368: 41275 | D368: m
A369: 41276 | C369: 41276 | D369: m
A370: 41277 | C370: 41277 | D370: j
A371: 41278 | C371: 41278 | D371: v
A372: 41279 | C372: 41279 | D372: s
A373: 41280 | C373: 41280 | D373: d
A374: 41281 | C374: 41281 | D374: l
A375: 41282 | C375: 41282 | D375: m
A376: 41283 | C376: 41283 | D376: m
A377: 41284 | C377: 41284 | D377: j
A378: 41285 | C378: 41285 | D378: v
A379: 41286 | C379: 41286 | D379: s
... A646: 41553 | C646: 41553 | D646: d

Sheet FERIES
A1: CALENDRIER JOURS FERIES 2012
A2: DATE | B2: JOURS | C2: JOURS FERIES
A3: 40909 | B3: dimanche | C3: Premier de l'An 2012
A4: 41007 | B4: dimanche | C4: Pâques 2012
A5: 41008 | B5: lundi | C5: Lundi de Pâques 2012
A6: 41030 | B6: mardi | C6: Fête du travail 2012
A7: 41037 | B7: mardi | C7: Victoire 1945 2012
A8: 41046 | B8: jeudi | C8: Ascension 2012
A9: 41056 | B9: dimanche | C9: Pentecôte 2012
A10: 41104 | B10: samedi | C10: Fête National 2012
A11: 41136 | B11: mercredi | C11: Assomption 2012
A12: 41214 | B12: jeudi | C12: Toussaint 2012
A13: 41224 | B13: dimanche | C13: Armistice de 1918
A14: 41268 | B14: mardi | C14: Noël 2012

Sheet TYPE DE CONGE
A1: TYPES DE CONGES
A2: MALADIE | B2: CM
A3: PAYE | B3: CP
A4: EXCEPTIONNEL | B4: CE

Sheet SUIVIE SALARIE
