Workbook
Name c_codEI: #REF!
Name c_noms: #REF!
Name Code: #REF!
Name d_codEI: #REF!
Name d_noms: #REF!
Name l_codEI: OFFSET(d_codEI,0,0,COUNTA(c_codEI)-1,1)
Name l_spé: #REF!

Sheet MAR
E1: Ateliers 2011 CIROH 'Stérilisation des dispositifs médicaux ' : n°3 > maitrise de la production | L1: Contact / conception doc. : yolande.bertrand@univ-st-etienne.fr | N1: =#REF! -> #REF!
A4: TRACABILITE DES EI (exemple)
N5: les cases de cette colonne sont obligatoires : à remplir (alimentent les METEOs)
A6: MARS 2011 | G6: NB NC de ce mois : | J6: =COUNTA(E10:E300) -> 291 | N6: les cases de cette colonne sont facultatives : très utiles en cas de recherche de causes
N7: les cases de cette colonne contiennent des formules : ne rien saisir dedans
A9: Date | B9: Numéro Produit (Pxxxx ou Dxx) | C9: numéro d'unité | D9: Type d'EI | E9: Code EI | F9: Déclarant | G9: Description ( Si type d'EI insuffisant) | H9: Action currative de base | I9: Action currative ( Si différente de celle de base) | J9: Spécialité | K9: Nom de l'uinité/Extérieur | L9: =#REF! -> #REF! | M9: =#REF! -> #REF! | N9: =#REF! -> #REF! | O9: =#REF! -> #REF!
E10: =VLOOKUP(D10,Feuil2!$A$2:$B$57,2,FALSE) -> #N/A | H10: =VLOOKUP(D10,Feuil3!$A$2:$B$57,2,FALSE) -> #N/A | L10: =VLOOKUP($E10,Code,2,FALSE) -> #N/A | M10: =VLOOKUP($E10,Code,3,FALSE) -> #N/A | N10: =VLOOKUP($E10,Code,4,FALSE) -> #N/A | O10: =VLOOKUP($E10,Code,5,FALSE) -> #N/A
E11: =VLOOKUP(D11,Feuil2!$A$2:$B$57,2,FALSE) -> #N/A | H11: =VLOOKUP(D11,Feuil3!$A$2:$B$57,2,FALSE) -> #N/A | L11: =VLOOKUP($E11,Code,2,FALSE) -> #N/A | M11: =VLOOKUP($E11,Code,3,FALSE) -> #N/A | N11: =VLOOKUP($E11,Code,4,FALSE) -> #N/A | O11: =VLOOKUP($E11,Code,5,FALSE) -> #N/A
E12: =VLOOKUP(D12,Feuil2!$A$2:$B$57,2,FALSE) -> #N/A | H12: =VLOOKUP(D12,Feuil3!$A$2:$B$57,2,FALSE) -> #N/A | L12: =VLOOKUP($E12,Code,2,FALSE) -> #N/A | M12: =VLOOKUP($E12,Code,3,FALSE) -> #N/A | N12: =VLOOKUP($E12,Code,4,FALSE) -> #N/A | O12: =VLOOKUP($E12,Code,5,FALSE) -> #N/A
E13: =VLOOKUP(D13,Feuil2!$A$2:$B$57,2,FALSE) -> #N/A | H13: =VLOOKUP(D13,Feuil3!$A$2:$B$57,2,FALSE) -> #N/A | L13: =VLOOKUP($E13,Code,2,FALSE) -> #N/A | M13: =VLOOKUP($E13,Code,3,FALSE) -> #N/A | N13: =VLOOKUP($E13,Code,4,FALSE) -> #N/A | O13: =VLOOKUP($E13,Code,5,FALSE) -> #N/A
E14: =VLOOKUP(D14,Feuil2!$A$2:$B$57,2,FALSE) -> #N/A | H14: =VLOOKUP(D14,Feuil3!$A$2:$B$57,2,FALSE) -> #N/A | L14: =VLOOKUP($E14,Code,2,FALSE) -> #N/A | M14: =VLOOKUP($E14,Code,3,FALSE) -> #N/A | N14: =VLOOKUP($E14,Code,4,FALSE) -> #N/A | O14: =VLOOKUP($E14,Code,5,FALSE) -> #N/A
E15: =VLOOKUP(D15,Feuil2!$A$2:$B$57,2,FALSE) -> #N/A | H15: =VLOOKUP(D15,Feuil3!$A$2:$B$57,2,FALSE) -> #N/A | L15: =VLOOKUP($E15,Code,2,FALSE) -> #N/A | M15: =VLOOKUP($E15,Code,3,FALSE) -> #N/A | N15: =VLOOKUP($E15,Code,4,FALSE) -> #N/A | O15: =VLOOKUP($E15,Code,5,FALSE) -> #N/A
E16: =VLOOKUP(D16,Feuil2!$A$2:$B$57,2,FALSE) -> #N/A | H16: =VLOOKUP(D16,Feuil3!$A$2:$B$57,2,FALSE) -> #N/A | L16: =VLOOKUP($E16,Code,2,FALSE) -> #N/A | M16: =VLOOKUP($E16,Code,3,FALSE) -> #N/A | N16: =VLOOKUP($E16,Code,4,FALSE) -> #N/A | O16: =VLOOKUP($E16,Code,5,FALSE) -> #N/A
E17: =VLOOKUP(D17,Feuil2!$A$2:$B$57,2,FALSE) -> #N/A | H17: =VLOOKUP(D17,Feuil3!$A$2:$B$57,2,FALSE) -> #N/A | L17: =VLOOKUP($E17,Code,2,FALSE) -> #N/A | M17: =VLOOKUP($E17,Code,3,FALSE) -> #N/A | N17: =VLOOKUP($E17,Code,4,FALSE) -> #N/A | O17: =VLOOKUP($E17,Code,5,FALSE) -> #N/A
E18: =VLOOKUP(D18,Feuil2!$A$2:$B$57,2,FALSE) -> #N/A | H18: =VLOOKUP(D18,Feuil3!$A$2:$B$57,2,FALSE) -> #N/A | L18: =VLOOKUP($E18,Code,2,FALSE) -> #N/A | M18: =VLOOKUP($E18,Code,3,FALSE) -> #N/A | N18: =VLOOKUP($E18,Code,4,FALSE) -> #N/A | O18: =VLOOKUP($E18,Code,5,FALSE) -> #N/A
E19: =VLOOKUP(D19,Feuil2!$A$2:$B$57,2,FALSE) -> #N/A | H19: =VLOOKUP(D19,Feuil3!$A$2:$B$57,2,FALSE) -> #N/A | L19: =VLOOKUP($E19,Code,2,FALSE) -> #N/A | M19: =VLOOKUP($E19,Code,3,FALSE) -> #N/A | N19: =VLOOKUP($E19,Code,4,FALSE) -> #N/A | O19: =VLOOKUP($E19,Code,5,FALSE) -> #N/A
E20: =VLOOKUP(D20,Feuil2!$A$2:$B$57,2,FALSE) -> #N/A | H20: =VLOOKUP(D20,Feuil3!$A$2:$B$57,2,FALSE) -> #N/A | L20: =VLOOKUP($E20,Code,2,FALSE) -> #N/A | M20: =VLOOKUP($E20,Code,3,FALSE) -> #N/A | N20: =VLOOKUP($E20,Code,4,FALSE) -> #N/A | O20: =VLOOKUP($E20,Code,5,FALSE) -> #N/A
E21: =VLOOKUP(D21,Feuil2!$A$2:$B$57,2,FALSE) -> #N/A | H21: =VLOOKUP(D21,Feuil3!$A$2:$B$57,2,FALSE) -> #N/A | L21: =VLOOKUP($E21,Code,2,FALSE) -> #N/A | M21: =VLOOKUP($E21,Code,3,FALSE) -> #N/A | N21: =VLOOKUP($E21,Code,4,FALSE) -> #N/A | O21: =VLOOKUP($E21,Code,5,FALSE) -> #N/A
... E300: =VLOOKUP(D300,Feuil2!$A$2:$B$57,2,FALSE) -> #N/A | H300: =VLOOKUP(D300,Feuil3!$A$2:$B$57,2,FALSE) -> #N/A | L300: =VLOOKUP($E300,Code,2,FALSE) -> #N/A | M300: =VLOOKUP($E300,Code,3,FALSE) -> #N/A | N300: =VLOOKUP($E300,Code,4,FALSE) -> #N/A | O300: =VLOOKUP($E300,Code,5,FALSE) -> #N/A

Sheet FEV
E1: Ateliers 2011 CIROH 'Stérilisation des dispositifs médicaux ' : n°3 > maitrise de la production | L1: Contact / conception doc. : yolande.bertrand@univ-st-etienne.fr | N1: =#REF! -> #REF!
A4: TRACABILITE DES EI (exemple)
N5: les cases de cette colonne sont obligatoires : à remplir (alimentent les METEOs)
A6: FEVRIER 2011 | G6: NB NC de ce mois : | J6: =COUNTA(E10:E300) -> 291 | N6: les cases de cette colonne sont facultatives : très utiles en cas de recherche de causes
N7: les cases de cette colonne contiennent des formules : ne rien saisir dedans
A9: Date | B9: Numéro Produit (Pxxxx ou Dxx) | C9: numéro d'unité | D9: Type d'EI | E9: Code EI | F9: Déclarant | G9: Description (Si type d'EI insuffisant) | H9: Action currative de base | I9: Action currative ( Si différente de celle de base) | J9: Spécialité | K9: Nom de l'uinité/Extérieur | L9: =#REF! -> #REF! | M9: =#REF! -> #REF! | N9: =#REF! -> #REF! | O9: =#REF! -> #REF!
E10: =VLOOKUP(D10,Feuil2!$A$2:$B$57,2,FALSE) -> #N/A | H10: =VLOOKUP(D10,Feuil3!$A$2:$B$57,2,FALSE) -> #N/A | L10: =VLOOKUP($E10,Code,2,FALSE) -> #N/A | M10: =VLOOKUP($E10,Code,3,FALSE) -> #N/A | N10: =VLOOKUP($E10,Code,4,FALSE) -> #N/A | O10: =VLOOKUP($E10,Code,5,FALSE) -> #N/A
E11: =VLOOKUP(D11,Feuil2!$A$2:$B$57,2,FALSE) -> #N/A | H11: =VLOOKUP(D11,Feuil3!$A$2:$B$57,2,FALSE) -> #N/A | L11: =VLOOKUP($E11,Code,2,FALSE) -> #N/A | M11: =VLOOKUP($E11,Code,3,FALSE) -> #N/A | N11: =VLOOKUP($E11,Code,4,FALSE) -> #N/A | O11: =VLOOKUP($E11,Code,5,FALSE) -> #N/A
E12: =VLOOKUP(D12,Feuil2!$A$2:$B$57,2,FALSE) -> #N/A | H12: =VLOOKUP(D12,Feuil3!$A$2:$B$57,2,FALSE) -> #N/A | L12: =VLOOKUP($E12,Code,2,FALSE) -> #N/A | M12: =VLOOKUP($E12,Code,3,FALSE) -> #N/A | N12: =VLOOKUP($E12,Code,4,FALSE) -> #N/A | O12: =VLOOKUP($E12,Code,5,FALSE) -> #N/A
E13: =VLOOKUP(D13,Feuil2!$A$2:$B$57,2,FALSE) -> #N/A | H13: =VLOOKUP(D13,Feuil3!$A$2:$B$57,2,FALSE) -> #N/A | L13: =VLOOKUP($E13,Code,2,FALSE) -> #N/A | M13: =VLOOKUP($E13,Code,3,FALSE) -> #N/A | N13: =VLOOKUP($E13,Code,4,FALSE) -> #N/A | O13: =VLOOKUP($E13,Code,5,FALSE) -> #N/A
E14: =VLOOKUP(D14,Feuil2!$A$2:$B$57,2,FALSE) -> #N/A | H14: =VLOOKUP(D14,Feuil3!$A$2:$B$57,2,FALSE) -> #N/A | L14: =VLOOKUP($E14,Code,2,FALSE) -> #N/A | M14: =VLOOKUP($E14,Code,3,FALSE) -> #N/A | N14: =VLOOKUP($E14,Code,4,FALSE) -> #N/A | O14: =VLOOKUP($E14,Code,5,FALSE) -> #N/A
E15: =VLOOKUP(D15,Feuil2!$A$2:$B$57,2,FALSE) -> #N/A | H15: =VLOOKUP(D15,Feuil3!$A$2:$B$57,2,FALSE) -> #N/A | L15: =VLOOKUP($E15,Code,2,FALSE) -> #N/A | M15: =VLOOKUP($E15,Code,3,FALSE) -> #N/A | N15: =VLOOKUP($E15,Code,4,FALSE) -> #N/A | O15: =VLOOKUP($E15,Code,5,FALSE) -> #N/A
E16: =VLOOKUP(D16,Feuil2!$A$2:$B$57,2,FALSE) -> #N/A | H16: =VLOOKUP(D16,Feuil3!$A$2:$B$57,2,FALSE) -> #N/A | L16: =VLOOKUP($E16,Code,2,FALSE) -> #N/A | M16: =VLOOKUP($E16,Code,3,FALSE) -> #N/A | N16: =VLOOKUP($E16,Code,4,FALSE) -> #N/A | O16: =VLOOKUP($E16,Code,5,FALSE) -> #N/A
E17: =VLOOKUP(D17,Feuil2!$A$2:$B$57,2,FALSE) -> #N/A | H17: =VLOOKUP(D17,Feuil3!$A$2:$B$57,2,FALSE) -> #N/A | L17: =VLOOKUP($E17,Code,2,FALSE) -> #N/A | M17: =VLOOKUP($E17,Code,3,FALSE) -> #N/A | N17: =VLOOKUP($E17,Code,4,FALSE) -> #N/A | O17: =VLOOKUP($E17,Code,5,FALSE) -> #N/A
E18: =VLOOKUP(D18,Feuil2!$A$2:$B$57,2,FALSE) -> #N/A | H18: =VLOOKUP(D18,Feuil3!$A$2:$B$57,2,FALSE) -> #N/A | L18: =VLOOKUP($E18,Code,2,FALSE) -> #N/A | M18: =VLOOKUP($E18,Code,3,FALSE) -> #N/A | N18: =VLOOKUP($E18,Code,4,FALSE) -> #N/A | O18: =VLOOKUP($E18,Code,5,FALSE) -> #N/A
E19: =VLOOKUP(D19,Feuil2!$A$2:$B$57,2,FALSE) -> #N/A | H19: =VLOOKUP(D19,Feuil3!$A$2:$B$57,2,FALSE) -> #N/A | L19: =VLOOKUP($E19,Code,2,FALSE) -> #N/A | M19: =VLOOKUP($E19,Code,3,FALSE) -> #N/A | N19: =VLOOKUP($E19,Code,4,FALSE) -> #N/A | O19: =VLOOKUP($E19,Code,5,FALSE) -> #N/A
E20: =VLOOKUP(D20,Feuil2!$A$2:$B$57,2,FALSE) -> #N/A | H20: =VLOOKUP(D20,Feuil3!$A$2:$B$57,2,FALSE) -> #N/A | L20: =VLOOKUP($E20,Code,2,FALSE) -> #N/A | M20: =VLOOKUP($E20,Code,3,FALSE) -> #N/A | N20: =VLOOKUP($E20,Code,4,FALSE) -> #N/A | O20: =VLOOKUP($E20,Code,5,FALSE) -> #N/A
E21: =VLOOKUP(D21,Feuil2!$A$2:$B$57,2,FALSE) -> #N/A | H21: =VLOOKUP(D21,Feuil3!$A$2:$B$57,2,FALSE) -> #N/A | L21: =VLOOKUP($E21,Code,2,FALSE) -> #N/A | M21: =VLOOKUP($E21,Code,3,FALSE) -> #N/A | N21: =VLOOKUP($E21,Code,4,FALSE) -> #N/A | O21: =VLOOKUP($E21,Code,5,FALSE) -> #N/A
... E300: =VLOOKUP(D300,Feuil2!$A$2:$B$57,2,FALSE) -> #N/A | H300: =VLOOKUP(D300,Feuil3!$A$2:$B$57,2,FALSE) -> #N/A | L300: =VLOOKUP($E300,Code,2,FALSE) -> #N/A | M300: =VLOOKUP($E300,Code,3,FALSE) -> #N/A | N300: =VLOOKUP($E300,Code,4,FALSE) -> #N/A | O300: =VLOOKUP($E300,Code,5,FALSE) -> #N/A

Sheet JAN
E1: Ateliers 2011 CIROH 'Stérilisation des dispositifs médicaux ' : n°3 > maitrise de la production | L1: Contact / conception doc. : yolande.bertrand@univ-st-etienne.fr | N1: =#REF! -> #REF! | Q1: AIDE UTILISATION pour la saisie : - SEULES LES COLONNES A à F sont saissables (les autres se remplissent automatiquement) - dans la colonne "code EI" (B), bien saisir le code correspondant à l'EI (voir liste des codes dans l'onglet "Typage&Cotation") - Les colonnes obligatoires sont Date et Code EI pour une prise en compte dans METEO et METEO+. - La spécialité est facultative mais cela peut aider à l'analyse ultérieure pour régler un EI (si non saisi, les colonnes prévues dans METEO+ resteront vides mais aucun impact sur les autres calculs). Attention : 1/ préférer des intitulés courts pour la mise en page ultérieure de vos METEOs (exemple : B1 pour bloc 1, Ch pour chirurgie...). 2/ Les intitulés doivent être toujours identiques. Exemple : on ne peut pas mettre une fois B1 et une autre fois salle1 pour désigner "bloc 1". - Les colones C, D et F ("Déclarant", "Description" et "Action currative") servent à historiser des informations pour une éventuelle analyse ultérieure mais ne sont pas utilisées dans les calculs Excel pour restituer METEO et METEO+.
A4: TRACABILITE DES EI (exemple)
N5: les cases de cette colonne sont obligatoires : à remplir (alimentent les METEOs)
A6: JANVIER 2011 | G6: NB NC de ce mois : | J6: =COUNTA(E10:E300) -> 291 | N6: les cases de cette colonne sont facultatives : très utiles en cas de recherche de causes
N7: les cases de cette colonne contiennent des formules : ne rien saisir dedans
A9: Date | B9: Numéro Produit (Pxxxx ou Dxx) | C9: numéro d'unité | D9: Type d'EI | E9: Code EI | F9: Déclarant | G9: Description ( Si type d'EI insuffisant) | H9: Action currative de base | I9: Action currative ( Si différente celle de base) | J9: Spécialité | K9: Nom de l'uinité/Extérieur | L9: =#REF! -> #REF! | M9: =#REF! -> #REF! | N9: =#REF! -> #REF! | O9: =#REF! -> #REF!
D10: b | E10: =VLOOKUP(D10,Feuil2!$A$2:$B$57,2,FALSE) -> FLCJ | H10: =VLOOKUP(D10,Feuil3!$A$2:$B$57,2,FALSE) -> zetr | L10: =VLOOKUP($E10,Code,2,FALSE) -> #REF! | M10: =VLOOKUP($E10,Code,3,FALSE) -> #REF! | N10: =VLOOKUP($E10,Code,4,FALSE) -> #REF! | O10: =VLOOKUP($E10,Code,5,FALSE) -> #REF!
D11: d | E11: =VLOOKUP(D11,Feuil2!$A$2:$B$57,2,FALSE) -> FLPA | H11: =VLOOKUP(D11,Feuil3!$A$2:$B$57,2,FALSE) -> hdgdfghdfgh | L11: =VLOOKUP($E11,Code,2,FALSE) -> #REF! | M11: =VLOOKUP($E11,Code,3,FALSE) -> #REF! | N11: =VLOOKUP($E11,Code,4,FALSE) -> #REF! | O11: =VLOOKUP($E11,Code,5,FALSE) -> #REF!
E12: =VLOOKUP(D12,Feuil2!$A$2:$B$57,2,FALSE) -> #N/A | H12: =VLOOKUP(D12,Feuil3!$A$2:$B$57,2,FALSE) -> #N/A | L12: =VLOOKUP($E12,Code,2,FALSE) -> #N/A | M12: =VLOOKUP($E12,Code,3,FALSE) -> #N/A | N12: =VLOOKUP($E12,Code,4,FALSE) -> #N/A | O12: =VLOOKUP($E12,Code,5,FALSE) -> #N/A
E13: =VLOOKUP(D13,Feuil2!$A$2:$B$57,2,FALSE) -> #N/A | H13: =VLOOKUP(D13,Feuil3!$A$2:$B$57,2,FALSE) -> #N/A | L13: =VLOOKUP($E13,Code,2,FALSE) -> #N/A | M13: =VLOOKUP($E13,Code,3,FALSE) -> #N/A | N13: =VLOOKUP($E13,Code,4,FALSE) -> #N/A | O13: =VLOOKUP($E13,Code,5,FALSE) -> #N/A
E14: =VLOOKUP(D14,Feuil2!$A$2:$B$57,2,FALSE) -> #N/A | H14: =VLOOKUP(D14,Feuil3!$A$2:$B$57,2,FALSE) -> #N/A | L14: =VLOOKUP($E14,Code,2,FALSE) -> #N/A | M14: =VLOOKUP($E14,Code,3,FALSE) -> #N/A | N14: =VLOOKUP($E14,Code,4,FALSE) -> #N/A | O14: =VLOOKUP($E14,Code,5,FALSE) -> #N/A
E15: =VLOOKUP(D15,Feuil2!$A$2:$B$57,2,FALSE) -> #N/A | H15: =VLOOKUP(D15,Feuil3!$A$2:$B$57,2,FALSE) -> #N/A | L15: =VLOOKUP($E15,Code,2,FALSE) -> #N/A | M15: =VLOOKUP($E15,Code,3,FALSE) -> #N/A | N15: =VLOOKUP($E15,Code,4,FALSE) -> #N/A | O15: =VLOOKUP($E15,Code,5,FALSE) -> #N/A
E16: =VLOOKUP(D16,Feuil2!$A$2:$B$57,2,FALSE) -> #N/A | H16: =VLOOKUP(D16,Feuil3!$A$2:$B$57,2,FALSE) -> #N/A | L16: =VLOOKUP($E16,Code,2,FALSE) -> #N/A | M16: =VLOOKUP($E16,Code,3,FALSE) -> #N/A | N16: =VLOOKUP($E16,Code,4,FALSE) -> #N/A | O16: =VLOOKUP($E16,Code,5,FALSE) -> #N/A
E17: =VLOOKUP(D17,Feuil2!$A$2:$B$57,2,FALSE) -> #N/A | H17: =VLOOKUP(D17,Feuil3!$A$2:$B$57,2,FALSE) -> #N/A | L17: =VLOOKUP($E17,Code,2,FALSE) -> #N/A | M17: =VLOOKUP($E17,Code,3,FALSE) -> #N/A | N17: =VLOOKUP($E17,Code,4,FALSE) -> #N/A | O17: =VLOOKUP($E17,Code,5,FALSE) -> #N/A
E18: =VLOOKUP(D18,Feuil2!$A$2:$B$57,2,FALSE) -> #N/A | H18: =VLOOKUP(D18,Feuil3!$A$2:$B$57,2,FALSE) -> #N/A | L18: =VLOOKUP($E18,Code,2,FALSE) -> #N/A | M18: =VLOOKUP($E18,Code,3,FALSE) -> #N/A | N18: =VLOOKUP($E18,Code,4,FALSE) -> #N/A | O18: =VLOOKUP($E18,Code,5,FALSE) -> #N/A
E19: =VLOOKUP(D19,Feuil2!$A$2:$B$57,2,FALSE) -> #N/A | H19: =VLOOKUP(D19,Feuil3!$A$2:$B$57,2,FALSE) -> #N/A | L19: =VLOOKUP($E19,Code,2,FALSE) -> #N/A | M19: =VLOOKUP($E19,Code,3,FALSE) -> #N/A | N19: =VLOOKUP($E19,Code,4,FALSE) -> #N/A | O19: =VLOOKUP($E19,Code,5,FALSE) -> #N/A
E20: =VLOOKUP(D20,Feuil2!$A$2:$B$57,2,FALSE) -> #N/A | H20: =VLOOKUP(D20,Feuil3!$A$2:$B$57,2,FALSE) -> #N/A | L20: =VLOOKUP($E20,Code,2,FALSE) -> #N/A | M20: =VLOOKUP($E20,Code,3,FALSE) -> #N/A | N20: =VLOOKUP($E20,Code,4,FALSE) -> #N/A | O20: =VLOOKUP($E20,Code,5,FALSE) -> #N/A
E21: =VLOOKUP(D21,Feuil2!$A$2:$B$57,2,FALSE) -> #N/A | H21: =VLOOKUP(D21,Feuil3!$A$2:$B$57,2,FALSE) -> #N/A | L21: =VLOOKUP($E21,Code,2,FALSE) -> #N/A | M21: =VLOOKUP($E21,Code,3,FALSE) -> #N/A | N21: =VLOOKUP($E21,Code,4,FALSE) -> #N/A | O21: =VLOOKUP($E21,Code,5,FALSE) -> #N/A
E22: =VLOOKUP(D22,Feuil2!$A$2:$B$57,2,FALSE) -> #N/A | H22: =VLOOKUP(D22,Feuil3!$A$2:$B$57,2,FALSE) -> #N/A | L22: =VLOOKUP($E22,Code,2,FALSE) -> #N/A | M22: =VLOOKUP($E22,Code,3,FALSE) -> #N/A | N22: =VLOOKUP($E22,Code,4,FALSE) -> #N/A | O22: =VLOOKUP($E22,Code,5,FALSE) -> #N/A
E23: =VLOOKUP(D23,Feuil2!$A$2:$B$57,2,FALSE) -> #N/A | H23: =VLOOKUP(D23,Feuil3!$A$2:$B$57,2,FALSE) -> #N/A | L23: =VLOOKUP($E23,Code,2,FALSE) -> #N/A | M23: =VLOOKUP($E23,Code,3,FALSE) -> #N/A | N23: =VLOOKUP($E23,Code,4,FALSE) -> #N/A | O23: =VLOOKUP($E23,Code,5,FALSE) -> #N/A
... E300: =VLOOKUP(D300,Feuil2!$A$2:$B$57,2,FALSE) -> #N/A | H300: =VLOOKUP(D300,Feuil3!$A$2:$B$57,2,FALSE) -> #N/A | L300: =VLOOKUP($E300,Code,2,FALSE) -> #N/A | M300: =VLOOKUP($E300,Code,3,FALSE) -> #N/A | N300: =VLOOKUP($E300,Code,4,FALSE) -> #N/A | O300: =VLOOKUP($E300,Code,5,FALSE) -> #N/A

Sheet TAB interméd
AC1: =#REF! -> #REF!
A3: RECAPITULATIF GLOBAL EI (exemple)
A4: =#REF! -> #REF! | B4: =#REF! -> #REF! | C4: =#REF! -> #REF! | D4: =#REF! -> #REF! | E4: Catég EI | F4: 2011 NB | G4: 2011 % | H4: NB JAN | I4: % JAN | J4: NB FEV | K4: % FEV | L4: NB MAR | M4: % MAR | N4: NB AVR | O4: % AVR | P4: NB MAI | Q4: % MAI | R4: NB JUIN | S4: % JUIN | T4: NB JUIL | U4: % JUIL | V4: NB AOU | W4: % AOU | X4: NB SEP | Y4: % SEP | Z4: NB OCT | AA4: % OCT | AB4: NB NOV | AC4: % NOV | AD4: NB DEC | AE4: % DEC
B5: TOTAL | F5: =SUM(F6:F55) -> #REF! | G5: =SUM(G6:G55) -> #REF! | H5: =SUM(H6:H55) -> 2 | I5: =SUM(I6:I50) -> 1 | J5: =SUM(J6:J55) -> 0 | K5: =SUM(K6:K50) -> #DIV/0! | L5: =SUM(L6:L55) -> 0 | M5: =SUM(M6:M55) -> #DIV/0! | N5: =SUM(N6:N55) -> #REF! | O5: =SUM(O6:O50) -> #REF! | P5: =SUM(P6:P55) -> #REF! | Q5: =SUM(Q6:Q50) -> #REF! | R5: =SUM(R6:R55) -> #REF! | S5: =SUM(S6:S50) -> #REF! | T5: =SUM(T6:T55) -> #REF! | U5: =SUM(U6:U50) -> #REF! | V5: =SUM(V6:V55) -> #REF! | W5: =SUM(W6:W50) -> #REF! | X5: =SUM(X6:X55) -> #REF! | Y5: =SUM(Y6:Y50) -> #REF! | Z5: =SUM(Z6:Z55) -> #REF! | AA5: =SUM(AA6:AA50) -> #REF! | AB5: =SUM(AB6:AB55) -> #REF! | AC5: =SUM(AC6:AC50) -> #REF! | AD5: =SUM(AD6:AD55) -> #REF! | AE5: =SUM(AE6:AE50) -> #REF!
A6: FLTT | B6: =#REF! -> #REF! | C6: =#REF! -> #REF! | D6: =#REF! -> #REF! | E6: =#REF! -> #REF! | F6: =H6+J6+L6+N6+P6+R6+T6+V6+Z6+AB6+AD6 -> #REF! | G6: =F6/$F$5 -> #REF! | H6: =COUNTIF(JAN!$E$10:$E$300,$A6) -> 0 | I6: =H6/H$5 -> 0 | J6: =COUNTIF(FEV!$E$10:$E$304,$A6) -> 0 | K6: =J6/J$5 -> #DIV/0! | L6: =COUNTIF(MAR!$E$10:$E$303,$A6) -> 0 | M6: =L6/$L$5 -> #DIV/0! | N6: =COUNTIF(#REF!,$A6) -> #REF! | O6: =N6/N$5 -> #REF! | P6: =COUNTIF(#REF!,$A6) -> #REF! | Q6: =P6/P$5 -> #REF! | R6: =COUNTIF(#REF!,$A6) -> #REF! | S6: =R6/R$5 -> #REF! | T6: =COUNTIF(#REF!,$A6) -> #REF! | U6: =T6/T$5 -> #REF! | V6: =COUNTIF(#REF!,$A6) -> #REF! | W6: =V6/V$5 -> #REF! | X6: =COUNTIF(#REF!,$A6) -> #REF! | Y6: =X6/X$5 -> #REF! | Z6: =COUNTIF(#REF!,$A6) -> #REF! | AA6: =Z6/Z$5 -> #REF! | AB6: =COUNTIF(#REF!,$A6) -> #REF! | AC6: =AB6/AB$5 -> #REF! | AD6: =COUNTIF(#REF!,$A6) -> #REF! | AE6: =AD6/AD$5 -> #REF!
A7: FLCJ | B7: =#REF! -> #REF! | C7: =#REF! -> #REF! | D7: =#REF! -> #REF! | E7: =#REF! -> #REF! | F7: =H7+J7+L7+N7+P7+R7+T7+V7+Z7+AB7+AD7 -> #REF! | G7: =F7/$F$5 -> #REF! | H7: =COUNTIF(JAN!$E$10:$E$300,$A7) -> 1 | I7: =H7/H$5 -> 0.5 | J7: =COUNTIF(FEV!$E$10:$E$304,$A7) -> 0 | K7: =J7/J$5 -> #DIV/0! | L7: =COUNTIF(MAR!$E$10:$E$303,$A7) -> 0 | M7: =L7/$L$5 -> #DIV/0! | N7: =COUNTIF(#REF!,$A7) -> #REF! | O7: =N7/N$5 -> #REF! | P7: =COUNTIF(#REF!,$A7) -> #REF! | Q7: =P7/P$5 -> #REF! | R7: =COUNTIF(#REF!,$A7) -> #REF! | S7: =R7/R$5 -> #REF! | T7: =COUNTIF(#REF!,$A7) -> #REF! | U7: =T7/T$5 -> #REF! | V7: =COUNTIF(#REF!,$A7) -> #REF! | W7: =V7/V$5 -> #REF! | X7: =COUNTIF(#REF!,$A7) -> #REF! | Y7: =X7/X$5 -> #REF! | Z7: =COUNTIF(#REF!,$A7) -> #REF! | AA7: =Z7/Z$5 -> #REF! | AB7: =COUNTIF(#REF!,$A7) -> #REF! | AC7: =AB7/AB$5 -> #REF! | AD7: =COUNTIF(#REF!,$A7) -> #REF! | AE7: =AD7/AD$5 -> #REF!
A8: FLLO | B8: =#REF! -> #REF! | C8: =#REF! -> #REF! | D8: =#REF! -> #REF! | E8: =#REF! -> #REF! | F8: =H8+J8+L8+N8+P8+R8+T8+V8+Z8+AB8+AD8 -> #REF! | G8: =F8/$F$5 -> #REF! | H8: =COUNTIF(JAN!$E$10:$E$300,$A8) -> 0 | I8: =H8/H$5 -> 0 | J8: =COUNTIF(FEV!$E$10:$E$304,$A8) -> 0 | K8: =J8/J$5 -> #DIV/0! | L8: =COUNTIF(MAR!$E$10:$E$303,$A8) -> 0 | M8: =L8/$L$5 -> #DIV/0! | N8: =COUNTIF(#REF!,$A8) -> #REF! | O8: =N8/N$5 -> #REF! | P8: =COUNTIF(#REF!,$A8) -> #REF! | Q8: =P8/P$5 -> #REF! | R8: =COUNTIF(#REF!,$A8) -> #REF! | S8: =R8/R$5 -> #REF! | T8: =COUNTIF(#REF!,$A8) -> #REF! | U8: =T8/T$5 -> #REF! | V8: =COUNTIF(#REF!,$A8) -> #REF! | W8: =V8/V$5 -> #REF! | X8: =COUNTIF(#REF!,$A8) -> #REF! | Y8: =X8/X$5 -> #REF! | Z8: =COUNTIF(#REF!,$A8) -> #REF! | AA8: =Z8/Z$5 -> #REF! | AB8: =COUNTIF(#REF!,$A8) -> #REF! | AC8: =AB8/AB$5 -> #REF! | AD8: =COUNTIF(#REF!,$A8) -> #REF! | AE8: =AD8/AD$5 -> #REF!
A9: FLPA | B9: =#REF! -> #REF! | C9: =#REF! -> #REF! | D9: =#REF! -> #REF! | E9: =#REF! -> #REF! | F9: =H9+J9+L9+N9+P9+R9+T9+V9+Z9+AB9+AD9 -> #REF! | G9: =F9/$F$5 -> #REF! | H9: =COUNTIF(JAN!$E$10:$E$300,$A9) -> 1 | I9: =H9/H$5 -> 0.5 | J9: =COUNTIF(FEV!$E$10:$E$304,$A9) -> 0 | K9: =J9/J$5 -> #DIV/0! | L9: =COUNTIF(MAR!$E$10:$E$303,$A9) -> 0 | M9: =L9/$L$5 -> #DIV/0! | N9: =COUNTIF(#REF!,$A9) -> #REF! | O9: =N9/N$5 -> #REF! | P9: =COUNTIF(#REF!,$A9) -> #REF! | Q9: =P9/P$5 -> #REF! | R9: =COUNTIF(#REF!,$A9) -> #REF! | S9: =R9/R$5 -> #REF! | T9: =COUNTIF(#REF!,$A9) -> #REF! | U9: =T9/T$5 -> #REF! | V9: =COUNTIF(#REF!,$A9) -> #REF! | W9: =V9/V$5 -> #REF! | X9: =COUNTIF(#REF!,$A9) -> #REF! | Y9: =X9/X$5 -> #REF! | Z9: =COUNTIF(#REF!,$A9) -> #REF! | AA9: =Z9/Z$5 -> #REF! | AB9: =COUNTIF(#REF!,$A9) -> #REF! | AC9: =AB9/AB$5 -> #REF! | AD9: =COUNTIF(#REF!,$A9) -> #REF! | AE9: =AD9/AD$5 -> #REF!
A10: INND | B10: =#REF! -> #REF! | C10: =#REF! -> #REF! | D10: =#REF! -> #REF! | E10: =#REF! -> #REF! | F10: =H10+J10+L10+N10+P10+R10+T10+V10+Z10+AB10+AD10 -> #REF! | G10: =F10/$F$5 -> #REF! | H10: =COUNTIF(JAN!$E$10:$E$300,$A10) -> 0 | I10: =H10/H$5 -> 0 | J10: =COUNTIF(FEV!$E$10:$E$304,$A10) -> 0 | K10: =J10/J$5 -> #DIV/0! | L10: =COUNTIF(MAR!$E$10:$E$303,$A10) -> 0 | M10: =L10/$L$5 -> #DIV/0! | N10: =COUNTIF(#REF!,$A10) -> #REF! | O10: =N10/N$5 -> #REF! | P10: =COUNTIF(#REF!,$A10) -> #REF! | Q10: =P10/P$5 -> #REF! | R10: =COUNTIF(#REF!,$A10) -> #REF! | S10: =R10/R$5 -> #REF! | T10: =COUNTIF(#REF!,$A10) -> #REF! | U10: =T10/T$5 -> #REF! | V10: =COUNTIF(#REF!,$A10) -> #REF! | W10: =V10/V$5 -> #REF! | X10: =COUNTIF(#REF!,$A10) -> #REF! | Y10: =X10/X$5 -> #REF! | Z10: =COUNTIF(#REF!,$A10) -> #REF! | AA10: =Z10/Z$5 -> #REF! | AB10: =COUNTIF(#REF!,$A10) -> #REF! | AC10: =AB10/AB$5 -> #REF! | AD10: =COUNTIF(#REF!,$A10) -> #REF! | AE10: =AD10/AD$5 -> #REF!
A11: INOR | B11: =#REF! -> #REF! | C11: =#REF! -> #REF! | D11: =#REF! -> #REF! | E11: =#REF! -> #REF! | F11: =H11+J11+L11+N11+P11+R11+T11+V11+Z11+AB11+AD11 -> #REF! | G11: =F11/$F$5 -> #REF! | H11: =COUNTIF(JAN!$E$10:$E$300,$A11) -> 0 | I11: =H11/H$5 -> 0 | J11: =COUNTIF(FEV!$E$10:$E$304,$A11) -> 0 | K11: =J11/J$5 -> #DIV/0! | L11: =COUNTIF(MAR!$E$10:$E$303,$A11) -> 0 | M11: =L11/$L$5 -> #DIV/0! | N11: =COUNTIF(#REF!,$A11) -> #REF! | O11: =N11/N$5 -> #REF! | P11: =COUNTIF(#REF!,$A11) -> #REF! | Q11: =P11/P$5 -> #REF! | R11: =COUNTIF(#REF!,$A11) -> #REF! | S11: =R11/R$5 -> #REF! | T11: =COUNTIF(#REF!,$A11) -> #REF! | U11: =T11/T$5 -> #REF! | V11: =COUNTIF(#REF!,$A11) -> #REF! | W11: =V11/V$5 -> #REF! | X11: =COUNTIF(#REF!,$A11) -> #REF! | Y11: =X11/X$5 -> #REF! | Z11: =COUNTIF(#REF!,$A11) -> #REF! | AA11: =Z11/Z$5 -> #REF! | AB11: =COUNTIF(#REF!,$A11) -> #REF! | AC11: =AB11/AB$5 -> #REF! | AD11: =COUNTIF(#REF!,$A11) -> #REF! | AE11: =AD11/AD$5 -> #REF!
A12: INTRI | B12: =#REF! -> #REF! | C12: =#REF! -> #REF! | D12: =#REF! -> #REF! | E12: =#REF! -> #REF! | F12: =H12+J12+L12+N12+P12+R12+T12+V12+Z12+AB12+AD12 -> #REF! | G12: =F12/$F$5 -> #REF! | H12: =COUNTIF(JAN!$E$10:$E$300,$A12) -> 0 | I12: =H12/H$5 -> 0 | J12: =COUNTIF(FEV!$E$10:$E$304,$A12) -> 0 | K12: =J12/J$5 -> #DIV/0! | L12: =COUNTIF(MAR!$E$10:$E$303,$A12) -> 0 | M12: =L12/$L$5 -> #DIV/0! | N12: =COUNTIF(#REF!,$A12) -> #REF! | O12: =N12/N$5 -> #REF! | P12: =COUNTIF(#REF!,$A12) -> #REF! | Q12: =P12/P$5 -> #REF! | R12: =COUNTIF(#REF!,$A12) -> #REF! | S12: =R12/R$5 -> #REF! | T12: =COUNTIF(#REF!,$A12) -> #REF! | U12: =T12/T$5 -> #REF! | V12: =COUNTIF(#REF!,$A12) -> #REF! | W12: =V12/V$5 -> #REF! | X12: =COUNTIF(#REF!,$A12) -> #REF! | Y12: =X12/X$5 -> #REF! | Z12: =COUNTIF(#REF!,$A12) -> #REF! | AA12: =Z12/Z$5 -> #REF! | AB12: =COUNTIF(#REF!,$A12) -> #REF! | AC12: =AB12/AB$5 -> #REF! | AD12: =COUNTIF(#REF!,$A12) -> #REF! | AE12: =AD12/AD$5 -> #REF!
A13: INOI | B13: =#REF! -> #REF! | C13: =#REF! -> #REF! | D13: =#REF! -> #REF! | E13: =#REF! -> #REF! | F13: =H13+J13+L13+N13+P13+R13+T13+V13+Z13+AB13+AD13 -> #REF! | G13: =F13/$F$5 -> #REF! | H13: =COUNTIF(JAN!$E$10:$E$300,$A13) -> 0 | I13: =H13/H$5 -> 0 | J13: =COUNTIF(FEV!$E$10:$E$304,$A13) -> 0 | K13: =J13/J$5 -> #DIV/0! | L13: =COUNTIF(MAR!$E$10:$E$303,$A13) -> 0 | M13: =L13/$L$5 -> #DIV/0! | N13: =COUNTIF(#REF!,$A13) -> #REF! | O13: =N13/N$5 -> #REF! | P13: =COUNTIF(#REF!,$A13) -> #REF! | Q13: =P13/P$5 -> #REF! | R13: =COUNTIF(#REF!,$A13) -> #REF! | S13: =R13/R$5 -> #REF! | T13: =COUNTIF(#REF!,$A13) -> #REF! | U13: =T13/T$5 -> #REF! | V13: =COUNTIF(#REF!,$A13) -> #REF! | W13: =V13/V$5 -> #REF! | X13: =COUNTIF(#REF!,$A13) -> #REF! | Y13: =X13/X$5 -> #REF! | Z13: =COUNTIF(#REF!,$A13) -> #REF! | AA13: =Z13/Z$5 -> #REF! | AB13: =COUNTIF(#REF!,$A13) -> #REF! | AC13: =AB13/AB$5 -> #REF! | AD13: =COUNTIF(#REF!,$A13) -> #REF! | AE13: =AD13/AD$5 -> #REF!
A14: INOIP | B14: =#REF! -> #REF! | C14: =#REF! -> #REF! | D14: =#REF! -> #REF! | E14: =#REF! -> #REF! | F14: =H14+J14+L14+N14+P14+R14+T14+V14+Z14+AB14+AD14 -> #REF! | G14: =F14/$F$5 -> #REF! | H14: =COUNTIF(JAN!$E$10:$E$300,$A14) -> 0 | I14: =H14/H$5 -> 0 | J14: =COUNTIF(FEV!$E$10:$E$304,$A14) -> 0 | K14: =J14/J$5 -> #DIV/0! | L14: =COUNTIF(MAR!$E$10:$E$303,$A14) -> 0 | M14: =L14/$L$5 -> #DIV/0! | N14: =COUNTIF(#REF!,$A14) -> #REF! | O14: =N14/N$5 -> #REF! | P14: =COUNTIF(#REF!,$A14) -> #REF! | Q14: =P14/P$5 -> #REF! | R14: =COUNTIF(#REF!,$A14) -> #REF! | S14: =R14/R$5 -> #REF! | T14: =COUNTIF(#REF!,$A14) -> #REF! | U14: =T14/T$5 -> #REF! | V14: =COUNTIF(#REF!,$A14) -> #REF! | W14: =V14/V$5 -> #REF! | X14: =COUNTIF(#REF!,$A14) -> #REF! | Y14: =X14/X$5 -> #REF! | Z14: =COUNTIF(#REF!,$A14) -> #REF! | AA14: =Z14/Z$5 -> #REF! | AB14: =COUNTIF(#REF!,$A14) -> #REF! | AC14: =AB14/AB$5 -> #REF! | AD14: =COUNTIF(#REF!,$A14) -> #REF! | AE14: =AD14/AD$5 -> #REF!
A15: INTREM | B15: =#REF! -> #REF! | C15: =#REF! -> #REF! | D15: =#REF! -> #REF! | E15: =#REF! -> #REF! | F15: =H15+J15+L15+N15+P15+R15+T15+V15+Z15+AB15+AD15 -> #REF! | G15: =F15/$F$5 -> #REF! | H15: =COUNTIF(JAN!$E$10:$E$300,$A15) -> 0 | I15: =H15/H$5 -> 0 | J15: =COUNTIF(FEV!$E$10:$E$304,$A15) -> 0 | K15: =J15/J$5 -> #DIV/0! | L15: =COUNTIF(MAR!$E$10:$E$303,$A15) -> 0 | M15: =L15/$L$5 -> #DIV/0! | N15: =COUNTIF(#REF!,$A15) -> #REF! | O15: =N15/N$5 -> #REF! | P15: =COUNTIF(#REF!,$A15) -> #REF! | Q15: =P15/P$5 -> #REF! | R15: =COUNTIF(#REF!,$A15) -> #REF! | S15: =R15/R$5 -> #REF! | T15: =COUNTIF(#REF!,$A15) -> #REF! | U15: =T15/T$5 -> #REF! | V15: =COUNTIF(#REF!,$A15) -> #REF! | W15: =V15/V$5 -> #REF! | X15: =COUNTIF(#REF!,$A15) -> #REF! | Y15: =X15/X$5 -> #REF! | Z15: =COUNTIF(#REF!,$A15) -> #REF! | AA15: =Z15/Z$5 -> #REF! | AB15: =COUNTIF(#REF!,$A15) -> #REF! | AC15: =AB15/AB$5 -> #REF! | AD15: =COUNTIF(#REF!,$A15) -> #REF! | AE15: =AD15/AD$5 -> #REF!
A16: BOID | B16: =#REF! -> #REF! | C16: =#REF! -> #REF! | D16: =#REF! -> #REF! | E16: =#REF! -> #REF! | F16: =H16+J16+L16+N16+P16+R16+T16+V16+Z16+AB16+AD16 -> #REF! | G16: =F16/$F$5 -> #REF! | H16: =COUNTIF(JAN!$E$10:$E$300,$A16) -> 0 | I16: =H16/H$5 -> 0 | J16: =COUNTIF(FEV!$E$10:$E$304,$A16) -> 0 | K16: =J16/J$5 -> #DIV/0! | L16: =COUNTIF(MAR!$E$10:$E$303,$A16) -> 0 | M16: =L16/$L$5 -> #DIV/0! | N16: =COUNTIF(#REF!,$A16) -> #REF! | O16: =N16/N$5 -> #REF! | P16: =COUNTIF(#REF!,$A16) -> #REF! | Q16: =P16/P$5 -> #REF! | R16: =COUNTIF(#REF!,$A16) -> #REF! | S16: =R16/R$5 -> #REF! | T16: =COUNTIF(#REF!,$A16) -> #REF! | U16: =T16/T$5 -> #REF! | V16: =COUNTIF(#REF!,$A16) -> #REF! | W16: =V16/V$5 -> #REF! | X16: =COUNTIF(#REF!,$A16) -> #REF! | Y16: =X16/X$5 -> #REF! | Z16: =COUNTIF(#REF!,$A16) -> #REF! | AA16: =Z16/Z$5 -> #REF! | AB16: =COUNTIF(#REF!,$A16) -> #REF! | AC16: =AB16/AB$5 -> #REF! | AD16: =COUNTIF(#REF!,$A16) -> #REF! | AE16: =AD16/AD$5 -> #REF!
A17: LAVTYP | B17: =#REF! -> #REF! | C17: =#REF! -> #REF! | D17: =#REF! -> #REF! | E17: =#REF! -> #REF! | F17: =H17+J17+L17+N17+P17+R17+T17+V17+Z17+AB17+AD17 -> #REF! | G17: =F17/$F$5 -> #REF! | H17: =COUNTIF(JAN!$E$10:$E$300,$A17) -> 0 | I17: =H17/H$5 -> 0 | J17: =COUNTIF(FEV!$E$10:$E$304,$A17) -> 0 | K17: =J17/J$5 -> #DIV/0! | L17: =COUNTIF(MAR!$E$10:$E$303,$A17) -> 0 | M17: =L17/$L$5 -> #DIV/0! | N17: =COUNTIF(#REF!,$A17) -> #REF! | O17: =N17/N$5 -> #REF! | P17: =COUNTIF(#REF!,$A17) -> #REF! | Q17: =P17/P$5 -> #REF! | R17: =COUNTIF(#REF!,$A17) -> #REF! | S17: =R17/R$5 -> #REF! | T17: =COUNTIF(#REF!,$A17) -> #REF! | U17: =T17/T$5 -> #REF! | V17: =COUNTIF(#REF!,$A17) -> #REF! | W17: =V17/V$5 -> #REF! | X17: =COUNTIF(#REF!,$A17) -> #REF! | Y17: =X17/X$5 -> #REF! | Z17: =COUNTIF(#REF!,$A17) -> #REF! | AA17: =Z17/Z$5 -> #REF! | AB17: =COUNTIF(#REF!,$A17) -> #REF! | AC17: =AB17/AB$5 -> #REF! | AD17: =COUNTIF(#REF!,$A17) -> #REF! | AE17: =AD17/AD$5 -> #REF!
... A61: AUTRE | B61: =#REF! -> #REF! | C61: =#REF! -> #REF! | D61: =#REF! -> #REF! | E61: =#REF! -> #REF! | F61: =H61+J61+L61+N61+P61+R61+T61+V61+Z61+AB61+AD61 -> #REF! | G61: =F61/$F$5 -> #REF! | H61: =COUNTIF(JAN!$E$10:$E$300,$A61) -> 0 | I61: =H61/H$5 -> 0 | J61: =COUNTIF(FEV!$E$10:$E$304,$A61) -> 0 | K61: =J61/J$5 -> #DIV/0! | L61: =COUNTIF(MAR!$E$10:$E$303,$A61) -> 0 | M61: =L61/$L$5 -> #DIV/0! | N61: =COUNTIF(#REF!,$A61) -> #REF! | O61: =N61/N$5 -> #REF! | P61: =COUNTIF(#REF!,$A61) -> #REF! | Q61: =P61/P$5 -> #REF! | R61: =COUNTIF(#REF!,$A61) -> #REF! | S61: =R61/R$5 -> #REF! | T61: =COUNTIF(#REF!,$A61) -> #REF! | U61: =T61/T$5 -> #REF! | V61: =COUNTIF(#REF!,$A61) -> #REF! | W61: =V61/V$5 -> #REF! | X61: =COUNTIF(#REF!,$A61) -> #REF! | Y61: =X61/X$5 -> #REF! | Z61: =COUNTIF(#REF!,$A61) -> #REF! | AA61: =Z61/Z$5 -> #REF! | AB61: =COUNTIF(#REF!,$A61) -> #REF! | AC61: =AB61/AB$5 -> #REF! | AD61: =COUNTIF(#REF!,$A61) -> #REF! | AE61: =AD61/AD$5 -> #REF!

Sheet Feuil1
A1: a
A2: b
A3: c
A4: d
A5: e
A6: Résidus après lavage
A7: t
A8: y
A9: u
A10: i
A11: o
A12: p
... A56: bt

Sheet Feuil2
A1: TYPE EI | B1: Code EI
A2: a | B2: FLTT
A3: b | B3: FLCJ
A4: c | B4: FLLO
A5: d | B5: FLPA
A6: e | B6: INND
A7: Résidus après lavage | B7: INOR
A8: t | B8: INTRI
A9: y | B9: INOI
A10: u | B10: INOIP
A11: i | B11: INTREM
A12: o | B12: BOID
... A57: bt | B57: AUTRE

Sheet Feuil3
A1: Type EI | B1: Action corrective
A2: a | B2: aze
A3: b | B3: zetr
A4: c | B4: sdfgdsf
A5: d | B5: hdgdfghdfgh
A6: e | B6: vbcnvnbcn
A7: Résidus après lavage | B7: cvbncbn
A8: t | B8: cvbncvbncbncbn
A9: y | B9: cbvntj
A10: u | B10: sgdfsfd
A11: i | B11: thjjtyr
A12: o | B12: qetrq
... A57: bt | B57: zer

Sheet Feuil4
A1: Stérilisation
A2: Service
A3: Autre
