Workbook
Name Base: Base!$A$4:$E$32
Name Population: Base!$B$4:$E$4

Sheet Base
A1: TABLEAU DES DONNÉES
A4: Lignes | B4: O | C4: M | D4: F | E4: T
A5: 2 | C5: 287 | D5: 271 | E5: =SUM(C5:D5) -> 558
A6: 3 | C6: 418 | D6: 403 | E6: =SUM(C6:D6) -> 821
A7: 4 | C7: 435 | D7: 388 | E7: =SUM(C7:D7) -> 823
A8: 5 | C8: 404 | D8: 349 | E8: =SUM(C8:D8) -> 753
A9: 6 | C9: 310 | D9: 395 | E9: =SUM(C9:D9) -> 705
A10: 7 | C10: 217 | D10: 356 | E10: =SUM(C10:D10) -> 573
A11: 8 | C11: 39 | D11: 54 | E11: =SUM(C11:D11) -> 93
A12: 9 | C12: 751 | D12: 789 | E12: =SUM(C12:D12) -> 1540
A13: 10 | C13: 969 | D13: 1018 | E13: =SUM(C13:D13) -> 1987
A14: 11 | C14: 181 | D14: 190 | E14: =SUM(C14:D14) -> 371
A15: 12 | C15: 46 | D15: 48 | E15: =SUM(C15:D15) -> 94
A16: 13 | C16: 163 | D16: 171 | E16: =SUM(C16:D16) -> 334
... A32: 29 | C32: 759 | D32: 798 | E32: =SUM(C32:D32) -> 1557

Sheet liste
F2: O | H2: M | J2: =IF(H2="O","O","T") -> T
F4: =HLOOKUP(liste!$F$2,Base,ROW(A8)) -> 54 | G4: =F4/$F$9 -> 0.025726536 | H4: =HLOOKUP(liste!$H$2,Base,ROW(A8)) -> 39 | I4: =H4/$H$9 -> 0.019637462 | J4: =HLOOKUP(liste!$J$2,Base,ROW(A8)) -> 93 | K4: =J4/$J$9 -> 0.022766218
F5: =HLOOKUP(liste!$F$2,Base,ROW(A9)) -> 789 | G5: =F5/$F$9 -> 0.37589328 | H5: =HLOOKUP(liste!$H$2,Base,ROW(A9)) -> 751 | I5: =H5/$H$9 -> 0.37814703 | J5: =HLOOKUP(liste!$J$2,Base,ROW(A9)) -> 1540 | K5: =J5/$J$9 -> 0.37698898
F6: =HLOOKUP(liste!$F$2,Base,ROW(A10)) -> 1018 | G6: =F6/$F$9 -> 0.48499285 | H6: =HLOOKUP(liste!$H$2,Base,ROW(A10)) -> 969 | I6: =H6/$H$9 -> 0.48791541 | J6: =HLOOKUP(liste!$J$2,Base,ROW(A10)) -> 1987 | K6: =J6/$J$9 -> 0.48641371
F7: =HLOOKUP(liste!$F$2,Base,ROW(A11)) -> 190 | G7: =F7/$F$9 -> 0.090519295 | H7: =HLOOKUP(liste!$H$2,Base,ROW(A11)) -> 181 | I7: =H7/$H$9 -> 0.091137966 | J7: =HLOOKUP(liste!$J$2,Base,ROW(A11)) -> 371 | K7: =J7/$J$9 -> 0.090820073
F8: =HLOOKUP(liste!$F$2,Base,ROW(A12)) -> 48 | G8: =F8/$F$9 -> 0.022868032 | H8: =HLOOKUP(liste!$H$2,Base,ROW(A12)) -> 46 | I8: =H8/$H$9 -> 0.023162135 | J8: =HLOOKUP(liste!$J$2,Base,ROW(A12)) -> 94 | K8: =J8/$J$9 -> 0.023011016
F9: =SUM(F4:F8) -> 2099 | H9: =SUM(H4:H8) -> 1986 | J9: =SUM(J4:J8) -> 4085
F10: =MAX(F4:F8) -> 1018 | H10: =MAX(H4:H8) -> 969 | J10: =MAX(J4:J8) -> 1987
F11: =HLOOKUP(liste!$F$2,Base,ROW(A13)) -> 171 | G11: =F11/$F$15 -> 0.074122237 | H11: =HLOOKUP(liste!$H$2,Base,ROW(A13)) -> 163 | I11: =H11/$H$15 -> 0.074057247 | J11: =HLOOKUP(liste!$J$2,Base,ROW(A13)) -> 334 | K11: =J11/$J$15 -> 0.074090506
F12: =HLOOKUP(liste!$F$2,Base,ROW(A14)) -> 1994 | G12: =F12/$F$15 -> 0.86432596 | H12: =HLOOKUP(liste!$H$2,Base,ROW(A14)) -> 1899 | I12: =H12/$H$15 -> 0.86278964 | J12: =HLOOKUP(liste!$J$2,Base,ROW(A14)) -> 3893 | K12: =J12/$J$15 -> 0.86357587
F13: =HLOOKUP(liste!$F$2,Base,ROW(A15)) -> 95 | G13: =F13/$F$15 -> 0.04117902 | H13: =HLOOKUP(liste!$H$2,Base,ROW(A15)) -> 83 | I13: =H13/$H$15 -> 0.037710132 | J13: =HLOOKUP(liste!$J$2,Base,ROW(A15)) -> 178 | K13: =J13/$J$15 -> 0.039485359
F14: =HLOOKUP(liste!$F$2,Base,ROW(A16)) -> 47 | G14: =F14/$F$15 -> 0.020372779 | H14: =HLOOKUP(liste!$H$2,Base,ROW(A16)) -> 56 | I14: =H14/$H$15 -> 0.02544298 | J14: =HLOOKUP(liste!$J$2,Base,ROW(A16)) -> 103 | K14: =J14/$J$15 -> 0.02284827
F15: =SUM(F11:F14) -> 2307 | H15: =SUM(H11:H14) -> 2201 | J15: =SUM(J11:J14) -> 4508
F16: =MAX(F11:F14) -> 1994 | H16: =MAX(H10:H14) -> 1899 | J16: =MAX(J11:J14) -> 3893
F17: =HLOOKUP(liste!$F$2,Base,ROW(A18)) -> 1679 | G17: =F17/$F$23 -> 0.38491518 | H17: =HLOOKUP(liste!$H$2,Base,ROW(A18)) -> 1612 | I17: =H17/$H$23 -> 0.38536935 | J17: =HLOOKUP(liste!$J$2,Base,ROW(A18)) -> 3291 | K17: =J17/$J$23 -> 0.38513751
F18: =HLOOKUP(liste!$F$2,Base,ROW(A19)) -> 712 | G18: =F18/$F$23 -> 0.16322788 | H18: =HLOOKUP(liste!$H$2,Base,ROW(A19)) -> 727 | I18: =H18/$H$23 -> 0.17379871 | J18: =HLOOKUP(liste!$J$2,Base,ROW(A19)) -> 1439 | K18: =J18/$J$23 -> 0.16840257
F19: =HLOOKUP(liste!$F$2,Base,ROW(A20)) -> 1048 | G19: =F19/$F$23 -> 0.24025676 | H19: =HLOOKUP(liste!$H$2,Base,ROW(A20)) -> 991 | I19: =H19/$H$23 -> 0.23691131 | J19: =HLOOKUP(liste!$J$2,Base,ROW(A20)) -> 2039 | K19: =J19/$J$23 -> 0.23861908
F20: =HLOOKUP(liste!$F$2,Base,ROW(A21)) -> 316 | G20: =F20/$F$23 -> 0.072443833 | H20: =HLOOKUP(liste!$H$2,Base,ROW(A21)) -> 368 | I20: =H20/$H$23 -> 0.087975137 | J20: =HLOOKUP(liste!$J$2,Base,ROW(A21)) -> 684 | K20: =J20/$J$23 -> 0.080046811
F21: =HLOOKUP(liste!$F$2,Base,ROW(A22)) -> 355 | G21: =F21/$F$23 -> 0.081384686 | H21: =HLOOKUP(liste!$H$2,Base,ROW(A22)) -> 371 | I21: =H21/$H$23 -> 0.088692326 | J21: =HLOOKUP(liste!$J$2,Base,ROW(A22)) -> 726 | K21: =J21/$J$23 -> 0.084961966
F22: =HLOOKUP(liste!$F$2,Base,ROW(A23)) -> 252 | G22: =F22/$F$23 -> 0.057771664 | H22: =HLOOKUP(liste!$H$2,Base,ROW(A23)) -> 114 | I22: =H22/$H$23 -> 0.027253168 | J22: =HLOOKUP(liste!$J$2,Base,ROW(A23)) -> 366 | K22: =J22/$J$23 -> 0.042832066
F23: =SUM(F17:F22) -> 4362 | H23: =SUM(H17:H22) -> 4183 | J23: =SUM(J17:J22) -> 8545
F24: =MAX(F17:F22) -> 1679 | H24: =MAX(H17:H22) -> 1612 | J24: =MAX(J17:J22) -> 3291
