Workbook

Sheet TDB
A2: Nature | B2: Global | C2: janv-23 | D2: févr-23 | E2: mars-23 | F2: avr-23 | G2: mai-23 | H2: juin-23 | I2: juil-23 | J2: août-23 | K2: sept-23 | L2: oct-23 | M2: nov-23 | N2: déc-23 | O2: janv-24 | P2: févr-24 | Q2: mars-24 | R2: avr-24 | S2: mai-24 | T2: juin-24 | U2: juil-24 | V2: août-24 | W2: sept-24 | X2: oct-24 | Y2: nov-24 | Z2: déc-24 | AA2: janv-25 | AB2: fev-25 | AC2: mars-25 | AD2: avr-25 | AE2: mai-25 | AF2: juin-25 | AG2: juil-25 | AH2: août-25
A3: CA Mensuel | C3: =SUM('SUIVI CLIENT 1x'!E1,'SUIVI CLIENT 3x'!E1,'SUIVI CLIENT 12x'!E1) -> 77 | D3: =SUM('SUIVI CLIENT 1x'!F1,'SUIVI CLIENT 3x'!F1,'SUIVI CLIENT 12x'!F1) -> 77 | E3: =SUM('SUIVI CLIENT 1x'!G1,'SUIVI CLIENT 3x'!G1,'SUIVI CLIENT 12x'!G1) -> 77 | F3: =SUM('SUIVI CLIENT 1x'!H1,'SUIVI CLIENT 3x'!H1,'SUIVI CLIENT 12x'!H1) -> 77 | G3: =SUM('SUIVI CLIENT 1x'!I1,'SUIVI CLIENT 3x'!I1,'SUIVI CLIENT 12x'!I1) -> 0 | H3: =SUM('SUIVI CLIENT 1x'!J1,'SUIVI CLIENT 3x'!J1,'SUIVI CLIENT 12x'!J1) -> 0 | I3: =SUM('SUIVI CLIENT 1x'!K1,'SUIVI CLIENT 3x'!K1,'SUIVI CLIENT 12x'!K1) -> 0 | J3: =SUM('SUIVI CLIENT 1x'!L1,'SUIVI CLIENT 3x'!L1,'SUIVI CLIENT 12x'!L1) -> 447 | ... AH3: =SUM('SUIVI CLIENT 1x'!AJ1,'SUIVI CLIENT 3x'!AJ1,'SUIVI CLIENT 12x'!AJ1) -> 0
A4: Nb clients 1 | B4: =COUNTIF('SUIVI CLIENT 1x'!A:A,"1") -> 3 | C4: ='SUIVI CLIENT 1x'!E1 -> 0 | D4: =COUNTIF(Tableau1[févr-23],"850") -> 0 | E4: =COUNTIF(Tableau1[mars-23],"850") -> 0 | F4: =COUNTIF(Tableau1[avr-23],"850") -> 0 | G4: =COUNTIF(Tableau1[mai-23],"850") -> 0 | H4: =COUNTIF(Tableau1[juin-23],"850") -> 0 | I4: =COUNTIF(Tableau1[juil-23],"850") -> 0 | J4: =COUNTIF(Tableau1[août-23],"850") -> 0 | K4: =COUNTIF(Tableau1[sept-23],"850") -> 0 | L4: =COUNTIF(Tableau1[oct-23],"850") -> 0 | M4: =COUNTIF(Tableau1[nov-23],"850") -> 0 | N4: =COUNTIF(Tableau1[déc-23],"850") -> 0 | O4: =COUNTIF(Tableau1[janv-24],"850") -> 1 | P4: =COUNTIF(Tableau1[févr-24],"850") -> 0 | Q4: =COUNTIF(Tableau1[mars-24],"850") -> 0 | R4: =COUNTIF(Tableau1[avr-24],"850") -> 0 | S4: =COUNTIF(Tableau1[mai-24],"850") -> 0 | T4: =COUNTIF(Tableau1[juin-24],"850") -> 0 | U4: =COUNTIF(Tableau1[juil-24],"850") -> 0 | V4: =COUNTIF(Tableau1[août-24],"850") -> 1 | W4: =COUNTIF(Tableau1[sept-24],"850") -> 0 | X4: =COUNTIF(Tableau1[oct-24],"850") -> 0 | Y4: =COUNTIF(Tableau1[nov-24],"850") -> 0 | Z4: =COUNTIF(Tableau1[déc-24],"850") -> 0 | AA4: =COUNTIF(Tableau1[janv-25],"850") -> 0 | AB4: =COUNTIF(Tableau1[fev-25],"850") -> 0 | AC4: =COUNTIF(Tableau1[mars-25],"850") -> 0 | AD4: =COUNTIF(Tableau1[avr-25],"850") -> 0 | AE4: =COUNTIF(Tableau1[mai-25],"850") -> 1 | AF4: =COUNTIF(Tableau1[juin-25],"850") -> 0 | AG4: =COUNTIF(Tableau1[juil-25],"850") -> 0 | AH4: =COUNTIF(Tableau1[Payment],"850") -> 0
A5: Nb clients 3 | B5: =COUNTIF(Tableau148[Payment],"3") -> 4 | C5: =COUNTIF(Tableau1[janv-23],"350") -> 0 | D5: =COUNTIF(Tableau1[févr-23],"350") -> 0 | E5: =COUNTIF(Tableau1[mars-23],"350") -> 0 | F5: =COUNTIF(Tableau1[avr-23],"350") -> 0 | G5: =COUNTIF(Tableau1[mai-23],"350") -> 0 | H5: =COUNTIF(Tableau1[juin-23],"350") -> 0 | I5: =COUNTIF(Tableau1[juil-23],"350") -> 0 | J5: =COUNTIF(Tableau1[août-23],"350") -> 0 | K5: =COUNTIF(Tableau1[sept-23],"350") -> 0 | L5: =COUNTIF(Tableau1[oct-23],"350") -> 0 | M5: =COUNTIF(Tableau1[nov-23],"350") -> 0 | N5: =COUNTIF(Tableau1[déc-23],"350") -> 0 | O5: =COUNTIF(Tableau1[janv-24],"350") -> 0 | P5: =COUNTIF(Tableau1[févr-24],"350") -> 0 | Q5: =COUNTIF(Tableau1[mars-24],"350") -> 0 | R5: =COUNTIF(Tableau1[avr-24],"350") -> 0 | S5: =COUNTIF(Tableau1[mai-24],"350") -> 0 | T5: =COUNTIF(Tableau1[juin-24],"350") -> 0 | U5: =COUNTIF(Tableau1[juil-24],"350") -> 0 | V5: =COUNTIF(Tableau1[août-24],"350") -> 0 | W5: =COUNTIF(Tableau1[sept-24],"350") -> 0 | X5: =COUNTIF(Tableau1[oct-24],"350") -> 0 | Y5: =COUNTIF(Tableau1[nov-24],"350") -> 0 | Z5: =COUNTIF(Tableau1[déc-24],"350") -> 0 | AA5: =COUNTIF(Tableau1[janv-25],"350") -> 0 | AB5: =COUNTIF(Tableau1[fev-25],"350") -> 0 | AC5: =COUNTIF(Tableau1[mars-25],"350") -> 0 | AD5: =COUNTIF(Tableau1[avr-25],"350") -> 0 | AE5: =COUNTIF(Tableau1[mai-25],"350") -> 0 | AF5: =COUNTIF(Tableau1[juin-25],"350") -> 0 | AG5: =COUNTIF(Tableau1[juil-25],"350") -> 0 | AH5: =COUNTIF(Tableau1[Payment],"350") -> 0
A6: Nb clients12 | B6: =COUNTIF(Tableau14[Payment],"12") -> 6 | C6: =COUNTIF(Tableau1[janv-23],"850") -> 0 | D6: =COUNTIF(Tableau1[févr-23],"850") -> 0 | E6: =COUNTIF(Tableau1[mars-23],"850") -> 0 | F6: =COUNTIF(Tableau1[avr-23],"850") -> 0 | G6: =COUNTIF(Tableau1[mai-23],"850") -> 0 | H6: =COUNTIF(Tableau1[juin-23],"850") -> 0 | I6: =COUNTIF(Tableau1[juil-23],"850") -> 0 | J6: =COUNTIF(Tableau1[août-23],"850") -> 0 | K6: =COUNTIF(Tableau1[sept-23],"850") -> 0 | L6: =COUNTIF(Tableau1[oct-23],"850") -> 0 | M6: =COUNTIF(Tableau1[nov-23],"850") -> 0 | N6: =COUNTIF(Tableau1[déc-23],"850") -> 0 | O6: =COUNTIF(Tableau1[janv-24],"850") -> 1 | P6: =COUNTIF(Tableau1[févr-24],"850") -> 0 | Q6: =COUNTIF(Tableau1[mars-24],"850") -> 0 | R6: =COUNTIF(Tableau1[avr-24],"850") -> 0 | S6: =COUNTIF(Tableau1[mai-24],"850") -> 0 | T6: =COUNTIF(Tableau1[juin-24],"850") -> 0 | U6: =COUNTIF(Tableau1[juil-24],"850") -> 0 | V6: =COUNTIF(Tableau1[août-24],"850") -> 1 | W6: =COUNTIF(Tableau1[sept-24],"850") -> 0 | X6: =COUNTIF(Tableau1[oct-24],"850") -> 0 | Y6: =COUNTIF(Tableau1[nov-24],"850") -> 0 | Z6: =COUNTIF(Tableau1[déc-24],"850") -> 0 | AA6: =COUNTIF(Tableau1[janv-25],"850") -> 0 | AB6: =COUNTIF(Tableau1[fev-25],"850") -> 0 | AC6: =COUNTIF(Tableau1[mars-25],"850") -> 0 | AD6: =COUNTIF(Tableau1[avr-25],"850") -> 0 | AE6: =COUNTIF(Tableau1[mai-25],"850") -> 1 | AF6: =COUNTIF(Tableau1[juin-25],"850") -> 0 | AG6: =COUNTIF(Tableau1[juil-25],"850") -> 0 | AH6: =COUNTIF(Tableau1[Payment],"850") -> 0
A7: CA Clients 1 | B7: =SUM('SUIVI CLIENT 1x'!E1:AI1) -> 2550 | C7: =SUMIF(Tableau1[janv-23],"97") -> 0 | D7: =SUMIF(Tableau1[févr-23],"97") -> 0 | E7: =SUMIF(Tableau1[mars-23],"97") -> 0 | F7: =SUMIF(Tableau1[avr-23],"97") -> 0 | G7: =SUMIF(Tableau1[mai-23],"97") -> 0 | H7: =SUMIF(Tableau1[juin-23],"97") -> 0 | I7: =SUMIF(Tableau1[juil-23],"97") -> 0 | J7: =SUMIF(Tableau1[août-23],"97") -> 0 | K7: =SUMIF(Tableau1[sept-23],"97") -> 0 | L7: =SUMIF(Tableau1[oct-23],"97") -> 0 | M7: =SUMIF(Tableau1[nov-23],"97") -> 0 | N7: =SUMIF(Tableau1[déc-23],"97") -> 0 | O7: =SUMIF(Tableau1[janv-24],"97") -> 0 | P7: =SUMIF(Tableau1[févr-24],"97") -> 0 | Q7: =SUMIF(Tableau1[mars-24],"97") -> 0 | R7: =SUMIF(Tableau1[avr-24],"97") -> 0 | S7: =SUMIF(Tableau1[mai-24],"97") -> 0 | T7: =SUMIF(Tableau1[juin-24],"97") -> 0 | U7: =SUMIF(Tableau1[juil-24],"97") -> 0 | V7: =SUMIF(Tableau1[août-24],"97") -> 0 | W7: =SUMIF(Tableau1[sept-24],"97") -> 0 | X7: =SUMIF(Tableau1[oct-24],"97") -> 0 | Y7: =SUMIF(Tableau1[nov-24],"97") -> 0 | Z7: =SUMIF(Tableau1[déc-24],"97") -> 0 | AA7: =SUMIF(Tableau1[janv-25],"97") -> 0 | AB7: =SUMIF(Tableau1[fev-25],"97") -> 0 | AC7: =SUMIF(Tableau1[mars-25],"97") -> 0 | AD7: =SUMIF(Tableau1[avr-25],"97") -> 0 | AE7: =SUMIF(Tableau1[mai-25],"97") -> 0 | AF7: =SUMIF(Tableau1[juin-25],"97") -> 0 | AG7: =SUMIF(Tableau1[juil-25],"97") -> 0 | AH7: =SUMIF(Tableau1[Payment],"97") -> 0
A8: CA Clients 3 | B8: =SUM('SUIVI CLIENT 3x'!E1:AI1) -> 4200 | C8: =SUMIF(Tableau1[janv-23],"350") -> 0 | D8: =SUMIF(Tableau1[févr-23],"350") -> 0 | E8: =SUMIF(Tableau1[mars-23],"350") -> 0 | F8: =SUMIF(Tableau1[avr-23],"350") -> 0 | G8: =SUMIF(Tableau1[mai-23],"350") -> 0 | H8: =SUMIF(Tableau1[juin-23],"350") -> 0 | I8: =SUMIF(Tableau1[juil-23],"350") -> 0 | J8: =SUMIF(Tableau1[août-23],"350") -> 0 | K8: =SUMIF(Tableau1[sept-23],"350") -> 0 | L8: =SUMIF(Tableau1[oct-23],"350") -> 0 | M8: =SUMIF(Tableau1[nov-23],"350") -> 0 | N8: =SUMIF(Tableau1[déc-23],"350") -> 0 | O8: =SUMIF(Tableau1[janv-24],"350") -> 0 | P8: =SUMIF(Tableau1[févr-24],"350") -> 0 | Q8: =SUMIF(Tableau1[mars-24],"350") -> 0 | R8: =SUMIF(Tableau1[avr-24],"350") -> 0 | S8: =SUMIF(Tableau1[mai-24],"350") -> 0 | T8: =SUMIF(Tableau1[juin-24],"350") -> 0 | U8: =SUMIF(Tableau1[juil-24],"350") -> 0 | V8: =SUMIF(Tableau1[août-24],"350") -> 0 | W8: =SUMIF(Tableau1[sept-24],"350") -> 0 | X8: =SUMIF(Tableau1[oct-24],"350") -> 0 | Y8: =SUMIF(Tableau1[nov-24],"350") -> 0 | Z8: =SUMIF(Tableau1[déc-24],"350") -> 0 | AA8: =SUMIF(Tableau1[janv-25],"350") -> 0 | AB8: =SUMIF(Tableau1[fev-25],"350") -> 0 | AC8: =SUMIF(Tableau1[mars-25],"350") -> 0 | AD8: =SUMIF(Tableau1[avr-25],"350") -> 0 | AE8: =SUMIF(Tableau1[mai-25],"350") -> 0 | AF8: =SUMIF(Tableau1[juin-25],"350") -> 0 | AG8: =SUMIF(Tableau1[juil-25],"350") -> 0 | AH8: =SUMIF(Tableau1[Payment],"350") -> 0
A9: CA Clients 12 | B9: =SUM('SUIVI CLIENT 12x'!E1:AI1) -> 6128 | C9: =SUMIF(Tableau1[janv-23],"850") -> 0 | D9: =SUMIF(Tableau1[févr-23],"850") -> 0 | E9: =SUMIF(Tableau1[mars-23],"850") -> 0 | F9: =SUMIF(Tableau1[avr-23],"850") -> 0 | G9: =SUMIF(Tableau1[mai-23],"850") -> 0 | H9: =SUMIF(Tableau1[juin-23],"850") -> 0 | I9: =SUMIF(Tableau1[juil-23],"850") -> 0 | J9: =SUMIF(Tableau1[août-23],"850") -> 0 | K9: =SUMIF(Tableau1[sept-23],"850") -> 0 | L9: =SUMIF(Tableau1[oct-23],"850") -> 0 | M9: =SUMIF(Tableau1[nov-23],"850") -> 0 | N9: =SUMIF(Tableau1[déc-23],"850") -> 0 | O9: =SUMIF(Tableau1[janv-24],"850") -> 850 | P9: =SUMIF(Tableau1[févr-24],"850") -> 0 | Q9: =SUMIF(Tableau1[mars-24],"850") -> 0 | R9: =SUMIF(Tableau1[avr-24],"850") -> 0 | S9: =SUMIF(Tableau1[mai-24],"850") -> 0 | T9: =SUMIF(Tableau1[juin-24],"850") -> 0 | U9: =SUMIF(Tableau1[juil-24],"850") -> 0 | V9: =SUMIF(Tableau1[août-24],"850") -> 850 | W9: =SUMIF(Tableau1[sept-24],"850") -> 0 | X9: =SUMIF(Tableau1[oct-24],"850") -> 0 | Y9: =SUMIF(Tableau1[nov-24],"850") -> 0 | Z9: =SUMIF(Tableau1[déc-24],"850") -> 0 | AA9: =SUMIF(Tableau1[janv-25],"850") -> 0 | AB9: =SUMIF(Tableau1[fev-25],"850") -> 0 | AC9: =SUMIF(Tableau1[mars-25],"850") -> 0 | AD9: =SUMIF(Tableau1[avr-25],"850") -> 0 | AE9: =SUMIF(Tableau1[mai-25],"850") -> 850 | AF9: =SUMIF(Tableau1[juin-25],"850") -> 0 | AG9: =SUMIF(Tableau1[juil-25],"850") -> 0 | AH9: =SUMIF(Tableau1[Payment],"850") -> 0

Sheet SUIVI CLIENT 1x
E1: =SUM(Tableau1[janv-23]) -> 0 | F1: =SUM(Tableau1[févr-23]) -> 0 | G1: =SUM(Tableau1[mars-23]) -> 0 | H1: =SUM(Tableau1[avr-23]) -> 0 | I1: =SUM(Tableau1[mai-23]) -> 0 | J1: =SUM(Tableau1[juin-23]) -> 0 | K1: =SUM(Tableau1[juil-23]) -> 0 | L1: =SUM(Tableau1[août-23]) -> 0 | M1: =SUM(Tableau1[sept-23]) -> 0 | N1: =SUM(Tableau1[oct-23]) -> 0 | O1: =SUM(Tableau1[nov-23]) -> 0 | P1: =SUM(Tableau1[déc-23]) -> 0 | Q1: =SUM(Tableau1[janv-24]) -> 850 | R1: =SUM(Tableau1[févr-24]) -> 0 | S1: =SUM(Tableau1[mars-24]) -> 0 | T1: =SUM(Tableau1[avr-24]) -> 0 | U1: =SUM(Tableau1[mai-24]) -> 0 | V1: =SUM(Tableau1[juin-24]) -> 0 | W1: =SUM(Tableau1[juil-24]) -> 0 | X1: =SUM(Tableau1[août-24]) -> 850 | Y1: =SUM(Tableau1[sept-24]) -> 0 | Z1: =SUM(Tableau1[oct-24]) -> 0 | AA1: =SUM(Tableau1[nov-24]) -> 0 | AB1: =SUM(Tableau1[déc-24]) -> 0 | AC1: =SUM(Tableau1[janv-25]) -> 0 | AD1: =SUM(Tableau1[fev-25]) -> 0 | AE1: =SUM(Tableau1[mars-25]) -> 0 | AF1: =SUM(Tableau1[avr-25]) -> 0 | AG1: =SUM(Tableau1[mai-25]) -> 850 | AH1: =SUM(Tableau1[juin-25]) -> 0 | AI1: =SUM(Tableau1[juil-25]) -> 0
A2: Payment | B2: Member | C2: Starting date | D2: Mensualité | E2: janv-23 | F2: févr-23 | G2: mars-23 | H2: avr-23 | I2: mai-23 | J2: juin-23 | K2: juil-23 | L2: août-23 | M2: sept-23 | N2: oct-23 | O2: nov-23 | P2: déc-23 | Q2: janv-24 | R2: févr-24 | S2: mars-24 | T2: avr-24 | U2: mai-24 | V2: juin-24 | W2: juil-24 | X2: août-24 | Y2: sept-24 | Z2: oct-24 | AA2: nov-24 | AB2: déc-24 | AC2: janv-25 | AD2: fev-25 | AE2: mars-25 | AF2: avr-25 | AG2: mai-25 | AH2: juin-25 | AI2: juil-25
A3: 1 | B3: XXX | C3: 45301 | D3: 850 | Q3: 850
A4: 1 | B4: AAA | C4: 45513 | D4: 850 | X4: 850
A5: 1 | B5: KKK | C5: 45427 | D5: 850 | AG5: 850

Sheet SUIVI CLIENT 3x
E1: =SUM(Tableau148[janv-23]) -> 0 | F1: =SUM(Tableau148[févr-23]) -> 0 | G1: =SUM(Tableau148[mars-23]) -> 0 | H1: =SUM(Tableau148[avr-23]) -> 0 | I1: =SUM(Tableau148[mai-23]) -> 0 | J1: =SUM(Tableau148[juin-23]) -> 0 | K1: =SUM(Tableau148[juil-23]) -> 0 | L1: =SUM(Tableau148[août-23]) -> 350 | M1: =SUM(Tableau148[sept-23]) -> 350 | N1: =SUM(Tableau148[oct-23]) -> 350 | O1: =SUM(Tableau148[nov-23]) -> 0 | P1: =SUM(Tableau148[déc-23]) -> 0 | Q1: =SUM(Tableau148[janv-24]) -> 0 | R1: =SUM(Tableau148[févr-24]) -> 350 | S1: =SUM(Tableau148[mars-24]) -> 1050 | T1: =SUM(Tableau148[avr-24]) -> 1050 | U1: =SUM(Tableau148[mai-24]) -> 700 | V1: =SUM(Tableau148[juin-24]) -> 0 | W1: =SUM(Tableau148[juil-24]) -> 0 | X1: =SUM(Tableau148[août-24]) -> 0 | Y1: =SUM(Tableau148[sept-24]) -> 0 | Z1: =SUM(Tableau148[oct-24]) -> 0 | AA1: =SUM(Tableau148[nov-24]) -> 0 | AB1: =SUM(Tableau148[déc-24]) -> 0 | AC1: =SUM(Tableau148[janv-25]) -> 0 | AD1: =SUM(Tableau148[fev-25]) -> 0 | AE1: =SUM(Tableau148[mars-25]) -> 0 | AF1: =SUM(Tableau148[avr-25]) -> 0 | AG1: =SUM(Tableau148[mai-25]) -> 0 | AH1: =SUM(Tableau148[juin-25]) -> 0 | AI1: =SUM(Tableau148[juil-25]) -> 0
A2: Payment | B2: Member | C2: Starting date | D2: Mensualité | E2: janv-23 | F2: févr-23 | G2: mars-23 | H2: avr-23 | I2: mai-23 | J2: juin-23 | K2: juil-23 | L2: août-23 | M2: sept-23 | N2: oct-23 | O2: nov-23 | P2: déc-23 | Q2: janv-24 | R2: févr-24 | S2: mars-24 | T2: avr-24 | U2: mai-24 | V2: juin-24 | W2: juil-24 | X2: août-24 | Y2: sept-24 | Z2: oct-24 | AA2: nov-24 | AB2: déc-24 | AC2: janv-25 | AD2: fev-25 | AE2: mars-25 | AF2: avr-25 | AG2: mai-25 | AH2: juin-25 | AI2: juil-25
A3: 3 | B3: GGG | C3: 45146 | D3: 350 | L3: 350 | M3: 350 | N3: 350
A4: 3 | B4: EEE | C4: 45346 | D4: 350 | R4: 350 | S4: 350 | T4: 350
A5: 3 | B5: YYY | C5: 45369 | D5: 350 | S5: 350 | T5: 350 | U5: 350
A6: 3 | B6: CCC | C6: 45379 | D6: 350 | S6: 350 | T6: 350 | U6: 350

Sheet SUIVI CLIENT 12x
E1: =SUM(Tableau14[janv-23]) -> 77 | F1: =SUM(Tableau14[févr-23]) -> 77 | G1: =SUM(Tableau14[mars-23]) -> 77 | H1: =SUM(Tableau14[avr-23]) -> 77 | I1: =SUM(Tableau14[mai-23]) -> 0 | J1: =SUM(Tableau14[juin-23]) -> 0 | K1: =SUM(Tableau14[juil-23]) -> 0 | L1: =SUM(Tableau14[août-23]) -> 97 | M1: =SUM(Tableau14[sept-23]) -> 97 | N1: =SUM(Tableau14[oct-23]) -> 194 | O1: =SUM(Tableau14[nov-23]) -> 194 | P1: =SUM(Tableau14[déc-23]) -> 291 | Q1: =SUM(Tableau14[janv-24]) -> 291 | R1: =SUM(Tableau14[févr-24]) -> 388 | S1: =SUM(Tableau14[mars-24]) -> 388 | T1: =SUM(Tableau14[avr-24]) -> 388 | U1: =SUM(Tableau14[mai-24]) -> 485 | V1: =SUM(Tableau14[juin-24]) -> 485 | W1: =SUM(Tableau14[juil-24]) -> 485 | X1: =SUM(Tableau14[août-24]) -> 388 | Y1: =SUM(Tableau14[sept-24]) -> 388 | Z1: =SUM(Tableau14[oct-24]) -> 291 | AA1: =SUM(Tableau14[nov-24]) -> 291 | AB1: =SUM(Tableau14[déc-24]) -> 194 | AC1: =SUM(Tableau14[janv-25]) -> 194 | AD1: =SUM(Tableau14[fev-25]) -> 97 | AE1: =SUM(Tableau14[mars-25]) -> 97 | AF1: =SUM(Tableau14[avr-25]) -> 97 | AG1: =SUM(Tableau14[mai-25]) -> 0 | AH1: =SUM(Tableau14[juin-25]) -> 0 | AI1: =SUM(Tableau14[juil-25]) -> 0
A2: Payment | B2: Member | C2: Starting date | D2: Mensualité | E2: janv-23 | F2: févr-23 | G2: mars-23 | H2: avr-23 | I2: mai-23 | J2: juin-23 | K2: juil-23 | L2: août-23 | M2: sept-23 | N2: oct-23 | O2: nov-23 | P2: déc-23 | Q2: janv-24 | R2: févr-24 | S2: mars-24 | T2: avr-24 | U2: mai-24 | V2: juin-24 | W2: juil-24 | X2: août-24 | Y2: sept-24 | Z2: oct-24 | AA2: nov-24 | AB2: déc-24 | AC2: janv-25 | AD2: fev-25 | AE2: mars-25 | AF2: avr-25 | AG2: mai-25 | AH2: juin-25 | AI2: juil-25
A3: 12 | B3: ZZZ | C3: 45152 | D3: 97 | L3: 97 | M3: 97 | N3: 97 | O3: 97 | P3: 97 | Q3: 97 | R3: 97 | S3: 97 | T3: 97 | U3: 97 | V3: 97 | W3: 97
A4: 12 | B4: OOO | C4: 44683 | D4: 77 | E4: 77 | F4: 77 | G4: 77 | H4: 77
A5: 12 | B5: BBB | C5: 45218 | D5: 97 | N5: 97 | O5: 97 | P5: 97 | Q5: 97 | R5: 97 | S5: 97 | T5: 97 | U5: 97 | V5: 97 | W5: 97 | X5: 97 | Y5: 97
A6: 12 | B6: DDD | C6: 45268 | D6: 97 | P6: 97 | Q6: 97 | R6: 97 | S6: 97 | T6: 97 | U6: 97 | V6: 97 | W6: 97 | X6: 97 | Y6: 97 | Z6: 97 | AA6: 97
A7: 12 | B7: HHH | C7: 45327 | D7: 97 | R7: 97 | S7: 97 | T7: 97 | U7: 97 | V7: 97 | W7: 97 | X7: 97 | Y7: 97 | Z7: 97 | AA7: 97 | AB7: 97 | AC7: 97
A8: 12 | B8: FFF | C8: 45439 | D8: 97 | U8: 97 | V8: 97 | W8: 97 | X8: 97 | Y8: 97 | Z8: 97 | AA8: 97 | AB8: 97 | AC8: 97 | AD8: 97 | AE8: 97 | AF8: 97

Sheet Données
A1: 1 | D1: Programme | E1: Nb traites | G1: Colonne1
A2: 3 | E2: 1 | G2: 900
A3: 12 | E3: 3 | G3: 850 | I3: (77 x 5 avant avril 2023)
E4: 12 | G4: 350
G5: 97
G6: 77
