Workbook

Sheet Main courante
J2: Les données saisies dans ce tableau sont réparties dans les tableaux des onglets juillet et aout qui contiennent une RechercheV pour faire la jointure.
J4: Le problème est que lorsque que je saisirai les données pour une nouvelle date, les anciennes données disparaitront des tableaux de juillet et aout.
A5: Tapez la date du jour | C5: 41090
D6: 1 | E6: 2 | F6: 3 | G6: 4 | H6: 5 | I6: 6 | J6: Pour les conserver je souhaite donc que les cellules contenant une valeur "subissent" un copier coller spécial valeur afin de les figer (à moins qu'il n'existe une solution plus adapatée.
B7: J+45 | C7: =+C5+45 -> 41135 | D7: 0 | E7: 0 | F7: 0 | G7: 0 | H7: 0 | I7: 0
B8: J+30 | C8: =+C5+30 -> 41120 | D8: 0 | E8: 0 | F8: 0 | G8: 0 | H8: 0 | I8: 0
B9: J+25 | C9: =+C5+25 -> 41115 | D9: 7 | E9: 9 | F9: 0 | G9: 0 | H9: 0 | I9: 0
B10: J+20 | C10: =+C5+20 -> 41110 | D10: 15 | E10: 7 | F10: 0 | G10: 0 | H10: 0 | I10: 0
B11: J+15 | C11: =+C5+15 -> 41105 | D11: 10 | E11: 8 | F11: 0 | G11: 0 | H11: 0 | I11: 0
B12: J+10 | C12: =+C5+10 -> 41100 | D12: 2 | E12: 9 | F12: 0 | G12: 0 | H12: 0 | I12: 0
B13: J+7 | C13: =+C5+7 -> 41097 | D13: 3 | E13: 6 | F13: 0 | G13: 0 | H13: 0 | I13: 0
B14: J+3 | C14: =+C5+3 -> 41093 | D14: 5 | E14: 5 | F14: 0 | G14: 0 | H14: 0 | I14: 0
B15: J+1 | C15: =+C5+1 -> 41091 | D15: 5 | E15: 2 | F15: 0 | G15: 0 | H15: 0 | I15: 0

Sheet Juillet
A2: 192
AI5: Voici donc les plages concernées. Autour des cellules ayant une valeur, il reste des formules, donc voila pourquoi il me faut faire un collage spécial des cellules qui ont déjà reçues des valeurs uniquement.
C6: 41091 | D6: 41092 | E6: 41093 | F6: 41094 | G6: 41095 | H6: 41096 | I6: 41097 | J6: 41098 | K6: 41099 | L6: 41100 | M6: 41101 | N6: 41102 | O6: 41103 | P6: 41104 | Q6: 41105 | R6: 41106 | S6: 41107 | T6: 41108 | U6: 41109 | V6: 41110 | W6: 41111 | X6: 41112 | Y6: 41113 | Z6: 41114 | AA6: 41115 | AB6: 41116 | AC6: 41117 | AD6: 41118 | AE6: 41119 | AF6: 41120 | AG6: 41121
C7: 0 | D7: 15 | E7: 15 | F7: 15 | G7: 10 | H7: 10 | I7: 10 | J7: 10 | K7: 15 | L7: 15 | M7: 15 | N7: 20 | O7: 15 | P7: 15 | Q7: 20 | R7: 15 | S7: 15 | T7: 15 | U7: 20 | V7: 20 | W7: 20 | X7: 20 | Y7: 15 | Z7: 15 | AA7: 15 | AB7: 20 | AC7: 20 | AD7: 20 | AE7: 20 | AF7: 15 | AG7: 15
A8: 1 | B8: J-45 | C8: =IFERROR(VLOOKUP(C$6,'Main courante'!$C7:$D7,2, FALSE),"") | D8: =IFERROR(VLOOKUP(D$6,'Main courante'!$C7:$D7,2, FALSE),"") | E8: =IFERROR(VLOOKUP(E$6,'Main courante'!$C7:$D7,2, FALSE),"") | F8: =IFERROR(VLOOKUP(F$6,'Main courante'!$C7:$D7,2, FALSE),"") | G8: =IFERROR(VLOOKUP(G$6,'Main courante'!$C7:$D7,2, FALSE),"") | H8: =IFERROR(VLOOKUP(H$6,'Main courante'!$C7:$D7,2, FALSE),"") | I8: =IFERROR(VLOOKUP(I$6,'Main courante'!$C7:$D7,2, FALSE),"") | J8: =IFERROR(VLOOKUP(J$6,'Main courante'!$C7:$D7,2, FALSE),"") | ... AG8: =IFERROR(VLOOKUP(AG$6,'Main courante'!$C7:$D7,2, FALSE),"")
B9: J-30 | C9: =IFERROR(VLOOKUP(C$6,'Main courante'!$C8:$D8,2, FALSE),"") | D9: =IFERROR(VLOOKUP(D$6,'Main courante'!$C8:$D8,2, FALSE),"") | E9: =IFERROR(VLOOKUP(E$6,'Main courante'!$C8:$D8,2, FALSE),"") | F9: =IFERROR(VLOOKUP(F$6,'Main courante'!$C8:$D8,2, FALSE),"") | G9: =IFERROR(VLOOKUP(G$6,'Main courante'!$C8:$D8,2, FALSE),"") | H9: =IFERROR(VLOOKUP(H$6,'Main courante'!$C8:$D8,2, FALSE),"") | I9: =IFERROR(VLOOKUP(I$6,'Main courante'!$C8:$D8,2, FALSE),"") | J9: =IFERROR(VLOOKUP(J$6,'Main courante'!$C8:$D8,2, FALSE),"") | ... AG9: =IFERROR(VLOOKUP(AG$6,'Main courante'!$C8:$D8,2, FALSE),"")
B10: J-25 | C10: =IFERROR(VLOOKUP(C$6,'Main courante'!$C9:$D9,2, FALSE),"") | D10: =IFERROR(VLOOKUP(D$6,'Main courante'!$C9:$D9,2, FALSE),"") | E10: =IFERROR(VLOOKUP(E$6,'Main courante'!$C9:$D9,2, FALSE),"") | F10: =IFERROR(VLOOKUP(F$6,'Main courante'!$C9:$D9,2, FALSE),"") | G10: =IFERROR(VLOOKUP(G$6,'Main courante'!$C9:$D9,2, FALSE),"") | H10: =IFERROR(VLOOKUP(H$6,'Main courante'!$C9:$D9,2, FALSE),"") | I10: =IFERROR(VLOOKUP(I$6,'Main courante'!$C9:$D9,2, FALSE),"") | J10: =IFERROR(VLOOKUP(J$6,'Main courante'!$C9:$D9,2, FALSE),"") | ... AG10: =IFERROR(VLOOKUP(AG$6,'Main courante'!$C9:$D9,2, FALSE),"")
B11: J-20 | C11: =IFERROR(VLOOKUP(C$6,'Main courante'!$C10:$D10,2, FALSE),"") | D11: =IFERROR(VLOOKUP(D$6,'Main courante'!$C10:$D10,2, FALSE),"") | E11: =IFERROR(VLOOKUP(E$6,'Main courante'!$C10:$D10,2, FALSE),"") | F11: =IFERROR(VLOOKUP(F$6,'Main courante'!$C10:$D10,2, FALSE),"") | G11: =IFERROR(VLOOKUP(G$6,'Main courante'!$C10:$D10,2, FALSE),"") | H11: =IFERROR(VLOOKUP(H$6,'Main courante'!$C10:$D10,2, FALSE),"") | I11: =IFERROR(VLOOKUP(I$6,'Main courante'!$C10:$D10,2, FALSE),"") | J11: =IFERROR(VLOOKUP(J$6,'Main courante'!$C10:$D10,2, FALSE),"") | ... AG11: =IFERROR(VLOOKUP(AG$6,'Main courante'!$C10:$D10,2, FALSE),"")
B12: J-15 | C12: =IFERROR(VLOOKUP(C$6,'Main courante'!$C11:$D11,2, FALSE),"") | D12: =IFERROR(VLOOKUP(D$6,'Main courante'!$C11:$D11,2, FALSE),"") | E12: =IFERROR(VLOOKUP(E$6,'Main courante'!$C11:$D11,2, FALSE),"") | F12: =IFERROR(VLOOKUP(F$6,'Main courante'!$C11:$D11,2, FALSE),"") | G12: =IFERROR(VLOOKUP(G$6,'Main courante'!$C11:$D11,2, FALSE),"") | H12: =IFERROR(VLOOKUP(H$6,'Main courante'!$C11:$D11,2, FALSE),"") | I12: =IFERROR(VLOOKUP(I$6,'Main courante'!$C11:$D11,2, FALSE),"") | J12: =IFERROR(VLOOKUP(J$6,'Main courante'!$C11:$D11,2, FALSE),"") | ... AG12: =IFERROR(VLOOKUP(AG$6,'Main courante'!$C11:$D11,2, FALSE),"")
B13: J-10 | C13: =IFERROR(VLOOKUP(C$6,'Main courante'!$C12:$D12,2, FALSE),"") | D13: =IFERROR(VLOOKUP(D$6,'Main courante'!$C12:$D12,2, FALSE),"") | E13: =IFERROR(VLOOKUP(E$6,'Main courante'!$C12:$D12,2, FALSE),"") | F13: =IFERROR(VLOOKUP(F$6,'Main courante'!$C12:$D12,2, FALSE),"") | G13: =IFERROR(VLOOKUP(G$6,'Main courante'!$C12:$D12,2, FALSE),"") | H13: =IFERROR(VLOOKUP(H$6,'Main courante'!$C12:$D12,2, FALSE),"") | I13: =IFERROR(VLOOKUP(I$6,'Main courante'!$C12:$D12,2, FALSE),"") | J13: =IFERROR(VLOOKUP(J$6,'Main courante'!$C12:$D12,2, FALSE),"") | ... AG13: =IFERROR(VLOOKUP(AG$6,'Main courante'!$C12:$D12,2, FALSE),"")
B14: J-7 | C14: =IFERROR(VLOOKUP(C$6,'Main courante'!$C13:$D13,2, FALSE),"") | D14: =IFERROR(VLOOKUP(D$6,'Main courante'!$C13:$D13,2, FALSE),"") | E14: =IFERROR(VLOOKUP(E$6,'Main courante'!$C13:$D13,2, FALSE),"") | F14: =IFERROR(VLOOKUP(F$6,'Main courante'!$C13:$D13,2, FALSE),"") | G14: =IFERROR(VLOOKUP(G$6,'Main courante'!$C13:$D13,2, FALSE),"") | H14: =IFERROR(VLOOKUP(H$6,'Main courante'!$C13:$D13,2, FALSE),"") | I14: =IFERROR(VLOOKUP(I$6,'Main courante'!$C13:$D13,2, FALSE),"") -> 3 | J14: =IFERROR(VLOOKUP(J$6,'Main courante'!$C13:$D13,2, FALSE),"") | ... AG14: =IFERROR(VLOOKUP(AG$6,'Main courante'!$C13:$D13,2, FALSE),"")
B15: J-3 | C15: =IFERROR(VLOOKUP(C$6,'Main courante'!$C14:$D14,2, FALSE),"") | D15: =IFERROR(VLOOKUP(D$6,'Main courante'!$C14:$D14,2, FALSE),"") | E15: =IFERROR(VLOOKUP(E$6,'Main courante'!$C14:$D14,2, FALSE),"") -> 5 | F15: =IFERROR(VLOOKUP(F$6,'Main courante'!$C14:$D14,2, FALSE),"") | G15: =IFERROR(VLOOKUP(G$6,'Main courante'!$C14:$D14,2, FALSE),"") | H15: =IFERROR(VLOOKUP(H$6,'Main courante'!$C14:$D14,2, FALSE),"") | I15: =IFERROR(VLOOKUP(I$6,'Main courante'!$C14:$D14,2, FALSE),"") | J15: =IFERROR(VLOOKUP(J$6,'Main courante'!$C14:$D14,2, FALSE),"") | ... AG15: =IFERROR(VLOOKUP(AG$6,'Main courante'!$C14:$D14,2, FALSE),"")
B16: J-1 | C16: =IFERROR(VLOOKUP(C$6,'Main courante'!$C15:$D15,2, FALSE),"") -> 5 | D16: =IFERROR(VLOOKUP(D$6,'Main courante'!$C15:$D15,2, FALSE),"") | E16: =IFERROR(VLOOKUP(E$6,'Main courante'!$C15:$D15,2, FALSE),"") | F16: =IFERROR(VLOOKUP(F$6,'Main courante'!$C15:$D15,2, FALSE),"") | G16: =IFERROR(VLOOKUP(G$6,'Main courante'!$C15:$D15,2, FALSE),"") | H16: =IFERROR(VLOOKUP(H$6,'Main courante'!$C15:$D15,2, FALSE),"") | I16: =IFERROR(VLOOKUP(I$6,'Main courante'!$C15:$D15,2, FALSE),"") | J16: =IFERROR(VLOOKUP(J$6,'Main courante'!$C15:$D15,2, FALSE),"") | ... AG16: =IFERROR(VLOOKUP(AG$6,'Main courante'!$C15:$D15,2, FALSE),"")
C18: 41091 | D18: 41092 | E18: 41093 | F18: 41094 | G18: 41095 | H18: 41096 | I18: 41097 | J18: 41098 | K18: 41099 | L18: 41100 | M18: 41101 | N18: 41102 | O18: 41103 | P18: 41104 | Q18: 41105 | R18: 41106 | S18: 41107 | T18: 41108 | U18: 41109 | V18: 41110 | W18: 41111 | X18: 41112 | Y18: 41113 | Z18: 41114 | AA18: 41115 | AB18: 41116 | AC18: 41117 | AD18: 41118 | AE18: 41119 | AF18: 41120 | AG18: 41121
C19: 0 | D19: 15 | E19: 15 | F19: 15 | G19: 0 | H19: 0 | I19: 0 | J19: 0 | K19: 15 | L19: 15 | M19: 16 | N19: 0 | O19: 0 | P19: 0 | Q19: 0 | R19: 15 | S19: 15 | T19: 15 | U19: 0 | V19: 0 | W19: 0 | X19: 0 | Y19: 15 | Z19: 15 | AA19: 15 | AB19: 0 | AC19: 0 | AD19: 0 | AE19: 0 | AF19: 15 | AG19: 15
A20: 2 | B20: J-45 | C20: =IFERROR(VLOOKUP(C$18,'Main courante'!$C7:$E7,3,FALSE),"") | D20: =IFERROR(VLOOKUP(D$18,'Main courante'!$C7:$E7,3,FALSE),"") | E20: =IFERROR(VLOOKUP(E$18,'Main courante'!$C7:$E7,3,FALSE),"") | F20: =IFERROR(VLOOKUP(F$18,'Main courante'!$C7:$E7,3,FALSE),"") | G20: =IFERROR(VLOOKUP(G$18,'Main courante'!$C7:$E7,3,FALSE),"") | H20: =IFERROR(VLOOKUP(H$18,'Main courante'!$C7:$E7,3,FALSE),"") | I20: =IFERROR(VLOOKUP(I$18,'Main courante'!$C7:$E7,3,FALSE),"") | J20: =IFERROR(VLOOKUP(J$18,'Main courante'!$C7:$E7,3,FALSE),"") | ... AG20: =IFERROR(VLOOKUP(AG$18,'Main courante'!$C7:$E7,3,FALSE),"")
B21: J-30 | C21: =IFERROR(VLOOKUP(C$18,'Main courante'!$C8:$E8,3,FALSE),"") | D21: =IFERROR(VLOOKUP(D$18,'Main courante'!$C8:$E8,3,FALSE),"") | E21: =IFERROR(VLOOKUP(E$18,'Main courante'!$C8:$E8,3,FALSE),"") | F21: =IFERROR(VLOOKUP(F$18,'Main courante'!$C8:$E8,3,FALSE),"") | G21: =IFERROR(VLOOKUP(G$18,'Main courante'!$C8:$E8,3,FALSE),"") | H21: =IFERROR(VLOOKUP(H$18,'Main courante'!$C8:$E8,3,FALSE),"") | I21: =IFERROR(VLOOKUP(I$18,'Main courante'!$C8:$E8,3,FALSE),"") | J21: =IFERROR(VLOOKUP(J$18,'Main courante'!$C8:$E8,3,FALSE),"") | ... AG21: =IFERROR(VLOOKUP(AG$18,'Main courante'!$C8:$E8,3,FALSE),"")
B22: J-25 | C22: =IFERROR(VLOOKUP(C$18,'Main courante'!$C9:$E9,3,FALSE),"") | D22: =IFERROR(VLOOKUP(D$18,'Main courante'!$C9:$E9,3,FALSE),"") | E22: =IFERROR(VLOOKUP(E$18,'Main courante'!$C9:$E9,3,FALSE),"") | F22: =IFERROR(VLOOKUP(F$18,'Main courante'!$C9:$E9,3,FALSE),"") | G22: =IFERROR(VLOOKUP(G$18,'Main courante'!$C9:$E9,3,FALSE),"") | H22: =IFERROR(VLOOKUP(H$18,'Main courante'!$C9:$E9,3,FALSE),"") | I22: =IFERROR(VLOOKUP(I$18,'Main courante'!$C9:$E9,3,FALSE),"") | J22: =IFERROR(VLOOKUP(J$18,'Main courante'!$C9:$E9,3,FALSE),"") | ... AG22: =IFERROR(VLOOKUP(AG$18,'Main courante'!$C9:$E9,3,FALSE),"")
B23: J-20 | C23: =IFERROR(VLOOKUP(C$18,'Main courante'!$C10:$E10,3,FALSE),"") | D23: =IFERROR(VLOOKUP(D$18,'Main courante'!$C10:$E10,3,FALSE),"") | E23: =IFERROR(VLOOKUP(E$18,'Main courante'!$C10:$E10,3,FALSE),"") | F23: =IFERROR(VLOOKUP(F$18,'Main courante'!$C10:$E10,3,FALSE),"") | G23: =IFERROR(VLOOKUP(G$18,'Main courante'!$C10:$E10,3,FALSE),"") | H23: =IFERROR(VLOOKUP(H$18,'Main courante'!$C10:$E10,3,FALSE),"") | I23: =IFERROR(VLOOKUP(I$18,'Main courante'!$C10:$E10,3,FALSE),"") | J23: =IFERROR(VLOOKUP(J$18,'Main courante'!$C10:$E10,3,FALSE),"") | ... AG23: =IFERROR(VLOOKUP(AG$18,'Main courante'!$C10:$E10,3,FALSE),"")
B24: J-15 | C24: =IFERROR(VLOOKUP(C$18,'Main courante'!$C11:$E11,3,FALSE),"") | D24: =IFERROR(VLOOKUP(D$18,'Main courante'!$C11:$E11,3,FALSE),"") | E24: =IFERROR(VLOOKUP(E$18,'Main courante'!$C11:$E11,3,FALSE),"") | F24: =IFERROR(VLOOKUP(F$18,'Main courante'!$C11:$E11,3,FALSE),"") | G24: =IFERROR(VLOOKUP(G$18,'Main courante'!$C11:$E11,3,FALSE),"") | H24: =IFERROR(VLOOKUP(H$18,'Main courante'!$C11:$E11,3,FALSE),"") | I24: =IFERROR(VLOOKUP(I$18,'Main courante'!$C11:$E11,3,FALSE),"") | J24: =IFERROR(VLOOKUP(J$18,'Main courante'!$C11:$E11,3,FALSE),"") | ... AG24: =IFERROR(VLOOKUP(AG$18,'Main courante'!$C11:$E11,3,FALSE),"")
B25: J-10 | C25: =IFERROR(VLOOKUP(C$18,'Main courante'!$C12:$E12,3,FALSE),"") | D25: =IFERROR(VLOOKUP(D$18,'Main courante'!$C12:$E12,3,FALSE),"") | E25: =IFERROR(VLOOKUP(E$18,'Main courante'!$C12:$E12,3,FALSE),"") | F25: =IFERROR(VLOOKUP(F$18,'Main courante'!$C12:$E12,3,FALSE),"") | G25: =IFERROR(VLOOKUP(G$18,'Main courante'!$C12:$E12,3,FALSE),"") | H25: =IFERROR(VLOOKUP(H$18,'Main courante'!$C12:$E12,3,FALSE),"") | I25: =IFERROR(VLOOKUP(I$18,'Main courante'!$C12:$E12,3,FALSE),"") | J25: =IFERROR(VLOOKUP(J$18,'Main courante'!$C12:$E12,3,FALSE),"") | ... AG25: =IFERROR(VLOOKUP(AG$18,'Main courante'!$C12:$E12,3,FALSE),"")
B26: J-7 | C26: =IFERROR(VLOOKUP(C$18,'Main courante'!$C13:$E13,3,FALSE),"") | D26: =IFERROR(VLOOKUP(D$18,'Main courante'!$C13:$E13,3,FALSE),"") | E26: =IFERROR(VLOOKUP(E$18,'Main courante'!$C13:$E13,3,FALSE),"") | F26: =IFERROR(VLOOKUP(F$18,'Main courante'!$C13:$E13,3,FALSE),"") | G26: =IFERROR(VLOOKUP(G$18,'Main courante'!$C13:$E13,3,FALSE),"") | H26: =IFERROR(VLOOKUP(H$18,'Main courante'!$C13:$E13,3,FALSE),"") | I26: =IFERROR(VLOOKUP(I$18,'Main courante'!$C13:$E13,3,FALSE),"") -> 6 | J26: =IFERROR(VLOOKUP(J$18,'Main courante'!$C13:$E13,3,FALSE),"") | ... AG26: =IFERROR(VLOOKUP(AG$18,'Main courante'!$C13:$E13,3,FALSE),"")
B27: J-3 | C27: =IFERROR(VLOOKUP(C$18,'Main courante'!$C14:$E14,3,FALSE),"") | D27: =IFERROR(VLOOKUP(D$18,'Main courante'!$C14:$E14,3,FALSE),"") | E27: =IFERROR(VLOOKUP(E$18,'Main courante'!$C14:$E14,3,FALSE),"") -> 5 | F27: =IFERROR(VLOOKUP(F$18,'Main courante'!$C14:$E14,3,FALSE),"") | G27: =IFERROR(VLOOKUP(G$18,'Main courante'!$C14:$E14,3,FALSE),"") | H27: =IFERROR(VLOOKUP(H$18,'Main courante'!$C14:$E14,3,FALSE),"") | I27: =IFERROR(VLOOKUP(I$18,'Main courante'!$C14:$E14,3,FALSE),"") | J27: =IFERROR(VLOOKUP(J$18,'Main courante'!$C14:$E14,3,FALSE),"") | ... AG27: =IFERROR(VLOOKUP(AG$18,'Main courante'!$C14:$E14,3,FALSE),"")
B28: J-1 | C28: =IFERROR(VLOOKUP(C$18,'Main courante'!$C15:$E15,3,FALSE),"") -> 2 | D28: =IFERROR(VLOOKUP(D$18,'Main courante'!$C15:$E15,3,FALSE),"") | E28: =IFERROR(VLOOKUP(E$18,'Main courante'!$C15:$E15,3,FALSE),"") | F28: =IFERROR(VLOOKUP(F$18,'Main courante'!$C15:$E15,3,FALSE),"") | G28: =IFERROR(VLOOKUP(G$18,'Main courante'!$C15:$E15,3,FALSE),"") | H28: =IFERROR(VLOOKUP(H$18,'Main courante'!$C15:$E15,3,FALSE),"") | I28: =IFERROR(VLOOKUP(I$18,'Main courante'!$C15:$E15,3,FALSE),"") | J28: =IFERROR(VLOOKUP(J$18,'Main courante'!$C15:$E15,3,FALSE),"") | ... AG28: =IFERROR(VLOOKUP(AG$18,'Main courante'!$C15:$E15,3,FALSE),"")
C30: 41091 | D30: 41092 | E30: 41093 | F30: 41094 | G30: 41095 | H30: 41096 | I30: 41097 | J30: 41098 | K30: 41099 | L30: 41100 | M30: 41101 | N30: 41102 | O30: 41103 | P30: 41104 | Q30: 41105 | R30: 41106 | S30: 41107 | T30: 41108 | U30: 41109 | V30: 41110 | W30: 41111 | X30: 41112 | Y30: 41113 | Z30: 41114 | AA30: 41115 | AB30: 41116 | AC30: 41117 | AD30: 41118 | AE30: 41119 | AF30: 41120 | AG30: 41121
C31: 0 | D31: 15 | E31: 15 | F31: 15 | G31: 0 | H31: 0 | I31: 0 | J31: 0 | K31: 15 | L31: 15 | M31: 15 | N31: 0 | O31: 0 | P31: 0 | Q31: 0 | R31: 15 | S31: 15 | T31: 15 | U31: 0 | V31: 0 | W31: 0 | X31: 0 | Y31: 15 | Z31: 15 | AA31: 15 | AB31: 0 | AC31: 0 | AD31: 0 | AE31: 0 | AF31: 15 | AG31: 15
A32: 3 | B32: J-45 | C32: =IFERROR(VLOOKUP(C$30,'Main courante'!$C7:$F7,4,FALSE),"") | D32: =IFERROR(VLOOKUP(D$30,'Main courante'!$C7:$F7,4,FALSE),"") | E32: =IFERROR(VLOOKUP(E$30,'Main courante'!$C7:$F7,4,FALSE),"") | F32: =IFERROR(VLOOKUP(F$30,'Main courante'!$C7:$F7,4,FALSE),"") | G32: =IFERROR(VLOOKUP(G$30,'Main courante'!$C7:$F7,4,FALSE),"") | H32: =IFERROR(VLOOKUP(H$30,'Main courante'!$C7:$F7,4,FALSE),"") | I32: =IFERROR(VLOOKUP(I$30,'Main courante'!$C7:$F7,4,FALSE),"") | J32: =IFERROR(VLOOKUP(J$30,'Main courante'!$C7:$F7,4,FALSE),"") | ... AG32: =IFERROR(VLOOKUP(AG$30,'Main courante'!$C7:$F7,4,FALSE),"")
B33: J-30 | C33: =IFERROR(VLOOKUP(C$30,'Main courante'!$C8:$F8,4,FALSE),"") | D33: =IFERROR(VLOOKUP(D$30,'Main courante'!$C8:$F8,4,FALSE),"") | E33: =IFERROR(VLOOKUP(E$30,'Main courante'!$C8:$F8,4,FALSE),"") | F33: =IFERROR(VLOOKUP(F$30,'Main courante'!$C8:$F8,4,FALSE),"") | G33: =IFERROR(VLOOKUP(G$30,'Main courante'!$C8:$F8,4,FALSE),"") | H33: =IFERROR(VLOOKUP(H$30,'Main courante'!$C8:$F8,4,FALSE),"") | I33: =IFERROR(VLOOKUP(I$30,'Main courante'!$C8:$F8,4,FALSE),"") | J33: =IFERROR(VLOOKUP(J$30,'Main courante'!$C8:$F8,4,FALSE),"") | ... AG33: =IFERROR(VLOOKUP(AG$30,'Main courante'!$C8:$F8,4,FALSE),"")
B34: J-25 | C34: =IFERROR(VLOOKUP(C$30,'Main courante'!$C9:$F9,4,FALSE),"") | D34: =IFERROR(VLOOKUP(D$30,'Main courante'!$C9:$F9,4,FALSE),"") | E34: =IFERROR(VLOOKUP(E$30,'Main courante'!$C9:$F9,4,FALSE),"") | F34: =IFERROR(VLOOKUP(F$30,'Main courante'!$C9:$F9,4,FALSE),"") | G34: =IFERROR(VLOOKUP(G$30,'Main courante'!$C9:$F9,4,FALSE),"") | H34: =IFERROR(VLOOKUP(H$30,'Main courante'!$C9:$F9,4,FALSE),"") | I34: =IFERROR(VLOOKUP(I$30,'Main courante'!$C9:$F9,4,FALSE),"") | J34: =IFERROR(VLOOKUP(J$30,'Main courante'!$C9:$F9,4,FALSE),"") | ... AG34: =IFERROR(VLOOKUP(AG$30,'Main courante'!$C9:$F9,4,FALSE),"")
B35: J-20 | C35: =IFERROR(VLOOKUP(C$30,'Main courante'!$C10:$F10,4,FALSE),"") | D35: =IFERROR(VLOOKUP(D$30,'Main courante'!$C10:$F10,4,FALSE),"") | E35: =IFERROR(VLOOKUP(E$30,'Main courante'!$C10:$F10,4,FALSE),"") | F35: =IFERROR(VLOOKUP(F$30,'Main courante'!$C10:$F10,4,FALSE),"") | G35: =IFERROR(VLOOKUP(G$30,'Main courante'!$C10:$F10,4,FALSE),"") | H35: =IFERROR(VLOOKUP(H$30,'Main courante'!$C10:$F10,4,FALSE),"") | I35: =IFERROR(VLOOKUP(I$30,'Main courante'!$C10:$F10,4,FALSE),"") | J35: =IFERROR(VLOOKUP(J$30,'Main courante'!$C10:$F10,4,FALSE),"") | ... AG35: =IFERROR(VLOOKUP(AG$30,'Main courante'!$C10:$F10,4,FALSE),"")
B36: J-15 | C36: =IFERROR(VLOOKUP(C$30,'Main courante'!$C11:$F11,4,FALSE),"") | D36: =IFERROR(VLOOKUP(D$30,'Main courante'!$C11:$F11,4,FALSE),"") | E36: =IFERROR(VLOOKUP(E$30,'Main courante'!$C11:$F11,4,FALSE),"") | F36: =IFERROR(VLOOKUP(F$30,'Main courante'!$C11:$F11,4,FALSE),"") | G36: =IFERROR(VLOOKUP(G$30,'Main courante'!$C11:$F11,4,FALSE),"") | H36: =IFERROR(VLOOKUP(H$30,'Main courante'!$C11:$F11,4,FALSE),"") | I36: =IFERROR(VLOOKUP(I$30,'Main courante'!$C11:$F11,4,FALSE),"") | J36: =IFERROR(VLOOKUP(J$30,'Main courante'!$C11:$F11,4,FALSE),"") | ... AG36: =IFERROR(VLOOKUP(AG$30,'Main courante'!$C11:$F11,4,FALSE),"")
B37: J-10 | C37: =IFERROR(VLOOKUP(C$30,'Main courante'!$C12:$F12,4,FALSE),"") | D37: =IFERROR(VLOOKUP(D$30,'Main courante'!$C12:$F12,4,FALSE),"") | E37: =IFERROR(VLOOKUP(E$30,'Main courante'!$C12:$F12,4,FALSE),"") | F37: =IFERROR(VLOOKUP(F$30,'Main courante'!$C12:$F12,4,FALSE),"") | G37: =IFERROR(VLOOKUP(G$30,'Main courante'!$C12:$F12,4,FALSE),"") | H37: =IFERROR(VLOOKUP(H$30,'Main courante'!$C12:$F12,4,FALSE),"") | I37: =IFERROR(VLOOKUP(I$30,'Main courante'!$C12:$F12,4,FALSE),"") | J37: =IFERROR(VLOOKUP(J$30,'Main courante'!$C12:$F12,4,FALSE),"") | ... AG37: =IFERROR(VLOOKUP(AG$30,'Main courante'!$C12:$F12,4,FALSE),"")
B38: J-7 | C38: =IFERROR(VLOOKUP(C$30,'Main courante'!$C13:$F13,4,FALSE),"") | D38: =IFERROR(VLOOKUP(D$30,'Main courante'!$C13:$F13,4,FALSE),"") | E38: =IFERROR(VLOOKUP(E$30,'Main courante'!$C13:$F13,4,FALSE),"") | F38: =IFERROR(VLOOKUP(F$30,'Main courante'!$C13:$F13,4,FALSE),"") | G38: =IFERROR(VLOOKUP(G$30,'Main courante'!$C13:$F13,4,FALSE),"") | H38: =IFERROR(VLOOKUP(H$30,'Main courante'!$C13:$F13,4,FALSE),"") | I38: =IFERROR(VLOOKUP(I$30,'Main courante'!$C13:$F13,4,FALSE),"") -> 0 | J38: =IFERROR(VLOOKUP(J$30,'Main courante'!$C13:$F13,4,FALSE),"") | ... AG38: =IFERROR(VLOOKUP(AG$30,'Main courante'!$C13:$F13,4,FALSE),"")
B39: J-3 | C39: =IFERROR(VLOOKUP(C$30,'Main courante'!$C14:$F14,4,FALSE),"") | D39: =IFERROR(VLOOKUP(D$30,'Main courante'!$C14:$F14,4,FALSE),"") | E39: =IFERROR(VLOOKUP(E$30,'Main courante'!$C14:$F14,4,FALSE),"") -> 0 | F39: =IFERROR(VLOOKUP(F$30,'Main courante'!$C14:$F14,4,FALSE),"") | G39: =IFERROR(VLOOKUP(G$30,'Main courante'!$C14:$F14,4,FALSE),"") | H39: =IFERROR(VLOOKUP(H$30,'Main courante'!$C14:$F14,4,FALSE),"") | I39: =IFERROR(VLOOKUP(I$30,'Main courante'!$C14:$F14,4,FALSE),"") | J39: =IFERROR(VLOOKUP(J$30,'Main courante'!$C14:$F14,4,FALSE),"") | ... AG39: =IFERROR(VLOOKUP(AG$30,'Main courante'!$C14:$F14,4,FALSE),"")
B40: J-1 | C40: =IFERROR(VLOOKUP(C$30,'Main courante'!$C15:$F15,4,FALSE),"") -> 0 | D40: =IFERROR(VLOOKUP(D$30,'Main courante'!$C15:$F15,4,FALSE),"") | E40: =IFERROR(VLOOKUP(E$30,'Main courante'!$C15:$F15,4,FALSE),"") | F40: =IFERROR(VLOOKUP(F$30,'Main courante'!$C15:$F15,4,FALSE),"") | G40: =IFERROR(VLOOKUP(G$30,'Main courante'!$C15:$F15,4,FALSE),"") | H40: =IFERROR(VLOOKUP(H$30,'Main courante'!$C15:$F15,4,FALSE),"") | I40: =IFERROR(VLOOKUP(I$30,'Main courante'!$C15:$F15,4,FALSE),"") | J40: =IFERROR(VLOOKUP(J$30,'Main courante'!$C15:$F15,4,FALSE),"") | ... AG40: =IFERROR(VLOOKUP(AG$30,'Main courante'!$C15:$F15,4,FALSE),"")
C42: =+C6 -> 41091 | D42: =+C42+1 -> 41092 | E42: =+D42+1 -> 41093 | F42: =+E42+1 -> 41094 | G42: =+F42+1 -> 41095 | H42: =+G42+1 -> 41096 | I42: =+H42+1 -> 41097 | J42: =+I42+1 -> 41098 | K42: =+J42+1 -> 41099 | ... AG42: =+AF42+1 -> 41121
C43: 0 | D43: 0 | E43: 0 | F43: 0 | G43: 0 | H43: 0 | I43: 0 | J43: 0 | K43: 20 | L43: 20 | M43: 20 | N43: 20 | O43: 20 | P43: 20 | Q43: 20 | R43: 20 | S43: 20 | T43: 20 | U43: 20 | V43: 20 | W43: 20 | X43: 20 | Y43: 20 | Z43: 20 | AA43: 20 | AB43: 20 | AC43: 20 | AD43: 20 | AE43: 20 | AF43: 20 | AG43: 192
A44: 4 | B44: J-45
B45: J-30
B46: J-25
...

Sheet Août
C6: 41122 | D6: 41123 | E6: 41124 | F6: 41125 | G6: 41126 | H6: 41127 | I6: 41128 | J6: 41129 | K6: 41130 | L6: 41131 | M6: 41132 | N6: 41133 | O6: 41134 | P6: 41135 | Q6: 41136 | R6: 41137 | S6: 41138 | T6: 41139 | U6: 41140 | V6: 41141 | W6: 41142 | X6: 41143 | Y6: 41144 | Z6: 41145 | AA6: 41146 | AB6: 41147 | AC6: 41148 | AD6: 41149 | AE6: 41150 | AF6: 41151 | AG6: 41152
A8: 1 | B8: J-45 | C8: =IFERROR(VLOOKUP(C$6,'Main courante'!$C7:$D7,2,FALSE),"") | D8: =IFERROR(VLOOKUP(D$6,'Main courante'!$C7:$D7,2,FALSE),"") | E8: =IFERROR(VLOOKUP(E$6,'Main courante'!$C7:$D7,2,FALSE),"") | F8: =IFERROR(VLOOKUP(F$6,'Main courante'!$C7:$D7,2,FALSE),"") | G8: =IFERROR(VLOOKUP(G$6,'Main courante'!$C7:$D7,2,FALSE),"") | H8: =IFERROR(VLOOKUP(H$6,'Main courante'!$C7:$D7,2,FALSE),"") | I8: =IFERROR(VLOOKUP(I$6,'Main courante'!$C7:$D7,2,FALSE),"") | J8: =IFERROR(VLOOKUP(J$6,'Main courante'!$C7:$D7,2,FALSE),"") | ... AG8: =IFERROR(VLOOKUP(AG$6,'Main courante'!$C7:$D7,2,FALSE),"")
B9: J-30 | C9: =IFERROR(VLOOKUP(C$6,'Main courante'!$C8:$D8,2,FALSE),"") | D9: =IFERROR(VLOOKUP(D$6,'Main courante'!$C8:$D8,2,FALSE),"") | E9: =IFERROR(VLOOKUP(E$6,'Main courante'!$C8:$D8,2,FALSE),"") | F9: =IFERROR(VLOOKUP(F$6,'Main courante'!$C8:$D8,2,FALSE),"") | G9: =IFERROR(VLOOKUP(G$6,'Main courante'!$C8:$D8,2,FALSE),"") | H9: =IFERROR(VLOOKUP(H$6,'Main courante'!$C8:$D8,2,FALSE),"") | I9: =IFERROR(VLOOKUP(I$6,'Main courante'!$C8:$D8,2,FALSE),"") | J9: =IFERROR(VLOOKUP(J$6,'Main courante'!$C8:$D8,2,FALSE),"") | ... AG9: =IFERROR(VLOOKUP(AG$6,'Main courante'!$C8:$D8,2,FALSE),"")
B10: J-25 | C10: =IFERROR(VLOOKUP(C$6,'Main courante'!$C9:$D9,2,FALSE),"") | D10: =IFERROR(VLOOKUP(D$6,'Main courante'!$C9:$D9,2,FALSE),"") | E10: =IFERROR(VLOOKUP(E$6,'Main courante'!$C9:$D9,2,FALSE),"") | F10: =IFERROR(VLOOKUP(F$6,'Main courante'!$C9:$D9,2,FALSE),"") | G10: =IFERROR(VLOOKUP(G$6,'Main courante'!$C9:$D9,2,FALSE),"") | H10: =IFERROR(VLOOKUP(H$6,'Main courante'!$C9:$D9,2,FALSE),"") | I10: =IFERROR(VLOOKUP(I$6,'Main courante'!$C9:$D9,2,FALSE),"") | J10: =IFERROR(VLOOKUP(J$6,'Main courante'!$C9:$D9,2,FALSE),"") | ... AG10: =IFERROR(VLOOKUP(AG$6,'Main courante'!$C9:$D9,2,FALSE),"")
B11: J-20 | C11: =IFERROR(VLOOKUP(C$6,'Main courante'!$C10:$D10,2,FALSE),"") | D11: =IFERROR(VLOOKUP(D$6,'Main courante'!$C10:$D10,2,FALSE),"") | E11: =IFERROR(VLOOKUP(E$6,'Main courante'!$C10:$D10,2,FALSE),"") | F11: =IFERROR(VLOOKUP(F$6,'Main courante'!$C10:$D10,2,FALSE),"") | G11: =IFERROR(VLOOKUP(G$6,'Main courante'!$C10:$D10,2,FALSE),"") | H11: =IFERROR(VLOOKUP(H$6,'Main courante'!$C10:$D10,2,FALSE),"") | I11: =IFERROR(VLOOKUP(I$6,'Main courante'!$C10:$D10,2,FALSE),"") | J11: =IFERROR(VLOOKUP(J$6,'Main courante'!$C10:$D10,2,FALSE),"") | ... AG11: =IFERROR(VLOOKUP(AG$6,'Main courante'!$C10:$D10,2,FALSE),"")
B12: J-15 | C12: =IFERROR(VLOOKUP(C$6,'Main courante'!$C11:$D11,2,FALSE),"") | D12: =IFERROR(VLOOKUP(D$6,'Main courante'!$C11:$D11,2,FALSE),"") | E12: =IFERROR(VLOOKUP(E$6,'Main courante'!$C11:$D11,2,FALSE),"") | F12: =IFERROR(VLOOKUP(F$6,'Main courante'!$C11:$D11,2,FALSE),"") | G12: =IFERROR(VLOOKUP(G$6,'Main courante'!$C11:$D11,2,FALSE),"") | H12: =IFERROR(VLOOKUP(H$6,'Main courante'!$C11:$D11,2,FALSE),"") | I12: =IFERROR(VLOOKUP(I$6,'Main courante'!$C11:$D11,2,FALSE),"") | J12: =IFERROR(VLOOKUP(J$6,'Main courante'!$C11:$D11,2,FALSE),"") | ... AG12: =IFERROR(VLOOKUP(AG$6,'Main courante'!$C11:$D11,2,FALSE),"")
B13: J-10 | C13: =IFERROR(VLOOKUP(C$6,'Main courante'!$C12:$D12,2,FALSE),"") | D13: =IFERROR(VLOOKUP(D$6,'Main courante'!$C12:$D12,2,FALSE),"") | E13: =IFERROR(VLOOKUP(E$6,'Main courante'!$C12:$D12,2,FALSE),"") | F13: =IFERROR(VLOOKUP(F$6,'Main courante'!$C12:$D12,2,FALSE),"") | G13: =IFERROR(VLOOKUP(G$6,'Main courante'!$C12:$D12,2,FALSE),"") | H13: =IFERROR(VLOOKUP(H$6,'Main courante'!$C12:$D12,2,FALSE),"") | I13: =IFERROR(VLOOKUP(I$6,'Main courante'!$C12:$D12,2,FALSE),"") | J13: =IFERROR(VLOOKUP(J$6,'Main courante'!$C12:$D12,2,FALSE),"") | ... AG13: =IFERROR(VLOOKUP(AG$6,'Main courante'!$C12:$D12,2,FALSE),"")
B14: J-7 | C14: =IFERROR(VLOOKUP(C$6,'Main courante'!$C13:$D13,2,FALSE),"") | D14: =IFERROR(VLOOKUP(D$6,'Main courante'!$C13:$D13,2,FALSE),"") | E14: =IFERROR(VLOOKUP(E$6,'Main courante'!$C13:$D13,2,FALSE),"") | F14: =IFERROR(VLOOKUP(F$6,'Main courante'!$C13:$D13,2,FALSE),"") | G14: =IFERROR(VLOOKUP(G$6,'Main courante'!$C13:$D13,2,FALSE),"") | H14: =IFERROR(VLOOKUP(H$6,'Main courante'!$C13:$D13,2,FALSE),"") | I14: =IFERROR(VLOOKUP(I$6,'Main courante'!$C13:$D13,2,FALSE),"") | J14: =IFERROR(VLOOKUP(J$6,'Main courante'!$C13:$D13,2,FALSE),"") | ... AG14: =IFERROR(VLOOKUP(AG$6,'Main courante'!$C13:$D13,2,FALSE),"")
B15: J-3 | C15: =IFERROR(VLOOKUP(C$6,'Main courante'!$C14:$D14,2,FALSE),"") | D15: =IFERROR(VLOOKUP(D$6,'Main courante'!$C14:$D14,2,FALSE),"") | E15: =IFERROR(VLOOKUP(E$6,'Main courante'!$C14:$D14,2,FALSE),"") | F15: =IFERROR(VLOOKUP(F$6,'Main courante'!$C14:$D14,2,FALSE),"") | G15: =IFERROR(VLOOKUP(G$6,'Main courante'!$C14:$D14,2,FALSE),"") | H15: =IFERROR(VLOOKUP(H$6,'Main courante'!$C14:$D14,2,FALSE),"") | I15: =IFERROR(VLOOKUP(I$6,'Main courante'!$C14:$D14,2,FALSE),"") | J15: =IFERROR(VLOOKUP(J$6,'Main courante'!$C14:$D14,2,FALSE),"") | ... AG15: =IFERROR(VLOOKUP(AG$6,'Main courante'!$C14:$D14,2,FALSE),"")
B16: J-1 | C16: =IFERROR(VLOOKUP(C$6,'Main courante'!$C15:$D15,2,FALSE),"") | D16: =IFERROR(VLOOKUP(D$6,'Main courante'!$C15:$D15,2,FALSE),"") | E16: =IFERROR(VLOOKUP(E$6,'Main courante'!$C15:$D15,2,FALSE),"") | F16: =IFERROR(VLOOKUP(F$6,'Main courante'!$C15:$D15,2,FALSE),"") | G16: =IFERROR(VLOOKUP(G$6,'Main courante'!$C15:$D15,2,FALSE),"") | H16: =IFERROR(VLOOKUP(H$6,'Main courante'!$C15:$D15,2,FALSE),"") | I16: =IFERROR(VLOOKUP(I$6,'Main courante'!$C15:$D15,2,FALSE),"") | J16: =IFERROR(VLOOKUP(J$6,'Main courante'!$C15:$D15,2,FALSE),"") | ... AG16: =IFERROR(VLOOKUP(AG$6,'Main courante'!$C15:$D15,2,FALSE),"")
C18: 41122 | D18: 41123 | E18: 41124 | F18: 41125 | G18: 41126 | H18: 41127 | I18: 41128 | J18: 41129 | K18: 41130 | L18: 41131 | M18: 41132 | N18: 41133 | O18: 41134 | P18: 41135 | Q18: 41136 | R18: 41137 | S18: 41138 | T18: 41139 | U18: 41140 | V18: 41141 | W18: 41142 | X18: 41143 | Y18: 41144 | Z18: 41145 | AA18: 41146 | AB18: 41147 | AC18: 41148 | AD18: 41149 | AE18: 41150 | AF18: 41151 | AG18: 41152
A20: 2 | B20: J-45 | C20: =IFERROR(VLOOKUP(C$18,'Main courante'!$C7:$E7,3,FALSE),"") | D20: =IFERROR(VLOOKUP(D$18,'Main courante'!$C7:$E7,3,FALSE),"") | E20: =IFERROR(VLOOKUP(E$18,'Main courante'!$C7:$E7,3,FALSE),"") | F20: =IFERROR(VLOOKUP(F$18,'Main courante'!$C7:$E7,3,FALSE),"") | G20: =IFERROR(VLOOKUP(G$18,'Main courante'!$C7:$E7,3,FALSE),"") | H20: =IFERROR(VLOOKUP(H$18,'Main courante'!$C7:$E7,3,FALSE),"") | I20: =IFERROR(VLOOKUP(I$18,'Main courante'!$C7:$E7,3,FALSE),"") | J20: =IFERROR(VLOOKUP(J$18,'Main courante'!$C7:$E7,3,FALSE),"") | ... AG20: =IFERROR(VLOOKUP(AG$18,'Main courante'!$C7:$E7,3,FALSE),"")
B21: J-30 | C21: =IFERROR(VLOOKUP(C$18,'Main courante'!$C8:$E8,3,FALSE),"") | D21: =IFERROR(VLOOKUP(D$18,'Main courante'!$C8:$E8,3,FALSE),"") | E21: =IFERROR(VLOOKUP(E$18,'Main courante'!$C8:$E8,3,FALSE),"") | F21: =IFERROR(VLOOKUP(F$18,'Main courante'!$C8:$E8,3,FALSE),"") | G21: =IFERROR(VLOOKUP(G$18,'Main courante'!$C8:$E8,3,FALSE),"") | H21: =IFERROR(VLOOKUP(H$18,'Main courante'!$C8:$E8,3,FALSE),"") | I21: =IFERROR(VLOOKUP(I$18,'Main courante'!$C8:$E8,3,FALSE),"") | J21: =IFERROR(VLOOKUP(J$18,'Main courante'!$C8:$E8,3,FALSE),"") | ... AG21: =IFERROR(VLOOKUP(AG$18,'Main courante'!$C8:$E8,3,FALSE),"")
B22: J-25 | C22: =IFERROR(VLOOKUP(C$18,'Main courante'!$C9:$E9,3,FALSE),"") | D22: =IFERROR(VLOOKUP(D$18,'Main courante'!$C9:$E9,3,FALSE),"") | E22: =IFERROR(VLOOKUP(E$18,'Main courante'!$C9:$E9,3,FALSE),"") | F22: =IFERROR(VLOOKUP(F$18,'Main courante'!$C9:$E9,3,FALSE),"") | G22: =IFERROR(VLOOKUP(G$18,'Main courante'!$C9:$E9,3,FALSE),"") | H22: =IFERROR(VLOOKUP(H$18,'Main courante'!$C9:$E9,3,FALSE),"") | I22: =IFERROR(VLOOKUP(I$18,'Main courante'!$C9:$E9,3,FALSE),"") | J22: =IFERROR(VLOOKUP(J$18,'Main courante'!$C9:$E9,3,FALSE),"") | ... AG22: =IFERROR(VLOOKUP(AG$18,'Main courante'!$C9:$E9,3,FALSE),"")
B23: J-20 | C23: =IFERROR(VLOOKUP(C$18,'Main courante'!$C10:$E10,3,FALSE),"") | D23: =IFERROR(VLOOKUP(D$18,'Main courante'!$C10:$E10,3,FALSE),"") | E23: =IFERROR(VLOOKUP(E$18,'Main courante'!$C10:$E10,3,FALSE),"") | F23: =IFERROR(VLOOKUP(F$18,'Main courante'!$C10:$E10,3,FALSE),"") | G23: =IFERROR(VLOOKUP(G$18,'Main courante'!$C10:$E10,3,FALSE),"") | H23: =IFERROR(VLOOKUP(H$18,'Main courante'!$C10:$E10,3,FALSE),"") | I23: =IFERROR(VLOOKUP(I$18,'Main courante'!$C10:$E10,3,FALSE),"") | J23: =IFERROR(VLOOKUP(J$18,'Main courante'!$C10:$E10,3,FALSE),"") | ... AG23: =IFERROR(VLOOKUP(AG$18,'Main courante'!$C10:$E10,3,FALSE),"")
B24: J-15 | C24: =IFERROR(VLOOKUP(C$18,'Main courante'!$C11:$E11,3,FALSE),"") | D24: =IFERROR(VLOOKUP(D$18,'Main courante'!$C11:$E11,3,FALSE),"") | E24: =IFERROR(VLOOKUP(E$18,'Main courante'!$C11:$E11,3,FALSE),"") | F24: =IFERROR(VLOOKUP(F$18,'Main courante'!$C11:$E11,3,FALSE),"") | G24: =IFERROR(VLOOKUP(G$18,'Main courante'!$C11:$E11,3,FALSE),"") | H24: =IFERROR(VLOOKUP(H$18,'Main courante'!$C11:$E11,3,FALSE),"") | I24: =IFERROR(VLOOKUP(I$18,'Main courante'!$C11:$E11,3,FALSE),"") | J24: =IFERROR(VLOOKUP(J$18,'Main courante'!$C11:$E11,3,FALSE),"") | ... AG24: =IFERROR(VLOOKUP(AG$18,'Main courante'!$C11:$E11,3,FALSE),"")
B25: J-10 | C25: =IFERROR(VLOOKUP(C$18,'Main courante'!$C12:$E12,3,FALSE),"") | D25: =IFERROR(VLOOKUP(D$18,'Main courante'!$C12:$E12,3,FALSE),"") | E25: =IFERROR(VLOOKUP(E$18,'Main courante'!$C12:$E12,3,FALSE),"") | F25: =IFERROR(VLOOKUP(F$18,'Main courante'!$C12:$E12,3,FALSE),"") | G25: =IFERROR(VLOOKUP(G$18,'Main courante'!$C12:$E12,3,FALSE),"") | H25: =IFERROR(VLOOKUP(H$18,'Main courante'!$C12:$E12,3,FALSE),"") | I25: =IFERROR(VLOOKUP(I$18,'Main courante'!$C12:$E12,3,FALSE),"") | J25: =IFERROR(VLOOKUP(J$18,'Main courante'!$C12:$E12,3,FALSE),"") | ... AG25: =IFERROR(VLOOKUP(AG$18,'Main courante'!$C12:$E12,3,FALSE),"")
B26: J-7 | C26: =IFERROR(VLOOKUP(C$18,'Main courante'!$C13:$E13,3,FALSE),"") | D26: =IFERROR(VLOOKUP(D$18,'Main courante'!$C13:$E13,3,FALSE),"") | E26: =IFERROR(VLOOKUP(E$18,'Main courante'!$C13:$E13,3,FALSE),"") | F26: =IFERROR(VLOOKUP(F$18,'Main courante'!$C13:$E13,3,FALSE),"") | G26: =IFERROR(VLOOKUP(G$18,'Main courante'!$C13:$E13,3,FALSE),"") | H26: =IFERROR(VLOOKUP(H$18,'Main courante'!$C13:$E13,3,FALSE),"") | I26: =IFERROR(VLOOKUP(I$18,'Main courante'!$C13:$E13,3,FALSE),"") | J26: =IFERROR(VLOOKUP(J$18,'Main courante'!$C13:$E13,3,FALSE),"") | ... AG26: =IFERROR(VLOOKUP(AG$18,'Main courante'!$C13:$E13,3,FALSE),"")
B27: J-3 | C27: =IFERROR(VLOOKUP(C$18,'Main courante'!$C14:$E14,3,FALSE),"") | D27: =IFERROR(VLOOKUP(D$18,'Main courante'!$C14:$E14,3,FALSE),"") | E27: =IFERROR(VLOOKUP(E$18,'Main courante'!$C14:$E14,3,FALSE),"") | F27: =IFERROR(VLOOKUP(F$18,'Main courante'!$C14:$E14,3,FALSE),"") | G27: =IFERROR(VLOOKUP(G$18,'Main courante'!$C14:$E14,3,FALSE),"") | H27: =IFERROR(VLOOKUP(H$18,'Main courante'!$C14:$E14,3,FALSE),"") | I27: =IFERROR(VLOOKUP(I$18,'Main courante'!$C14:$E14,3,FALSE),"") | J27: =IFERROR(VLOOKUP(J$18,'Main courante'!$C14:$E14,3,FALSE),"") | ... AG27: =IFERROR(VLOOKUP(AG$18,'Main courante'!$C14:$E14,3,FALSE),"")
B28: J-1 | C28: =IFERROR(VLOOKUP(C$18,'Main courante'!$C15:$E15,3,FALSE),"") | D28: =IFERROR(VLOOKUP(D$18,'Main courante'!$C15:$E15,3,FALSE),"") | E28: =IFERROR(VLOOKUP(E$18,'Main courante'!$C15:$E15,3,FALSE),"") | F28: =IFERROR(VLOOKUP(F$18,'Main courante'!$C15:$E15,3,FALSE),"") | G28: =IFERROR(VLOOKUP(G$18,'Main courante'!$C15:$E15,3,FALSE),"") | H28: =IFERROR(VLOOKUP(H$18,'Main courante'!$C15:$E15,3,FALSE),"") | I28: =IFERROR(VLOOKUP(I$18,'Main courante'!$C15:$E15,3,FALSE),"") | J28: =IFERROR(VLOOKUP(J$18,'Main courante'!$C15:$E15,3,FALSE),"") | ... AG28: =IFERROR(VLOOKUP(AG$18,'Main courante'!$C15:$E15,3,FALSE),"")
C30: 41122 | D30: 41123 | E30: 41124 | F30: 41125 | G30: 41126 | H30: 41127 | I30: 41128 | J30: 41129 | K30: 41130 | L30: 41131 | M30: 41132 | N30: 41133 | O30: 41134 | P30: 41135 | Q30: 41136 | R30: 41137 | S30: 41138 | T30: 41139 | U30: 41140 | V30: 41141 | W30: 41142 | X30: 41143 | Y30: 41144 | Z30: 41145 | AA30: 41146 | AB30: 41147 | AC30: 41148 | AD30: 41149 | AE30: 41150 | AF30: 41151 | AG30: 41152
A32: 3 | B32: J-45 | C32: =IFERROR(VLOOKUP(C$30,'Main courante'!$C7:$F7,4,FALSE),"") | D32: =IFERROR(VLOOKUP(D$30,'Main courante'!$C7:$F7,4,FALSE),"") | E32: =IFERROR(VLOOKUP(E$30,'Main courante'!$C7:$F7,4,FALSE),"") | F32: =IFERROR(VLOOKUP(F$30,'Main courante'!$C7:$F7,4,FALSE),"") | G32: =IFERROR(VLOOKUP(G$30,'Main courante'!$C7:$F7,4,FALSE),"") | H32: =IFERROR(VLOOKUP(H$30,'Main courante'!$C7:$F7,4,FALSE),"") | I32: =IFERROR(VLOOKUP(I$30,'Main courante'!$C7:$F7,4,FALSE),"") | J32: =IFERROR(VLOOKUP(J$30,'Main courante'!$C7:$F7,4,FALSE),"") | ... AG32: =IFERROR(VLOOKUP(AG$30,'Main courante'!$C7:$F7,4,FALSE),"")
B33: J-30 | C33: =IFERROR(VLOOKUP(C$30,'Main courante'!$C8:$F8,4,FALSE),"") | D33: =IFERROR(VLOOKUP(D$30,'Main courante'!$C8:$F8,4,FALSE),"") | E33: =IFERROR(VLOOKUP(E$30,'Main courante'!$C8:$F8,4,FALSE),"") | F33: =IFERROR(VLOOKUP(F$30,'Main courante'!$C8:$F8,4,FALSE),"") | G33: =IFERROR(VLOOKUP(G$30,'Main courante'!$C8:$F8,4,FALSE),"") | H33: =IFERROR(VLOOKUP(H$30,'Main courante'!$C8:$F8,4,FALSE),"") | I33: =IFERROR(VLOOKUP(I$30,'Main courante'!$C8:$F8,4,FALSE),"") | J33: =IFERROR(VLOOKUP(J$30,'Main courante'!$C8:$F8,4,FALSE),"") | ... AG33: =IFERROR(VLOOKUP(AG$30,'Main courante'!$C8:$F8,4,FALSE),"")
B34: J-25 | C34: =IFERROR(VLOOKUP(C$30,'Main courante'!$C9:$F9,4,FALSE),"") | D34: =IFERROR(VLOOKUP(D$30,'Main courante'!$C9:$F9,4,FALSE),"") | E34: =IFERROR(VLOOKUP(E$30,'Main courante'!$C9:$F9,4,FALSE),"") | F34: =IFERROR(VLOOKUP(F$30,'Main courante'!$C9:$F9,4,FALSE),"") | G34: =IFERROR(VLOOKUP(G$30,'Main courante'!$C9:$F9,4,FALSE),"") | H34: =IFERROR(VLOOKUP(H$30,'Main courante'!$C9:$F9,4,FALSE),"") | I34: =IFERROR(VLOOKUP(I$30,'Main courante'!$C9:$F9,4,FALSE),"") | J34: =IFERROR(VLOOKUP(J$30,'Main courante'!$C9:$F9,4,FALSE),"") | ... AG34: =IFERROR(VLOOKUP(AG$30,'Main courante'!$C9:$F9,4,FALSE),"")
B35: J-20 | C35: =IFERROR(VLOOKUP(C$30,'Main courante'!$C10:$F10,4,FALSE),"") | D35: =IFERROR(VLOOKUP(D$30,'Main courante'!$C10:$F10,4,FALSE),"") | E35: =IFERROR(VLOOKUP(E$30,'Main courante'!$C10:$F10,4,FALSE),"") | F35: =IFERROR(VLOOKUP(F$30,'Main courante'!$C10:$F10,4,FALSE),"") | G35: =IFERROR(VLOOKUP(G$30,'Main courante'!$C10:$F10,4,FALSE),"") | H35: =IFERROR(VLOOKUP(H$30,'Main courante'!$C10:$F10,4,FALSE),"") | I35: =IFERROR(VLOOKUP(I$30,'Main courante'!$C10:$F10,4,FALSE),"") | J35: =IFERROR(VLOOKUP(J$30,'Main courante'!$C10:$F10,4,FALSE),"") | ... AG35: =IFERROR(VLOOKUP(AG$30,'Main courante'!$C10:$F10,4,FALSE),"")
B36: J-15 | C36: =IFERROR(VLOOKUP(C$30,'Main courante'!$C11:$F11,4,FALSE),"") | D36: =IFERROR(VLOOKUP(D$30,'Main courante'!$C11:$F11,4,FALSE),"") | E36: =IFERROR(VLOOKUP(E$30,'Main courante'!$C11:$F11,4,FALSE),"") | F36: =IFERROR(VLOOKUP(F$30,'Main courante'!$C11:$F11,4,FALSE),"") | G36: =IFERROR(VLOOKUP(G$30,'Main courante'!$C11:$F11,4,FALSE),"") | H36: =IFERROR(VLOOKUP(H$30,'Main courante'!$C11:$F11,4,FALSE),"") | I36: =IFERROR(VLOOKUP(I$30,'Main courante'!$C11:$F11,4,FALSE),"") | J36: =IFERROR(VLOOKUP(J$30,'Main courante'!$C11:$F11,4,FALSE),"") | ... AG36: =IFERROR(VLOOKUP(AG$30,'Main courante'!$C11:$F11,4,FALSE),"")
B37: J-10 | C37: =IFERROR(VLOOKUP(C$30,'Main courante'!$C12:$F12,4,FALSE),"") | D37: =IFERROR(VLOOKUP(D$30,'Main courante'!$C12:$F12,4,FALSE),"") | E37: =IFERROR(VLOOKUP(E$30,'Main courante'!$C12:$F12,4,FALSE),"") | F37: =IFERROR(VLOOKUP(F$30,'Main courante'!$C12:$F12,4,FALSE),"") | G37: =IFERROR(VLOOKUP(G$30,'Main courante'!$C12:$F12,4,FALSE),"") | H37: =IFERROR(VLOOKUP(H$30,'Main courante'!$C12:$F12,4,FALSE),"") | I37: =IFERROR(VLOOKUP(I$30,'Main courante'!$C12:$F12,4,FALSE),"") | J37: =IFERROR(VLOOKUP(J$30,'Main courante'!$C12:$F12,4,FALSE),"") | ... AG37: =IFERROR(VLOOKUP(AG$30,'Main courante'!$C12:$F12,4,FALSE),"")
B38: J-7 | C38: =IFERROR(VLOOKUP(C$30,'Main courante'!$C13:$F13,4,FALSE),"") | D38: =IFERROR(VLOOKUP(D$30,'Main courante'!$C13:$F13,4,FALSE),"") | E38: =IFERROR(VLOOKUP(E$30,'Main courante'!$C13:$F13,4,FALSE),"") | F38: =IFERROR(VLOOKUP(F$30,'Main courante'!$C13:$F13,4,FALSE),"") | G38: =IFERROR(VLOOKUP(G$30,'Main courante'!$C13:$F13,4,FALSE),"") | H38: =IFERROR(VLOOKUP(H$30,'Main courante'!$C13:$F13,4,FALSE),"") | I38: =IFERROR(VLOOKUP(I$30,'Main courante'!$C13:$F13,4,FALSE),"") | J38: =IFERROR(VLOOKUP(J$30,'Main courante'!$C13:$F13,4,FALSE),"") | ... AG38: =IFERROR(VLOOKUP(AG$30,'Main courante'!$C13:$F13,4,FALSE),"")
B39: J-3 | C39: =IFERROR(VLOOKUP(C$30,'Main courante'!$C14:$F14,4,FALSE),"") | D39: =IFERROR(VLOOKUP(D$30,'Main courante'!$C14:$F14,4,FALSE),"") | E39: =IFERROR(VLOOKUP(E$30,'Main courante'!$C14:$F14,4,FALSE),"") | F39: =IFERROR(VLOOKUP(F$30,'Main courante'!$C14:$F14,4,FALSE),"") | G39: =IFERROR(VLOOKUP(G$30,'Main courante'!$C14:$F14,4,FALSE),"") | H39: =IFERROR(VLOOKUP(H$30,'Main courante'!$C14:$F14,4,FALSE),"") | I39: =IFERROR(VLOOKUP(I$30,'Main courante'!$C14:$F14,4,FALSE),"") | J39: =IFERROR(VLOOKUP(J$30,'Main courante'!$C14:$F14,4,FALSE),"") | ... AG39: =IFERROR(VLOOKUP(AG$30,'Main courante'!$C14:$F14,4,FALSE),"")
B40: J-1 | C40: =IFERROR(VLOOKUP(C$30,'Main courante'!$C15:$F15,4,FALSE),"") | D40: =IFERROR(VLOOKUP(D$30,'Main courante'!$C15:$F15,4,FALSE),"") | E40: =IFERROR(VLOOKUP(E$30,'Main courante'!$C15:$F15,4,FALSE),"") | F40: =IFERROR(VLOOKUP(F$30,'Main courante'!$C15:$F15,4,FALSE),"") | G40: =IFERROR(VLOOKUP(G$30,'Main courante'!$C15:$F15,4,FALSE),"") | H40: =IFERROR(VLOOKUP(H$30,'Main courante'!$C15:$F15,4,FALSE),"") | I40: =IFERROR(VLOOKUP(I$30,'Main courante'!$C15:$F15,4,FALSE),"") | J40: =IFERROR(VLOOKUP(J$30,'Main courante'!$C15:$F15,4,FALSE),"") | ... AG40: =IFERROR(VLOOKUP(AG$30,'Main courante'!$C15:$F15,4,FALSE),"")
