Workbook

Sheet Semaines
B3: Nicolas | C3: Jean | D3: Thierry | E3: Fred | F3: Léo | G3: Jacques | H3: Michel
A4: 41295 | B4: Meilleur | F4: Moins bon
A5: 41302 | C5: Meilleur | E5: Moins bon
A6: 41309 | E6: Moins bon | H6: Meilleur
A7: 41316 | D7: Meilleur | F7: Moins bon
A8: 41323 | C8: Meilleur | E8: Moins bon
A9: 41330 | C9: Meilleur | E9: Moins bon
A10: 41337 | E10: Moins bon
A11: 41344 | E11: Moins bon | H11: Meilleur
A12: 41351 | C12: Meilleur | E12: Moins bon
A13: 41358 | C13: Meilleur | F13: Moins bon
A14: 41365 | C14: Meilleur | G14: Moins bon
A15: 41372 | C15: Meilleur | E15: Moins bon
A16: 41379 | D16: Meilleur | E16: Moins bon
A17: 41386 | B17: Meilleur | F17: Moins bon
A18: 41393 | B18: Meilleur | E18: Moins bon
A19: 41400 | D19: Meilleur | E19: Moins bon
A20: 41407 | B20: Meilleur | E20: Moins bon

Sheet Récap
C1: Meilleur | E1: Moins bon
A2: SEMAINE DU | B2: =Semaines!A4 -> 41295 | C2: =IF(ISNA(MATCH(C$1,OFFSET(Semaines!$B$3:$H$3,MATCH($B2,Semaines!$A$4:$A$20,0),0),0)),"pas de "&C$1,OFFSET(Semaines!$A$3,,MATCH(C$1,OFFSET(Semaines!$B$3:$H$3,MATCH($B2,Semaines!$A$4:$A$20,0),0),0))) -> Nicolas | E2: =IF(ISNA(MATCH(E$1,OFFSET(Semaines!$B$3:$H$3,MATCH($B2,Semaines!$A$4:$A$20,0),0),0)),"pas de "&E$1,OFFSET(Semaines!$A$3,,MATCH(E$1,OFFSET(Semaines!$B$3:$H$3,MATCH($B2,Semaines!$A$4:$A$20,0),0),0))) -> Léo
A3: SEMAINE DU | B3: =Semaines!A5 -> 41302 | C3: =IF(ISNA(MATCH(C$1,OFFSET(Semaines!$B$3:$H$3,MATCH($B3,Semaines!$A$4:$A$20,0),0),0)),"pas de "&C$1,OFFSET(Semaines!$A$3,,MATCH(C$1,OFFSET(Semaines!$B$3:$H$3,MATCH($B3,Semaines!$A$4:$A$20,0),0),0))) -> Jean | E3: =IF(ISNA(MATCH(E$1,OFFSET(Semaines!$B$3:$H$3,MATCH($B3,Semaines!$A$4:$A$20,0),0),0)),"pas de "&E$1,OFFSET(Semaines!$A$3,,MATCH(E$1,OFFSET(Semaines!$B$3:$H$3,MATCH($B3,Semaines!$A$4:$A$20,0),0),0))) -> Fred
A4: SEMAINE DU | B4: =Semaines!A6 -> 41309 | C4: =IF(ISNA(MATCH(C$1,OFFSET(Semaines!$B$3:$H$3,MATCH($B4,Semaines!$A$4:$A$20,0),0),0)),"pas de "&C$1,OFFSET(Semaines!$A$3,,MATCH(C$1,OFFSET(Semaines!$B$3:$H$3,MATCH($B4,Semaines!$A$4:$A$20,0),0),0))) -> Michel | E4: =IF(ISNA(MATCH(E$1,OFFSET(Semaines!$B$3:$H$3,MATCH($B4,Semaines!$A$4:$A$20,0),0),0)),"pas de "&E$1,OFFSET(Semaines!$A$3,,MATCH(E$1,OFFSET(Semaines!$B$3:$H$3,MATCH($B4,Semaines!$A$4:$A$20,0),0),0))) -> Fred
A5: SEMAINE DU | B5: =Semaines!A7 -> 41316 | C5: =IF(ISNA(MATCH(C$1,OFFSET(Semaines!$B$3:$H$3,MATCH($B5,Semaines!$A$4:$A$20,0),0),0)),"pas de "&C$1,OFFSET(Semaines!$A$3,,MATCH(C$1,OFFSET(Semaines!$B$3:$H$3,MATCH($B5,Semaines!$A$4:$A$20,0),0),0))) -> Thierry | E5: =IF(ISNA(MATCH(E$1,OFFSET(Semaines!$B$3:$H$3,MATCH($B5,Semaines!$A$4:$A$20,0),0),0)),"pas de "&E$1,OFFSET(Semaines!$A$3,,MATCH(E$1,OFFSET(Semaines!$B$3:$H$3,MATCH($B5,Semaines!$A$4:$A$20,0),0),0))) -> Léo
A6: SEMAINE DU | B6: =Semaines!A8 -> 41323 | C6: =IF(ISNA(MATCH(C$1,OFFSET(Semaines!$B$3:$H$3,MATCH($B6,Semaines!$A$4:$A$20,0),0),0)),"pas de "&C$1,OFFSET(Semaines!$A$3,,MATCH(C$1,OFFSET(Semaines!$B$3:$H$3,MATCH($B6,Semaines!$A$4:$A$20,0),0),0))) -> Jean | E6: =IF(ISNA(MATCH(E$1,OFFSET(Semaines!$B$3:$H$3,MATCH($B6,Semaines!$A$4:$A$20,0),0),0)),"pas de "&E$1,OFFSET(Semaines!$A$3,,MATCH(E$1,OFFSET(Semaines!$B$3:$H$3,MATCH($B6,Semaines!$A$4:$A$20,0),0),0))) -> Fred
A7: SEMAINE DU | B7: =Semaines!A9 -> 41330 | C7: =IF(ISNA(MATCH(C$1,OFFSET(Semaines!$B$3:$H$3,MATCH($B7,Semaines!$A$4:$A$20,0),0),0)),"pas de "&C$1,OFFSET(Semaines!$A$3,,MATCH(C$1,OFFSET(Semaines!$B$3:$H$3,MATCH($B7,Semaines!$A$4:$A$20,0),0),0))) -> Jean | E7: =IF(ISNA(MATCH(E$1,OFFSET(Semaines!$B$3:$H$3,MATCH($B7,Semaines!$A$4:$A$20,0),0),0)),"pas de "&E$1,OFFSET(Semaines!$A$3,,MATCH(E$1,OFFSET(Semaines!$B$3:$H$3,MATCH($B7,Semaines!$A$4:$A$20,0),0),0))) -> Fred
A8: SEMAINE DU | B8: =Semaines!A10 -> 41337 | C8: =IF(ISNA(MATCH(C$1,OFFSET(Semaines!$B$3:$H$3,MATCH($B8,Semaines!$A$4:$A$20,0),0),0)),"pas de "&C$1,OFFSET(Semaines!$A$3,,MATCH(C$1,OFFSET(Semaines!$B$3:$H$3,MATCH($B8,Semaines!$A$4:$A$20,0),0),0))) -> pas de Meilleur | E8: =IF(ISNA(MATCH(E$1,OFFSET(Semaines!$B$3:$H$3,MATCH($B8,Semaines!$A$4:$A$20,0),0),0)),"pas de "&E$1,OFFSET(Semaines!$A$3,,MATCH(E$1,OFFSET(Semaines!$B$3:$H$3,MATCH($B8,Semaines!$A$4:$A$20,0),0),0))) -> Fred
A9: SEMAINE DU | B9: =Semaines!A11 -> 41344 | C9: =IF(ISNA(MATCH(C$1,OFFSET(Semaines!$B$3:$H$3,MATCH($B9,Semaines!$A$4:$A$20,0),0),0)),"pas de "&C$1,OFFSET(Semaines!$A$3,,MATCH(C$1,OFFSET(Semaines!$B$3:$H$3,MATCH($B9,Semaines!$A$4:$A$20,0),0),0))) -> Michel | E9: =IF(ISNA(MATCH(E$1,OFFSET(Semaines!$B$3:$H$3,MATCH($B9,Semaines!$A$4:$A$20,0),0),0)),"pas de "&E$1,OFFSET(Semaines!$A$3,,MATCH(E$1,OFFSET(Semaines!$B$3:$H$3,MATCH($B9,Semaines!$A$4:$A$20,0),0),0))) -> Fred
A10: SEMAINE DU | B10: =Semaines!A12 -> 41351 | C10: =IF(ISNA(MATCH(C$1,OFFSET(Semaines!$B$3:$H$3,MATCH($B10,Semaines!$A$4:$A$20,0),0),0)),"pas de "&C$1,OFFSET(Semaines!$A$3,,MATCH(C$1,OFFSET(Semaines!$B$3:$H$3,MATCH($B10,Semaines!$A$4:$A$20,0),0),0))) -> Jean | E10: =IF(ISNA(MATCH(E$1,OFFSET(Semaines!$B$3:$H$3,MATCH($B10,Semaines!$A$4:$A$20,0),0),0)),"pas de "&E$1,OFFSET(Semaines!$A$3,,MATCH(E$1,OFFSET(Semaines!$B$3:$H$3,MATCH($B10,Semaines!$A$4:$A$20,0),0),0))) -> Fred
A11: SEMAINE DU | B11: =Semaines!A13 -> 41358 | C11: =IF(ISNA(MATCH(C$1,OFFSET(Semaines!$B$3:$H$3,MATCH($B11,Semaines!$A$4:$A$20,0),0),0)),"pas de "&C$1,OFFSET(Semaines!$A$3,,MATCH(C$1,OFFSET(Semaines!$B$3:$H$3,MATCH($B11,Semaines!$A$4:$A$20,0),0),0))) -> Jean | E11: =IF(ISNA(MATCH(E$1,OFFSET(Semaines!$B$3:$H$3,MATCH($B11,Semaines!$A$4:$A$20,0),0),0)),"pas de "&E$1,OFFSET(Semaines!$A$3,,MATCH(E$1,OFFSET(Semaines!$B$3:$H$3,MATCH($B11,Semaines!$A$4:$A$20,0),0),0))) -> Léo
A12: SEMAINE DU | B12: =Semaines!A14 -> 41365 | C12: =IF(ISNA(MATCH(C$1,OFFSET(Semaines!$B$3:$H$3,MATCH($B12,Semaines!$A$4:$A$20,0),0),0)),"pas de "&C$1,OFFSET(Semaines!$A$3,,MATCH(C$1,OFFSET(Semaines!$B$3:$H$3,MATCH($B12,Semaines!$A$4:$A$20,0),0),0))) -> Jean | E12: =IF(ISNA(MATCH(E$1,OFFSET(Semaines!$B$3:$H$3,MATCH($B12,Semaines!$A$4:$A$20,0),0),0)),"pas de "&E$1,OFFSET(Semaines!$A$3,,MATCH(E$1,OFFSET(Semaines!$B$3:$H$3,MATCH($B12,Semaines!$A$4:$A$20,0),0),0))) -> Jacques
A13: SEMAINE DU | B13: =Semaines!A15 -> 41372 | C13: =IF(ISNA(MATCH(C$1,OFFSET(Semaines!$B$3:$H$3,MATCH($B13,Semaines!$A$4:$A$20,0),0),0)),"pas de "&C$1,OFFSET(Semaines!$A$3,,MATCH(C$1,OFFSET(Semaines!$B$3:$H$3,MATCH($B13,Semaines!$A$4:$A$20,0),0),0))) -> Jean | E13: =IF(ISNA(MATCH(E$1,OFFSET(Semaines!$B$3:$H$3,MATCH($B13,Semaines!$A$4:$A$20,0),0),0)),"pas de "&E$1,OFFSET(Semaines!$A$3,,MATCH(E$1,OFFSET(Semaines!$B$3:$H$3,MATCH($B13,Semaines!$A$4:$A$20,0),0),0))) -> Fred
... A18: SEMAINE DU | B18: =Semaines!A20 -> 41407 | C18: =IF(ISNA(MATCH(C$1,OFFSET(Semaines!$B$3:$H$3,MATCH($B18,Semaines!$A$4:$A$20,0),0),0)),"pas de "&C$1,OFFSET(Semaines!$A$3,,MATCH(C$1,OFFSET(Semaines!$B$3:$H$3,MATCH($B18,Semaines!$A$4:$A$20,0),0),0))) -> Nicolas | E18: =IF(ISNA(MATCH(E$1,OFFSET(Semaines!$B$3:$H$3,MATCH($B18,Semaines!$A$4:$A$20,0),0),0)),"pas de "&E$1,OFFSET(Semaines!$A$3,,MATCH(E$1,OFFSET(Semaines!$B$3:$H$3,MATCH($B18,Semaines!$A$4:$A$20,0),0),0))) -> Fred
C20: Jean est Meilleur : | E20: Fred est le moins bon : | F20: Couple Jean Meilleur et Fred moins bon
C21: =COUNTIF(C2:C18,"Jean") -> 7 | E21: =COUNTIF(E2:E18,"Fred") -> 12 | F21: {=SUM(IF((C2:C18="Jean")*(E2:E18="Fred"),1,0))} -> 5

Sheet Feuil3
