Workbook

Sheet Sept 
G1: Nom du Formateur : | I1: S,MAHE
B4: Décompte mensuel des activités des formateurs année 2011-2012
B9: Mois de septembre 2011
B12: Semaine n°1 : | C12: Semaine n°2 : | D12: Semaine n°3 : | E12: Semaine n°4 : | F12: Semaine n°5 : | G12: Total nbre d'heures | H12: Coef. | I12: Total | J12: Observations
A13: 1. Face à Face | B13: SEM DU 29/08 | C13: SEM DU 05/09 | D13: SEM DU 12/09 | E13: SEM DU 19/09 | F13: SEM DU 26/09
A14: ASV C.part
A15: 260 CP | D15: 14 | E15: 7 | F15: 14 | G15: =SUM(B15:F15) -> 35 | H15: 1 | I15: =G15*H15 -> 35
A16: 283 CP | G16: =SUM(B16:F16) -> 0 | H16: 1 | I16: =G16*H16 -> 0
A17: ASV CA-C.Pro | G17: =SUM(B17:F17) -> 0 | H17: 1 | I17: =G17*H17 -> 0
A18: 247 | D18: 7 | G18: =SUM(B18:F18) -> 7 | H18: 1 | I18: =G18*H18 -> 7
A19: 252 | G19: =SUM(B19:F19) -> 0 | H19: 1 | I19: =G19*H19 -> 0
A20: 256 | C20: 14 | G20: =SUM(B20:F20) -> 14 | H20: 1 | I20: =G20*H20 -> 14
A21: 261 | G21: =SUM(B21:F21) -> 0 | H21: 1 | I21: =G21*H21 -> 0
A22: 276 | C22: 7 | G22: =SUM(B22:F22) -> 7 | H22: 1 | I22: =G22*H22 -> 7
A23: 285 | G23: =SUM(B23:F23) -> 0 | H23: 1 | I23: =G23*H23 -> 0
A24: PROMO PRINTEMPS 2012 | G24: =SUM(B24:F24) -> 0 | H24: 1 | I24: =G24*H24 -> 0
A25: 273 | G25: =SUM(B25:F25) -> 0 | H25: 1 | I25: =G25*H25 -> 0
G26: =SUM(B26:F26) -> 0 | H26: 1 | I26: =G26*H26 -> 0
G27: =SUM(B27:F27) -> 0 | H27: 1 | I27: =G27*H27 -> 0
G28: =SUM(B28:F28) -> 0 | H28: 1 | I28: =G28*H28 -> 0
A29: Individualisation/FPC | G29: =SUM(B29:F29) -> 0 | H29: 1 | I29: =G29*H29 -> 0
G30: =SUM(B30:F30) -> 0 | H30: 1 | I30: =G30*H30 -> 0
G31: =SUM(B31:F31) -> 0 | H31: 1 | I31: =G31*H31 -> 0
G32: =SUM(B32:F32) -> 0 | H32: 1 | I32: =G32*H32 -> 0
G33: =SUM(B33:F33) -> 0 | H33: 1 | I33: =G33*H33 -> 0
A34: Sous-total 1 | I34: =SUM(I15:I33) -> 63
A36: PRF
A37: AVQ Valabre 2012 | G37: =SUM(B37:F37) -> 0 | H37: 1 | I37: =G37*H37 -> 0
G38: =SUM(B38:F38) -> 0 | H38: 1 | I38: =G38*H38 -> 0
G39: =SUM(B39:F39) -> 0 | H39: 1 | I39: =G39*H39 -> 0
G40: =SUM(B40:F40) -> 0 | H40: 1 | I40: =G40*H40 -> 0
G41: =SUM(B41:F41) -> 0 | H41: 1 | I41: =G41*H41 -> 0
G42: =SUM(B42:F42) -> 0 | H42: 1 | I42: =G42*H42 -> 0
G43: =SUM(B43:F43) -> 0 | H43: 1 | I43: =G43*H43 -> 0
G44: =SUM(B44:F44) -> 0 | H44: 1 | I44: =G44*H44 -> 0
G45: =SUM(B45:F45) -> 0 | I45: =G45*H45 -> 0
G46: =SUM(B46:F46) -> 0 | H46: 1 | I46: =G46*H46 -> 0
G47: =SUM(B47:F47) -> 0 | H47: 1 | I47: =G47*H47 -> 0
G48: =SUM(B48:F48) -> 0 | H48: 1 | I48: =G48*H48 -> 0
G49: =SUM(B49:F49) -> 0 | H49: 1 | I49: =G49*H49 -> 0
G51: =SUM(B51:F51) -> 0 | I51: =G51*H51 -> 0
G52: =SUM(B52:F52) -> 0 | I52: =G52*H52 -> 0
A54: Sous-total 2 | I54: =SUM(I37:I52) -> 0
B58: Semaine n°1 : | C58: Semaine n°2 : | D58: Semaine n°3 : | E58: Semaine n°4 : | F58: Semaine n°5 :
A59: 2. Actions courtes
A60: Accompagnement VAE, PPP… | G60: =SUM(B60:F60) -> 0 | H60: 1 | I60: =G60*H60 -> 0
A61: Certiphyto | G61: =SUM(B61:F61) -> 0 | H61: 1 | I61: =G61*H61 -> 0
A62: CNFPT | G62: =SUM(B62:F62) -> 0 | H62: 1 | I62: =G62*H62 -> 0
A63: Actavista/AER/AMS… | G63: =SUM(B63:F63) -> 0 | H63: 1 | I63: =G63*H63 -> 0
A64: Cap Gemini | G64: =SUM(B64:F64) -> 0 | H64: 1 | I64: =G64*H64 -> 0
A65: Séances WE | G65: =SUM(B65:F65) -> 0 | H65: 1.5 | I65: =G65*H65 -> 0
A66: Autres actions courtes (à préciser) | G66: =SUM(B66:F66) -> 0 | H66: 1 | I66: =G66*H66 -> 0
A67: Sous-total 3 | I67: =SUM(I60:I66) -> 0
B75: Semaine n°1 : | C75: Semaine n°2 : | D75: Semaine n°3 : | E75: Semaine n°4 : | F75: Semaine n°5: | G75: Total nbre d'heures | H75: Coef. | I75: Total | J75: Observations du formateur
A76: 3. Autres activités
A77: Accueil, information, positionnement, admission | G77: =SUM(B77:F77) -> 0 | H77: 0.5 | I77: =G77*H77 -> 0 | J77: diplômes MAAP
A78: Accueil, information, positionnement, admission | G78: =SUM(B78:F78) -> 0 | H78: 1 | I78: =G78*H78 -> 0 | J78: pôle ASV/AVQ
A79: Signature des contrats d'apprentissage | G79: =SUM(B79:F79) -> 0 | H79: 0.5 | I79: =G79*H79 -> 0
A80: Visites en entreprise des apprentis et/ou des stagiaires | G80: =SUM(B80:F80) -> 0 | H80: base 2h/visite | I80: =G80 -> 0 | J80: nbre effectué
A81: Coordination d'un groupe, suivi des parcours, gestion des outils de liaison et démarche qualité | G81: =SUM(B81:F81) -> 0 | H81: base 2h/groupe/semaine | I81: =G81 -> 0 | J81: nbre de groupe apprentis
G82: =SUM(B82:F82) -> 0 | H82: base 1h/groupe/semaine | I82: =G82 -> 0 | J82: nbre de groupe adultes
A83: Présence aux conseils de classe, réunions périodiques de régulation et bilan des grpes | G83: =SUM(B83:F83) -> 0 | H83: sur tps de travail cf. ISOE
A84: Participation à des réunions de pôles spécifiques (rénovation…) | G84: =SUM(B84:F84) -> 0 | H84: 0.5 | I84: =G84*H84 -> 0 | J84: Réunion responsable de pole 30/09
A85: Participation à l'élaboration de projets de formation, à des activités d'ingénierie | G85: =SUM(B85:F85) -> 0 | H85: 0.5 | I85: =G85*H85 -> 0
A86: Convocation aux jurys permanents et d'examens | G86: =SUM(B86:F86) -> 0 | H86: sur tps de travail cf. prise en charge/dispositif | J86: diplômes du MAAP
G87: =SUM(B87:F87) -> 0 | H87: 0.5 | I87: =G87*H87 -> 0 | J87: jurys ASV/AVQ
A88: Participation à des réunions extérieures (SRFE, COTEFE…) | E88: 18.5 | G88: =SUM(B88:F88) -> 18.5 | H88: sur tps de travail | J88: Formation "valorisation de la période en entreprise" du 21 au 23/09/11
A89: Participation à un voyage d'étude | G89: =SUM(B89:F89) -> 0 | H89: 0.5 | I89: =G89*H89 -> 0
A90: Présence JPO Valabre/Marseille | G90: =SUM(B90:F90) -> 0 | H90: sur tps de travail
A91: Présence à des manifestations extérieures | G91: =SUM(B91:F91) -> 0 | H91: 0.5 | I91: =G91*H91 -> 0 | J91: en semaine
A92: Sous-total 4 | I92: =SUM(I76:I90) -> 0
A93: Total | H93: TOTAL | I93: =I92+I67+I54+I34 -> 63
F94: TOTAL GENERAL DU MOIS | I94: =I93 -> 63
A96: Validé par le responsable de pôle le : | C96: validé par E.VANLUGGENE le 30/09/11
A98: Observations :
A102: Validé par la direction le :
A103: Observations :

Sheet Oct 
G1: Nom du Formateur : | I1: S.MAHE
B4: Décompte mensuel des activités des formateurs année 2011-2012
B9: Mois de octobre 2011
B12: Semaine n°1 : | C12: Semaine n°2 : | D12: Semaine n°3 : | E12: Semaine n°4 : | F12: Semaine n°5 : | G12: Total nbre d'heures | H12: Coef. | I12: Total | J12: Observations
A13: 1. Face à Face | B13: SEM DU 03/10 | C13: SEM DU 10/10 | D13: SEM DU 17/10 | E13: SEM DU 24/10
A14: ASV C.part
A15: 260 CP | B15: 3.5 | G15: =SUM(B15:F15) -> 3.5 | H15: 1 | I15: =G15*H15 -> 3.5
A16: 283 CP | G16: =SUM(B16:F16) -> 0 | H16: 1 | I16: =G16*H16 -> 0
A17: ASV CA-C.Pro | G17: =SUM(B17:F17) -> 0 | H17: 1 | I17: =G17*H17 -> 0
A18: 247 | G18: =SUM(B18:F18) -> 0 | H18: 1 | I18: =G18*H18 -> 0
A19: 252 | B19: 3.5 | E19: 14 | G19: =SUM(B19:F19) -> 17.5 | H19: 1 | I19: =G19*H19 -> 17.5
A20: 256 | G20: =SUM(B20:F20) -> 0 | H20: 1 | I20: =G20*H20 -> 0
A21: 261 | D21: 21 | G21: =SUM(B21:F21) -> 21 | H21: 1 | I21: =G21*H21 -> 21
A22: 276 | C22: 7 | G22: =SUM(B22:F22) -> 7 | H22: 1 | I22: =G22*H22 -> 7
A23: 285 | G23: =SUM(B23:F23) -> 0 | H23: 1 | I23: =G23*H23 -> 0
A24: PROMO PRINTEMPS 2012 | G24: =SUM(B24:F24) -> 0 | H24: 1 | I24: =G24*H24 -> 0
A25: 273 | G25: =SUM(B25:F25) -> 0 | H25: 1 | I25: =G25*H25 -> 0
G26: =SUM(B26:F26) -> 0 | H26: 1 | I26: =G26*H26 -> 0
G27: =SUM(B27:F27) -> 0 | H27: 1 | I27: =G27*H27 -> 0
G28: =SUM(B28:F28) -> 0 | H28: 1 | I28: =G28*H28 -> 0
A29: Individualisation/FPC | G29: =SUM(B29:F29) -> 0 | H29: 1 | I29: =G29*H29 -> 0
G30: =SUM(B30:F30) -> 0 | H30: 1 | I30: =G30*H30 -> 0
G31: =SUM(B31:F31) -> 0 | H31: 1 | I31: =G31*H31 -> 0
G32: =SUM(B32:F32) -> 0 | H32: 1 | I32: =G32*H32 -> 0
G33: =SUM(B33:F33) -> 0 | H33: 1 | I33: =G33*H33 -> 0
A34: Sous-total 1 | I34: =SUM(I15:I33) -> 49
A36: PRF
A37: AVQ Valabre 2012 | G37: =SUM(B37:F37) -> 0 | H37: 1 | I37: =G37*H37 -> 0
G38: =SUM(B38:F38) -> 0 | H38: 1 | I38: =G38*H38 -> 0
G39: =SUM(B39:F39) -> 0 | H39: 1 | I39: =G39*H39 -> 0
G40: =SUM(B40:F40) -> 0 | H40: 1 | I40: =G40*H40 -> 0
G41: =SUM(B41:F41) -> 0 | H41: 1 | I41: =G41*H41 -> 0
G42: =SUM(B42:F42) -> 0 | H42: 1 | I42: =G42*H42 -> 0
G43: =SUM(B43:F43) -> 0 | H43: 1 | I43: =G43*H43 -> 0
G44: =SUM(B44:F44) -> 0 | H44: 1 | I44: =G44*H44 -> 0
G45: =SUM(B45:F45) -> 0 | I45: =G45*H45 -> 0
G46: =SUM(B46:F46) -> 0 | H46: 1 | I46: =G46*H46 -> 0
G47: =SUM(B47:F47) -> 0 | H47: 1 | I47: =G47*H47 -> 0
G48: =SUM(B48:F48) -> 0 | H48: 1 | I48: =G48*H48 -> 0
G49: =SUM(B49:F49) -> 0 | H49: 1 | I49: =G49*H49 -> 0
G51: =SUM(B51:F51) -> 0 | I51: =G51*H51 -> 0
G52: =SUM(B52:F52) -> 0 | I52: =G52*H52 -> 0
A54: Sous-total 2 | I54: =SUM(I37:I52) -> 0
B58: Semaine n°1 : | C58: Semaine n°2 : | D58: Semaine n°3 : | E58: Semaine n°4 : | F58: Semaine n°5 :
A59: 2. Actions courtes
A60: Accompagnement VAE, PPP… | G60: =SUM(B60:F60) -> 0 | H60: 1 | I60: =G60*H60 -> 0
A61: Certiphyto | G61: =SUM(B61:F61) -> 0 | H61: 1 | I61: =G61*H61 -> 0
A62: CNFPT | G62: =SUM(B62:F62) -> 0 | H62: 1 | I62: =G62*H62 -> 0
A63: Actavista/AER/AMS… | G63: =SUM(B63:F63) -> 0 | H63: 1 | I63: =G63*H63 -> 0
A64: Cap Gemini | G64: =SUM(B64:F64) -> 0 | H64: 1 | I64: =G64*H64 -> 0
A65: Séances WE | G65: =SUM(B65:F65) -> 0 | H65: 1.5 | I65: =G65*H65 -> 0
A66: Autres actions courtes (à préciser) | G66: =SUM(B66:F66) -> 0 | H66: 1 | I66: =G66*H66 -> 0
A67: Sous-total 3 | I67: =SUM(I60:I66) -> 0
B75: Semaine n°1 : | C75: Semaine n°2 : | D75: Semaine n°3 : | E75: Semaine n°4 : | F75: Semaine n°5: | G75: Total nbre d'heures | H75: Coef. | I75: Total | J75: Observations du formateur
A76: 3. Autres activités
A77: Accueil, information, positionnement, admission | G77: =SUM(B77:F77) -> 0 | H77: 0.5 | I77: =G77*H77 -> 0 | J77: diplômes MAAP
A78: Accueil, information, positionnement, admission | G78: =SUM(B78:F78) -> 0 | H78: 1 | I78: =G78*H78 -> 0 | J78: pôle ASV/AVQ
A79: Signature des contrats d'apprentissage | G79: =SUM(B79:F79) -> 0 | H79: 0.5 | I79: =G79*H79 -> 0
A80: Visites en entreprise des apprentis et/ou des stagiaires | G80: =SUM(B80:F80) -> 0 | H80: base 2h/visite | I80: =G80 -> 0 | J80: nbre effectué
A81: Coordination d'un groupe, suivi des parcours, gestion des outils de liaison et démarche qualité | G81: =SUM(B81:F81) -> 0 | H81: base 2h/groupe/semaine | I81: =G81 -> 0 | J81: nbre de groupe apprentis
G82: =SUM(B82:F82) -> 0 | H82: base 1h/groupe/semaine | I82: =G82 -> 0 | J82: nbre de groupe adultes
A83: Présence aux conseils de classe, réunions périodiques de régulation et bilan des grpes | G83: =SUM(B83:F83) -> 0 | H83: sur tps de travail cf. ISOE
A84: Participation à des réunions de pôles spécifiques (rénovation…) | G84: =SUM(B84:F84) -> 0 | H84: 0.5 | I84: =G84*H84 -> 0
A85: Participation à l'élaboration de projets de formation, à des activités d'ingénierie | G85: =SUM(B85:F85) -> 0 | H85: 0.5 | I85: =G85*H85 -> 0
A86: Convocation aux jurys permanents et d'examens | G86: =SUM(B86:F86) -> 0 | H86: sur tps de travail cf. prise en charge/dispositif | J86: diplômes du MAAP
G87: =SUM(B87:F87) -> 0 | H87: 0.5 | I87: =G87*H87 -> 0 | J87: jurys ASV/AVQ
A88: Participation à des réunions extérieures (SRFE, COTEFE…) | G88: =SUM(B88:F88) -> 0 | H88: sur tps de travail
A89: Participation à un voyage d'étude | G89: =SUM(B89:F89) -> 0 | H89: 0.5 | I89: =G89*H89 -> 0
A90: Présence JPO Valabre/Marseille | G90: =SUM(B90:F90) -> 0 | H90: sur tps de travail
A91: Présence à des manifestations extérieures | G91: =SUM(B91:F91) -> 0 | H91: 0.5 | I91: =G91*H91 -> 0 | J91: en semaine
A92: Sous-total 4 | I92: =SUM(I76:I90) -> 0
A93: Total | H93: TOTAL | I93: =I92+I67+I54+I34 -> 49
F94: TOTAL GENERAL DU MOIS | I94: =I93 -> 49
A96: Validé par le responsable de pôle le : | C96: validé par E.Vanluggène le 04/04/11
A98: Observations :
A102: Validé par la direction le :
A103: Observations :

Sheet Nov 
G1: Nom du Formateur : | I1: S,MAHE
B4: Décompte mensuel des activités des formateurs année 2011-2012
B9: Mois de novembre 2011
B12: Semaine n°1 : | C12: Semaine n°2 : | D12: Semaine n°3 : | E12: Semaine n°4 : | F12: Semaine n°5 : | G12: Total nbre d'heures | H12: Coef. | I12: Total | J12: Observations
A13: 1. Face à Face | B13: SEM DU 31/10 | C13: SEM DU 7/11 | D13: SEM DU 14/11 | E13: SEM DU 21/11 | F13: SEM DU 28/11
A14: ASV C.part
A15: 260 CP | G15: =SUM(B15:F15) -> 0 | H15: 1 | I15: =G15*H15 -> 0
A16: 283 CP | C16: 3.5 | D16: 7 | F16: 7 | G16: =SUM(B16:F16) -> 17.5 | H16: 1 | I16: =G16*H16 -> 17.5
A17: ASV CA-C.Pro | G17: =SUM(B17:F17) -> 0 | H17: 1 | I17: =G17*H17 -> 0
A18: 247 | G18: =SUM(B18:F18) -> 0 | H18: 1 | I18: =G18*H18 -> 0
A19: 252 | D19: 14 | G19: =SUM(B19:F19) -> 14 | H19: 1 | I19: =G19*H19 -> 14
A20: 256 | E20: 7 | G20: =SUM(B20:F20) -> 7 | H20: 1 | I20: =G20*H20 -> 7
A21: 261 | G21: =SUM(B21:F21) -> 0 | H21: 1 | I21: =G21*H21 -> 0
A22: 276 | C22: 21 | F22: 7 | G22: =SUM(B22:F22) -> 28 | H22: 1 | I22: =G22*H22 -> 28
A23: 285 | E23: 14 | G23: =SUM(B23:F23) -> 14 | H23: 1 | I23: =G23*H23 -> 14
A24: PROMO PRINTEMPS 2012 | G24: =SUM(B24:F24) -> 0 | H24: 1 | I24: =G24*H24 -> 0
A25: 273 | F25: 14 | G25: =SUM(B25:F25) -> 14 | H25: 1 | I25: =G25*H25 -> 14
G26: =SUM(B26:F26) -> 0 | H26: 1 | I26: =G26*H26 -> 0
G27: =SUM(B27:F27) -> 0 | H27: 1 | I27: =G27*H27 -> 0
G28: =SUM(B28:F28) -> 0 | H28: 1 | I28: =G28*H28 -> 0
A29: Individualisation/FPC | G29: =SUM(B29:F29) -> 0 | H29: 1 | I29: =G29*H29 -> 0
G30: =SUM(B30:F30) -> 0 | H30: 1 | I30: =G30*H30 -> 0
G31: =SUM(B31:F31) -> 0 | H31: 1 | I31: =G31*H31 -> 0
G32: =SUM(B32:F32) -> 0 | H32: 1 | I32: =G32*H32 -> 0
G33: =SUM(B33:F33) -> 0 | H33: 1 | I33: =G33*H33 -> 0
A34: Sous-total 1 | I34: =SUM(I15:I33) -> 94.5
A36: PRF
A37: AVQ Valabre 2012 | G37: =SUM(B37:F37) -> 0 | H37: 1 | I37: =G37*H37 -> 0
G38: =SUM(B38:F38) -> 0 | H38: 1 | I38: =G38*H38 -> 0
G39: =SUM(B39:F39) -> 0 | H39: 1 | I39: =G39*H39 -> 0
G40: =SUM(B40:F40) -> 0 | H40: 1 | I40: =G40*H40 -> 0
G41: =SUM(B41:F41) -> 0 | H41: 1 | I41: =G41*H41 -> 0
G42: =SUM(B42:F42) -> 0 | H42: 1 | I42: =G42*H42 -> 0
G43: =SUM(B43:F43) -> 0 | H43: 1 | I43: =G43*H43 -> 0
G44: =SUM(B44:F44) -> 0 | H44: 1 | I44: =G44*H44 -> 0
G45: =SUM(B45:F45) -> 0 | I45: =G45*H45 -> 0
G46: =SUM(B46:F46) -> 0 | H46: 1 | I46: =G46*H46 -> 0
G47: =SUM(B47:F47) -> 0 | H47: 1 | I47: =G47*H47 -> 0
G48: =SUM(B48:F48) -> 0 | H48: 1 | I48: =G48*H48 -> 0
G49: =SUM(B49:F49) -> 0 | H49: 1 | I49: =G49*H49 -> 0
G51: =SUM(B51:F51) -> 0 | I51: =G51*H51 -> 0
G52: =SUM(B52:F52) -> 0 | I52: =G52*H52 -> 0
A54: Sous-total 2 | I54: =SUM(I37:I52) -> 0
B58: Semaine n°1 : | C58: Semaine n°2 : | D58: Semaine n°3 : | E58: Semaine n°4 : | F58: Semaine n°5 :
A59: 2. Actions courtes
A60: Accompagnement VAE, PPP… | G60: =SUM(B60:F60) -> 0 | H60: 1 | I60: =G60*H60 -> 0
A61: Certiphyto | G61: =SUM(B61:F61) -> 0 | H61: 1 | I61: =G61*H61 -> 0
A62: CNFPT | G62: =SUM(B62:F62) -> 0 | H62: 1 | I62: =G62*H62 -> 0
A63: Actavista/AER/AMS… | G63: =SUM(B63:F63) -> 0 | H63: 1 | I63: =G63*H63 -> 0
A64: Cap Gemini | G64: =SUM(B64:F64) -> 0 | H64: 1 | I64: =G64*H64 -> 0
A65: Séances WE | G65: =SUM(B65:F65) -> 0 | H65: 1.5 | I65: =G65*H65 -> 0
A66: Autres actions courtes (à préciser) | G66: =SUM(B66:F66) -> 0 | H66: 1 | I66: =G66*H66 -> 0
A67: Sous-total 3 | I67: =SUM(I60:I66) -> 0
B75: Semaine n°1 : | C75: Semaine n°2 : | D75: Semaine n°3 : | E75: Semaine n°4 : | F75: Semaine n°5: | G75: Total nbre d'heures | H75: Coef. | I75: Total | J75: Observations du formateur
A76: 3. Autres activités
A77: Accueil, information, positionnement, admission | G77: =SUM(B77:F77) -> 0 | H77: 0.5 | I77: =G77*H77 -> 0 | J77: diplômes MAAP
A78: Accueil, information, positionnement, admission | G78: =SUM(B78:F78) -> 0 | H78: 1 | I78: =G78*H78 -> 0 | J78: pôle ASV/AVQ
A79: Signature des contrats d'apprentissage | G79: =SUM(B79:F79) -> 0 | H79: 0.5 | I79: =G79*H79 -> 0
A80: Visites en entreprise des apprentis et/ou des stagiaires | G80: =SUM(B80:F80) -> 0 | H80: base 2h/visite | I80: =G80 -> 0 | J80: nbre effectué
A81: Coordination d'un groupe, suivi des parcours, gestion des outils de liaison et démarche qualité | E81: 1 | G81: =SUM(B81:F81) -> 1 | H81: base 2h/groupe/semaine | I81: =G81 -> 1 | J81: nbre de groupe apprentis
G82: =SUM(B82:F82) -> 0 | H82: base 1h/groupe/semaine | I82: =G82 -> 0 | J82: nbre de groupe adultes
A83: Présence aux conseils de classe, réunions périodiques de régulation et bilan des grpes | G83: =SUM(B83:F83) -> 0 | H83: sur tps de travail cf. ISOE
A84: Participation à des réunions de pôles spécifiques (rénovation…) | G84: =SUM(B84:F84) -> 0 | H84: 0.5 | I84: =G84*H84 -> 0
A85: Participation à l'élaboration de projets de formation, à des activités d'ingénierie | G85: =SUM(B85:F85) -> 0 | H85: 0.5 | I85: =G85*H85 -> 0
A86: Convocation aux jurys permanents et d'examens | G86: =SUM(B86:F86) -> 0 | H86: sur tps de travail cf. prise en charge/dispositif | J86: diplômes du MAAP
G87: =SUM(B87:F87) -> 0 | H87: 0.5 | I87: =G87*H87 -> 0 | J87: jurys ASV/AVQ
A88: Participation à des réunions extérieures (SRFE, COTEFE…) | G88: =SUM(B88:F88) -> 0 | H88: sur tps de travail
A89: Participation à un voyage d'étude | G89: =SUM(B89:F89) -> 0 | H89: 0.5 | I89: =G89*H89 -> 0
A90: Présence JPO Valabre/Marseille | G90: =SUM(B90:F90) -> 0 | H90: sur tps de travail
A91: Présence à des manifestations extérieures | G91: =SUM(B91:F91) -> 0 | H91: 0.5 | I91: =G91*H91 -> 0 | J91: en semaine
A92: Sous-total 4 | I92: =SUM(I76:I90) -> 1
A93: Total | H93: TOTAL | I93: =I92+I67+I54+I34 -> 95.5
F94: TOTAL GENERAL DU MOIS | I94: =I93 -> 95.5
A96: Validé par le responsable de pôle le : | C96: par E,Vanluggène le06/12/11
A98: Observations :
A102: Validé par la direction le :
A103: Observations :

Sheet Dec 
G1: Nom du Formateur : | I1: S,MAHE
B4: Décompte mensuel des activités des formateurs année 2011-2012
B9: Mois de décembre 2011
B12: Semaine n°1 : | C12: Semaine n°2 : | D12: Semaine n°3 : | E12: Semaine n°4 : | F12: Semaine n°5 : | G12: Total nbre d'heures | H12: Coef. | I12: Total | J12: Observations
A13: 1. Face à Face | B13: SEM DU 05/12 | C13: SEM DU 12/12 | D13: SEM DU 19/12 | E13: SEM DU 26/12
A14: ASV C.part
A15: 260 CP | G15: =SUM(B15:F15) -> 0 | H15: 1 | I15: =G15*H15 -> 0
A16: 283 CP | B16: 14 | G16: =SUM(B16:F16) -> 14 | H16: 1 | I16: =G16*H16 -> 14
A17: ASV CA-C.Pro | G17: =SUM(B17:F17) -> 0 | H17: 1 | I17: =G17*H17 -> 0
A18: 247 | G18: =SUM(B18:F18) -> 0 | H18: 1 | I18: =G18*H18 -> 0
A19: 252 | C19: 21 | G19: =SUM(B19:F19) -> 21 | H19: 1 | I19: =G19*H19 -> 21
A20: 256 | G20: =SUM(B20:F20) -> 0 | H20: 1 | I20: =G20*H20 -> 0
A21: 261 | B21: 7 | G21: =SUM(B21:F21) -> 7 | H21: 1 | I21: =G21*H21 -> 7
A22: 276 | G22: =SUM(B22:F22) -> 0 | H22: 1 | I22: =G22*H22 -> 0
A23: 285 | C23: 7 | G23: =SUM(B23:F23) -> 7 | H23: 1 | I23: =G23*H23 -> 7
A24: PROMO PRINTEMPS 2012 | G24: =SUM(B24:F24) -> 0 | H24: 1 | I24: =G24*H24 -> 0
A25: 273 | G25: =SUM(B25:F25) -> 0 | H25: 1 | I25: =G25*H25 -> 0
G26: =SUM(B26:F26) -> 0 | H26: 1 | I26: =G26*H26 -> 0
G27: =SUM(B27:F27) -> 0 | H27: 1 | I27: =G27*H27 -> 0
G28: =SUM(B28:F28) -> 0 | H28: 1 | I28: =G28*H28 -> 0
A29: Individualisation/FPC | G29: =SUM(B29:F29) -> 0 | H29: 1 | I29: =G29*H29 -> 0
G30: =SUM(B30:F30) -> 0 | H30: 1 | I30: =G30*H30 -> 0
G31: =SUM(B31:F31) -> 0 | H31: 1 | I31: =G31*H31 -> 0
G32: =SUM(B32:F32) -> 0 | H32: 1 | I32: =G32*H32 -> 0
G33: =SUM(B33:F33) -> 0 | H33: 1 | I33: =G33*H33 -> 0
A34: Sous-total 1 | I34: =SUM(I15:I33) -> 49
A36: PRF
A37: AVQ Valabre 2012 | G37: =SUM(B37:F37) -> 0 | H37: 1 | I37: =G37*H37 -> 0
G38: =SUM(B38:F38) -> 0 | H38: 1 | I38: =G38*H38 -> 0
G39: =SUM(B39:F39) -> 0 | H39: 1 | I39: =G39*H39 -> 0
G40: =SUM(B40:F40) -> 0 | H40: 1 | I40: =G40*H40 -> 0
G41: =SUM(B41:F41) -> 0 | H41: 1 | I41: =G41*H41 -> 0
G42: =SUM(B42:F42) -> 0 | H42: 1 | I42: =G42*H42 -> 0
G43: =SUM(B43:F43) -> 0 | H43: 1 | I43: =G43*H43 -> 0
G44: =SUM(B44:F44) -> 0 | H44: 1 | I44: =G44*H44 -> 0
G45: =SUM(B45:F45) -> 0 | I45: =G45*H45 -> 0
G46: =SUM(B46:F46) -> 0 | H46: 1 | I46: =G46*H46 -> 0
G47: =SUM(B47:F47) -> 0 | H47: 1 | I47: =G47*H47 -> 0
G48: =SUM(B48:F48) -> 0 | H48: 1 | I48: =G48*H48 -> 0
G49: =SUM(B49:F49) -> 0 | H49: 1 | I49: =G49*H49 -> 0
G51: =SUM(B51:F51) -> 0 | I51: =G51*H51 -> 0
G52: =SUM(B52:F52) -> 0 | I52: =G52*H52 -> 0
A54: Sous-total 2 | I54: =SUM(I37:I52) -> 0
B58: Semaine n°1 : | C58: Semaine n°2 : | D58: Semaine n°3 : | E58: Semaine n°4 : | F58: Semaine n°5 :
A59: 2. Actions courtes
A60: Accompagnement VAE, PPP… | G60: =SUM(B60:F60) -> 0 | H60: 1 | I60: =G60*H60 -> 0
A61: Certiphyto | G61: =SUM(B61:F61) -> 0 | H61: 1 | I61: =G61*H61 -> 0
A62: CNFPT | G62: =SUM(B62:F62) -> 0 | H62: 1 | I62: =G62*H62 -> 0
A63: Actavista/AER/AMS… | G63: =SUM(B63:F63) -> 0 | H63: 1 | I63: =G63*H63 -> 0
A64: Cap Gemini | G64: =SUM(B64:F64) -> 0 | H64: 1 | I64: =G64*H64 -> 0
A65: Séances WE | G65: =SUM(B65:F65) -> 0 | H65: 1.5 | I65: =G65*H65 -> 0
A66: Autres actions courtes (à préciser) | G66: =SUM(B66:F66) -> 0 | H66: 1 | I66: =G66*H66 -> 0
A67: Sous-total 3 | I67: =SUM(I60:I66) -> 0
B75: Semaine n°1 : | C75: Semaine n°2 : | D75: Semaine n°3 : | E75: Semaine n°4 : | F75: Semaine n°5: | G75: Total nbre d'heures | H75: Coef. | I75: Total | J75: Observations du formateur
A76: 3. Autres activités
A77: Accueil, information, positionnement, admission | G77: =SUM(B77:F77) -> 0 | H77: 0.5 | I77: =G77*H77 -> 0 | J77: diplômes MAAP
A78: Accueil, information, positionnement, admission | G78: =SUM(B78:F78) -> 0 | H78: 1 | I78: =G78*H78 -> 0 | J78: pôle ASV/AVQ
A79: Signature des contrats d'apprentissage | G79: =SUM(B79:F79) -> 0 | H79: 0.5 | I79: =G79*H79 -> 0
A80: Visites en entreprise des apprentis et/ou des stagiaires | G80: =SUM(B80:F80) -> 0 | H80: base 2h/visite | I80: =G80 -> 0 | J80: nbre effectué
A81: Coordination d'un groupe, suivi des parcours, gestion des outils de liaison et démarche qualité | C81: 1 | G81: =SUM(B81:F81) -> 1 | H81: base 2h/groupe/semaine | I81: =G81 -> 1 | J81: nbre de groupe apprentis
G82: =SUM(B82:F82) -> 0 | H82: base 1h/groupe/semaine | I82: =G82 -> 0 | J82: nbre de groupe adultes
A83: Présence aux conseils de classe, réunions périodiques de régulation et bilan des grpes | G83: =SUM(B83:F83) -> 0 | H83: sur tps de travail cf. ISOE
A84: Participation à des réunions de pôles spécifiques (rénovation…) | G84: =SUM(B84:F84) -> 0 | H84: 0.5 | I84: =G84*H84 -> 0
A85: Participation à l'élaboration de projets de formation, à des activités d'ingénierie | G85: =SUM(B85:F85) -> 0 | H85: 0.5 | I85: =G85*H85 -> 0
A86: Convocation aux jurys permanents et d'examens | G86: =SUM(B86:F86) -> 0 | H86: sur tps de travail cf. prise en charge/dispositif | J86: diplômes du MAAP
G87: =SUM(B87:F87) -> 0 | H87: 0.5 | I87: =G87*H87 -> 0 | J87: jurys ASV/AVQ
A88: Participation à des réunions extérieures (SRFE, COTEFE…) | G88: =SUM(B88:F88) -> 0 | H88: sur tps de travail
A89: Participation à un voyage d'étude | G89: =SUM(B89:F89) -> 0 | H89: 0.5 | I89: =G89*H89 -> 0
A90: Présence JPO Valabre/Marseille | G90: =SUM(B90:F90) -> 0 | H90: sur tps de travail
A91: Présence à des manifestations extérieures | G91: =SUM(B91:F91) -> 0 | H91: 0.5 | I91: =G91*H91 -> 0 | J91: en semaine
A92: Sous-total 4 | I92: =SUM(I76:I90) -> 1
A93: Total | H93: TOTAL | I93: =I92+I67+I54+I34 -> 50
F94: TOTAL GENERAL DU MOIS | I94: =I93 -> 50
A96: Validé par le responsable de pôle le : | C96: par E,Vanluggène le 06/12/11
A98: Observations :
A102: Validé par la direction le :
A103: Observations :

Sheet Janv 
G1: Nom du Formateur : Sandrine Mahé
B4: Décompte mensuel des activités des formateurs année 2011-2012
B9: Mois de janvier 2012
B12: Semaine n°1 : | C12: Semaine n°2 : | D12: Semaine n°3 : | E12: Semaine n°4 : | F12: Semaine n°5 : | G12: Total nbre d'heures | H12: Coef. | I12: Total | J12: Observations
A13: 1. Face à Face | B13: SEM DU 2/01 | C13: SEM DU 9/01 | D13: SEM DU 16/01 | E13: SEM DU 23/01
A14: ASV C.part
A15: 260 CP | G15: =SUM(B15:F15) -> 0 | H15: 1 | I15: =G15*H15 -> 0
A16: 283 CP | G16: =SUM(B16:F16) -> 0 | H16: 1 | I16: =G16*H16 -> 0
A17: ASV CA-C.Pro | G17: =SUM(B17:F17) -> 0 | H17: 1 | I17: =G17*H17 -> 0
A18: 247 | G18: =SUM(B18:F18) -> 0 | H18: 1 | I18: =G18*H18 -> 0
A19: 252 | G19: =SUM(B19:F19) -> 0 | H19: 1 | I19: =G19*H19 -> 0
A20: 256 | G20: =SUM(B20:F20) -> 0 | H20: 1 | I20: =G20*H20 -> 0
A21: 261 | B21: 14 | G21: =SUM(B21:F21) -> 14 | H21: 1 | I21: =G21*H21 -> 14
A22: 276 | G22: =SUM(B22:F22) -> 0 | H22: 1 | I22: =G22*H22 -> 0
A23: 285 | B23: 7 | G23: =SUM(B23:F23) -> 7 | H23: 1 | I23: =G23*H23 -> 7
A24: PROMO PRINTEMPS 2012 | G24: =SUM(B24:F24) -> 0 | H24: 1 | I24: =G24*H24 -> 0
A25: 273 | D25: 3.5 | G25: =SUM(B25:F25) -> 3.5 | H25: 1 | I25: =G25*H25 -> 3.5
G26: =SUM(B26:F26) -> 0 | H26: 1 | I26: =G26*H26 -> 0
G27: =SUM(B27:F27) -> 0 | H27: 1 | I27: =G27*H27 -> 0
G28: =SUM(B28:F28) -> 0 | H28: 1 | I28: =G28*H28 -> 0
A29: Individualisation/FPC | G29: =SUM(B29:F29) -> 0 | H29: 1 | I29: =G29*H29 -> 0
G30: =SUM(B30:F30) -> 0 | H30: 1 | I30: =G30*H30 -> 0
G31: =SUM(B31:F31) -> 0 | H31: 1 | I31: =G31*H31 -> 0
G32: =SUM(B32:F32) -> 0 | H32: 1 | I32: =G32*H32 -> 0
G33: =SUM(B33:F33) -> 0 | H33: 1 | I33: =G33*H33 -> 0
A34: Sous-total 1 | I34: =SUM(I15:I33) -> 24.5
A36: PRF
A37: AVQ Valabre 2012 | G37: =SUM(B37:F37) -> 0 | H37: 1 | I37: =G37*H37 -> 0
G38: =SUM(B38:F38) -> 0 | H38: 1 | I38: =G38*H38 -> 0
G39: =SUM(B39:F39) -> 0 | H39: 1 | I39: =G39*H39 -> 0
G40: =SUM(B40:F40) -> 0 | H40: 1 | I40: =G40*H40 -> 0
G41: =SUM(B41:F41) -> 0 | H41: 1 | I41: =G41*H41 -> 0
G42: =SUM(B42:F42) -> 0 | H42: 1 | I42: =G42*H42 -> 0
G43: =SUM(B43:F43) -> 0 | H43: 1 | I43: =G43*H43 -> 0
G44: =SUM(B44:F44) -> 0 | H44: 1 | I44: =G44*H44 -> 0
G45: =SUM(B45:F45) -> 0 | I45: =G45*H45 -> 0
G46: =SUM(B46:F46) -> 0 | H46: 1 | I46: =G46*H46 -> 0
G47: =SUM(B47:F47) -> 0 | H47: 1 | I47: =G47*H47 -> 0
G48: =SUM(B48:F48) -> 0 | H48: 1 | I48: =G48*H48 -> 0
G49: =SUM(B49:F49) -> 0 | H49: 1 | I49: =G49*H49 -> 0
G51: =SUM(B51:F51) -> 0 | I51: =G51*H51 -> 0
G52: =SUM(B52:F52) -> 0 | I52: =G52*H52 -> 0
A54: Sous-total 2 | I54: =SUM(I37:I52) -> 0
B58: Semaine n°1 : | C58: Semaine n°2 : | D58: Semaine n°3 : | E58: Semaine n°4 : | F58: Semaine n°5 :
A59: 2. Actions courtes
A60: Accompagnement VAE, PPP… | G60: =SUM(B60:F60) -> 0 | H60: 1 | I60: =G60*H60 -> 0
A61: Certiphyto | G61: =SUM(B61:F61) -> 0 | H61: 1 | I61: =G61*H61 -> 0
A62: CNFPT | G62: =SUM(B62:F62) -> 0 | H62: 1 | I62: =G62*H62 -> 0
A63: Actavista/AER/AMS… | G63: =SUM(B63:F63) -> 0 | H63: 1 | I63: =G63*H63 -> 0
A64: Cap Gemini | G64: =SUM(B64:F64) -> 0 | H64: 1 | I64: =G64*H64 -> 0
A65: Séances WE | G65: =SUM(B65:F65) -> 0 | H65: 1.5 | I65: =G65*H65 -> 0
A66: Autres actions courtes (à préciser) | G66: =SUM(B66:F66) -> 0 | H66: 1 | I66: =G66*H66 -> 0
A67: Sous-total 3 | I67: =SUM(I60:I66) -> 0
B75: Semaine n°1 : | C75: Semaine n°2 : | D75: Semaine n°3 : | E75: Semaine n°4 : | F75: Semaine n°5: | G75: Total nbre d'heures | H75: Coef. | I75: Total | J75: Observations du formateur
A76: 3. Autres activités
A77: Accueil, information, positionnement, admission | G77: =SUM(B77:F77) -> 0 | H77: 0.5 | I77: =G77*H77 -> 0 | J77: diplômes MAAP
A78: Accueil, information, positionnement, admission | G78: =SUM(B78:F78) -> 0 | H78: 1 | I78: =G78*H78 -> 0 | J78: pôle ASV/AVQ
A79: Signature des contrats d'apprentissage | G79: =SUM(B79:F79) -> 0 | H79: 0.5 | I79: =G79*H79 -> 0
A80: Visites en entreprise des apprentis et/ou des stagiaires | G80: =SUM(B80:F80) -> 0 | H80: base 2h/visite | I80: =G80 -> 0 | J80: nbre effectué
A81: Coordination d'un groupe, suivi des parcours, gestion des outils de liaison et démarche qualité | B81: 1 | G81: 1 | H81: base 2h/groupe/semaine | I81: =G81 -> 1 | J81: nbre de groupe apprentis
G82: =SUM(B82:F82) -> 0 | H82: base 1h/groupe/semaine | I82: =G82 -> 0 | J82: nbre de groupe adultes
A83: Présence aux conseils de classe, réunions périodiques de régulation et bilan des grpes | G83: =SUM(B83:F83) -> 0 | H83: sur tps de travail cf. ISOE
A84: Participation à des réunions de pôles spécifiques (rénovation…) | G84: =SUM(B84:F84) -> 0 | H84: 0.5 | I84: =G84*H84 -> 0
A85: Participation à l'élaboration de projets de formation, à des activités d'ingénierie | G85: =SUM(B85:F85) -> 0 | H85: 0.5 | I85: =G85*H85 -> 0
A86: Convocation aux jurys permanents et d'examens | G86: =SUM(B86:F86) -> 0 | H86: sur tps de travail cf. prise en charge/dispositif | J86: diplômes du MAAP
G87: =SUM(B87:F87) -> 0 | H87: 0.5 | I87: =G87*H87 -> 0 | J87: jurys ASV/AVQ
A88: Participation à des réunions extérieures (SRFE, COTEFE…) | G88: =SUM(B88:F88) -> 0 | H88: sur tps de travail
A89: Participation à un voyage d'étude | G89: =SUM(B89:F89) -> 0 | H89: 0.5 | I89: =G89*H89 -> 0
A90: Présence JPO Valabre/Marseille | G90: =SUM(B90:F90) -> 0 | H90: sur tps de travail
A91: Présence à des manifestations extérieures | C91: 2 | G91: =SUM(B91:F91) -> 2 | H91: 0.5 | I91: =G91*H91 -> 1 | J91: présentation formation ASV aux bac pro du lycée
A92: Sous-total 4 | I92: =SUM(I76:I90) -> 1
A93: Total | H93: TOTAL | I93: =I92+I67+I54+I34 -> 25.5
F94: TOTAL GENERAL DU MOIS | I94: =I93 -> 25.5
A96: Validé par le responsable de pôle le : | C96: VALIDE PAR E.VANLUGGENE LE 08/02/12
A98: Observations :
A102: Validé par la direction le :
A103: Observations :

Sheet Fevr 
G1: Nom du Formateur :
B4: Décompte mensuel des activités des formateurs année 2011-2012
B9: Mois de février 2012
B12: Semaine n°1 : | C12: Semaine n°2 : | D12: Semaine n°3 : | E12: Semaine n°4 : | F12: Semaine n°5 : | G12: Total nbre d'heures | H12: Coef. | I12: Total | J12: Observations
A13: 1. Face à Face | B13: SEM DU 30/01 | C13: SEM DU 06/02 | D13: SEM DU 13/02 | E13: SEM DU 20/02 | F13: SEM DU 27/02
A14: ASV C.part
A15: 260 CP | G15: =SUM(B15:F15) -> 0 | H15: 1 | I15: =G15*H15 -> 0
A16: 283 CP | G16: =SUM(B16:F16) -> 0 | H16: 1 | I16: =G16*H16 -> 0
A17: ASV CA-C.Pro | G17: =SUM(B17:F17) -> 0 | H17: 1 | I17: =G17*H17 -> 0
A18: 247 | G18: =SUM(B18:F18) -> 0 | H18: 1 | I18: =G18*H18 -> 0
A19: 252 | G19: =SUM(B19:F19) -> 0 | H19: 1 | I19: =G19*H19 -> 0
A20: 256 | G20: =SUM(B20:F20) -> 0 | H20: 1 | I20: =G20*H20 -> 0
A21: 261 | G21: =SUM(B21:F21) -> 0 | H21: 1 | I21: =G21*H21 -> 0
A22: 276 | G22: =SUM(B22:F22) -> 0 | H22: 1 | I22: =G22*H22 -> 0
A23: 285 | G23: =SUM(B23:F23) -> 0 | H23: 1 | I23: =G23*H23 -> 0
A24: PROMO PRINTEMPS 2012 | G24: =SUM(B24:F24) -> 0 | H24: 1 | I24: =G24*H24 -> 0
A25: 273 | G25: =SUM(B25:F25) -> 0 | H25: 1 | I25: =G25*H25 -> 0
G26: =SUM(B26:F26) -> 0 | H26: 1 | I26: =G26*H26 -> 0
G27: =SUM(B27:F27) -> 0 | H27: 1 | I27: =G27*H27 -> 0
G28: =SUM(B28:F28) -> 0 | H28: 1 | I28: =G28*H28 -> 0
A29: Individualisation/FPC | G29: =SUM(B29:F29) -> 0 | H29: 1 | I29: =G29*H29 -> 0
G30: =SUM(B30:F30) -> 0 | H30: 1 | I30: =G30*H30 -> 0
G31: =SUM(B31:F31) -> 0 | H31: 1 | I31: =G31*H31 -> 0
G32: =SUM(B32:F32) -> 0 | H32: 1 | I32: =G32*H32 -> 0
G33: =SUM(B33:F33) -> 0 | H33: 1 | I33: =G33*H33 -> 0
A34: Sous-total 1 | I34: =SUM(I15:I33) -> 0
A36: PRF
A37: AVQ Valabre 2012 | G37: =SUM(B37:F37) -> 0 | H37: 1 | I37: =G37*H37 -> 0
G38: =SUM(B38:F38) -> 0 | H38: 1 | I38: =G38*H38 -> 0
G39: =SUM(B39:F39) -> 0 | H39: 1 | I39: =G39*H39 -> 0
G40: =SUM(B40:F40) -> 0 | H40: 1 | I40: =G40*H40 -> 0
G41: =SUM(B41:F41) -> 0 | H41: 1 | I41: =G41*H41 -> 0
G42: =SUM(B42:F42) -> 0 | H42: 1 | I42: =G42*H42 -> 0
G43: =SUM(B43:F43) -> 0 | H43: 1 | I43: =G43*H43 -> 0
G44: =SUM(B44:F44) -> 0 | H44: 1 | I44: =G44*H44 -> 0
G45: =SUM(B45:F45) -> 0 | I45: =G45*H45 -> 0
G46: =SUM(B46:F46) -> 0 | H46: 1 | I46: =G46*H46 -> 0
G47: =SUM(B47:F47) -> 0 | H47: 1 | I47: =G47*H47 -> 0
G48: =SUM(B48:F48) -> 0 | H48: 1 | I48: =G48*H48 -> 0
G49: =SUM(B49:F49) -> 0 | H49: 1 | I49: =G49*H49 -> 0
G51: =SUM(B51:F51) -> 0 | I51: =G51*H51 -> 0
G52: =SUM(B52:F52) -> 0 | I52: =G52*H52 -> 0
A54: Sous-total 2 | I54: =SUM(I37:I52) -> 0
B58: Semaine n°1 : | C58: Semaine n°2 : | D58: Semaine n°3 : | E58: Semaine n°4 : | F58: Semaine n°5 :
A59: 2. Actions courtes
A60: Accompagnement VAE, PPP… | G60: =SUM(B60:F60) -> 0 | H60: 1 | I60: =G60*H60 -> 0
A61: Certiphyto | G61: =SUM(B61:F61) -> 0 | H61: 1 | I61: =G61*H61 -> 0
A62: CNFPT | G62: =SUM(B62:F62) -> 0 | H62: 1 | I62: =G62*H62 -> 0
A63: Actavista/AER/AMS… | G63: =SUM(B63:F63) -> 0 | H63: 1 | I63: =G63*H63 -> 0
A64: Cap Gemini | G64: =SUM(B64:F64) -> 0 | H64: 1 | I64: =G64*H64 -> 0
A65: Séances WE | G65: =SUM(B65:F65) -> 0 | H65: 1.5 | I65: =G65*H65 -> 0
A66: Autres actions courtes (à préciser) | G66: =SUM(B66:F66) -> 0 | H66: 1 | I66: =G66*H66 -> 0
A67: Sous-total 3 | I67: =SUM(I60:I66) -> 0
B75: Semaine n°1 : | C75: Semaine n°2 : | D75: Semaine n°3 : | E75: Semaine n°4 : | F75: Semaine n°5: | G75: Total nbre d'heures | H75: Coef. | I75: Total | J75: Observations du formateur
A76: 3. Autres activités
A77: Accueil, information, positionnement, admission | G77: =SUM(B77:F77) -> 0 | H77: 0.5 | I77: =G77*H77 -> 0 | J77: diplômes MAAP
A78: Accueil, information, positionnement, admission | G78: =SUM(B78:F78) -> 0 | H78: 1 | I78: =G78*H78 -> 0 | J78: pôle ASV/AVQ
A79: Signature des contrats d'apprentissage | G79: =SUM(B79:F79) -> 0 | H79: 0.5 | I79: =G79*H79 -> 0
A80: Visites en entreprise des apprentis et/ou des stagiaires | G80: =SUM(B80:F80) -> 0 | H80: base 2h/visite | I80: =G80 -> 0 | J80: nbre effectué
A81: Coordination d'un groupe, suivi des parcours, gestion des outils de liaison et démarche qualité | G81: =SUM(B81:F81) -> 0 | H81: base 2h/groupe/semaine | I81: =G81 -> 0 | J81: nbre de groupe apprentis
G82: =SUM(B82:F82) -> 0 | H82: base 1h/groupe/semaine | I82: =G82 -> 0 | J82: nbre de groupe adultes
A83: Présence aux conseils de classe, réunions périodiques de régulation et bilan des grpes | G83: =SUM(B83:F83) -> 0 | H83: sur tps de travail cf. ISOE
A84: Participation à des réunions de pôles spécifiques (rénovation…) | G84: =SUM(B84:F84) -> 0 | H84: 0.5 | I84: =G84*H84 -> 0
A85: Participation à l'élaboration de projets de formation, à des activités d'ingénierie | G85: =SUM(B85:F85) -> 0 | H85: 0.5 | I85: =G85*H85 -> 0
A86: Convocation aux jurys permanents et d'examens | G86: =SUM(B86:F86) -> 0 | H86: sur tps de travail cf. prise en charge/dispositif | J86: diplômes du MAAP
G87: =SUM(B87:F87) -> 0 | H87: 0.5 | I87: =G87*H87 -> 0 | J87: jurys ASV/AVQ
A88: Participation à des réunions extérieures (SRFE, COTEFE…) | G88: =SUM(B88:F88) -> 0 | H88: sur tps de travail
A89: Participation à un voyage d'étude | G89: =SUM(B89:F89) -> 0 | H89: 0.5 | I89: =G89*H89 -> 0
A90: Présence JPO Valabre/Marseille | G90: =SUM(B90:F90) -> 0 | H90: sur tps de travail
A91: Présence à des manifestations extérieures | G91: =SUM(B91:F91) -> 0 | H91: 0.5 | I91: =G91*H91 -> 0 | J91: en semaine
A92: Sous-total 4 | I92: =SUM(I76:I90) -> 0
A93: Total | H93: TOTAL | I93: =I92+I67+I54+I34 -> 0
F94: TOTAL GENERAL DU MOIS | I94: =I93 -> 0
A96: Validé par le responsable de pôle le :
A98: Observations :
A102: Validé par la direction le :
A103: Observations :

Sheet Mars 
G1: Nom du Formateur :
B4: Décompte mensuel des activités des formateurs année 2011-2012
B9: Mois de mars 2012
B12: Semaine n°1 : | C12: Semaine n°2 : | D12: Semaine n°3 : | E12: Semaine n°4 : | F12: Semaine n°5 : | G12: Total nbre d'heures | H12: Coef. | I12: Total | J12: Observations
A13: 1. Face à Face | B13: SEM DU 05/03 | C13: SEM DU 12/03 | D13: SEM DU 19/03 | E13: SEM DU 26/03
A14: ASV C.part
A15: 260 CP | G15: =SUM(B15:F15) -> 0 | H15: 1 | I15: =G15*H15 -> 0
A16: 283 CP | G16: =SUM(B16:F16) -> 0 | H16: 1 | I16: =G16*H16 -> 0
A17: ASV CA-C.Pro | G17: =SUM(B17:F17) -> 0 | H17: 1 | I17: =G17*H17 -> 0
A18: 247 | G18: =SUM(B18:F18) -> 0 | H18: 1 | I18: =G18*H18 -> 0
A19: 252 | G19: =SUM(B19:F19) -> 0 | H19: 1 | I19: =G19*H19 -> 0
A20: 256 | G20: =SUM(B20:F20) -> 0 | H20: 1 | I20: =G20*H20 -> 0
A21: 261 | G21: =SUM(B21:F21) -> 0 | H21: 1 | I21: =G21*H21 -> 0
A22: 276 | G22: =SUM(B22:F22) -> 0 | H22: 1 | I22: =G22*H22 -> 0
A23: 285 | G23: =SUM(B23:F23) -> 0 | H23: 1 | I23: =G23*H23 -> 0
A24: PROMO PRINTEMPS 2012 | G24: =SUM(B24:F24) -> 0 | H24: 1 | I24: =G24*H24 -> 0
A25: 273 | G25: =SUM(B25:F25) -> 0 | H25: 1 | I25: =G25*H25 -> 0
G26: =SUM(B26:F26) -> 0 | H26: 1 | I26: =G26*H26 -> 0
G27: =SUM(B27:F27) -> 0 | H27: 1 | I27: =G27*H27 -> 0
G28: =SUM(B28:F28) -> 0 | H28: 1 | I28: =G28*H28 -> 0
A29: Individualisation/FPC | G29: =SUM(B29:F29) -> 0 | H29: 1 | I29: =G29*H29 -> 0
G30: =SUM(B30:F30) -> 0 | H30: 1 | I30: =G30*H30 -> 0
G31: =SUM(B31:F31) -> 0 | H31: 1 | I31: =G31*H31 -> 0
G32: =SUM(B32:F32) -> 0 | H32: 1 | I32: =G32*H32 -> 0
G33: =SUM(B33:F33) -> 0 | H33: 1 | I33: =G33*H33 -> 0
A34: Sous-total 1 | I34: =SUM(I15:I33) -> 0
A36: PRF
A37: AVQ Valabre 2012 | G37: =SUM(B37:F37) -> 0 | H37: 1 | I37: =G37*H37 -> 0
G38: =SUM(B38:F38) -> 0 | H38: 1 | I38: =G38*H38 -> 0
G39: =SUM(B39:F39) -> 0 | H39: 1 | I39: =G39*H39 -> 0
G40: =SUM(B40:F40) -> 0 | H40: 1 | I40: =G40*H40 -> 0
G41: =SUM(B41:F41) -> 0 | H41: 1 | I41: =G41*H41 -> 0
G42: =SUM(B42:F42) -> 0 | H42: 1 | I42: =G42*H42 -> 0
G43: =SUM(B43:F43) -> 0 | H43: 1 | I43: =G43*H43 -> 0
G44: =SUM(B44:F44) -> 0 | H44: 1 | I44: =G44*H44 -> 0
G45: =SUM(B45:F45) -> 0 | I45: =G45*H45 -> 0
G46: =SUM(B46:F46) -> 0 | H46: 1 | I46: =G46*H46 -> 0
G47: =SUM(B47:F47) -> 0 | H47: 1 | I47: =G47*H47 -> 0
G48: =SUM(B48:F48) -> 0 | H48: 1 | I48: =G48*H48 -> 0
G49: =SUM(B49:F49) -> 0 | H49: 1 | I49: =G49*H49 -> 0
G51: =SUM(B51:F51) -> 0 | I51: =G51*H51 -> 0
G52: =SUM(B52:F52) -> 0 | I52: =G52*H52 -> 0
A54: Sous-total 2 | I54: =SUM(I37:I52) -> 0
B58: Semaine n°1 : | C58: Semaine n°2 : | D58: Semaine n°3 : | E58: Semaine n°4 : | F58: Semaine n°5 :
A59: 2. Actions courtes
A60: Accompagnement VAE, PPP… | G60: =SUM(B60:F60) -> 0 | H60: 1 | I60: =G60*H60 -> 0
A61: Certiphyto | G61: =SUM(B61:F61) -> 0 | H61: 1 | I61: =G61*H61 -> 0
A62: CNFPT | G62: =SUM(B62:F62) -> 0 | H62: 1 | I62: =G62*H62 -> 0
A63: Actavista/AER/AMS… | G63: =SUM(B63:F63) -> 0 | H63: 1 | I63: =G63*H63 -> 0
A64: Cap Gemini | G64: =SUM(B64:F64) -> 0 | H64: 1 | I64: =G64*H64 -> 0
A65: Séances WE | G65: =SUM(B65:F65) -> 0 | H65: 1.5 | I65: =G65*H65 -> 0
A66: Autres actions courtes (à préciser) | G66: =SUM(B66:F66) -> 0 | H66: 1 | I66: =G66*H66 -> 0
A67: Sous-total 3 | I67: =SUM(I60:I66) -> 0
B75: Semaine n°1 : | C75: Semaine n°2 : | D75: Semaine n°3 : | E75: Semaine n°4 : | F75: Semaine n°5: | G75: Total nbre d'heures | H75: Coef. | I75: Total | J75: Observations du formateur
A76: 3. Autres activités
A77: Accueil, information, positionnement, admission | G77: =SUM(B77:F77) -> 0 | H77: 0.5 | I77: =G77*H77 -> 0 | J77: diplômes MAAP
A78: Accueil, information, positionnement, admission | G78: =SUM(B78:F78) -> 0 | H78: 1 | I78: =G78*H78 -> 0 | J78: pôle ASV/AVQ
A79: Signature des contrats d'apprentissage | G79: =SUM(B79:F79) -> 0 | H79: 0.5 | I79: =G79*H79 -> 0
A80: Visites en entreprise des apprentis et/ou des stagiaires | G80: =SUM(B80:F80) -> 0 | H80: base 2h/visite | I80: =G80 -> 0 | J80: nbre effectué
A81: Coordination d'un groupe, suivi des parcours, gestion des outils de liaison et démarche qualité | G81: =SUM(B81:F81) -> 0 | H81: base 2h/groupe/semaine | I81: =G81 -> 0 | J81: nbre de groupe apprentis
G82: =SUM(B82:F82) -> 0 | H82: base 1h/groupe/semaine | I82: =G82 -> 0 | J82: nbre de groupe adultes
A83: Présence aux conseils de classe, réunions périodiques de régulation et bilan des grpes | G83: =SUM(B83:F83) -> 0 | H83: sur tps de travail cf. ISOE
A84: Participation à des réunions de pôles spécifiques (rénovation…) | G84: =SUM(B84:F84) -> 0 | H84: 0.5 | I84: =G84*H84 -> 0
A85: Participation à l'élaboration de projets de formation, à des activités d'ingénierie | G85: =SUM(B85:F85) -> 0 | H85: 0.5 | I85: =G85*H85 -> 0
A86: Convocation aux jurys permanents et d'examens | G86: =SUM(B86:F86) -> 0 | H86: sur tps de travail cf. prise en charge/dispositif | J86: diplômes du MAAP
G87: =SUM(B87:F87) -> 0 | H87: 0.5 | I87: =G87*H87 -> 0 | J87: jurys ASV/AVQ
A88: Participation à des réunions extérieures (SRFE, COTEFE…) | G88: =SUM(B88:F88) -> 0 | H88: sur tps de travail
A89: Participation à un voyage d'étude | G89: =SUM(B89:F89) -> 0 | H89: 0.5 | I89: =G89*H89 -> 0
A90: Présence JPO Valabre/Marseille | G90: =SUM(B90:F90) -> 0 | H90: sur tps de travail
A91: Présence à des manifestations extérieures | G91: =SUM(B91:F91) -> 0 | H91: 0.5 | I91: =G91*H91 -> 0 | J91: en semaine
A92: Sous-total 4 | I92: =SUM(I76:I90) -> 0
A93: Total | H93: TOTAL | I93: =I92+I67+I54+I34 -> 0
F94: TOTAL GENERAL DU MOIS | I94: =I93 -> 0
A96: Validé par le responsable de pôle le :
A98: Observations :
A102: Validé par la direction le :
A103: Observations :

Sheet avri
G1: Nom du Formateur :
B4: Décompte mensuel des activités des formateurs année 2011-2012
B9: Mois de avril 2012
B12: Semaine n°1 : | C12: Semaine n°2 : | D12: Semaine n°3 : | E12: Semaine n°4 : | F12: Semaine n°5 : | G12: Total nbre d'heures | H12: Coef. | I12: Total | J12: Observations
A13: 1. Face à Face | B13: SEM DU 05/03 | C13: SEM DU 12/03 | D13: SEM DU 19/03 | E13: SEM DU 26/03
A14: ASV C.part
A15: 260 CP | G15: =SUM(B15:F15) -> 0 | H15: 1 | I15: =G15*H15 -> 0
A16: 283 CP | G16: =SUM(B16:F16) -> 0 | H16: 1 | I16: =G16*H16 -> 0
A17: ASV CA-C.Pro | G17: =SUM(B17:F17) -> 0 | H17: 1 | I17: =G17*H17 -> 0
A18: 247 | G18: =SUM(B18:F18) -> 0 | H18: 1 | I18: =G18*H18 -> 0
A19: 252 | G19: =SUM(B19:F19) -> 0 | H19: 1 | I19: =G19*H19 -> 0
A20: 256 | G20: =SUM(B20:F20) -> 0 | H20: 1 | I20: =G20*H20 -> 0
A21: 261 | G21: =SUM(B21:F21) -> 0 | H21: 1 | I21: =G21*H21 -> 0
A22: 276 | G22: =SUM(B22:F22) -> 0 | H22: 1 | I22: =G22*H22 -> 0
A23: 285 | G23: =SUM(B23:F23) -> 0 | H23: 1 | I23: =G23*H23 -> 0
A24: PROMO PRINTEMPS 2012 | G24: =SUM(B24:F24) -> 0 | H24: 1 | I24: =G24*H24 -> 0
A25: 273 | G25: =SUM(B25:F25) -> 0 | H25: 1 | I25: =G25*H25 -> 0
G26: =SUM(B26:F26) -> 0 | H26: 1 | I26: =G26*H26 -> 0
G27: =SUM(B27:F27) -> 0 | H27: 1 | I27: =G27*H27 -> 0
G28: =SUM(B28:F28) -> 0 | H28: 1 | I28: =G28*H28 -> 0
A29: Individualisation/FPC | G29: =SUM(B29:F29) -> 0 | H29: 1 | I29: =G29*H29 -> 0
G30: =SUM(B30:F30) -> 0 | H30: 1 | I30: =G30*H30 -> 0
G31: =SUM(B31:F31) -> 0 | H31: 1 | I31: =G31*H31 -> 0
G32: =SUM(B32:F32) -> 0 | H32: 1 | I32: =G32*H32 -> 0
G33: =SUM(B33:F33) -> 0 | H33: 1 | I33: =G33*H33 -> 0
A34: Sous-total 1 | I34: =SUM(I15:I33) -> 0
A36: PRF
A37: AVQ Valabre 2012 | G37: =SUM(B37:F37) -> 0 | H37: 1 | I37: =G37*H37 -> 0
G38: =SUM(B38:F38) -> 0 | H38: 1 | I38: =G38*H38 -> 0
G39: =SUM(B39:F39) -> 0 | H39: 1 | I39: =G39*H39 -> 0
G40: =SUM(B40:F40) -> 0 | H40: 1 | I40: =G40*H40 -> 0
G41: =SUM(B41:F41) -> 0 | H41: 1 | I41: =G41*H41 -> 0
G42: =SUM(B42:F42) -> 0 | H42: 1 | I42: =G42*H42 -> 0
G43: =SUM(B43:F43) -> 0 | H43: 1 | I43: =G43*H43 -> 0
G44: =SUM(B44:F44) -> 0 | H44: 1 | I44: =G44*H44 -> 0
G45: =SUM(B45:F45) -> 0 | I45: =G45*H45 -> 0
G46: =SUM(B46:F46) -> 0 | H46: 1 | I46: =G46*H46 -> 0
G47: =SUM(B47:F47) -> 0 | H47: 1 | I47: =G47*H47 -> 0
G48: =SUM(B48:F48) -> 0 | H48: 1 | I48: =G48*H48 -> 0
G49: =SUM(B49:F49) -> 0 | H49: 1 | I49: =G49*H49 -> 0
G51: =SUM(B51:F51) -> 0 | I51: =G51*H51 -> 0
G52: =SUM(B52:F52) -> 0 | I52: =G52*H52 -> 0
A54: Sous-total 2 | I54: =SUM(I37:I52) -> 0
B58: Semaine n°1 : | C58: Semaine n°2 : | D58: Semaine n°3 : | E58: Semaine n°4 : | F58: Semaine n°5 :
A59: 2. Actions courtes
A60: Accompagnement VAE, PPP… | G60: =SUM(B60:F60) -> 0 | H60: 1 | I60: =G60*H60 -> 0
A61: Certiphyto | G61: =SUM(B61:F61) -> 0 | H61: 1 | I61: =G61*H61 -> 0
A62: CNFPT | G62: =SUM(B62:F62) -> 0 | H62: 1 | I62: =G62*H62 -> 0
A63: Actavista/AER/AMS… | G63: =SUM(B63:F63) -> 0 | H63: 1 | I63: =G63*H63 -> 0
A64: Cap Gemini | G64: =SUM(B64:F64) -> 0 | H64: 1 | I64: =G64*H64 -> 0
A65: Séances WE | G65: =SUM(B65:F65) -> 0 | H65: 1.5 | I65: =G65*H65 -> 0
A66: Autres actions courtes (à préciser) | G66: =SUM(B66:F66) -> 0 | H66: 1 | I66: =G66*H66 -> 0
A67: Sous-total 3 | I67: =SUM(I60:I66) -> 0
B75: Semaine n°1 : | C75: Semaine n°2 : | D75: Semaine n°3 : | E75: Semaine n°4 : | F75: Semaine n°5: | G75: Total nbre d'heures | H75: Coef. | I75: Total | J75: Observations du formateur
A76: 3. Autres activités
A77: Accueil, information, positionnement, admission | G77: =SUM(B77:F77) -> 0 | H77: 0.5 | I77: =G77*H77 -> 0 | J77: diplômes MAAP
A78: Accueil, information, positionnement, admission | G78: =SUM(B78:F78) -> 0 | H78: 1 | I78: =G78*H78 -> 0 | J78: pôle ASV/AVQ
A79: Signature des contrats d'apprentissage | G79: =SUM(B79:F79) -> 0 | H79: 0.5 | I79: =G79*H79 -> 0
A80: Visites en entreprise des apprentis et/ou des stagiaires | G80: =SUM(B80:F80) -> 0 | H80: base 2h/visite | I80: =G80 -> 0 | J80: nbre effectué
A81: Coordination d'un groupe, suivi des parcours, gestion des outils de liaison et démarche qualité | G81: =SUM(B81:F81) -> 0 | H81: base 2h/groupe/semaine | I81: =G81 -> 0 | J81: nbre de groupe apprentis
G82: =SUM(B82:F82) -> 0 | H82: base 1h/groupe/semaine | I82: =G82 -> 0 | J82: nbre de groupe adultes
A83: Présence aux conseils de classe, réunions périodiques de régulation et bilan des grpes | G83: =SUM(B83:F83) -> 0 | H83: sur tps de travail cf. ISOE
A84: Participation à des réunions de pôles spécifiques (rénovation…) | G84: =SUM(B84:F84) -> 0 | H84: 0.5 | I84: =G84*H84 -> 0
A85: Participation à l'élaboration de projets de formation, à des activités d'ingénierie | G85: =SUM(B85:F85) -> 0 | H85: 0.5 | I85: =G85*H85 -> 0
A86: Convocation aux jurys permanents et d'examens | G86: =SUM(B86:F86) -> 0 | H86: sur tps de travail cf. prise en charge/dispositif | J86: diplômes du MAAP
G87: =SUM(B87:F87) -> 0 | H87: 0.5 | I87: =G87*H87 -> 0 | J87: jurys ASV/AVQ
A88: Participation à des réunions extérieures (SRFE, COTEFE…) | G88: =SUM(B88:F88) -> 0 | H88: sur tps de travail
A89: Participation à un voyage d'étude | G89: =SUM(B89:F89) -> 0 | H89: 0.5 | I89: =G89*H89 -> 0
A90: Présence JPO Valabre/Marseille | G90: =SUM(B90:F90) -> 0 | H90: sur tps de travail
A91: Présence à des manifestations extérieures | G91: =SUM(B91:F91) -> 0 | H91: 0.5 | I91: =G91*H91 -> 0 | J91: en semaine
A92: Sous-total 4 | I92: =SUM(I76:I90) -> 0
A93: Total | H93: TOTAL | I93: =I92+I67+I54+I34 -> 0
F94: TOTAL GENERAL DU MOIS | I94: =I93 -> 0
A96: Validé par le responsable de pôle le :
A98: Observations :
A102: Validé par la direction le :
A103: Observations :

Sheet Mai 
G1: Nom du Formateur :
B4: Décompte mensuel des activités des formateurs année 2011-2012
B9: Mois de mai 2012
B12: Semaine n°1 : | C12: Semaine n°2 : | D12: Semaine n°3 : | E12: Semaine n°4 : | F12: Semaine n°5 : | G12: Total nbre d'heures | H12: Coef. | I12: Total | J12: Observations
A13: 1. Face à Face | B13: SEM DU 30/04 | C13: SEM DU 7/05 | D13: SEM DU 14/05 | E13: SEM DU 21/05 | F13: SEM DU 28/05
A14: ASV C.part
A15: 260 CP | G15: =SUM(B15:F15) -> 0 | H15: 1 | I15: =G15*H15 -> 0
A16: 283 CP | G16: =SUM(B16:F16) -> 0 | H16: 1 | I16: =G16*H16 -> 0
A17: ASV CA-C.Pro | G17: =SUM(B17:F17) -> 0 | H17: 1 | I17: =G17*H17 -> 0
A18: 247 | G18: =SUM(B18:F18) -> 0 | H18: 1 | I18: =G18*H18 -> 0
A19: 252 | G19: =SUM(B19:F19) -> 0 | H19: 1 | I19: =G19*H19 -> 0
A20: 256 | G20: =SUM(B20:F20) -> 0 | H20: 1 | I20: =G20*H20 -> 0
A21: 261 | G21: =SUM(B21:F21) -> 0 | H21: 1 | I21: =G21*H21 -> 0
A22: 276 | G22: =SUM(B22:F22) -> 0 | H22: 1 | I22: =G22*H22 -> 0
A23: 285 | G23: =SUM(B23:F23) -> 0 | H23: 1 | I23: =G23*H23 -> 0
A24: PROMO PRINTEMPS 2012 | G24: =SUM(B24:F24) -> 0 | H24: 1 | I24: =G24*H24 -> 0
A25: 273 | G25: =SUM(B25:F25) -> 0 | H25: 1 | I25: =G25*H25 -> 0
G26: =SUM(B26:F26) -> 0 | H26: 1 | I26: =G26*H26 -> 0
G27: =SUM(B27:F27) -> 0 | H27: 1 | I27: =G27*H27 -> 0
G28: =SUM(B28:F28) -> 0 | H28: 1 | I28: =G28*H28 -> 0
A29: Individualisation/FPC | G29: =SUM(B29:F29) -> 0 | H29: 1 | I29: =G29*H29 -> 0
G30: =SUM(B30:F30) -> 0 | H30: 1 | I30: =G30*H30 -> 0
G31: =SUM(B31:F31) -> 0 | H31: 1 | I31: =G31*H31 -> 0
G32: =SUM(B32:F32) -> 0 | H32: 1 | I32: =G32*H32 -> 0
G33: =SUM(B33:F33) -> 0 | H33: 1 | I33: =G33*H33 -> 0
A34: Sous-total 1 | I34: =SUM(I15:I33) -> 0
A36: PRF
A37: AVQ Valabre 2012 | G37: =SUM(B37:F37) -> 0 | H37: 1 | I37: =G37*H37 -> 0
G38: =SUM(B38:F38) -> 0 | H38: 1 | I38: =G38*H38 -> 0
G39: =SUM(B39:F39) -> 0 | H39: 1 | I39: =G39*H39 -> 0
G40: =SUM(B40:F40) -> 0 | H40: 1 | I40: =G40*H40 -> 0
G41: =SUM(B41:F41) -> 0 | H41: 1 | I41: =G41*H41 -> 0
G42: =SUM(B42:F42) -> 0 | H42: 1 | I42: =G42*H42 -> 0
G43: =SUM(B43:F43) -> 0 | H43: 1 | I43: =G43*H43 -> 0
G44: =SUM(B44:F44) -> 0 | H44: 1 | I44: =G44*H44 -> 0
G45: =SUM(B45:F45) -> 0 | I45: =G45*H45 -> 0
G46: =SUM(B46:F46) -> 0 | H46: 1 | I46: =G46*H46 -> 0
G47: =SUM(B47:F47) -> 0 | H47: 1 | I47: =G47*H47 -> 0
G48: =SUM(B48:F48) -> 0 | H48: 1 | I48: =G48*H48 -> 0
G49: =SUM(B49:F49) -> 0 | H49: 1 | I49: =G49*H49 -> 0
G51: =SUM(B51:F51) -> 0 | I51: =G51*H51 -> 0
G52: =SUM(B52:F52) -> 0 | I52: =G52*H52 -> 0
A54: Sous-total 2 | I54: =SUM(I37:I52) -> 0
B58: Semaine n°1 : | C58: Semaine n°2 : | D58: Semaine n°3 : | E58: Semaine n°4 : | F58: Semaine n°5 :
A59: 2. Actions courtes
A60: Accompagnement VAE, PPP… | G60: =SUM(B60:F60) -> 0 | H60: 1 | I60: =G60*H60 -> 0
A61: Certiphyto | G61: =SUM(B61:F61) -> 0 | H61: 1 | I61: =G61*H61 -> 0
A62: CNFPT | G62: =SUM(B62:F62) -> 0 | H62: 1 | I62: =G62*H62 -> 0
A63: Actavista/AER/AMS… | G63: =SUM(B63:F63) -> 0 | H63: 1 | I63: =G63*H63 -> 0
A64: Cap Gemini | G64: =SUM(B64:F64) -> 0 | H64: 1 | I64: =G64*H64 -> 0
A65: Séances WE | G65: =SUM(B65:F65) -> 0 | H65: 1.5 | I65: =G65*H65 -> 0
A66: Autres actions courtes (à préciser) | G66: =SUM(B66:F66) -> 0 | H66: 1 | I66: =G66*H66 -> 0
A67: Sous-total 3 | I67: =SUM(I60:I66) -> 0
B75: Semaine n°1 : | C75: Semaine n°2 : | D75: Semaine n°3 : | E75: Semaine n°4 : | F75: Semaine n°5: | G75: Total nbre d'heures | H75: Coef. | I75: Total | J75: Observations du formateur
A76: 3. Autres activités
A77: Accueil, information, positionnement, admission | G77: =SUM(B77:F77) -> 0 | H77: 0.5 | I77: =G77*H77 -> 0 | J77: diplômes MAAP
A78: Accueil, information, positionnement, admission | G78: =SUM(B78:F78) -> 0 | H78: 1 | I78: =G78*H78 -> 0 | J78: pôle ASV/AVQ
A79: Signature des contrats d'apprentissage | G79: =SUM(B79:F79) -> 0 | H79: 0.5 | I79: =G79*H79 -> 0
A80: Visites en entreprise des apprentis et/ou des stagiaires | G80: =SUM(B80:F80) -> 0 | H80: base 2h/visite | I80: =G80 -> 0 | J80: nbre effectué
A81: Coordination d'un groupe, suivi des parcours, gestion des outils de liaison et démarche qualité | G81: =SUM(B81:F81) -> 0 | H81: base 2h/groupe/semaine | I81: =G81 -> 0 | J81: nbre de groupe apprentis
G82: =SUM(B82:F82) -> 0 | H82: base 1h/groupe/semaine | I82: =G82 -> 0 | J82: nbre de groupe adultes
A83: Présence aux conseils de classe, réunions périodiques de régulation et bilan des grpes | G83: =SUM(B83:F83) -> 0 | H83: sur tps de travail cf. ISOE
A84: Participation à des réunions de pôles spécifiques (rénovation…) | G84: =SUM(B84:F84) -> 0 | H84: 0.5 | I84: =G84*H84 -> 0
A85: Participation à l'élaboration de projets de formation, à des activités d'ingénierie | G85: =SUM(B85:F85) -> 0 | H85: 0.5 | I85: =G85*H85 -> 0
A86: Convocation aux jurys permanents et d'examens | G86: =SUM(B86:F86) -> 0 | H86: sur tps de travail cf. prise en charge/dispositif | J86: diplômes du MAAP
G87: =SUM(B87:F87) -> 0 | H87: 0.5 | I87: =G87*H87 -> 0 | J87: jurys ASV/AVQ
A88: Participation à des réunions extérieures (SRFE, COTEFE…) | G88: =SUM(B88:F88) -> 0 | H88: sur tps de travail
A89: Participation à un voyage d'étude | G89: =SUM(B89:F89) -> 0 | H89: 0.5 | I89: =G89*H89 -> 0
A90: Présence JPO Valabre/Marseille | G90: =SUM(B90:F90) -> 0 | H90: sur tps de travail
A91: Présence à des manifestations extérieures | G91: =SUM(B91:F91) -> 0 | H91: 0.5 | I91: =G91*H91 -> 0 | J91: en semaine
A92: Sous-total 4 | I92: =SUM(I76:I90) -> 0
A93: Total | H93: TOTAL | I93: =I92+I67+I54+I34 -> 0
F94: TOTAL GENERAL DU MOIS | I94: =I93 -> 0
A96: Validé par le responsable de pôle le :
A98: Observations :
A102: Validé par la direction le :
A103: Observations :

Sheet Juin 
G1: Nom du Formateur :
B4: Décompte mensuel des activités des formateurs année 2011-2012
B9: Mois de juin 2012
B12: Semaine n°1 : | C12: Semaine n°2 : | D12: Semaine n°3 : | E12: Semaine n°4 : | F12: Semaine n°5 : | G12: Total nbre d'heures | H12: Coef. | I12: Total | J12: Observations
A13: 1. Face à Face | B13: SEM DU 4/06 | C13: SEM DU 11/06 | D13: SEM DU 18/06 | E13: SEM DU 25/06 | F13: JUILLET
A14: ASV C.part
A15: 260 CP | G15: =SUM(B15:F15) -> 0 | H15: 1 | I15: =G15*H15 -> 0
A16: 283 CP | G16: =SUM(B16:F16) -> 0 | H16: 1 | I16: =G16*H16 -> 0
A17: ASV CA-C.Pro | G17: =SUM(B17:F17) -> 0 | H17: 1 | I17: =G17*H17 -> 0
A18: 247 | G18: =SUM(B18:F18) -> 0 | H18: 1 | I18: =G18*H18 -> 0
A19: 252 | G19: =SUM(B19:F19) -> 0 | H19: 1 | I19: =G19*H19 -> 0
A20: 256 | G20: =SUM(B20:F20) -> 0 | H20: 1 | I20: =G20*H20 -> 0
A21: 261 | G21: =SUM(B21:F21) -> 0 | H21: 1 | I21: =G21*H21 -> 0
A22: 276 | G22: =SUM(B22:F22) -> 0 | H22: 1 | I22: =G22*H22 -> 0
A23: 285 | G23: =SUM(B23:F23) -> 0 | H23: 1 | I23: =G23*H23 -> 0
A24: PROMO PRINTEMPS 2012 | G24: =SUM(B24:F24) -> 0 | H24: 1 | I24: =G24*H24 -> 0
A25: 273 | G25: =SUM(B25:F25) -> 0 | H25: 1 | I25: =G25*H25 -> 0
G26: =SUM(B26:F26) -> 0 | H26: 1 | I26: =G26*H26 -> 0
G27: =SUM(B27:F27) -> 0 | H27: 1 | I27: =G27*H27 -> 0
G28: =SUM(B28:F28) -> 0 | H28: 1 | I28: =G28*H28 -> 0
A29: Individualisation/FPC | G29: =SUM(B29:F29) -> 0 | H29: 1 | I29: =G29*H29 -> 0
G30: =SUM(B30:F30) -> 0 | H30: 1 | I30: =G30*H30 -> 0
G31: =SUM(B31:F31) -> 0 | H31: 1 | I31: =G31*H31 -> 0
G32: =SUM(B32:F32) -> 0 | H32: 1 | I32: =G32*H32 -> 0
G33: =SUM(B33:F33) -> 0 | H33: 1 | I33: =G33*H33 -> 0
A34: Sous-total 1 | I34: =SUM(I15:I33) -> 0
A36: PRF
A37: AVQ Valabre 2012 | G37: =SUM(B37:F37) -> 0 | H37: 1 | I37: =G37*H37 -> 0
G38: =SUM(B38:F38) -> 0 | H38: 1 | I38: =G38*H38 -> 0
G39: =SUM(B39:F39) -> 0 | H39: 1 | I39: =G39*H39 -> 0
G40: =SUM(B40:F40) -> 0 | H40: 1 | I40: =G40*H40 -> 0
G41: =SUM(B41:F41) -> 0 | H41: 1 | I41: =G41*H41 -> 0
G42: =SUM(B42:F42) -> 0 | H42: 1 | I42: =G42*H42 -> 0
G43: =SUM(B43:F43) -> 0 | H43: 1 | I43: =G43*H43 -> 0
G44: =SUM(B44:F44) -> 0 | H44: 1 | I44: =G44*H44 -> 0
G45: =SUM(B45:F45) -> 0 | I45: =G45*H45 -> 0
G46: =SUM(B46:F46) -> 0 | H46: 1 | I46: =G46*H46 -> 0
G47: =SUM(B47:F47) -> 0 | H47: 1 | I47: =G47*H47 -> 0
G48: =SUM(B48:F48) -> 0 | H48: 1 | I48: =G48*H48 -> 0
G49: =SUM(B49:F49) -> 0 | H49: 1 | I49: =G49*H49 -> 0
G51: =SUM(B51:F51) -> 0 | I51: =G51*H51 -> 0
G52: =SUM(B52:F52) -> 0 | I52: =G52*H52 -> 0
A54: Sous-total 2 | I54: =SUM(I37:I52) -> 0
B58: Semaine n°1 : | C58: Semaine n°2 : | D58: Semaine n°3 : | E58: Semaine n°4 : | F58: Semaine n°5 :
A59: 2. Actions courtes
A60: Accompagnement VAE, PPP… | G60: =SUM(B60:F60) -> 0 | H60: 1 | I60: =G60*H60 -> 0
A61: Certiphyto | G61: =SUM(B61:F61) -> 0 | H61: 1 | I61: =G61*H61 -> 0
A62: CNFPT | G62: =SUM(B62:F62) -> 0 | H62: 1 | I62: =G62*H62 -> 0
A63: Actavista/AER/AMS… | G63: =SUM(B63:F63) -> 0 | H63: 1 | I63: =G63*H63 -> 0
A64: Cap Gemini | G64: =SUM(B64:F64) -> 0 | H64: 1 | I64: =G64*H64 -> 0
A65: Séances WE | G65: =SUM(B65:F65) -> 0 | H65: 1.5 | I65: =G65*H65 -> 0
A66: Autres actions courtes (à préciser) | G66: =SUM(B66:F66) -> 0 | H66: 1 | I66: =G66*H66 -> 0
A67: Sous-total 3 | I67: =SUM(I60:I66) -> 0
B75: Semaine n°1 : | C75: Semaine n°2 : | D75: Semaine n°3 : | E75: Semaine n°4 : | F75: Semaine n°5: | G75: Total nbre d'heures | H75: Coef. | I75: Total | J75: Observations du formateur
A76: 3. Autres activités
A77: Accueil, information, positionnement, admission | G77: =SUM(B77:F77) -> 0 | H77: 0.5 | I77: =G77*H77 -> 0 | J77: diplômes MAAP
A78: Accueil, information, positionnement, admission | G78: =SUM(B78:F78) -> 0 | H78: 1 | I78: =G78*H78 -> 0 | J78: pôle ASV/AVQ
A79: Signature des contrats d'apprentissage | G79: =SUM(B79:F79) -> 0 | H79: 0.5 | I79: =G79*H79 -> 0
A80: Visites en entreprise des apprentis et/ou des stagiaires | G80: =SUM(B80:F80) -> 0 | H80: base 2h/visite | I80: =G80 -> 0 | J80: nbre effectué
A81: Coordination d'un groupe, suivi des parcours, gestion des outils de liaison et démarche qualité | G81: =SUM(B81:F81) -> 0 | H81: base 2h/groupe/semaine | I81: =G81 -> 0 | J81: nbre de groupe apprentis
G82: =SUM(B82:F82) -> 0 | H82: base 1h/groupe/semaine | I82: =G82 -> 0 | J82: nbre de groupe adultes
A83: Présence aux conseils de classe, réunions périodiques de régulation et bilan des grpes | G83: =SUM(B83:F83) -> 0 | H83: sur tps de travail cf. ISOE
A84: Participation à des réunions de pôles spécifiques (rénovation…) | G84: =SUM(B84:F84) -> 0 | H84: 0.5 | I84: =G84*H84 -> 0
A85: Participation à l'élaboration de projets de formation, à des activités d'ingénierie | G85: =SUM(B85:F85) -> 0 | H85: 0.5 | I85: =G85*H85 -> 0
A86: Convocation aux jurys permanents et d'examens | G86: =SUM(B86:F86) -> 0 | H86: sur tps de travail cf. prise en charge/dispositif | J86: diplômes du MAAP
G87: =SUM(B87:F87) -> 0 | H87: 0.5 | I87: =G87*H87 -> 0 | J87: jurys ASV/AVQ
A88: Participation à des réunions extérieures (SRFE, COTEFE…) | G88: =SUM(B88:F88) -> 0 | H88: sur tps de travail
A89: Participation à un voyage d'étude | G89: =SUM(B89:F89) -> 0 | H89: 0.5 | I89: =G89*H89 -> 0
A90: Présence JPO Valabre/Marseille | G90: =SUM(B90:F90) -> 0 | H90: sur tps de travail
A91: Présence à des manifestations extérieures | G91: =SUM(B91:F91) -> 0 | H91: 0.5 | I91: =G91*H91 -> 0 | J91: en semaine
A92: Sous-total 4 | I92: =SUM(I76:I90) -> 0
A93: Total | H93: TOTAL | I93: =I92+I67+I54+I34 -> 0
F94: TOTAL GENERAL DU MOIS | I94: =I93 -> 0
A96: Validé par le responsable de pôle le :
A98: Observations :
A102: Validé par la direction le :
A103: Observations :

Sheet BILAN
E1: détail fàf | H1: détail par action
I2: sept | J2: Oct | K2: Nov | L2: dec | M2: janv | N2: fevr | O2: mars | P2: avri | Q2: mai | R2: juin | S2: TOTAL
A3: FàF | B3: ='Sept '!I34+'Oct '!I34+'Nov '!I34+'Dec '!I34+'Janv '!I34+'Fevr '!I34+'Mars '!I34+avri!I34+'Mai '!I34+'Juin '!I34 -> 280 | E3: ASV C.part | H3: ASV | I3: =INDIRECT("'"&I2&" '!$I$34") -> 63 | J3: =INDIRECT("'"&J2&" '!$I$34") -> 49 | K3: =INDIRECT("'"&K2&" '!$I$34") -> 94.5 | L3: =INDIRECT("'"&L2&" '!$I$34") -> 49 | M3: =INDIRECT("'"&M2&" '!$I$34") -> 24.5 | N3: =INDIRECT("'"&N2&" '!$I$34") -> 0 | O3: =INDIRECT("'"&O2&" '!$I$34") -> 0 | P3: =INDIRECT("'"&P2&" '!$I$34") -> #REF! | ... R3: =INDIRECT("'"&R2&" '!$I$34") -> 0 | S3: =SUM(I3:R3) -> #REF!
B4: ='Sept '!I54+'Oct '!I54+'Nov '!I54+'Dec '!I54+'Janv '!I54+'Fevr '!I54+'Mars '!I54+avri!I54+'Mai '!I54+'Juin '!I54 -> 0 | C4: =B4+B3 -> 280 | E4: 260 CP | F4: ='Sept '!G15+'Oct '!G15+'Nov '!G15+'Dec '!G15+'Janv '!G15+'Fevr '!G15+'Mars '!G15+avri!G15+'Mai '!G15+'Juin '!G15 -> 38.5 | H4: PRF AVQ | I4: =INDIRECT("'"&I2&" '!$I$37") -> 0 | J4: =INDIRECT("'"&J2&" '!$I$37") -> 0 | K4: =INDIRECT("'"&K2&" '!$I$37") -> 0 | L4: =INDIRECT("'"&L2&" '!$I$37") -> 0 | M4: =INDIRECT("'"&M2&" '!$I$37") -> 0 | N4: =INDIRECT("'"&N2&" '!$I$37") -> 0 | O4: =INDIRECT("'"&O2&" '!$I$37") -> 0 | P4: =INDIRECT("'"&P2&" '!$I$37") -> #REF! | ... R4: =INDIRECT("'"&R2&" '!$I$37") -> 0 | S4: =SUM(I4:R4) -> #REF!
A5: action courte | B5: ='Sept '!I67+'Oct '!I67+'Nov '!I67+'Dec '!I67+'Janv '!I67+'Fevr '!I67+'Mars '!I67+avri!I67+'Mai '!I67+'Juin '!I67 -> 0 | C5: =B5 -> 0 | E5: 283 CP | F5: ='Sept '!G16+'Oct '!G16+'Nov '!G16+'Dec '!G16+'Janv '!G16+'Fevr '!G16+'Mars '!G16+avri!G16+'Mai '!G16+'Juin '!G16 -> 31.5
A6: autre | B6: ='Sept '!I92+'Oct '!I92+'Nov '!I92+'Dec '!I92+'Janv '!I92+'Fevr '!I92+'Mars '!I92+avri!I92+'Mai '!I92+'Juin '!I92 -> 3 | C6: =B6 -> 3 | E6: ASV CA-C.Pro | H6: IMA | I6: ='Sept '!I39 -> 0 | J6: ='Oct '!I39 -> 0 | K6: ='Nov '!I39 -> 0 | L6: ='Dec '!I39 -> 0 | M6: ='Janv '!I39 -> 0 | N6: ='Fevr '!I39 -> 0 | O6: ='Mars '!I39 -> 0 | P6: =avri!I39 -> 0 | Q6: ='Mai '!I39 -> 0 | R6: ='Juin '!I39 -> 0 | S6: =SUM(I6:R6) -> 0
C7: =C6+C5+C4 -> 283 | E7: 247 | F7: ='Sept '!G18+'Oct '!G18+'Nov '!G18+'Dec '!G18+'Janv '!G18+'Fevr '!G18+'Mars '!G18+avri!G18+'Mai '!G18+'Juin '!G18 -> 7 | H7: BAC PRO | I7: ='Sept '!I38 -> 0 | J7: ='Oct '!I38 -> 0 | K7: ='Nov '!I38 -> 0 | L7: ='Dec '!I38 -> 0 | M7: ='Janv '!I38 -> 0 | N7: ='Fevr '!I38 -> 0 | O7: ='Mars '!I38 -> 0 | P7: =avri!I38 -> 0 | Q7: ='Mai '!I38 -> 0 | R7: ='Juin '!I38 -> 0 | S7: =SUM(I7:R7) -> 0
E8: 252 | F8: ='Sept '!G19+'Oct '!G19+'Nov '!G19+'Dec '!G19+'Janv '!G19+'Fevr '!G19+'Mars '!G19+avri!G19+'Mai '!G19+'Juin '!G19 -> 52.5
A9: heure contrat | B9: 80%774 | C9: 619.2 | E9: 256 | F9: ='Sept '!G20+'Oct '!G20+'Nov '!G20+'Dec '!G20+'Janv '!G20+'Fevr '!G20+'Mars '!G20+avri!G20+'Mai '!G20+'Juin '!G20 -> 21 | H9: VAE | I9: ='Sept '!I60 -> 0 | J9: ='Oct '!I60 -> 0 | K9: ='Nov '!I60 -> 0 | L9: ='Dec '!I60 -> 0 | M9: ='Janv '!I60 -> 0 | N9: ='Fevr '!I60 -> 0 | O9: ='Mars '!I60 -> 0 | P9: =avri!I60 -> 0 | Q9: ='Mai '!I60 -> 0 | R9: ='Juin '!I60 -> 0 | S9: =SUM(I9:R9) -> 0
A10: heure sup | C10: =C7-C9 -> -336.2 | E10: 261 | F10: ='Sept '!G21+'Oct '!G21+'Nov '!G21+'Dec '!G21+'Janv '!G21+'Fevr '!G21+'Mars '!G21+avri!G21+'Mai '!G21+'Juin '!G21 -> 42 | H10: CAPTAV | I10: ='Sept '!I64 -> 0 | J10: ='Oct '!I64 -> 0 | K10: ='Nov '!I64 -> 0 | L10: ='Dec '!I64 -> 0 | M10: ='Janv '!I64 -> 0 | N10: ='Fevr '!I64 -> 0 | O10: ='Mars '!I64 -> 0 | P10: =avri!I64 -> 0 | Q10: ='Mai '!I64 -> 0 | R10: ='Juin '!I64 -> 0 | S10: =SUM(I10:R10) -> 0
E11: 276 | F11: ='Sept '!G22+'Oct '!G22+'Nov '!G22+'Dec '!G22+'Janv '!G22+'Fevr '!G22+'Mars '!G22+avri!G22+'Mai '!G22+'Juin '!G22 -> 42 | H11: CAPADomes | I11: ='Sept '!I66 -> 0 | J11: ='Oct '!I66 -> 0 | K11: ='Nov '!I66 -> 0 | L11: ='Dec '!I66 -> 0 | M11: ='Janv '!I66 -> 0 | N11: ='Fevr '!I66 -> 0 | O11: ='Mars '!I66 -> 0 | P11: =avri!I66 -> 0 | Q11: ='Mai '!I66 -> 0 | R11: ='Juin '!I66 -> 0 | S11: =SUM(I11:R11) -> 0
E12: 285 | F12: ='Sept '!G23+'Oct '!G23+'Nov '!G23+'Dec '!G23+'Janv '!G23+'Fevr '!G23+'Mars '!G23+avri!G23+'Mai '!G23+'Juin '!G23 -> 28 | S12: =SUM(I12:R12) -> 0
E13: PROMO PRINTEMPS 2012 | F13: ='Sept '!G24+'Oct '!G24+'Nov '!G24+'Dec '!G24+'Janv '!G24+'Fevr '!G24+'Mars '!G24+avri!G24+'Mai '!G24+'Juin '!G24 -> 0 | H13: autres activités | I13: ='Sept '!I92 -> 0 | J13: ='Oct '!I92 -> 0 | K13: ='Nov '!I92 -> 1 | L13: ='Dec '!I92 -> 1 | M13: ='Janv '!I92 -> 1 | N13: ='Fevr '!I92 -> 0 | O13: ='Mars '!I92 -> 0 | P13: =avri!I92 -> 0 | Q13: ='Mai '!I92 -> 0 | R13: ='Juin '!I92 -> 0 | S13: =SUM(I13:R13) -> 3
E14: 273 | F14: ='Sept '!G25+'Oct '!G25+'Nov '!G25+'Dec '!G25+'Janv '!G25+'Fevr '!G25+'Mars '!G25+avri!G25+'Mai '!G25+'Juin '!G25 -> 17.5
E15: Individualisation/FPC | F15: ='Sept '!G29+'Oct '!G29+'Nov '!G29+'Dec '!G29+'Janv '!G29+'Fevr '!G29+'Mars '!G29+avri!G29+'Mai '!G29+'Juin '!G29 -> 0 | H15: TOTAL AU MOIS | I15: =+SUM(I3:I13) -> 63 | J15: =+SUM(J3:J13) -> 49 | K15: =+SUM(K3:K13) -> 95.5 | L15: =+SUM(L3:L13) -> 50 | M15: =+SUM(M3:M13) -> 25.5 | N15: =+SUM(N3:N13) -> 0 | O15: =+SUM(O3:O13) -> 0 | P15: =+SUM(P3:P13) -> #REF! | ... S15: =+SUM(S3:S13) -> #REF!
E17: AVQ Valabre 2012 | F17: ='Sept '!G37+'Oct '!G37+'Nov '!G37+'Dec '!G37+'Janv '!G37+'Fevr '!G37+'Mars '!G37+avri!G37+'Mai '!G37+'Juin '!G37 -> 0
A20: PREVISIONNEL | B20: 698.5
A21: reste à faire | B21: =B20-C7 -> 415.5
