Workbook

Sheet relevés compteurs EDF
A1: DATE | B1: Relevés machine 1 | C1: Relevés machine 2 | D1: Relevés machine 3 | E1: N°semaine
A2: 41275 | B2: 100 | C2: 150 | D2: 200 | E2: ="Sem "&INT((A2-SUM(MOD(DATE(YEAR(A2-MOD(A2-2,7)+3),1,2),{1E+99;7})*{1;-1})+5)/7)& " mois " & MONTH(A2) &" année " & YEAR(A2) -> Sem 1 mois 1 année 2013
A3: 41276 | B3: 200 | C3: 300 | D3: 400 | E3: ="Sem "&INT((A3-SUM(MOD(DATE(YEAR(A3-MOD(A3-2,7)+3),1,2),{1E+99;7})*{1;-1})+5)/7)& " mois" & MONTH(A3) &" année " & YEAR(A3) -> Sem 1 mois1 année 2013
A4: 41277 | B4: 300 | C4: 450 | D4: 600 | E4: ="Sem "&INT((A4-SUM(MOD(DATE(YEAR(A4-MOD(A4-2,7)+3),1,2),{1E+99;7})*{1;-1})+5)/7)& " mois" & MONTH(A4) &" année " & YEAR(A4) -> Sem 1 mois1 année 2013
A5: 41278 | B5: 400 | C5: 600 | D5: 800 | E5: ="Sem "&INT((A5-SUM(MOD(DATE(YEAR(A5-MOD(A5-2,7)+3),1,2),{1E+99;7})*{1;-1})+5)/7)& " mois" & MONTH(A5) &" année " & YEAR(A5) -> Sem 1 mois1 année 2013
A6: 41279 | B6: 500 | C6: 750 | D6: 1000 | E6: ="Sem "&INT((A6-SUM(MOD(DATE(YEAR(A6-MOD(A6-2,7)+3),1,2),{1E+99;7})*{1;-1})+5)/7)& " mois" & MONTH(A6) &" année " & YEAR(A6) -> Sem 1 mois1 année 2013
A7: 41280 | B7: 600 | C7: 900 | D7: 1200 | E7: ="Sem "&INT((A7-SUM(MOD(DATE(YEAR(A7-MOD(A7-2,7)+3),1,2),{1E+99;7})*{1;-1})+5)/7)& " mois" & MONTH(A7) &" année " & YEAR(A7) -> Sem 1 mois1 année 2013
A8: 41281 | B8: 700 | C8: 1050 | D8: 1400 | E8: ="Sem "&INT((A8-SUM(MOD(DATE(YEAR(A8-MOD(A8-2,7)+3),1,2),{1E+99;7})*{1;-1})+5)/7)& " mois" & MONTH(A8) &" année " & YEAR(A8) -> Sem 2 mois1 année 2013
A9: 41282 | B9: 800 | C9: 1200 | D9: 1600 | E9: ="Sem "&INT((A9-SUM(MOD(DATE(YEAR(A9-MOD(A9-2,7)+3),1,2),{1E+99;7})*{1;-1})+5)/7)& " mois" & MONTH(A9) &" année " & YEAR(A9) -> Sem 2 mois1 année 2013
A10: 41283 | B10: 900 | C10: 1350 | D10: 1800 | E10: ="Sem "&INT((A10-SUM(MOD(DATE(YEAR(A10-MOD(A10-2,7)+3),1,2),{1E+99;7})*{1;-1})+5)/7)& " mois" & MONTH(A10) &" année " & YEAR(A10) -> Sem 2 mois1 année 2013
A11: 41284 | B11: 1000 | C11: 1500 | D11: 2000 | E11: ="Sem "&INT((A11-SUM(MOD(DATE(YEAR(A11-MOD(A11-2,7)+3),1,2),{1E+99;7})*{1;-1})+5)/7)& " mois" & MONTH(A11) &" année " & YEAR(A11) -> Sem 2 mois1 année 2013
A12: 41285 | B12: 1100 | C12: 1650 | D12: 2200 | E12: ="Sem "&INT((A12-SUM(MOD(DATE(YEAR(A12-MOD(A12-2,7)+3),1,2),{1E+99;7})*{1;-1})+5)/7)& " mois" & MONTH(A12) &" année " & YEAR(A12) -> Sem 2 mois1 année 2013
A13: 41286 | B13: 1200 | C13: 1800 | D13: 2400 | E13: ="Sem "&INT((A13-SUM(MOD(DATE(YEAR(A13-MOD(A13-2,7)+3),1,2),{1E+99;7})*{1;-1})+5)/7)& " mois" & MONTH(A13) &" année " & YEAR(A13) -> Sem 2 mois1 année 2013
A14: 41287 | B14: 1300 | C14: 1950 | D14: 2600 | E14: ="Sem "&INT((A14-SUM(MOD(DATE(YEAR(A14-MOD(A14-2,7)+3),1,2),{1E+99;7})*{1;-1})+5)/7)& " mois" & MONTH(A14) &" année " & YEAR(A14) -> Sem 2 mois1 année 2013
... A367: 41640 | B367: 36600 | C367: 54900 | D367: 73200 | E367: ="Sem "&INT((A367-SUM(MOD(DATE(YEAR(A367-MOD(A367-2,7)+3),1,2),{1E+99;7})*{1;-1})+5)/7)& " mois" & MONTH(A367) &" année " & YEAR(A367) -> Sem 1 mois1 année 2014

Sheet consos journalières
A1: DATE | B1: Relevés machine 1 | C1: Relevés machine 2 | D1: Relevés machine 3 | E1: N°semaine | F1: N°mois
A2: ='relevés compteurs EDF'!A2 -> 41275 | B2: ='relevés compteurs EDF'!B3-'relevés compteurs EDF'!B2 -> 100 | C2: ='relevés compteurs EDF'!C3-'relevés compteurs EDF'!C2 -> 150 | D2: ='relevés compteurs EDF'!D3-'relevés compteurs EDF'!D2 -> 200 | E2: ="Sem "&INT((A2-SUM(MOD(DATE(YEAR(A2-MOD(A2-2,7)+3),1,2),{1E+99;7})*{1;-1})+5)/7) -> Sem 1 | F2: ="Mois"&MONTH(A2) -> Mois1
A3: ='relevés compteurs EDF'!A3 -> 41276 | B3: ='relevés compteurs EDF'!B4-'relevés compteurs EDF'!B3 -> 100 | C3: ='relevés compteurs EDF'!C4-'relevés compteurs EDF'!C3 -> 150 | D3: ='relevés compteurs EDF'!D4-'relevés compteurs EDF'!D3 -> 200 | E3: ="Sem "&INT((A3-SUM(MOD(DATE(YEAR(A3-MOD(A3-2,7)+3),1,2),{1E+99;7})*{1;-1})+5)/7) -> Sem 1 | F3: ="Mois"&MONTH(A3) -> Mois1
A4: ='relevés compteurs EDF'!A4 -> 41277 | B4: ='relevés compteurs EDF'!B5-'relevés compteurs EDF'!B4 -> 100 | C4: ='relevés compteurs EDF'!C5-'relevés compteurs EDF'!C4 -> 150 | D4: ='relevés compteurs EDF'!D5-'relevés compteurs EDF'!D4 -> 200 | E4: ="Sem "&INT((A4-SUM(MOD(DATE(YEAR(A4-MOD(A4-2,7)+3),1,2),{1E+99;7})*{1;-1})+5)/7) -> Sem 1 | F4: ="Mois"&MONTH(A4) -> Mois1
A5: ='relevés compteurs EDF'!A5 -> 41278 | B5: ='relevés compteurs EDF'!B6-'relevés compteurs EDF'!B5 -> 100 | C5: ='relevés compteurs EDF'!C6-'relevés compteurs EDF'!C5 -> 150 | D5: ='relevés compteurs EDF'!D6-'relevés compteurs EDF'!D5 -> 200 | E5: ="Sem "&INT((A5-SUM(MOD(DATE(YEAR(A5-MOD(A5-2,7)+3),1,2),{1E+99;7})*{1;-1})+5)/7) -> Sem 1 | F5: ="Mois"&MONTH(A5) -> Mois1
A6: ='relevés compteurs EDF'!A6 -> 41279 | B6: ='relevés compteurs EDF'!B7-'relevés compteurs EDF'!B6 -> 100 | C6: ='relevés compteurs EDF'!C7-'relevés compteurs EDF'!C6 -> 150 | D6: ='relevés compteurs EDF'!D7-'relevés compteurs EDF'!D6 -> 200 | E6: ="Sem "&INT((A6-SUM(MOD(DATE(YEAR(A6-MOD(A6-2,7)+3),1,2),{1E+99;7})*{1;-1})+5)/7) -> Sem 1 | F6: ="Mois"&MONTH(A6) -> Mois1
A7: ='relevés compteurs EDF'!A7 -> 41280 | B7: ='relevés compteurs EDF'!B8-'relevés compteurs EDF'!B7 -> 100 | C7: ='relevés compteurs EDF'!C8-'relevés compteurs EDF'!C7 -> 150 | D7: ='relevés compteurs EDF'!D8-'relevés compteurs EDF'!D7 -> 200 | E7: ="Sem "&INT((A7-SUM(MOD(DATE(YEAR(A7-MOD(A7-2,7)+3),1,2),{1E+99;7})*{1;-1})+5)/7) -> Sem 1 | F7: ="Mois"&MONTH(A7) -> Mois1
A8: ='relevés compteurs EDF'!A8 -> 41281 | B8: ='relevés compteurs EDF'!B9-'relevés compteurs EDF'!B8 -> 100 | C8: ='relevés compteurs EDF'!C9-'relevés compteurs EDF'!C8 -> 150 | D8: ='relevés compteurs EDF'!D9-'relevés compteurs EDF'!D8 -> 200 | E8: ="Sem "&INT((A8-SUM(MOD(DATE(YEAR(A8-MOD(A8-2,7)+3),1,2),{1E+99;7})*{1;-1})+5)/7) -> Sem 2 | F8: ="Mois"&MONTH(A8) -> Mois1
A9: ='relevés compteurs EDF'!A9 -> 41282 | B9: ='relevés compteurs EDF'!B10-'relevés compteurs EDF'!B9 -> 100 | C9: ='relevés compteurs EDF'!C10-'relevés compteurs EDF'!C9 -> 150 | D9: ='relevés compteurs EDF'!D10-'relevés compteurs EDF'!D9 -> 200 | E9: ="Sem "&INT((A9-SUM(MOD(DATE(YEAR(A9-MOD(A9-2,7)+3),1,2),{1E+99;7})*{1;-1})+5)/7) -> Sem 2 | F9: ="Mois"&MONTH(A9) -> Mois1
A10: ='relevés compteurs EDF'!A10 -> 41283 | B10: ='relevés compteurs EDF'!B11-'relevés compteurs EDF'!B10 -> 100 | C10: ='relevés compteurs EDF'!C11-'relevés compteurs EDF'!C10 -> 150 | D10: ='relevés compteurs EDF'!D11-'relevés compteurs EDF'!D10 -> 200 | E10: ="Sem "&INT((A10-SUM(MOD(DATE(YEAR(A10-MOD(A10-2,7)+3),1,2),{1E+99;7})*{1;-1})+5)/7) -> Sem 2 | F10: ="Mois"&MONTH(A10) -> Mois1
A11: ='relevés compteurs EDF'!A11 -> 41284 | B11: ='relevés compteurs EDF'!B12-'relevés compteurs EDF'!B11 -> 100 | C11: ='relevés compteurs EDF'!C12-'relevés compteurs EDF'!C11 -> 150 | D11: ='relevés compteurs EDF'!D12-'relevés compteurs EDF'!D11 -> 200 | E11: ="Sem "&INT((A11-SUM(MOD(DATE(YEAR(A11-MOD(A11-2,7)+3),1,2),{1E+99;7})*{1;-1})+5)/7) -> Sem 2 | F11: ="Mois"&MONTH(A11) -> Mois1
A12: ='relevés compteurs EDF'!A12 -> 41285 | B12: ='relevés compteurs EDF'!B13-'relevés compteurs EDF'!B12 -> 100 | C12: ='relevés compteurs EDF'!C13-'relevés compteurs EDF'!C12 -> 150 | D12: ='relevés compteurs EDF'!D13-'relevés compteurs EDF'!D12 -> 200 | E12: ="Sem "&INT((A12-SUM(MOD(DATE(YEAR(A12-MOD(A12-2,7)+3),1,2),{1E+99;7})*{1;-1})+5)/7) -> Sem 2 | F12: ="Mois"&MONTH(A12) -> Mois1
A13: ='relevés compteurs EDF'!A13 -> 41286 | B13: ='relevés compteurs EDF'!B14-'relevés compteurs EDF'!B13 -> 100 | C13: ='relevés compteurs EDF'!C14-'relevés compteurs EDF'!C13 -> 150 | D13: ='relevés compteurs EDF'!D14-'relevés compteurs EDF'!D13 -> 200 | E13: ="Sem "&INT((A13-SUM(MOD(DATE(YEAR(A13-MOD(A13-2,7)+3),1,2),{1E+99;7})*{1;-1})+5)/7) -> Sem 2 | F13: ="Mois"&MONTH(A13) -> Mois1
... A366: ='relevés compteurs EDF'!A366 -> 41639 | B366: ='relevés compteurs EDF'!B367-'relevés compteurs EDF'!B366 -> 100 | C366: ='relevés compteurs EDF'!C367-'relevés compteurs EDF'!C366 -> 150 | D366: ='relevés compteurs EDF'!D367-'relevés compteurs EDF'!D366 -> 200 | E366: ="Sem "&INT((A366-SUM(MOD(DATE(YEAR(A366-MOD(A366-2,7)+3),1,2),{1E+99;7})*{1;-1})+5)/7) -> Sem 1 | F366: ="Mois"&MONTH(A366) -> Mois12

Sheet TCD Conso journalières
D3: Données
A4: N°mois | B4: N°semaine | C4: DATE | D4: Nombre de Relevés machine 1 | E4: Nombre de Relevés machine 2 | F4: Nombre de Relevés machine 3
A5: Janvier | B5: Sem 2 | C5: 40917 | D5: 1 | E5: 1 | F5: 1
C6: 40918 | D6: 1 | E6: 1 | F6: 1
C7: 40919 | D7: 1 | E7: 1 | F7: 1
C8: 40920 | D8: 1 | E8: 1 | F8: 1
C9: 40921 | D9: 1 | E9: 1 | F9: 1
C10: 40922 | D10: 1 | E10: 1 | F10: 1
C11: 40923 | D11: 1 | E11: 1 | F11: 1
B12: Somme Sem 2 | D12: 700 | E12: 1050 | F12: 1400
B13: Moyenne Sem 2 | D13: 100 | E13: 150 | F13: 200
B14: Sem 3 | C14: 40924 | D14: 1 | E14: 1 | F14: 1
C15: 40925 | D15: 1 | E15: 1 | F15: 1
C16: 40926 | D16: 1 | E16: 1 | F16: 1
C17: 40927 | D17: 1 | E17: 1 | F17: 1
C18: 40928 | D18: 1 | E18: 1 | F18: 1
C19: 40929 | D19: 1 | E19: 1 | F19: 1
C20: 40930 | D20: 1 | E20: 1 | F20: 1
B21: Somme Sem 3 | D21: 700 | E21: 1050 | F21: 1400
B22: Moyenne Sem 3 | D22: 100 | E22: 150 | F22: 200
B23: Sem 4 | C23: 40931 | D23: 1 | E23: 1 | F23: 1
C24: 40932 | D24: 1 | E24: 1 | F24: 1
C25: 40933 | D25: 1 | E25: 1 | F25: 1
C26: 40934 | D26: 1 | E26: 1 | F26: 1
C27: 40935 | D27: 1 | E27: 1 | F27: 1
C28: 40936 | D28: 1 | E28: 1 | F28: 1
C29: 40937 | D29: 1 | E29: 1 | F29: 1
B30: Somme Sem 4 | D30: 700 | E30: 1050 | F30: 1400
B31: Moyenne Sem 4 | D31: 100 | E31: 150 | F31: 200
B32: Sem 5 | C32: 40938 | D32: 1 | E32: 1 | F32: 1
C33: 40939 | D33: 1 | E33: 1 | F33: 1
B34: Somme Sem 5 | D34: 200 | E34: 300 | F34: 400
B35: Moyenne Sem 5 | D35: 100 | E35: 150 | F35: 200
B36: Sem 52 | C36: 40909 | D36: 1 | E36: 1 | F36: 1
B37: Somme Sem 52 | D37: 100 | E37: 150 | F37: 200
B38: Moyenne Sem 52 | D38: 100 | E38: 150 | F38: 200
B39: Sem 1 | C39: 40910 | D39: 1 | E39: 1 | F39: 1
C40: 40911 | D40: 1 | E40: 1 | F40: 1
C41: 40912 | D41: 1 | E41: 1 | F41: 1
C42: 40913 | D42: 1 | E42: 1 | F42: 1
C43: 40914 | D43: 1 | E43: 1 | F43: 1
C44: 40915 | D44: 1 | E44: 1 | F44: 1
C45: 40916 | D45: 1 | E45: 1 | F45: 1
B46: Somme Sem 1 | D46: 700 | E46: 1050 | F46: 1400
B47: Moyenne Sem 1 | D47: 100 | E47: 150 | F47: 200
A48: Somme Janvier | D48: 3100 | E48: 4650 | F48: 6200
A49: Moyenne Janvier | D49: 100 | E49: 150 | F49: 200
A50: Février | B50: Sem 5 | C50: 40940 | D50: 1 | E50: 1 | F50: 1
C51: 40941 | D51: 1 | E51: 1 | F51: 1
C52: 40942 | D52: 1 | E52: 1 | F52: 1
C53: 40943 | D53: 1 | E53: 1 | F53: 1
C54: 40944 | D54: 1 | E54: 1 | F54: 1
B55: Somme Sem 5 | D55: 500 | E55: 750 | F55: 1000
B56: Moyenne Sem 5 | D56: 100 | E56: 150 | F56: 200
B57: Sem 6 | C57: 40945 | D57: 1 | E57: 1 | F57: 1
C58: 40946 | D58: 1 | E58: 1 | F58: 1
C59: 40947 | D59: 1 | E59: 1 | F59: 1
C60: 40948 | D60: 1 | E60: 1 | F60: 1
C61: 40949 | D61: 1 | E61: 1 | F61: 1
C62: 40950 | D62: 1 | E62: 1 | F62: 1
C63: 40951 | D63: 1 | E63: 1 | F63: 1
B64: Somme Sem 6 | D64: 700 | E64: 1050 | F64: 1400
B65: Moyenne Sem 6 | D65: 100 | E65: 150 | F65: 200
B66: Sem 7 | C66: 40952 | D66: 1 | E66: 1 | F66: 1
C67: 40953 | D67: 1 | E67: 1 | F67: 1
C68: 40954 | D68: 1 | E68: 1 | F68: 1
C69: 40955 | D69: 1 | E69: 1 | F69: 1
C70: 40956 | D70: 1 | E70: 1 | F70: 1
C71: 40957 | D71: 1 | E71: 1 | F71: 1
C72: 40958 | D72: 1 | E72: 1 | F72: 1
B73: Somme Sem 7 | D73: 700 | E73: 1050 | F73: 1400
B74: Moyenne Sem 7 | D74: 100 | E74: 150 | F74: 200
B75: Sem 8 | C75: 40959 | D75: 1 | E75: 1 | F75: 1
C76: 40960 | D76: 1 | E76: 1 | F76: 1
C77: 40961 | D77: 1 | E77: 1 | F77: 1
C78: 40962 | D78: 1 | E78: 1 | F78: 1
C79: 40963 | D79: 1 | E79: 1 | F79: 1
C80: 40964 | D80: 1 | E80: 1 | F80: 1
C81: 40965 | D81: 1 | E81: 1 | F81: 1
B82: Somme Sem 8 | D82: 700 | E82: 1050 | F82: 1400
B83: Moyenne Sem 8 | D83: 100 | E83: 150 | F83: 200
B84: Sem 9 | C84: 40966 | D84: 1 | E84: 1 | F84: 1
C85: 40967 | D85: 1 | E85: 1 | F85: 1
C86: 40968 | D86: 1 | E86: 1 | F86: 1
B87: Somme Sem 9 | D87: 300 | E87: 450 | F87: 600
B88: Moyenne Sem 9 | D88: 100 | E88: 150 | F88: 200
A89: Somme Février | D89: 2900 | E89: 4350 | F89: 5800
A90: Moyenne Février | D90: 100 | E90: 150 | F90: 200
A91: Mars | B91: Sem 9 | C91: 40969 | D91: 1 | E91: 1 | F91: 1
C92: 40970 | D92: 1 | E92: 1 | F92: 1
C93: 40971 | D93: 1 | E93: 1 | F93: 1
C94: 40972 | D94: 1 | E94: 1 | F94: 1
B95: Somme Sem 9 | D95: 400 | E95: 600 | F95: 800
B96: Moyenne Sem 9 | D96: 100 | E96: 150 | F96: 200
B97: Sem 10 | C97: 40973 | D97: 1 | E97: 1 | F97: 1
C98: 40974 | D98: 1 | E98: 1 | F98: 1
C99: 40975 | D99: 1 | E99: 1 | F99: 1
C100: 40976 | D100: 1 | E100: 1 | F100: 1
C101: 40977 | D101: 1 | E101: 1 | F101: 1
C102: 40978 | D102: 1 | E102: 1 | F102: 1
...
