Workbook

Sheet Feuil1
A1: Méthode | E1: 27/29/36
A2: Longueur max | E2: =SUM($I$8:$I$507)/SUM($G$8:$G$507) -> 6.4
A3: Début de mise | E3: =JB8 -> 0
B7: N° sortis | G7: 27/29/36 | I7: ECART
A8: 1 | B8: =[1]Données!B4 -> 0 | G8: =IF(OR(B8=27,B8=29,B8=36),1,0) -> 0 | I8: {=IF(G8=0,"",MIN(IF(G8:$G$507=1,ROW(G8:$G$507)-7))-MAX(IF(G$7:$G7=1,ROW(G$7:$G7)-7))-1)}
A9: =A8+1 -> 2 | B9: =[1]Données!B5 -> 1 | G9: =IF(OR(B9=27,B9=29,B9=36),1,0) -> 0 | I9: {=IF(G9=0,"",MIN(IF(G9:$G$507=1,ROW(G9:$G$507)-7))-MAX(IF(G$7:$G8=1,ROW(G$7:$G8)-7))-1)}
A10: =A9+1 -> 3 | B10: =[1]Données!B6 -> 2 | G10: =IF(OR(B10=27,B10=29,B10=36),1,0) -> 0 | I10: {=IF(G10=0,"",MIN(IF(G10:$G$507=1,ROW(G10:$G$507)-7))-MAX(IF(G$7:$G9=1,ROW(G$7:$G9)-7))-1)}
A11: =A10+1 -> 4 | B11: =[1]Données!B7 -> 3 | G11: =IF(OR(B11=27,B11=29,B11=36),1,0) -> 0 | I11: {=IF(G11=0,"",MIN(IF(G11:$G$507=1,ROW(G11:$G$507)-7))-MAX(IF(G$7:$G10=1,ROW(G$7:$G10)-7))-1)}
A12: =A11+1 -> 5 | B12: =[1]Données!B8 -> 4 | G12: =IF(OR(B12=27,B12=29,B12=36),1,0) -> 0 | I12: {=IF(G12=0,"",MIN(IF(G12:$G$507=1,ROW(G12:$G$507)-7))-MAX(IF(G$7:$G11=1,ROW(G$7:$G11)-7))-1)}
A13: =A12+1 -> 6 | B13: =[1]Données!B9 -> 5 | G13: =IF(OR(B13=27,B13=29,B13=36),1,0) -> 0 | I13: {=IF(G13=0,"",MIN(IF(G13:$G$507=1,ROW(G13:$G$507)-7))-MAX(IF(G$7:$G12=1,ROW(G$7:$G12)-7))-1)}
A14: =A13+1 -> 7 | B14: =[1]Données!B10 -> 8 | G14: =IF(OR(B14=27,B14=29,B14=36),1,0) -> 0 | I14: {=IF(G14=0,"",MIN(IF(G14:$G$507=1,ROW(G14:$G$507)-7))-MAX(IF(G$7:$G13=1,ROW(G$7:$G13)-7))-1)}
A15: =A14+1 -> 8 | B15: =[1]Données!B11 -> 6 | G15: =IF(OR(B15=27,B15=29,B15=36),1,0) -> 0 | I15: {=IF(G15=0,"",MIN(IF(G15:$G$507=1,ROW(G15:$G$507)-7))-MAX(IF(G$7:$G14=1,ROW(G$7:$G14)-7))-1)}
A16: =A15+1 -> 9 | B16: =[1]Données!B12 -> 13 | G16: =IF(OR(B16=27,B16=29,B16=36),1,0) -> 0 | I16: {=IF(G16=0,"",MIN(IF(G16:$G$507=1,ROW(G16:$G$507)-7))-MAX(IF(G$7:$G15=1,ROW(G$7:$G15)-7))-1)}
A17: =A16+1 -> 10 | B17: =[1]Données!B13 -> 27 | G17: =IF(OR(B17=27,B17=29,B17=36),1,0) -> 1 | I17: {=IF(G17=0,"",MIN(IF(G17:$G$507=1,ROW(G17:$G$507)-7))-MAX(IF(G$7:$G16=1,ROW(G$7:$G16)-7))-1)} -> 9
A18: =A17+1 -> 11 | B18: =[1]Données!B14 -> 36 | G18: =IF(OR(B18=27,B18=29,B18=36),1,0) -> 1 | I18: {=IF(G18=0,"",MIN(IF(G18:$G$507=1,ROW(G18:$G$507)-7))-MAX(IF(G$7:$G17=1,ROW(G$7:$G17)-7))-1)} -> 0
A19: =A18+1 -> 12 | B19: =[1]Données!B15 -> 29 | G19: =IF(OR(B19=27,B19=29,B19=36),1,0) -> 1 | I19: {=IF(G19=0,"",MIN(IF(G19:$G$507=1,ROW(G19:$G$507)-7))-MAX(IF(G$7:$G18=1,ROW(G$7:$G18)-7))-1)} -> 0
A20: =A19+1 -> 13 | B20: =[1]Données!B16 -> 20 | G20: =IF(OR(B20=27,B20=29,B20=36),1,0) -> 0 | I20: {=IF(G20=0,"",MIN(IF(G20:$G$507=1,ROW(G20:$G$507)-7))-MAX(IF(G$7:$G19=1,ROW(G$7:$G19)-7))-1)}
... A44: =A43+1 -> 37 | B44: =[1]Données!B40 -> 29 | G44: =IF(OR(B44=27,B44=29,B44=36),1,0) -> 1 | I44: {=IF(G44=0,"",MIN(IF(G44:$G$507=1,ROW(G44:$G$507)-7))-MAX(IF(G$7:$G43=1,ROW(G$7:$G43)-7))-1)} -> 5
A45: =A44+1 -> 38 | B45: =[2]Données!B41 -> - | G45: =IF(OR(B45=27,B45=29,B45=36),1,0) -> 0 | I45: {=IF(G45=0,"",MIN(IF(G45:$G$507=1,ROW(G45:$G$507)-7))-MAX(IF(G$7:$G44=1,ROW(G$7:$G44)-7))-1)}
A46: =A45+1 -> 39 | B46: =[2]Données!B42 -> - | G46: =IF(OR(B46=27,B46=29,B46=36),1,0) -> 0 | I46: {=IF(G46=0,"",MIN(IF(G46:$G$507=1,ROW(G46:$G$507)-7))-MAX(IF(G$7:$G45=1,ROW(G$7:$G45)-7))-1)}
A47: =A46+1 -> 40 | B47: =[2]Données!B43 -> - | G47: =IF(OR(B47=27,B47=29,B47=36),1,0) -> 0 | I47: {=IF(G47=0,"",MIN(IF(G47:$G$507=1,ROW(G47:$G$507)-7))-MAX(IF(G$7:$G46=1,ROW(G$7:$G46)-7))-1)}
A48: =A47+1 -> 41 | B48: =[2]Données!B44 -> - | G48: =IF(OR(B48=27,B48=29,B48=36),1,0) -> 0 | I48: {=IF(G48=0,"",MIN(IF(G48:$G$507=1,ROW(G48:$G$507)-7))-MAX(IF(G$7:$G47=1,ROW(G$7:$G47)-7))-1)}
A49: =A48+1 -> 42 | B49: =[2]Données!B45 -> - | G49: =IF(OR(B49=27,B49=29,B49=36),1,0) -> 0 | I49: {=IF(G49=0,"",MIN(IF(G49:$G$507=1,ROW(G49:$G$507)-7))-MAX(IF(G$7:$G48=1,ROW(G$7:$G48)-7))-1)}
A50: =A49+1 -> 43 | B50: =[2]Données!B46 -> - | G50: =IF(OR(B50=27,B50=29,B50=36),1,0) -> 0 | I50: {=IF(G50=0,"",MIN(IF(G50:$G$507=1,ROW(G50:$G$507)-7))-MAX(IF(G$7:$G49=1,ROW(G$7:$G49)-7))-1)}
A51: =A50+1 -> 44 | B51: =[2]Données!B47 -> - | G51: =IF(OR(B51=27,B51=29,B51=36),1,0) -> 0 | I51: {=IF(G51=0,"",MIN(IF(G51:$G$507=1,ROW(G51:$G$507)-7))-MAX(IF(G$7:$G50=1,ROW(G$7:$G50)-7))-1)}
A52: =A51+1 -> 45 | B52: =[2]Données!B48 -> - | G52: =IF(OR(B52=27,B52=29,B52=36),1,0) -> 0 | I52: {=IF(G52=0,"",MIN(IF(G52:$G$507=1,ROW(G52:$G$507)-7))-MAX(IF(G$7:$G51=1,ROW(G$7:$G51)-7))-1)}
A53: =A52+1 -> 46 | B53: =[2]Données!B49 -> - | G53: =IF(OR(B53=27,B53=29,B53=36),1,0) -> 0 | I53: {=IF(G53=0,"",MIN(IF(G53:$G$507=1,ROW(G53:$G$507)-7))-MAX(IF(G$7:$G52=1,ROW(G$7:$G52)-7))-1)}
A54: =A53+1 -> 47 | B54: =[2]Données!B50 -> - | G54: =IF(OR(B54=27,B54=29,B54=36),1,0) -> 0 | I54: {=IF(G54=0,"",MIN(IF(G54:$G$507=1,ROW(G54:$G$507)-7))-MAX(IF(G$7:$G53=1,ROW(G$7:$G53)-7))-1)}
A55: =A54+1 -> 48 | B55: =[2]Données!B51 -> - | G55: =IF(OR(B55=27,B55=29,B55=36),1,0) -> 0 | I55: {=IF(G55=0,"",MIN(IF(G55:$G$507=1,ROW(G55:$G$507)-7))-MAX(IF(G$7:$G54=1,ROW(G$7:$G54)-7))-1)}
A56: =A55+1 -> 49 | B56: =[2]Données!B52 -> - | G56: =IF(OR(B56=27,B56=29,B56=36),1,0) -> 0 | I56: {=IF(G56=0,"",MIN(IF(G56:$G$507=1,ROW(G56:$G$507)-7))-MAX(IF(G$7:$G55=1,ROW(G$7:$G55)-7))-1)}
... A507: =A506+1 -> 500 | B507: =[2]Données!B503 -> - | G507: =IF(OR(B507=27,B507=29,B507=36),1,0) -> 0 | I507: {=IF(G507=0,"",MIN(IF(G507:$G$507=1,ROW(G507:$G$507)-7))-MAX(IF(G$7:$G506=1,ROW(G$7:$G506)-7))-1)}
B508: =COUNTIF(B8:B507,"=0") -> 2
B509: =B508+E508+F508 -> 2
B510: =(B508/B509) -> 1

Sheet Feuil2

Sheet Feuil3
