Workbook

Sheet Tableau des points
A1: Phase de poule | I1: PARTICIPANTS
A2: Groupe A | G2: Score Exact | H2: Bon Résultat | I2: Adrien | J2: Amine | K2: Anas | L2: Antoine M. | M2: Arezou | N2: Arnaud T. | O2: Chloé | P2: Dan L. | Q2: David P. | R2: Dom | S2: Dusan | T2: Dylan R. | U2: Fred Moreau | V2: Hamama | W2: Jean-Marie | X2: Jonathan B. | Y2: Jonathan M. | Z2: José | AA2: Julie | AB2: Julien | AC2: Kilian | AD2: Lahcen | AE2: Lucien | AF2: Mikael | AG2: Nazrin | AH2: Patrick F. | AI2: Pierre S. | AJ2: Reda | AK2: Renaud | AL2: Romaric | AM2: Soline | AN2: Timo D. | AO2: Vanessa | AP2: Samy | AQ2: Hypolyte | AR2: Bastien | AS2: Guillaume | AT2: Arthur | AU2: Andrea
A3: 44885 | B3: 0.70833333 | C3: Qatar | D3: 0 | E3: 2 | F3: Equateur | G3: 3 Points | H3: 1 Point | I3: =IF(Adrien!G2="EX",3,IF(Adrien!G2="BN",1,"0")) -> 0 | J3: =IF(Amine!G2="EX",3,IF(Amine!G2="BN",1,"0")) -> 0 | K3: =IF(Anas!G2="EX",3,IF(Anas!G2="BN",1,"0")) -> 0 | L3: =IF(Antoine!G2="EX",3,IF(Antoine!G2="BN",1,"0")) -> 0 | M3: =IF(Arezou!G2="EX",3,IF(Arezou!G2="BN",1,"0")) -> 1 | N3: =IF(Arnaud!$G2="EX",3,IF(Arnaud!$G2="BN",1,"0")) -> 0 | O3: =IF(Chloe!$G2="EX",3,IF(Chloe!$G2="BN",1,"0")) -> 0 | P3: =IF(Dan!$G2="EX",3,IF(Dan!$G2="BN",1,"0")) -> 3 | Q3: =IF(David!$G2="EX",3,IF(David!$G2="BN",1,"0")) -> 0 | R3: =IF(Dom!$G2="EX",3,IF(Dom!$G2="BN",1,"0")) -> 0 | S3: =IF(Dusan!$G2="EX",3,IF(Dusan!$G2="BN",1,"0")) -> 1 | T3: =IF(Dylan!$G2="EX",3,IF(Dylan!$G2="BN",1,"0")) -> 1 | U3: =IF(Fred!$G2="EX",3,IF(Fred!$G2="BN",1,"0")) -> 1 | V3: =IF(Hamama!$G2="EX",3,IF(Hamama!$G2="BN",1,"0")) -> 1 | W3: =IF('Jean Marie'!G2="EX",3,IF('Jean Marie'!G2="BN",1,"0")) -> 0 | X3: =IF('Jonathan B'!G2="EX",3,IF('Jonathan B'!$G2="BN",1,"0")) -> 1 | Y3: =IF('Jonathan M'!G2="EX",3,IF('Jonathan M'!$G2="BN",1,"0")) -> 0 | Z3: =IF(José!$G2="EX",3,IF(José!$G2="BN",1,"0")) -> 0 | AA3: =IF(Julie!$G2="EX",3,IF(Julie!$G2="BN",1,"0")) -> 3 | AB3: =IF(Julien!$G2="EX",3,IF(Julien!$G2="BN",1,"0")) -> 0 | AC3: =IF(Killian!$G2="EX",3,IF(Killian!$G2="BN",1,"0")) -> 0 | AD3: =IF(Lahcen!$G2="EX",3,IF(Lahcen!$G2="BN",1,"0")) -> 1 | AE3: =IF(Lucien!$G2="EX",3,IF(Lucien!$G2="BN",1,"0")) -> 1 | AF3: =IF(Mickael!$G2="EX",3,IF(Mickael!$G2="BN",1,"0")) -> 1 | AG3: =IF(Nazrin!$G2="EX",3,IF(Nazrin!$G2="BN",1,"0")) -> 0 | AH3: =IF('Patrick F'!$G2="EX",3,IF('Patrick F'!$G2="BN",1,"0")) -> 3 | AI3: =IF('Pierre S'!$G2="EX",3,IF('Pierre S'!$G2="BN",1,"0")) -> 0 | AJ3: =IF(Reda!$G2="EX",3,IF(Reda!$G2="BN",1,"0")) -> 0 | AK3: =IF(Renaud!$G2="EX",3,IF(Renaud!$G2="BN",1,"0")) -> 0 | AL3: =IF(Romaric!$G2="EX",3,IF(Romaric!$G2="BN",1,"0")) -> 0 | AM3: =IF(Soline!$G2="EX",3,IF(Soline!$G2="BN",1,"0")) -> 0 | AN3: =IF(Timo!$G2="EX",3,IF(Timo!$G2="BN",1,"0")) -> 3 | AO3: =IF(Vanessa!$G2="EX",3,IF(Vanessa!$G2="BN",1,"0")) -> 3 | AP3: =IF(Samy!G2="EX",3,IF(Samy!G2="BN",1,"0")) -> 1 | AQ3: =IF(Hypo!G2="EX",3,IF(Hypo!G2="BN",1,"0")) -> 1 | AR3: =IF(Bastien!G2="EX",3,IF(Bastien!G2="BN",1,"0")) -> 1 | AS3: =IF(Guillaume!G2="EX",3,IF(Guillaume!G2="BN",1,"0")) -> 1 | AT3: =IF(Arthur!G2="EX",3,IF(Arthur!G2="BN",1,"0")) -> 3 | AU3: =IF(Andrea!G2="EX",3,IF(Andrea!G2="BN",1,"0")) -> 0
A4: 44886 | B4: 0.70833333 | C4: Sénégal | D4: 0 | E4: 2 | F4: Pays-Bas | I4: =IF(Adrien!G3="EX",3,IF(Adrien!G3="BN",1,"0")) -> 0 | J4: =IF(Amine!G3="EX",3,IF(Amine!G3="BN",1,"0")) -> 1 | K4: =IF(Anas!G3="EX",3,IF(Anas!G3="BN",1,"0")) -> 3 | L4: =IF(Antoine!G3="EX",3,IF(Antoine!G3="BN",1,"0")) -> 0 | M4: =IF(Arezou!G3="EX",3,IF(Arezou!G3="BN",1,"0")) -> 3 | N4: =IF(Arnaud!$G3="EX",3,IF(Arnaud!$G3="BN",1,"0")) -> 0 | O4: =IF(Chloe!$G3="EX",3,IF(Chloe!$G3="BN",1,"0")) -> 3 | P4: =IF(Dan!$G3="EX",3,IF(Dan!$G3="BN",1,"0")) -> 1 | Q4: =IF(David!$G3="EX",3,IF(David!$G3="BN",1,"0")) -> 1 | R4: =IF(Dom!$G3="EX",3,IF(Dom!$G3="BN",1,"0")) -> 3 | S4: =IF(Dusan!$G3="EX",3,IF(Dusan!$G3="BN",1,"0")) -> 3 | T4: =IF(Dylan!$G3="EX",3,IF(Dylan!$G3="BN",1,"0")) -> 1 | U4: =IF(Fred!$G3="EX",3,IF(Fred!$G3="BN",1,"0")) -> 1 | V4: =IF(Hamama!$G3="EX",3,IF(Hamama!$G3="BN",1,"0")) -> 0 | W4: =IF('Jean Marie'!G3="EX",3,IF('Jean Marie'!G3="BN",1,"0")) -> 1 | X4: =IF('Jonathan B'!G3="EX",3,IF('Jonathan B'!$G3="BN",1,"0")) -> 1 | Y4: =IF('Jonathan M'!G3="EX",3,IF('Jonathan M'!$G3="BN",1,"0")) -> 3 | Z4: =IF(José!$G3="EX",3,IF(José!$G3="BN",1,"0")) -> 0 | AA4: =IF(Julie!$G3="EX",3,IF(Julie!$G3="BN",1,"0")) -> 1 | AB4: =IF(Julien!$G3="EX",3,IF(Julien!$G3="BN",1,"0")) -> 1 | AC4: =IF(Killian!$G3="EX",3,IF(Killian!$G3="BN",1,"0")) -> 0 | AD4: =IF(Lahcen!$G3="EX",3,IF(Lahcen!$G3="BN",1,"0")) -> 1 | AE4: =IF(Lucien!$G3="EX",3,IF(Lucien!$G3="BN",1,"0")) -> 1 | AF4: =IF(Mickael!$G3="EX",3,IF(Mickael!$G3="BN",1,"0")) -> 0 | AG4: =IF(Nazrin!$G3="EX",3,IF(Nazrin!$G3="BN",1,"0")) -> 1 | AH4: =IF('Patrick F'!$G3="EX",3,IF('Patrick F'!$G3="BN",1,"0")) -> 0 | AI4: =IF('Pierre S'!$G3="EX",3,IF('Pierre S'!$G3="BN",1,"0")) -> 1 | AJ4: =IF(Reda!$G3="EX",3,IF(Reda!$G3="BN",1,"0")) -> 1 | AK4: =IF(Renaud!$G3="EX",3,IF(Renaud!$G3="BN",1,"0")) -> 1 | AL4: =IF(Romaric!$G3="EX",3,IF(Romaric!$G3="BN",1,"0")) -> 0 | AM4: =IF(Soline!$G3="EX",3,IF(Soline!$G3="BN",1,"0")) -> 1 | AN4: =IF(Timo!$G3="EX",3,IF(Timo!$G3="BN",1,"0")) -> 1 | AO4: =IF(Vanessa!$G3="EX",3,IF(Vanessa!$G3="BN",1,"0")) -> 0 | AP4: =IF(Samy!G3="EX",3,IF(Samy!G3="BN",1,"0")) -> 3 | AQ4: =IF(Hypo!G3="EX",3,IF(Hypo!G3="BN",1,"0")) -> 0 | AR4: =IF(Bastien!G3="EX",3,IF(Bastien!G3="BN",1,"0")) -> 1 | AS4: =IF(Guillaume!G3="EX",3,IF(Guillaume!G3="BN",1,"0")) -> 1 | AT4: =IF(Arthur!G3="EX",3,IF(Arthur!G3="BN",1,"0")) -> 1 | AU4: =IF(Andrea!G3="EX",3,IF(Andrea!G3="BN",1,"0")) -> 3
A5: 44890 | B5: 0.58333333 | C5: =C3 -> Qatar | F5: =C4 -> Sénégal | I5: =IF(Adrien!G4="EX",3,IF(Adrien!G4="BN",1,"0")) -> 0 | J5: =IF(Amine!G4="EX",3,IF(Amine!G4="BN",1,"0")) -> 0 | K5: =IF(Anas!G4="EX",3,IF(Anas!G4="BN",1,"0")) -> 0 | L5: =IF(Antoine!G4="EX",3,IF(Antoine!G4="BN",1,"0")) -> 0 | M5: =IF(Arezou!G4="EX",3,IF(Arezou!G4="BN",1,"0")) -> 0 | N5: =IF(Arnaud!$G4="EX",3,IF(Arnaud!$G4="BN",1,"0")) -> 0 | O5: =IF(Chloe!$G4="EX",3,IF(Chloe!$G4="BN",1,"0")) -> 0 | P5: =IF(Dan!$G4="EX",3,IF(Dan!$G4="BN",1,"0")) -> 0 | Q5: =IF(David!$G4="EX",3,IF(David!$G4="BN",1,"0")) -> 0 | R5: =IF(Dom!$G4="EX",3,IF(Dom!$G4="BN",1,"0")) -> 0 | S5: =IF(Dusan!$G4="EX",3,IF(Dusan!$G4="BN",1,"0")) -> 0 | T5: =IF(Dylan!$G4="EX",3,IF(Dylan!$G4="BN",1,"0")) -> 0 | U5: =IF(Fred!$G4="EX",3,IF(Fred!$G4="BN",1,"0")) -> 0 | V5: =IF(Hamama!$G4="EX",3,IF(Hamama!$G4="BN",1,"0")) -> 0 | W5: =IF('Jean Marie'!G4="EX",3,IF('Jean Marie'!G4="BN",1,"0")) -> 0 | X5: =IF('Jonathan B'!G4="EX",3,IF('Jonathan B'!$G4="BN",1,"0")) -> 0 | Y5: =IF('Jonathan M'!G4="EX",3,IF('Jonathan M'!$G4="BN",1,"0")) -> 0 | Z5: =IF(José!$G4="EX",3,IF(José!$G4="BN",1,"0")) -> 0 | AA5: =IF(Julie!$G4="EX",3,IF(Julie!$G4="BN",1,"0")) -> 0 | AB5: =IF(Julien!$G4="EX",3,IF(Julien!$G4="BN",1,"0")) -> 0 | AC5: =IF(Killian!$G4="EX",3,IF(Killian!$G4="BN",1,"0")) -> 0 | AD5: =IF(Lahcen!$G4="EX",3,IF(Lahcen!$G4="BN",1,"0")) -> 0 | AE5: =IF(Lucien!$G4="EX",3,IF(Lucien!$G4="BN",1,"0")) -> 0 | AF5: =IF(Mickael!$G4="EX",3,IF(Mickael!$G4="BN",1,"0")) -> 0 | AG5: =IF(Nazrin!$G4="EX",3,IF(Nazrin!$G4="BN",1,"0")) -> 0 | AH5: =IF('Patrick F'!$G4="EX",3,IF('Patrick F'!$G4="BN",1,"0")) -> 0 | AI5: =IF('Pierre S'!$G4="EX",3,IF('Pierre S'!$G4="BN",1,"0")) -> 0 | AJ5: =IF(Reda!$G4="EX",3,IF(Reda!$G4="BN",1,"0")) -> 0 | AK5: =IF(Renaud!$G4="EX",3,IF(Renaud!$G4="BN",1,"0")) -> 0 | AL5: =IF(Romaric!$G4="EX",3,IF(Romaric!$G4="BN",1,"0")) -> 0 | AM5: =IF(Soline!$G4="EX",3,IF(Soline!$G4="BN",1,"0")) -> 0 | AN5: =IF(Timo!$G4="EX",3,IF(Timo!$G4="BN",1,"0")) -> 0 | AO5: =IF(Vanessa!$G4="EX",3,IF(Vanessa!$G4="BN",1,"0")) -> 0 | AP5: =IF(Samy!G4="EX",3,IF(Samy!G4="BN",1,"0")) -> 0 | AQ5: =IF(Hypo!G4="EX",3,IF(Hypo!G4="BN",1,"0")) -> 0 | AR5: =IF(Bastien!G4="EX",3,IF(Bastien!G4="BN",1,"0")) -> 0 | AS5: =IF(Guillaume!G4="EX",3,IF(Guillaume!G4="BN",1,"0")) -> 0 | AT5: =IF(Arthur!G4="EX",3,IF(Arthur!G4="BN",1,"0")) -> 0 | AU5: =IF(Andrea!G4="EX",3,IF(Andrea!G4="BN",1,"0")) -> 0
A6: 44890 | B6: 0.70833333 | C6: =F4 -> Pays-Bas | F6: =F3 -> Equateur | I6: =IF(Adrien!G5="EX",3,IF(Adrien!G5="BN",1,"0")) -> 0 | J6: =IF(Amine!G5="EX",3,IF(Amine!G5="BN",1,"0")) -> 0 | K6: =IF(Anas!G5="EX",3,IF(Anas!G5="BN",1,"0")) -> 0 | L6: =IF(Antoine!G5="EX",3,IF(Antoine!G5="BN",1,"0")) -> 0 | M6: =IF(Arezou!G5="EX",3,IF(Arezou!G5="BN",1,"0")) -> 0 | N6: =IF(Arnaud!$G5="EX",3,IF(Arnaud!$G5="BN",1,"0")) -> 0 | O6: =IF(Chloe!$G5="EX",3,IF(Chloe!$G5="BN",1,"0")) -> 0 | P6: =IF(Dan!$G5="EX",3,IF(Dan!$G5="BN",1,"0")) -> 0 | Q6: =IF(David!$G5="EX",3,IF(David!$G5="BN",1,"0")) -> 0 | R6: =IF(Dom!$G5="EX",3,IF(Dom!$G5="BN",1,"0")) -> 0 | S6: =IF(Dusan!$G5="EX",3,IF(Dusan!$G5="BN",1,"0")) -> 0 | T6: =IF(Dylan!$G5="EX",3,IF(Dylan!$G5="BN",1,"0")) -> 0 | U6: =IF(Fred!$G5="EX",3,IF(Fred!$G5="BN",1,"0")) -> 0 | V6: =IF(Hamama!$G5="EX",3,IF(Hamama!$G5="BN",1,"0")) -> 0 | W6: =IF('Jean Marie'!G5="EX",3,IF('Jean Marie'!G5="BN",1,"0")) -> 0 | X6: =IF('Jonathan B'!G5="EX",3,IF('Jonathan B'!$G5="BN",1,"0")) -> 0 | Y6: =IF('Jonathan M'!G5="EX",3,IF('Jonathan M'!$G5="BN",1,"0")) -> 0 | Z6: =IF(José!$G5="EX",3,IF(José!$G5="BN",1,"0")) -> 0 | AA6: =IF(Julie!$G5="EX",3,IF(Julie!$G5="BN",1,"0")) -> 0 | AB6: =IF(Julien!$G5="EX",3,IF(Julien!$G5="BN",1,"0")) -> 0 | AC6: =IF(Killian!$G5="EX",3,IF(Killian!$G5="BN",1,"0")) -> 0 | AD6: =IF(Lahcen!$G5="EX",3,IF(Lahcen!$G5="BN",1,"0")) -> 0 | AE6: =IF(Lucien!$G5="EX",3,IF(Lucien!$G5="BN",1,"0")) -> 0 | AF6: =IF(Mickael!$G5="EX",3,IF(Mickael!$G5="BN",1,"0")) -> 0 | AG6: =IF(Nazrin!$G5="EX",3,IF(Nazrin!$G5="BN",1,"0")) -> 0 | AH6: =IF('Patrick F'!$G5="EX",3,IF('Patrick F'!$G5="BN",1,"0")) -> 0 | AI6: =IF('Pierre S'!$G5="EX",3,IF('Pierre S'!$G5="BN",1,"0")) -> 0 | AJ6: =IF(Reda!$G5="EX",3,IF(Reda!$G5="BN",1,"0")) -> 0 | AK6: =IF(Renaud!$G5="EX",3,IF(Renaud!$G5="BN",1,"0")) -> 0 | AL6: =IF(Romaric!$G5="EX",3,IF(Romaric!$G5="BN",1,"0")) -> 0 | AM6: =IF(Soline!$G5="EX",3,IF(Soline!$G5="BN",1,"0")) -> 0 | AN6: =IF(Timo!$G5="EX",3,IF(Timo!$G5="BN",1,"0")) -> 0 | AO6: =IF(Vanessa!$G5="EX",3,IF(Vanessa!$G5="BN",1,"0")) -> 0 | AP6: =IF(Samy!G5="EX",3,IF(Samy!G5="BN",1,"0")) -> 0 | AQ6: =IF(Hypo!G5="EX",3,IF(Hypo!G5="BN",1,"0")) -> 0 | AR6: =IF(Bastien!G5="EX",3,IF(Bastien!G5="BN",1,"0")) -> 0 | AS6: =IF(Guillaume!G5="EX",3,IF(Guillaume!G5="BN",1,"0")) -> 0 | AT6: =IF(Arthur!G5="EX",3,IF(Arthur!G5="BN",1,"0")) -> 0 | AU6: =IF(Andrea!G5="EX",3,IF(Andrea!G5="BN",1,"0")) -> 0
A7: 44894 | B7: 0.66666667 | C7: =F4 -> Pays-Bas | F7: =C3 -> Qatar | I7: =IF(Adrien!G6="EX",3,IF(Adrien!G6="BN",1,"0")) -> 0 | J7: =IF(Amine!G6="EX",3,IF(Amine!G6="BN",1,"0")) -> 0 | K7: =IF(Anas!G6="EX",3,IF(Anas!G6="BN",1,"0")) -> 0 | L7: =IF(Antoine!G6="EX",3,IF(Antoine!G6="BN",1,"0")) -> 0 | M7: =IF(Arezou!G6="EX",3,IF(Arezou!G6="BN",1,"0")) -> 0 | N7: =IF(Arnaud!$G6="EX",3,IF(Arnaud!$G6="BN",1,"0")) -> 0 | O7: =IF(Chloe!$G6="EX",3,IF(Chloe!$G6="BN",1,"0")) -> 0 | P7: =IF(Dan!$G6="EX",3,IF(Dan!$G6="BN",1,"0")) -> 0 | Q7: =IF(David!$G6="EX",3,IF(David!$G6="BN",1,"0")) -> 0 | R7: =IF(Dom!$G6="EX",3,IF(Dom!$G6="BN",1,"0")) -> 0 | S7: =IF(Dusan!$G6="EX",3,IF(Dusan!$G6="BN",1,"0")) -> 0 | T7: =IF(Dylan!$G6="EX",3,IF(Dylan!$G6="BN",1,"0")) -> 0 | U7: =IF(Fred!$G6="EX",3,IF(Fred!$G6="BN",1,"0")) -> 0 | V7: =IF(Hamama!$G6="EX",3,IF(Hamama!$G6="BN",1,"0")) -> 0 | W7: =IF('Jean Marie'!G6="EX",3,IF('Jean Marie'!G6="BN",1,"0")) -> 0 | X7: =IF('Jonathan B'!G6="EX",3,IF('Jonathan B'!$G6="BN",1,"0")) -> 0 | Y7: =IF('Jonathan M'!G6="EX",3,IF('Jonathan M'!$G6="BN",1,"0")) -> 0 | Z7: =IF(José!$G6="EX",3,IF(José!$G6="BN",1,"0")) -> 0 | AA7: =IF(Julie!$G6="EX",3,IF(Julie!$G6="BN",1,"0")) -> 0 | AB7: =IF(Julien!$G6="EX",3,IF(Julien!$G6="BN",1,"0")) -> 0 | AC7: =IF(Killian!$G6="EX",3,IF(Killian!$G6="BN",1,"0")) -> 0 | AD7: =IF(Lahcen!$G6="EX",3,IF(Lahcen!$G6="BN",1,"0")) -> 0 | AE7: =IF(Lucien!$G6="EX",3,IF(Lucien!$G6="BN",1,"0")) -> 0 | AF7: =IF(Mickael!$G6="EX",3,IF(Mickael!$G6="BN",1,"0")) -> 0 | AG7: =IF(Nazrin!$G6="EX",3,IF(Nazrin!$G6="BN",1,"0")) -> 0 | AH7: =IF('Patrick F'!$G6="EX",3,IF('Patrick F'!$G6="BN",1,"0")) -> 0 | AI7: =IF('Pierre S'!$G6="EX",3,IF('Pierre S'!$G6="BN",1,"0")) -> 0 | AJ7: =IF(Reda!$G6="EX",3,IF(Reda!$G6="BN",1,"0")) -> 0 | AK7: =IF(Renaud!$G6="EX",3,IF(Renaud!$G6="BN",1,"0")) -> 0 | AL7: =IF(Romaric!$G6="EX",3,IF(Romaric!$G6="BN",1,"0")) -> 0 | AM7: =IF(Soline!$G6="EX",3,IF(Soline!$G6="BN",1,"0")) -> 0 | AN7: =IF(Timo!$G6="EX",3,IF(Timo!$G6="BN",1,"0")) -> 0 | AO7: =IF(Vanessa!$G6="EX",3,IF(Vanessa!$G6="BN",1,"0")) -> 0 | AP7: =IF(Samy!G6="EX",3,IF(Samy!G6="BN",1,"0")) -> 0 | AQ7: =IF(Hypo!G6="EX",3,IF(Hypo!G6="BN",1,"0")) -> 0 | AR7: =IF(Bastien!G6="EX",3,IF(Bastien!G6="BN",1,"0")) -> 0 | AS7: =IF(Guillaume!G6="EX",3,IF(Guillaume!G6="BN",1,"0")) -> 0 | AT7: =IF(Arthur!G6="EX",3,IF(Arthur!G6="BN",1,"0")) -> 0 | AU7: =IF(Andrea!G6="EX",3,IF(Andrea!G6="BN",1,"0")) -> 0
A8: 44894 | B8: 0.66666667 | C8: =F3 -> Equateur | F8: =C4 -> Sénégal | I8: =IF(Adrien!G7="EX",3,IF(Adrien!G7="BN",1,"0")) -> 0 | J8: =IF(Amine!G7="EX",3,IF(Amine!G7="BN",1,"0")) -> 0 | K8: =IF(Anas!G7="EX",3,IF(Anas!G7="BN",1,"0")) -> 0 | L8: =IF(Antoine!G7="EX",3,IF(Antoine!G7="BN",1,"0")) -> 0 | M8: =IF(Arezou!G7="EX",3,IF(Arezou!G7="BN",1,"0")) -> 0 | N8: =IF(Arnaud!$G7="EX",3,IF(Arnaud!$G7="BN",1,"0")) -> 0 | O8: =IF(Chloe!$G7="EX",3,IF(Chloe!$G7="BN",1,"0")) -> 0 | P8: =IF(Dan!$G7="EX",3,IF(Dan!$G7="BN",1,"0")) -> 0 | Q8: =IF(David!$G7="EX",3,IF(David!$G7="BN",1,"0")) -> 0 | R8: =IF(Dom!$G7="EX",3,IF(Dom!$G7="BN",1,"0")) -> 0 | S8: =IF(Dusan!$G7="EX",3,IF(Dusan!$G7="BN",1,"0")) -> 0 | T8: =IF(Dylan!$G7="EX",3,IF(Dylan!$G7="BN",1,"0")) -> 0 | U8: =IF(Fred!$G7="EX",3,IF(Fred!$G7="BN",1,"0")) -> 0 | V8: =IF(Hamama!$G7="EX",3,IF(Hamama!$G7="BN",1,"0")) -> 0 | W8: =IF('Jean Marie'!G7="EX",3,IF('Jean Marie'!G7="BN",1,"0")) -> 0 | X8: =IF('Jonathan B'!G7="EX",3,IF('Jonathan B'!$G7="BN",1,"0")) -> 0 | Y8: =IF('Jonathan M'!G7="EX",3,IF('Jonathan M'!$G7="BN",1,"0")) -> 0 | Z8: =IF(José!$G7="EX",3,IF(José!$G7="BN",1,"0")) -> 0 | AA8: =IF(Julie!$G7="EX",3,IF(Julie!$G7="BN",1,"0")) -> 0 | AB8: =IF(Julien!$G7="EX",3,IF(Julien!$G7="BN",1,"0")) -> 0 | AC8: =IF(Killian!$G7="EX",3,IF(Killian!$G7="BN",1,"0")) -> 0 | AD8: =IF(Lahcen!$G7="EX",3,IF(Lahcen!$G7="BN",1,"0")) -> 0 | AE8: =IF(Lucien!$G7="EX",3,IF(Lucien!$G7="BN",1,"0")) -> 0 | AF8: =IF(Mickael!$G7="EX",3,IF(Mickael!$G7="BN",1,"0")) -> 0 | AG8: =IF(Nazrin!$G7="EX",3,IF(Nazrin!$G7="BN",1,"0")) -> 0 | AH8: =IF('Patrick F'!$G7="EX",3,IF('Patrick F'!$G7="BN",1,"0")) -> 0 | AI8: =IF('Pierre S'!$G7="EX",3,IF('Pierre S'!$G7="BN",1,"0")) -> 0 | AJ8: =IF(Reda!$G7="EX",3,IF(Reda!$G7="BN",1,"0")) -> 0 | AK8: =IF(Renaud!$G7="EX",3,IF(Renaud!$G7="BN",1,"0")) -> 0 | AL8: =IF(Romaric!$G7="EX",3,IF(Romaric!$G7="BN",1,"0")) -> 0 | AM8: =IF(Soline!$G7="EX",3,IF(Soline!$G7="BN",1,"0")) -> 0 | AN8: =IF(Timo!$G7="EX",3,IF(Timo!$G7="BN",1,"0")) -> 0 | AO8: =IF(Vanessa!$G7="EX",3,IF(Vanessa!$G7="BN",1,"0")) -> 0 | AP8: =IF(Samy!G7="EX",3,IF(Samy!G7="BN",1,"0")) -> 0 | AQ8: =IF(Hypo!G7="EX",3,IF(Hypo!G7="BN",1,"0")) -> 0 | AR8: =IF(Bastien!G7="EX",3,IF(Bastien!G7="BN",1,"0")) -> 0 | AS8: =IF(Guillaume!G7="EX",3,IF(Guillaume!G7="BN",1,"0")) -> 0 | AT8: =IF(Arthur!G7="EX",3,IF(Arthur!G7="BN",1,"0")) -> 0 | AU8: =IF(Andrea!G7="EX",3,IF(Andrea!G7="BN",1,"0")) -> 0
I9: =IF(Adrien!G8="EX",3,IF(Adrien!G8="BN",1,"0")) -> 0 | J9: =IF(Amine!G8="EX",3,IF(Amine!G8="BN",1,"0")) -> 0 | K9: =IF(Anas!G8="EX",3,IF(Anas!G8="BN",1,"0")) -> 0 | L9: =IF(Antoine!G8="EX",3,IF(Antoine!G8="BN",1,"0")) -> 0 | M9: =IF(Arezou!G8="EX",3,IF(Arezou!G8="BN",1,"0")) -> 0 | N9: =IF(Arnaud!$G8="EX",3,IF(Arnaud!$G8="BN",1,"0")) -> 0 | O9: =IF(Chloe!$G8="EX",3,IF(Chloe!$G8="BN",1,"0")) -> 0 | P9: =IF(Dan!$G8="EX",3,IF(Dan!$G8="BN",1,"0")) -> 0 | Q9: =IF(David!$G8="EX",3,IF(David!$G8="BN",1,"0")) -> 0 | R9: =IF(Dom!$G8="EX",3,IF(Dom!$G8="BN",1,"0")) -> 0 | S9: =IF(Dusan!$G8="EX",3,IF(Dusan!$G8="BN",1,"0")) -> 0 | T9: =IF(Dylan!$G8="EX",3,IF(Dylan!$G8="BN",1,"0")) -> 0 | U9: =IF(Fred!$G8="EX",3,IF(Fred!$G8="BN",1,"0")) -> 0 | V9: =IF(Hamama!$G8="EX",3,IF(Hamama!$G8="BN",1,"0")) -> 0 | W9: =IF('Jean Marie'!G8="EX",3,IF('Jean Marie'!G8="BN",1,"0")) -> 0 | X9: =IF('Jonathan B'!G8="EX",3,IF('Jonathan B'!$G8="BN",1,"0")) -> 0 | Y9: =IF('Jonathan M'!G8="EX",3,IF('Jonathan M'!$G8="BN",1,"0")) -> 0 | Z9: =IF(José!$G8="EX",3,IF(José!$G8="BN",1,"0")) -> 0 | AA9: =IF(Julie!$G8="EX",3,IF(Julie!$G8="BN",1,"0")) -> 0 | AB9: =IF(Julien!$G8="EX",3,IF(Julien!$G8="BN",1,"0")) -> 0 | AC9: =IF(Killian!$G8="EX",3,IF(Killian!$G8="BN",1,"0")) -> 0 | AD9: =IF(Lahcen!$G8="EX",3,IF(Lahcen!$G8="BN",1,"0")) -> 0 | AE9: =IF(Lucien!$G8="EX",3,IF(Lucien!$G8="BN",1,"0")) -> 0 | AF9: =IF(Mickael!$G8="EX",3,IF(Mickael!$G8="BN",1,"0")) -> 0 | AG9: =IF(Nazrin!$G8="EX",3,IF(Nazrin!$G8="BN",1,"0")) -> 0 | AH9: =IF('Patrick F'!$G8="EX",3,IF('Patrick F'!$G8="BN",1,"0")) -> 0 | AI9: =IF('Pierre S'!$G8="EX",3,IF('Pierre S'!$G8="BN",1,"0")) -> 0 | AJ9: =IF(Reda!$G8="EX",3,IF(Reda!$G8="BN",1,"0")) -> 0 | AK9: =IF(Renaud!$G8="EX",3,IF(Renaud!$G8="BN",1,"0")) -> 0 | AL9: =IF(Romaric!$G8="EX",3,IF(Romaric!$G8="BN",1,"0")) -> 0 | AM9: =IF(Soline!$G8="EX",3,IF(Soline!$G8="BN",1,"0")) -> 0 | AN9: =IF(Timo!$G8="EX",3,IF(Timo!$G8="BN",1,"0")) -> 0 | AO9: =IF(Vanessa!$G8="EX",3,IF(Vanessa!$G8="BN",1,"0")) -> 0 | AP9: =IF(Samy!G8="EX",3,IF(Samy!G8="BN",1,"0")) -> 0 | AQ9: =IF(Hypo!G8="EX",3,IF(Hypo!G8="BN",1,"0")) -> 0 | AR9: =IF(Bastien!G8="EX",3,IF(Bastien!G8="BN",1,"0")) -> 0 | AS9: =IF(Guillaume!G8="EX",3,IF(Guillaume!G8="BN",1,"0")) -> 0 | AT9: =IF(Arthur!G8="EX",3,IF(Arthur!G8="BN",1,"0")) -> 0 | AU9: =IF(Andrea!G8="EX",3,IF(Andrea!G8="BN",1,"0")) -> 0
A10: Groupe B | I10: =IF(Adrien!G9="EX",3,IF(Adrien!G9="BN",1,"0")) -> 0 | J10: =IF(Amine!G9="EX",3,IF(Amine!G9="BN",1,"0")) -> 0 | K10: =IF(Anas!G9="EX",3,IF(Anas!G9="BN",1,"0")) -> 0 | L10: =IF(Antoine!G9="EX",3,IF(Antoine!G9="BN",1,"0")) -> 0 | M10: =IF(Arezou!G9="EX",3,IF(Arezou!G9="BN",1,"0")) -> 0 | N10: =IF(Arnaud!$G9="EX",3,IF(Arnaud!$G9="BN",1,"0")) -> 0 | O10: =IF(Chloe!$G9="EX",3,IF(Chloe!$G9="BN",1,"0")) -> 0 | P10: =IF(Dan!$G9="EX",3,IF(Dan!$G9="BN",1,"0")) -> 0 | Q10: =IF(David!$G9="EX",3,IF(David!$G9="BN",1,"0")) -> 0 | R10: =IF(Dom!$G9="EX",3,IF(Dom!$G9="BN",1,"0")) -> 0 | S10: =IF(Dusan!$G9="EX",3,IF(Dusan!$G9="BN",1,"0")) -> 0 | T10: =IF(Dylan!$G9="EX",3,IF(Dylan!$G9="BN",1,"0")) -> 0 | U10: =IF(Fred!$G9="EX",3,IF(Fred!$G9="BN",1,"0")) -> 0 | V10: =IF(Hamama!$G9="EX",3,IF(Hamama!$G9="BN",1,"0")) -> 0 | W10: =IF('Jean Marie'!G9="EX",3,IF('Jean Marie'!G9="BN",1,"0")) -> 0 | X10: =IF('Jonathan B'!G9="EX",3,IF('Jonathan B'!$G9="BN",1,"0")) -> 0 | Y10: =IF('Jonathan M'!G9="EX",3,IF('Jonathan M'!$G9="BN",1,"0")) -> 0 | Z10: =IF(José!$G9="EX",3,IF(José!$G9="BN",1,"0")) -> 0 | AA10: =IF(Julie!$G9="EX",3,IF(Julie!$G9="BN",1,"0")) -> 0 | AB10: =IF(Julien!$G9="EX",3,IF(Julien!$G9="BN",1,"0")) -> 0 | AC10: =IF(Killian!$G9="EX",3,IF(Killian!$G9="BN",1,"0")) -> 0 | AD10: =IF(Lahcen!$G9="EX",3,IF(Lahcen!$G9="BN",1,"0")) -> 0 | AE10: =IF(Lucien!$G9="EX",3,IF(Lucien!$G9="BN",1,"0")) -> 0 | AF10: =IF(Mickael!$G9="EX",3,IF(Mickael!$G9="BN",1,"0")) -> 0 | AG10: =IF(Nazrin!$G9="EX",3,IF(Nazrin!$G9="BN",1,"0")) -> 0 | AH10: =IF('Patrick F'!$G9="EX",3,IF('Patrick F'!$G9="BN",1,"0")) -> 0 | AI10: =IF('Pierre S'!$G9="EX",3,IF('Pierre S'!$G9="BN",1,"0")) -> 0 | AJ10: =IF(Reda!$G9="EX",3,IF(Reda!$G9="BN",1,"0")) -> 0 | AK10: =IF(Renaud!$G9="EX",3,IF(Renaud!$G9="BN",1,"0")) -> 0 | AL10: =IF(Romaric!$G9="EX",3,IF(Romaric!$G9="BN",1,"0")) -> 0 | AM10: =IF(Soline!$G9="EX",3,IF(Soline!$G9="BN",1,"0")) -> 0 | AN10: =IF(Timo!$G9="EX",3,IF(Timo!$G9="BN",1,"0")) -> 0 | AO10: =IF(Vanessa!$G9="EX",3,IF(Vanessa!$G9="BN",1,"0")) -> 0 | AP10: =IF(Samy!G9="EX",3,IF(Samy!G9="BN",1,"0")) -> 1 | AQ10: =IF(Hypo!G9="EX",3,IF(Hypo!G9="BN",1,"0")) -> 1 | AR10: =IF(Bastien!G9="EX",3,IF(Bastien!G9="BN",1,"0")) -> 1 | AS10: =IF(Guillaume!G9="EX",3,IF(Guillaume!G9="BN",1,"0")) -> 0 | AT10: =IF(Arthur!G9="EX",3,IF(Arthur!G9="BN",1,"0")) -> 0 | AU10: =IF(Andrea!G9="EX",3,IF(Andrea!G9="BN",1,"0")) -> 0
A11: 44886 | B11: 0.58333333 | C11: Angleterre | D11: 6 | E11: 2 | F11: Iran | I11: =IF(Adrien!G10="EX",3,IF(Adrien!G10="BN",1,"0")) -> 1 | J11: =IF(Amine!G10="EX",3,IF(Amine!G10="BN",1,"0")) -> 1 | K11: =IF(Anas!G10="EX",3,IF(Anas!G10="BN",1,"0")) -> 1 | L11: =IF(Antoine!G10="EX",3,IF(Antoine!G10="BN",1,"0")) -> 1 | M11: =IF(Arezou!G10="EX",3,IF(Arezou!G10="BN",1,"0")) -> 1 | N11: =IF(Arnaud!$G10="EX",3,IF(Arnaud!$G10="BN",1,"0")) -> 1 | O11: =IF(Chloe!$G10="EX",3,IF(Chloe!$G10="BN",1,"0")) -> 1 | P11: =IF(Dan!$G10="EX",3,IF(Dan!$G10="BN",1,"0")) -> 1 | Q11: =IF(David!$G10="EX",3,IF(David!$G10="BN",1,"0")) -> 1 | R11: =IF(Dom!$G10="EX",3,IF(Dom!$G10="BN",1,"0")) -> 1 | S11: =IF(Dusan!$G10="EX",3,IF(Dusan!$G10="BN",1,"0")) -> 1 | T11: =IF(Dylan!$G10="EX",3,IF(Dylan!$G10="BN",1,"0")) -> 1 | U11: =IF(Fred!$G10="EX",3,IF(Fred!$G10="BN",1,"0")) -> 1 | V11: =IF(Hamama!$G10="EX",3,IF(Hamama!$G10="BN",1,"0")) -> 1 | W11: =IF('Jean Marie'!G10="EX",3,IF('Jean Marie'!G10="BN",1,"0")) -> 1 | X11: =IF('Jonathan B'!G10="EX",3,IF('Jonathan B'!$G10="BN",1,"0")) -> 1 | Y11: =IF('Jonathan M'!G10="EX",3,IF('Jonathan M'!$G10="BN",1,"0")) -> 1 | Z11: =IF(José!$G10="EX",3,IF(José!$G10="BN",1,"0")) -> 1 | AA11: =IF(Julie!$G10="EX",3,IF(Julie!$G10="BN",1,"0")) -> 1 | AB11: =IF(Julien!$G10="EX",3,IF(Julien!$G10="BN",1,"0")) -> 1 | AC11: =IF(Killian!$G10="EX",3,IF(Killian!$G10="BN",1,"0")) -> 1 | AD11: =IF(Lahcen!$G10="EX",3,IF(Lahcen!$G10="BN",1,"0")) -> 1 | AE11: =IF(Lucien!$G10="EX",3,IF(Lucien!$G10="BN",1,"0")) -> 1 | AF11: =IF(Mickael!$G10="EX",3,IF(Mickael!$G10="BN",1,"0")) -> 1 | AG11: =IF(Nazrin!$G10="EX",3,IF(Nazrin!$G10="BN",1,"0")) -> 1 | AH11: =IF('Patrick F'!$G10="EX",3,IF('Patrick F'!$G10="BN",1,"0")) -> 1 | AI11: =IF('Pierre S'!$G10="EX",3,IF('Pierre S'!$G10="BN",1,"0")) -> 1 | AJ11: =IF(Reda!$G10="EX",3,IF(Reda!$G10="BN",1,"0")) -> 1 | AK11: =IF(Renaud!$G10="EX",3,IF(Renaud!$G10="BN",1,"0")) -> 1 | AL11: =IF(Romaric!$G10="EX",3,IF(Romaric!$G10="BN",1,"0")) -> 1 | AM11: =IF(Soline!$G10="EX",3,IF(Soline!$G10="BN",1,"0")) -> 1 | AN11: =IF(Timo!$G10="EX",3,IF(Timo!$G10="BN",1,"0")) -> 1 | AO11: =IF(Vanessa!$G10="EX",3,IF(Vanessa!$G10="BN",1,"0")) -> 1 | AP11: =IF(Samy!G10="EX",3,IF(Samy!G10="BN",1,"0")) -> 3 | AQ11: =IF(Hypo!G10="EX",3,IF(Hypo!G10="BN",1,"0")) -> 3 | AR11: =IF(Bastien!G10="EX",3,IF(Bastien!G10="BN",1,"0")) -> 3 | AS11: =IF(Guillaume!G10="EX",3,IF(Guillaume!G10="BN",1,"0")) -> 1 | AT11: =IF(Arthur!G10="EX",3,IF(Arthur!G10="BN",1,"0")) -> 1 | AU11: =IF(Andrea!G10="EX",3,IF(Andrea!G10="BN",1,"0")) -> 1
A12: 44886 | B12: 0.83333333 | C12: Etats-Unis | D12: 1 | E12: 1 | F12: Pays de Galles | I12: =IF(Adrien!G11="EX",3,IF(Adrien!G11="BN",1,"0")) -> 0 | J12: =IF(Amine!G11="EX",3,IF(Amine!G11="BN",1,"0")) -> 1 | K12: =IF(Anas!G11="EX",3,IF(Anas!G11="BN",1,"0")) -> 3 | L12: =IF(Antoine!G11="EX",3,IF(Antoine!G11="BN",1,"0")) -> 1 | M12: =IF(Arezou!G11="EX",3,IF(Arezou!G11="BN",1,"0")) -> 0 | N12: =IF(Arnaud!$G11="EX",3,IF(Arnaud!$G11="BN",1,"0")) -> 0 | O12: =IF(Chloe!$G11="EX",3,IF(Chloe!$G11="BN",1,"0")) -> 3 | P12: =IF(Dan!$G11="EX",3,IF(Dan!$G11="BN",1,"0")) -> 1 | Q12: =IF(David!$G11="EX",3,IF(David!$G11="BN",1,"0")) -> 3 | R12: =IF(Dom!$G11="EX",3,IF(Dom!$G11="BN",1,"0")) -> 0 | S12: =IF(Dusan!$G11="EX",3,IF(Dusan!$G11="BN",1,"0")) -> 0 | T12: =IF(Dylan!$G11="EX",3,IF(Dylan!$G11="BN",1,"0")) -> 3 | U12: =IF(Fred!$G11="EX",3,IF(Fred!$G11="BN",1,"0")) -> 0 | V12: =IF(Hamama!$G11="EX",3,IF(Hamama!$G11="BN",1,"0")) -> 0 | W12: =IF('Jean Marie'!G11="EX",3,IF('Jean Marie'!G11="BN",1,"0")) -> 3 | X12: =IF('Jonathan B'!G11="EX",3,IF('Jonathan B'!$G11="BN",1,"0")) -> 3 | Y12: =IF('Jonathan M'!G11="EX",3,IF('Jonathan M'!$G11="BN",1,"0")) -> 1 | Z12: =IF(José!$G11="EX",3,IF(José!$G11="BN",1,"0")) -> 0 | AA12: =IF(Julie!$G11="EX",3,IF(Julie!$G11="BN",1,"0")) -> 0 | AB12: =IF(Julien!$G11="EX",3,IF(Julien!$G11="BN",1,"0")) -> 3 | AC12: =IF(Killian!$G11="EX",3,IF(Killian!$G11="BN",1,"0")) -> 3 | AD12: =IF(Lahcen!$G11="EX",3,IF(Lahcen!$G11="BN",1,"0")) -> 0 | AE12: =IF(Lucien!$G11="EX",3,IF(Lucien!$G11="BN",1,"0")) -> 0 | AF12: =IF(Mickael!$G11="EX",3,IF(Mickael!$G11="BN",1,"0")) -> 0 | AG12: =IF(Nazrin!$G11="EX",3,IF(Nazrin!$G11="BN",1,"0")) -> 0 | AH12: =IF('Patrick F'!$G11="EX",3,IF('Patrick F'!$G11="BN",1,"0")) -> 0 | AI12: =IF('Pierre S'!$G11="EX",3,IF('Pierre S'!$G11="BN",1,"0")) -> 0 | AJ12: =IF(Reda!$G11="EX",3,IF(Reda!$G11="BN",1,"0")) -> 0 | AK12: =IF(Renaud!$G11="EX",3,IF(Renaud!$G11="BN",1,"0")) -> 0 | AL12: =IF(Romaric!$G11="EX",3,IF(Romaric!$G11="BN",1,"0")) -> 0 | AM12: =IF(Soline!$G11="EX",3,IF(Soline!$G11="BN",1,"0")) -> 1 | AN12: =IF(Timo!$G11="EX",3,IF(Timo!$G11="BN",1,"0")) -> 3 | AO12: =IF(Vanessa!$G11="EX",3,IF(Vanessa!$G11="BN",1,"0")) -> 0 | AP12: =IF(Samy!G11="EX",3,IF(Samy!G11="BN",1,"0")) -> 0 | AQ12: =IF(Hypo!G11="EX",3,IF(Hypo!G11="BN",1,"0")) -> 0 | AR12: =IF(Bastien!G11="EX",3,IF(Bastien!G11="BN",1,"0")) -> 0 | AS12: =IF(Guillaume!G11="EX",3,IF(Guillaume!G11="BN",1,"0")) -> 1 | AT12: =IF(Arthur!G11="EX",3,IF(Arthur!G11="BN",1,"0")) -> 3 | AU12: =IF(Andrea!G11="EX",3,IF(Andrea!G11="BN",1,"0")) -> 1
A13: 44890 | B13: 0.83333333 | C13: =C11 -> Angleterre | F13: =C12 -> Etats-Unis | I13: =IF(Adrien!G12="EX",3,IF(Adrien!G12="BN",1,"0")) -> 0 | J13: =IF(Amine!G12="EX",3,IF(Amine!G12="BN",1,"0")) -> 0 | K13: =IF(Anas!G12="EX",3,IF(Anas!G12="BN",1,"0")) -> 0 | L13: =IF(Antoine!G12="EX",3,IF(Antoine!G12="BN",1,"0")) -> 0 | M13: =IF(Arezou!G12="EX",3,IF(Arezou!G12="BN",1,"0")) -> 0 | N13: =IF(Arnaud!$G12="EX",3,IF(Arnaud!$G12="BN",1,"0")) -> 0 | O13: =IF(Chloe!$G12="EX",3,IF(Chloe!$G12="BN",1,"0")) -> 0 | P13: =IF(Dan!$G12="EX",3,IF(Dan!$G12="BN",1,"0")) -> 0 | Q13: =IF(David!$G12="EX",3,IF(David!$G12="BN",1,"0")) -> 0 | R13: =IF(Dom!$G12="EX",3,IF(Dom!$G12="BN",1,"0")) -> 0 | S13: =IF(Dusan!$G12="EX",3,IF(Dusan!$G12="BN",1,"0")) -> 0 | T13: =IF(Dylan!$G12="EX",3,IF(Dylan!$G12="BN",1,"0")) -> 0 | U13: =IF(Fred!$G12="EX",3,IF(Fred!$G12="BN",1,"0")) -> 0 | V13: =IF(Hamama!$G12="EX",3,IF(Hamama!$G12="BN",1,"0")) -> 0 | W13: =IF('Jean Marie'!G12="EX",3,IF('Jean Marie'!G12="BN",1,"0")) -> 0 | X13: =IF('Jonathan B'!G12="EX",3,IF('Jonathan B'!$G12="BN",1,"0")) -> 0 | Y13: =IF('Jonathan M'!G12="EX",3,IF('Jonathan M'!$G12="BN",1,"0")) -> 0 | Z13: =IF(José!$G12="EX",3,IF(José!$G12="BN",1,"0")) -> 0 | AA13: =IF(Julie!$G12="EX",3,IF(Julie!$G12="BN",1,"0")) -> 0 | AB13: =IF(Julien!$G12="EX",3,IF(Julien!$G12="BN",1,"0")) -> 0 | AC13: =IF(Killian!$G12="EX",3,IF(Killian!$G12="BN",1,"0")) -> 0 | AD13: =IF(Lahcen!$G12="EX",3,IF(Lahcen!$G12="BN",1,"0")) -> 0 | AE13: =IF(Lucien!$G12="EX",3,IF(Lucien!$G12="BN",1,"0")) -> 0 | AF13: =IF(Mickael!$G12="EX",3,IF(Mickael!$G12="BN",1,"0")) -> 0 | AG13: =IF(Nazrin!$G12="EX",3,IF(Nazrin!$G12="BN",1,"0")) -> 0 | AH13: =IF('Patrick F'!$G12="EX",3,IF('Patrick F'!$G12="BN",1,"0")) -> 0 | AI13: =IF('Pierre S'!$G12="EX",3,IF('Pierre S'!$G12="BN",1,"0")) -> 0 | AJ13: =IF(Reda!$G12="EX",3,IF(Reda!$G12="BN",1,"0")) -> 0 | AK13: =IF(Renaud!$G12="EX",3,IF(Renaud!$G12="BN",1,"0")) -> 0 | AL13: =IF(Romaric!$G12="EX",3,IF(Romaric!$G12="BN",1,"0")) -> 0 | AM13: =IF(Soline!$G12="EX",3,IF(Soline!$G12="BN",1,"0")) -> 0 | AN13: =IF(Timo!$G12="EX",3,IF(Timo!$G12="BN",1,"0")) -> 0 | AO13: =IF(Vanessa!$G12="EX",3,IF(Vanessa!$G12="BN",1,"0")) -> 0 | AP13: =IF(Samy!G12="EX",3,IF(Samy!G12="BN",1,"0")) -> 0 | AQ13: =IF(Hypo!G12="EX",3,IF(Hypo!G12="BN",1,"0")) -> 0 | AR13: =IF(Bastien!G12="EX",3,IF(Bastien!G12="BN",1,"0")) -> 0 | AS13: =IF(Guillaume!G12="EX",3,IF(Guillaume!G12="BN",1,"0")) -> 0 | AT13: =IF(Arthur!G12="EX",3,IF(Arthur!G12="BN",1,"0")) -> 0 | AU13: =IF(Andrea!G12="EX",3,IF(Andrea!G12="BN",1,"0")) -> 0
A14: 44890 | B14: 0.45833333 | C14: =F12 -> Pays de Galles | F14: =F11 -> Iran | I14: =IF(Adrien!G13="EX",3,IF(Adrien!G13="BN",1,"0")) -> 0 | J14: =IF(Amine!G13="EX",3,IF(Amine!G13="BN",1,"0")) -> 0 | K14: =IF(Anas!G13="EX",3,IF(Anas!G13="BN",1,"0")) -> 0 | L14: =IF(Antoine!G13="EX",3,IF(Antoine!G13="BN",1,"0")) -> 0 | M14: =IF(Arezou!G13="EX",3,IF(Arezou!G13="BN",1,"0")) -> 0 | N14: =IF(Arnaud!$G13="EX",3,IF(Arnaud!$G13="BN",1,"0")) -> 0 | O14: =IF(Chloe!$G13="EX",3,IF(Chloe!$G13="BN",1,"0")) -> 0 | P14: =IF(Dan!$G13="EX",3,IF(Dan!$G13="BN",1,"0")) -> 0 | Q14: =IF(David!$G13="EX",3,IF(David!$G13="BN",1,"0")) -> 0 | R14: =IF(Dom!$G13="EX",3,IF(Dom!$G13="BN",1,"0")) -> 0 | S14: =IF(Dusan!$G13="EX",3,IF(Dusan!$G13="BN",1,"0")) -> 0 | T14: =IF(Dylan!$G13="EX",3,IF(Dylan!$G13="BN",1,"0")) -> 0 | U14: =IF(Fred!$G13="EX",3,IF(Fred!$G13="BN",1,"0")) -> 0 | V14: =IF(Hamama!$G13="EX",3,IF(Hamama!$G13="BN",1,"0")) -> 0 | W14: =IF('Jean Marie'!G13="EX",3,IF('Jean Marie'!G13="BN",1,"0")) -> 0 | X14: =IF('Jonathan B'!G13="EX",3,IF('Jonathan B'!$G13="BN",1,"0")) -> 0 | Y14: =IF('Jonathan M'!G13="EX",3,IF('Jonathan M'!$G13="BN",1,"0")) -> 0 | Z14: =IF(José!$G13="EX",3,IF(José!$G13="BN",1,"0")) -> 0 | AA14: =IF(Julie!$G13="EX",3,IF(Julie!$G13="BN",1,"0")) -> 0 | AB14: =IF(Julien!$G13="EX",3,IF(Julien!$G13="BN",1,"0")) -> 0 | AC14: =IF(Killian!$G13="EX",3,IF(Killian!$G13="BN",1,"0")) -> 0 | AD14: =IF(Lahcen!$G13="EX",3,IF(Lahcen!$G13="BN",1,"0")) -> 0 | AE14: =IF(Lucien!$G13="EX",3,IF(Lucien!$G13="BN",1,"0")) -> 0 | AF14: =IF(Mickael!$G13="EX",3,IF(Mickael!$G13="BN",1,"0")) -> 0 | AG14: =IF(Nazrin!$G13="EX",3,IF(Nazrin!$G13="BN",1,"0")) -> 0 | AH14: =IF('Patrick F'!$G13="EX",3,IF('Patrick F'!$G13="BN",1,"0")) -> 0 | AI14: =IF('Pierre S'!$G13="EX",3,IF('Pierre S'!$G13="BN",1,"0")) -> 0 | AJ14: =IF(Reda!$G13="EX",3,IF(Reda!$G13="BN",1,"0")) -> 0 | AK14: =IF(Renaud!$G13="EX",3,IF(Renaud!$G13="BN",1,"0")) -> 0 | AL14: =IF(Romaric!$G13="EX",3,IF(Romaric!$G13="BN",1,"0")) -> 0 | AM14: =IF(Soline!$G13="EX",3,IF(Soline!$G13="BN",1,"0")) -> 0 | AN14: =IF(Timo!$G13="EX",3,IF(Timo!$G13="BN",1,"0")) -> 0 | AO14: =IF(Vanessa!$G13="EX",3,IF(Vanessa!$G13="BN",1,"0")) -> 0 | AP14: =IF(Samy!G13="EX",3,IF(Samy!G13="BN",1,"0")) -> 0 | AQ14: =IF(Hypo!G13="EX",3,IF(Hypo!G13="BN",1,"0")) -> 0 | AR14: =IF(Bastien!G13="EX",3,IF(Bastien!G13="BN",1,"0")) -> 0 | AS14: =IF(Guillaume!G13="EX",3,IF(Guillaume!G13="BN",1,"0")) -> 0 | AT14: =IF(Arthur!G13="EX",3,IF(Arthur!G13="BN",1,"0")) -> 0 | AU14: =IF(Andrea!G13="EX",3,IF(Andrea!G13="BN",1,"0")) -> 0
A15: 44894 | B15: 0.83333333 | C15: =F12 -> Pays de Galles | F15: =C11 -> Angleterre | I15: =IF(Adrien!G14="EX",3,IF(Adrien!G14="BN",1,"0")) -> 0 | J15: =IF(Amine!G14="EX",3,IF(Amine!G14="BN",1,"0")) -> 0 | K15: =IF(Anas!G14="EX",3,IF(Anas!G14="BN",1,"0")) -> 0 | L15: =IF(Antoine!G14="EX",3,IF(Antoine!G14="BN",1,"0")) -> 0 | M15: =IF(Arezou!G14="EX",3,IF(Arezou!G14="BN",1,"0")) -> 0 | N15: =IF(Arnaud!$G14="EX",3,IF(Arnaud!$G14="BN",1,"0")) -> 0 | O15: =IF(Chloe!$G14="EX",3,IF(Chloe!$G14="BN",1,"0")) -> 0 | P15: =IF(Dan!$G14="EX",3,IF(Dan!$G14="BN",1,"0")) -> 0 | Q15: =IF(David!$G14="EX",3,IF(David!$G14="BN",1,"0")) -> 0 | R15: =IF(Dom!$G14="EX",3,IF(Dom!$G14="BN",1,"0")) -> 0 | S15: =IF(Dusan!$G14="EX",3,IF(Dusan!$G14="BN",1,"0")) -> 0 | T15: =IF(Dylan!$G14="EX",3,IF(Dylan!$G14="BN",1,"0")) -> 0 | U15: =IF(Fred!$G14="EX",3,IF(Fred!$G14="BN",1,"0")) -> 0 | V15: =IF(Hamama!$G14="EX",3,IF(Hamama!$G14="BN",1,"0")) -> 0 | W15: =IF('Jean Marie'!G14="EX",3,IF('Jean Marie'!G14="BN",1,"0")) -> 0 | X15: =IF('Jonathan B'!G14="EX",3,IF('Jonathan B'!$G14="BN",1,"0")) -> 0 | Y15: =IF('Jonathan M'!G14="EX",3,IF('Jonathan M'!$G14="BN",1,"0")) -> 0 | Z15: =IF(José!$G14="EX",3,IF(José!$G14="BN",1,"0")) -> 0 | AA15: =IF(Julie!$G14="EX",3,IF(Julie!$G14="BN",1,"0")) -> 0 | AB15: =IF(Julien!$G14="EX",3,IF(Julien!$G14="BN",1,"0")) -> 0 | AC15: =IF(Killian!$G14="EX",3,IF(Killian!$G14="BN",1,"0")) -> 0 | AD15: =IF(Lahcen!$G14="EX",3,IF(Lahcen!$G14="BN",1,"0")) -> 0 | AE15: =IF(Lucien!$G14="EX",3,IF(Lucien!$G14="BN",1,"0")) -> 0 | AF15: =IF(Mickael!$G14="EX",3,IF(Mickael!$G14="BN",1,"0")) -> 0 | AG15: =IF(Nazrin!$G14="EX",3,IF(Nazrin!$G14="BN",1,"0")) -> 0 | AH15: =IF('Patrick F'!$G14="EX",3,IF('Patrick F'!$G14="BN",1,"0")) -> 0 | AI15: =IF('Pierre S'!$G14="EX",3,IF('Pierre S'!$G14="BN",1,"0")) -> 0 | AJ15: =IF(Reda!$G14="EX",3,IF(Reda!$G14="BN",1,"0")) -> 0 | AK15: =IF(Renaud!$G14="EX",3,IF(Renaud!$G14="BN",1,"0")) -> 0 | AL15: =IF(Romaric!$G14="EX",3,IF(Romaric!$G14="BN",1,"0")) -> 0 | AM15: =IF(Soline!$G14="EX",3,IF(Soline!$G14="BN",1,"0")) -> 0 | AN15: =IF(Timo!$G14="EX",3,IF(Timo!$G14="BN",1,"0")) -> 0 | AO15: =IF(Vanessa!$G14="EX",3,IF(Vanessa!$G14="BN",1,"0")) -> 0 | AP15: =IF(Samy!G14="EX",3,IF(Samy!G14="BN",1,"0")) -> 0 | AQ15: =IF(Hypo!G14="EX",3,IF(Hypo!G14="BN",1,"0")) -> 0 | AR15: =IF(Bastien!G14="EX",3,IF(Bastien!G14="BN",1,"0")) -> 0 | AS15: =IF(Guillaume!G14="EX",3,IF(Guillaume!G14="BN",1,"0")) -> 0 | AT15: =IF(Arthur!G14="EX",3,IF(Arthur!G14="BN",1,"0")) -> 0 | AU15: =IF(Andrea!G14="EX",3,IF(Andrea!G14="BN",1,"0")) -> 0
A16: 44894 | B16: 0.83333333 | C16: =F11 -> Iran | F16: =C12 -> Etats-Unis | I16: =IF(Adrien!G15="EX",3,IF(Adrien!G15="BN",1,"0")) -> 0 | J16: =IF(Amine!G15="EX",3,IF(Amine!G15="BN",1,"0")) -> 0 | K16: =IF(Anas!G15="EX",3,IF(Anas!G15="BN",1,"0")) -> 0 | L16: =IF(Antoine!G15="EX",3,IF(Antoine!G15="BN",1,"0")) -> 0 | M16: =IF(Arezou!G15="EX",3,IF(Arezou!G15="BN",1,"0")) -> 0 | N16: =IF(Arnaud!$G15="EX",3,IF(Arnaud!$G15="BN",1,"0")) -> 0 | O16: =IF(Chloe!$G15="EX",3,IF(Chloe!$G15="BN",1,"0")) -> 0 | P16: =IF(Dan!$G15="EX",3,IF(Dan!$G15="BN",1,"0")) -> 0 | Q16: =IF(David!$G15="EX",3,IF(David!$G15="BN",1,"0")) -> 0 | R16: =IF(Dom!$G15="EX",3,IF(Dom!$G15="BN",1,"0")) -> 0 | S16: =IF(Dusan!$G15="EX",3,IF(Dusan!$G15="BN",1,"0")) -> 0 | T16: =IF(Dylan!$G15="EX",3,IF(Dylan!$G15="BN",1,"0")) -> 0 | U16: =IF(Fred!$G15="EX",3,IF(Fred!$G15="BN",1,"0")) -> 0 | V16: =IF(Hamama!$G15="EX",3,IF(Hamama!$G15="BN",1,"0")) -> 0 | W16: =IF('Jean Marie'!G15="EX",3,IF('Jean Marie'!G15="BN",1,"0")) -> 0 | X16: =IF('Jonathan B'!G15="EX",3,IF('Jonathan B'!$G15="BN",1,"0")) -> 0 | Y16: =IF('Jonathan M'!G15="EX",3,IF('Jonathan M'!$G15="BN",1,"0")) -> 0 | Z16: =IF(José!$G15="EX",3,IF(José!$G15="BN",1,"0")) -> 0 | AA16: =IF(Julie!$G15="EX",3,IF(Julie!$G15="BN",1,"0")) -> 0 | AB16: =IF(Julien!$G15="EX",3,IF(Julien!$G15="BN",1,"0")) -> 0 | AC16: =IF(Killian!$G15="EX",3,IF(Killian!$G15="BN",1,"0")) -> 0 | AD16: =IF(Lahcen!$G15="EX",3,IF(Lahcen!$G15="BN",1,"0")) -> 0 | AE16: =IF(Lucien!$G15="EX",3,IF(Lucien!$G15="BN",1,"0")) -> 0 | AF16: =IF(Mickael!$G15="EX",3,IF(Mickael!$G15="BN",1,"0")) -> 0 | AG16: =IF(Nazrin!$G15="EX",3,IF(Nazrin!$G15="BN",1,"0")) -> 0 | AH16: =IF('Patrick F'!$G15="EX",3,IF('Patrick F'!$G15="BN",1,"0")) -> 0 | AI16: =IF('Pierre S'!$G15="EX",3,IF('Pierre S'!$G15="BN",1,"0")) -> 0 | AJ16: =IF(Reda!$G15="EX",3,IF(Reda!$G15="BN",1,"0")) -> 0 | AK16: =IF(Renaud!$G15="EX",3,IF(Renaud!$G15="BN",1,"0")) -> 0 | AL16: =IF(Romaric!$G15="EX",3,IF(Romaric!$G15="BN",1,"0")) -> 0 | AM16: =IF(Soline!$G15="EX",3,IF(Soline!$G15="BN",1,"0")) -> 0 | AN16: =IF(Timo!$G15="EX",3,IF(Timo!$G15="BN",1,"0")) -> 0 | AO16: =IF(Vanessa!$G15="EX",3,IF(Vanessa!$G15="BN",1,"0")) -> 0 | AP16: =IF(Samy!G15="EX",3,IF(Samy!G15="BN",1,"0")) -> 0 | AQ16: =IF(Hypo!G15="EX",3,IF(Hypo!G15="BN",1,"0")) -> 0 | AR16: =IF(Bastien!G15="EX",3,IF(Bastien!G15="BN",1,"0")) -> 0 | AS16: =IF(Guillaume!G15="EX",3,IF(Guillaume!G15="BN",1,"0")) -> 0 | AT16: =IF(Arthur!G15="EX",3,IF(Arthur!G15="BN",1,"0")) -> 0 | AU16: =IF(Andrea!G15="EX",3,IF(Andrea!G15="BN",1,"0")) -> 0
I17: =IF(Adrien!G16="EX",3,IF(Adrien!G16="BN",1,"0")) -> 0 | J17: =IF(Amine!G16="EX",3,IF(Amine!G16="BN",1,"0")) -> 0 | K17: =IF(Anas!G16="EX",3,IF(Anas!G16="BN",1,"0")) -> 0 | L17: =IF(Antoine!G16="EX",3,IF(Antoine!G16="BN",1,"0")) -> 0 | M17: =IF(Arezou!G16="EX",3,IF(Arezou!G16="BN",1,"0")) -> 0 | N17: =IF(Arnaud!$G16="EX",3,IF(Arnaud!$G16="BN",1,"0")) -> 0 | O17: =IF(Chloe!$G16="EX",3,IF(Chloe!$G16="BN",1,"0")) -> 0 | P17: =IF(Dan!$G16="EX",3,IF(Dan!$G16="BN",1,"0")) -> 0 | Q17: =IF(David!$G16="EX",3,IF(David!$G16="BN",1,"0")) -> 0 | R17: =IF(Dom!$G16="EX",3,IF(Dom!$G16="BN",1,"0")) -> 0 | S17: =IF(Dusan!$G16="EX",3,IF(Dusan!$G16="BN",1,"0")) -> 0 | T17: =IF(Dylan!$G16="EX",3,IF(Dylan!$G16="BN",1,"0")) -> 0 | U17: =IF(Fred!$G16="EX",3,IF(Fred!$G16="BN",1,"0")) -> 0 | V17: =IF(Hamama!$G16="EX",3,IF(Hamama!$G16="BN",1,"0")) -> 0 | W17: =IF('Jean Marie'!G16="EX",3,IF('Jean Marie'!G16="BN",1,"0")) -> 0 | X17: =IF('Jonathan B'!G16="EX",3,IF('Jonathan B'!$G16="BN",1,"0")) -> 0 | Y17: =IF('Jonathan M'!G16="EX",3,IF('Jonathan M'!$G16="BN",1,"0")) -> 0 | Z17: =IF(José!$G16="EX",3,IF(José!$G16="BN",1,"0")) -> 0 | AA17: =IF(Julie!$G16="EX",3,IF(Julie!$G16="BN",1,"0")) -> 0 | AB17: =IF(Julien!$G16="EX",3,IF(Julien!$G16="BN",1,"0")) -> 0 | AC17: =IF(Killian!$G16="EX",3,IF(Killian!$G16="BN",1,"0")) -> 0 | AD17: =IF(Lahcen!$G16="EX",3,IF(Lahcen!$G16="BN",1,"0")) -> 0 | AE17: =IF(Lucien!$G16="EX",3,IF(Lucien!$G16="BN",1,"0")) -> 0 | AF17: =IF(Mickael!$G16="EX",3,IF(Mickael!$G16="BN",1,"0")) -> 0 | AG17: =IF(Nazrin!$G16="EX",3,IF(Nazrin!$G16="BN",1,"0")) -> 0 | AH17: =IF('Patrick F'!$G16="EX",3,IF('Patrick F'!$G16="BN",1,"0")) -> 0 | AI17: =IF('Pierre S'!$G16="EX",3,IF('Pierre S'!$G16="BN",1,"0")) -> 0 | AJ17: =IF(Reda!$G16="EX",3,IF(Reda!$G16="BN",1,"0")) -> 0 | AK17: =IF(Renaud!$G16="EX",3,IF(Renaud!$G16="BN",1,"0")) -> 0 | AL17: =IF(Romaric!$G16="EX",3,IF(Romaric!$G16="BN",1,"0")) -> 0 | AM17: =IF(Soline!$G16="EX",3,IF(Soline!$G16="BN",1,"0")) -> 0 | AN17: =IF(Timo!$G16="EX",3,IF(Timo!$G16="BN",1,"0")) -> 0 | AO17: =IF(Vanessa!$G16="EX",3,IF(Vanessa!$G16="BN",1,"0")) -> 0 | AP17: =IF(Samy!G16="EX",3,IF(Samy!G16="BN",1,"0")) -> 0 | AQ17: =IF(Hypo!G16="EX",3,IF(Hypo!G16="BN",1,"0")) -> 0 | AR17: =IF(Bastien!G16="EX",3,IF(Bastien!G16="BN",1,"0")) -> 0 | AS17: =IF(Guillaume!G16="EX",3,IF(Guillaume!G16="BN",1,"0")) -> 0 | AT17: =IF(Arthur!G16="EX",3,IF(Arthur!G16="BN",1,"0")) -> 0 | AU17: =IF(Andrea!G16="EX",3,IF(Andrea!G16="BN",1,"0")) -> 0
A18: Groupe C | I18: =IF(Adrien!G17="EX",3,IF(Adrien!G17="BN",1,"0")) -> 0 | J18: =IF(Amine!G17="EX",3,IF(Amine!G17="BN",1,"0")) -> 0 | K18: =IF(Anas!G17="EX",3,IF(Anas!G17="BN",1,"0")) -> 0 | L18: =IF(Antoine!G17="EX",3,IF(Antoine!G17="BN",1,"0")) -> 0 | M18: =IF(Arezou!G17="EX",3,IF(Arezou!G17="BN",1,"0")) -> 0 | N18: =IF(Arnaud!$G17="EX",3,IF(Arnaud!$G17="BN",1,"0")) -> 0 | O18: =IF(Chloe!$G17="EX",3,IF(Chloe!$G17="BN",1,"0")) -> 0 | P18: =IF(Dan!$G17="EX",3,IF(Dan!$G17="BN",1,"0")) -> 0 | Q18: =IF(David!$G17="EX",3,IF(David!$G17="BN",1,"0")) -> 0 | R18: =IF(Dom!$G17="EX",3,IF(Dom!$G17="BN",1,"0")) -> 0 | S18: =IF(Dusan!$G17="EX",3,IF(Dusan!$G17="BN",1,"0")) -> 0 | T18: =IF(Dylan!$G17="EX",3,IF(Dylan!$G17="BN",1,"0")) -> 0 | U18: =IF(Fred!$G17="EX",3,IF(Fred!$G17="BN",1,"0")) -> 0 | V18: =IF(Hamama!$G17="EX",3,IF(Hamama!$G17="BN",1,"0")) -> 0 | W18: =IF('Jean Marie'!G17="EX",3,IF('Jean Marie'!G17="BN",1,"0")) -> 0 | X18: =IF('Jonathan B'!G17="EX",3,IF('Jonathan B'!$G17="BN",1,"0")) -> 0 | Y18: =IF('Jonathan M'!G17="EX",3,IF('Jonathan M'!$G17="BN",1,"0")) -> 0 | Z18: =IF(José!$G17="EX",3,IF(José!$G17="BN",1,"0")) -> 0 | AA18: =IF(Julie!$G17="EX",3,IF(Julie!$G17="BN",1,"0")) -> 0 | AB18: =IF(Julien!$G17="EX",3,IF(Julien!$G17="BN",1,"0")) -> 0 | AC18: =IF(Killian!$G17="EX",3,IF(Killian!$G17="BN",1,"0")) -> 0 | AD18: =IF(Lahcen!$G17="EX",3,IF(Lahcen!$G17="BN",1,"0")) -> 0 | AE18: =IF(Lucien!$G17="EX",3,IF(Lucien!$G17="BN",1,"0")) -> 0 | AF18: =IF(Mickael!$G17="EX",3,IF(Mickael!$G17="BN",1,"0")) -> 0 | AG18: =IF(Nazrin!$G17="EX",3,IF(Nazrin!$G17="BN",1,"0")) -> 0 | AH18: =IF('Patrick F'!$G17="EX",3,IF('Patrick F'!$G17="BN",1,"0")) -> 0 | AI18: =IF('Pierre S'!$G17="EX",3,IF('Pierre S'!$G17="BN",1,"0")) -> 0 | AJ18: =IF(Reda!$G17="EX",3,IF(Reda!$G17="BN",1,"0")) -> 0 | AK18: =IF(Renaud!$G17="EX",3,IF(Renaud!$G17="BN",1,"0")) -> 0 | AL18: =IF(Romaric!$G17="EX",3,IF(Romaric!$G17="BN",1,"0")) -> 0 | AM18: =IF(Soline!$G17="EX",3,IF(Soline!$G17="BN",1,"0")) -> 0 | AN18: =IF(Timo!$G17="EX",3,IF(Timo!$G17="BN",1,"0")) -> 0 | AO18: =IF(Vanessa!$G17="EX",3,IF(Vanessa!$G17="BN",1,"0")) -> 0 | AP18: =IF(Samy!G17="EX",3,IF(Samy!G17="BN",1,"0")) -> 0 | AQ18: =IF(Hypo!G17="EX",3,IF(Hypo!G17="BN",1,"0")) -> 0 | AR18: =IF(Bastien!G17="EX",3,IF(Bastien!G17="BN",1,"0")) -> 0 | AS18: =IF(Guillaume!G17="EX",3,IF(Guillaume!G17="BN",1,"0")) -> 0 | AT18: =IF(Arthur!G17="EX",3,IF(Arthur!G17="BN",1,"0")) -> 0 | AU18: =IF(Andrea!G17="EX",3,IF(Andrea!G17="BN",1,"0")) -> 0
A19: 44887 | B19: 0.70833333 | C19: Mexique | F19: Pologne | I19: =IF(Adrien!G18="EX",3,IF(Adrien!G18="BN",1,"0")) -> 0 | J19: =IF(Amine!G18="EX",3,IF(Amine!G18="BN",1,"0")) -> 0 | K19: =IF(Anas!G18="EX",3,IF(Anas!G18="BN",1,"0")) -> 0 | L19: =IF(Antoine!G18="EX",3,IF(Antoine!G18="BN",1,"0")) -> 0 | M19: =IF(Arezou!G18="EX",3,IF(Arezou!G18="BN",1,"0")) -> 0 | N19: =IF(Arnaud!$G18="EX",3,IF(Arnaud!$G18="BN",1,"0")) -> 0 | O19: =IF(Chloe!$G18="EX",3,IF(Chloe!$G18="BN",1,"0")) -> 0 | P19: =IF(Dan!$G18="EX",3,IF(Dan!$G18="BN",1,"0")) -> 0 | Q19: =IF(David!$G18="EX",3,IF(David!$G18="BN",1,"0")) -> 0 | R19: =IF(Dom!$G18="EX",3,IF(Dom!$G18="BN",1,"0")) -> 0 | S19: =IF(Dusan!$G18="EX",3,IF(Dusan!$G18="BN",1,"0")) -> 0 | T19: =IF(Dylan!$G18="EX",3,IF(Dylan!$G18="BN",1,"0")) -> 0 | U19: =IF(Fred!$G18="EX",3,IF(Fred!$G18="BN",1,"0")) -> 0 | V19: =IF(Hamama!$G18="EX",3,IF(Hamama!$G18="BN",1,"0")) -> 0 | W19: =IF('Jean Marie'!G18="EX",3,IF('Jean Marie'!G18="BN",1,"0")) -> 0 | X19: =IF('Jonathan B'!G18="EX",3,IF('Jonathan B'!$G18="BN",1,"0")) -> 0 | Y19: =IF('Jonathan M'!G18="EX",3,IF('Jonathan M'!$G18="BN",1,"0")) -> 0 | Z19: =IF(José!$G18="EX",3,IF(José!$G18="BN",1,"0")) -> 0 | AA19: =IF(Julie!$G18="EX",3,IF(Julie!$G18="BN",1,"0")) -> 0 | AB19: =IF(Julien!$G18="EX",3,IF(Julien!$G18="BN",1,"0")) -> 0 | AC19: =IF(Killian!$G18="EX",3,IF(Killian!$G18="BN",1,"0")) -> 0 | AD19: =IF(Lahcen!$G18="EX",3,IF(Lahcen!$G18="BN",1,"0")) -> 0 | AE19: =IF(Lucien!$G18="EX",3,IF(Lucien!$G18="BN",1,"0")) -> 0 | AF19: =IF(Mickael!$G18="EX",3,IF(Mickael!$G18="BN",1,"0")) -> 0 | AG19: =IF(Nazrin!$G18="EX",3,IF(Nazrin!$G18="BN",1,"0")) -> 0 | AH19: =IF('Patrick F'!$G18="EX",3,IF('Patrick F'!$G18="BN",1,"0")) -> 0 | AI19: =IF('Pierre S'!$G18="EX",3,IF('Pierre S'!$G18="BN",1,"0")) -> 0 | AJ19: =IF(Reda!$G18="EX",3,IF(Reda!$G18="BN",1,"0")) -> 0 | AK19: =IF(Renaud!$G18="EX",3,IF(Renaud!$G18="BN",1,"0")) -> 0 | AL19: =IF(Romaric!$G18="EX",3,IF(Romaric!$G18="BN",1,"0")) -> 0 | AM19: =IF(Soline!$G18="EX",3,IF(Soline!$G18="BN",1,"0")) -> 0 | AN19: =IF(Timo!$G18="EX",3,IF(Timo!$G18="BN",1,"0")) -> 0 | AO19: =IF(Vanessa!$G18="EX",3,IF(Vanessa!$G18="BN",1,"0")) -> 0 | AP19: =IF(Samy!G18="EX",3,IF(Samy!G18="BN",1,"0")) -> 0 | AQ19: =IF(Hypo!G18="EX",3,IF(Hypo!G18="BN",1,"0")) -> 0 | AR19: =IF(Bastien!G18="EX",3,IF(Bastien!G18="BN",1,"0")) -> 0 | AS19: =IF(Guillaume!G18="EX",3,IF(Guillaume!G18="BN",1,"0")) -> 0 | AT19: =IF(Arthur!G18="EX",3,IF(Arthur!G18="BN",1,"0")) -> 0 | AU19: =IF(Andrea!G18="EX",3,IF(Andrea!G18="BN",1,"0")) -> 0
A20: 44887 | B20: 0.45833333 | C20: Argentine | D20: 1 | E20: 2 | F20: Arabie Saoudite | I20: =IF(Adrien!G19="EX",3,IF(Adrien!G19="BN",1,"0")) -> 0 | J20: =IF(Amine!G19="EX",3,IF(Amine!G19="BN",1,"0")) -> 0 | K20: =IF(Anas!G19="EX",3,IF(Anas!G19="BN",1,"0")) -> 0 | L20: =IF(Antoine!G19="EX",3,IF(Antoine!G19="BN",1,"0")) -> 0 | M20: =IF(Arezou!G19="EX",3,IF(Arezou!G19="BN",1,"0")) -> 0 | N20: =IF(Arnaud!$G19="EX",3,IF(Arnaud!$G19="BN",1,"0")) -> 0 | O20: =IF(Chloe!$G19="EX",3,IF(Chloe!$G19="BN",1,"0")) -> 0 | P20: =IF(Dan!$G19="EX",3,IF(Dan!$G19="BN",1,"0")) -> 0 | Q20: =IF(David!$G19="EX",3,IF(David!$G19="BN",1,"0")) -> 0 | R20: =IF(Dom!$G19="EX",3,IF(Dom!$G19="BN",1,"0")) -> 0 | S20: =IF(Dusan!$G19="EX",3,IF(Dusan!$G19="BN",1,"0")) -> 0 | T20: =IF(Dylan!$G19="EX",3,IF(Dylan!$G19="BN",1,"0")) -> 0 | U20: =IF(Fred!$G19="EX",3,IF(Fred!$G19="BN",1,"0")) -> 0 | V20: =IF(Hamama!$G19="EX",3,IF(Hamama!$G19="BN",1,"0")) -> 0 | W20: =IF('Jean Marie'!G19="EX",3,IF('Jean Marie'!G19="BN",1,"0")) -> 0 | X20: =IF('Jonathan B'!G19="EX",3,IF('Jonathan B'!$G19="BN",1,"0")) -> 0 | Y20: =IF('Jonathan M'!G19="EX",3,IF('Jonathan M'!$G19="BN",1,"0")) -> 0 | Z20: =IF(José!$G19="EX",3,IF(José!$G19="BN",1,"0")) -> 0 | AA20: =IF(Julie!$G19="EX",3,IF(Julie!$G19="BN",1,"0")) -> 0 | AB20: =IF(Julien!$G19="EX",3,IF(Julien!$G19="BN",1,"0")) -> 0 | AC20: =IF(Killian!$G19="EX",3,IF(Killian!$G19="BN",1,"0")) -> 0 | AD20: =IF(Lahcen!$G19="EX",3,IF(Lahcen!$G19="BN",1,"0")) -> 0 | AE20: =IF(Lucien!$G19="EX",3,IF(Lucien!$G19="BN",1,"0")) -> 0 | AF20: =IF(Mickael!$G19="EX",3,IF(Mickael!$G19="BN",1,"0")) -> 0 | AG20: =IF(Nazrin!$G19="EX",3,IF(Nazrin!$G19="BN",1,"0")) -> 0 | AH20: =IF('Patrick F'!$G19="EX",3,IF('Patrick F'!$G19="BN",1,"0")) -> 0 | AI20: =IF('Pierre S'!$G19="EX",3,IF('Pierre S'!$G19="BN",1,"0")) -> 0 | AJ20: =IF(Reda!$G19="EX",3,IF(Reda!$G19="BN",1,"0")) -> 0 | AK20: =IF(Renaud!$G19="EX",3,IF(Renaud!$G19="BN",1,"0")) -> 0 | AL20: =IF(Romaric!$G19="EX",3,IF(Romaric!$G19="BN",1,"0")) -> 0 | AM20: =IF(Soline!$G19="EX",3,IF(Soline!$G19="BN",1,"0")) -> 0 | AN20: =IF(Timo!$G19="EX",3,IF(Timo!$G19="BN",1,"0")) -> 0 | AO20: =IF(Vanessa!$G19="EX",3,IF(Vanessa!$G19="BN",1,"0")) -> 0 | AP20: =IF(Samy!G19="EX",3,IF(Samy!G19="BN",1,"0")) -> 0 | AQ20: =IF(Hypo!G19="EX",3,IF(Hypo!G19="BN",1,"0")) -> 0 | AR20: =IF(Bastien!G19="EX",3,IF(Bastien!G19="BN",1,"0")) -> 0 | AS20: =IF(Guillaume!G19="EX",3,IF(Guillaume!G19="BN",1,"0")) -> 0 | AT20: =IF(Arthur!G19="EX",3,IF(Arthur!G19="BN",1,"0")) -> 0 | AU20: =IF(Andrea!G19="EX",3,IF(Andrea!G19="BN",1,"0")) -> 0
A21: 44891 | B21: 0.58333333 | C21: =F20 -> Arabie Saoudite | F21: =F19 -> Pologne | I21: =IF(Adrien!G20="EX",3,IF(Adrien!G20="BN",1,"0")) -> 0 | J21: =IF(Amine!G20="EX",3,IF(Amine!G20="BN",1,"0")) -> 0 | K21: =IF(Anas!G20="EX",3,IF(Anas!G20="BN",1,"0")) -> 0 | L21: =IF(Antoine!G20="EX",3,IF(Antoine!G20="BN",1,"0")) -> 0 | M21: =IF(Arezou!G20="EX",3,IF(Arezou!G20="BN",1,"0")) -> 0 | N21: =IF(Arnaud!$G20="EX",3,IF(Arnaud!$G20="BN",1,"0")) -> 0 | O21: =IF(Chloe!$G20="EX",3,IF(Chloe!$G20="BN",1,"0")) -> 0 | P21: =IF(Dan!$G20="EX",3,IF(Dan!$G20="BN",1,"0")) -> 0 | Q21: =IF(David!$G20="EX",3,IF(David!$G20="BN",1,"0")) -> 0 | R21: =IF(Dom!$G20="EX",3,IF(Dom!$G20="BN",1,"0")) -> 0 | S21: =IF(Dusan!$G20="EX",3,IF(Dusan!$G20="BN",1,"0")) -> 0 | T21: =IF(Dylan!$G20="EX",3,IF(Dylan!$G20="BN",1,"0")) -> 0 | U21: =IF(Fred!$G20="EX",3,IF(Fred!$G20="BN",1,"0")) -> 0 | V21: =IF(Hamama!$G20="EX",3,IF(Hamama!$G20="BN",1,"0")) -> 0 | W21: =IF('Jean Marie'!G20="EX",3,IF('Jean Marie'!G20="BN",1,"0")) -> 0 | X21: =IF('Jonathan B'!G20="EX",3,IF('Jonathan B'!$G20="BN",1,"0")) -> 0 | Y21: =IF('Jonathan M'!G20="EX",3,IF('Jonathan M'!$G20="BN",1,"0")) -> 0 | Z21: =IF(José!$G20="EX",3,IF(José!$G20="BN",1,"0")) -> 0 | AA21: =IF(Julie!$G20="EX",3,IF(Julie!$G20="BN",1,"0")) -> 0 | AB21: =IF(Julien!$G20="EX",3,IF(Julien!$G20="BN",1,"0")) -> 0 | AC21: =IF(Killian!$G20="EX",3,IF(Killian!$G20="BN",1,"0")) -> 0 | AD21: =IF(Lahcen!$G20="EX",3,IF(Lahcen!$G20="BN",1,"0")) -> 0 | AE21: =IF(Lucien!$G20="EX",3,IF(Lucien!$G20="BN",1,"0")) -> 0 | AF21: =IF(Mickael!$G20="EX",3,IF(Mickael!$G20="BN",1,"0")) -> 0 | AG21: =IF(Nazrin!$G20="EX",3,IF(Nazrin!$G20="BN",1,"0")) -> 0 | AH21: =IF('Patrick F'!$G20="EX",3,IF('Patrick F'!$G20="BN",1,"0")) -> 0 | AI21: =IF('Pierre S'!$G20="EX",3,IF('Pierre S'!$G20="BN",1,"0")) -> 0 | AJ21: =IF(Reda!$G20="EX",3,IF(Reda!$G20="BN",1,"0")) -> 0 | AK21: =IF(Renaud!$G20="EX",3,IF(Renaud!$G20="BN",1,"0")) -> 0 | AL21: =IF(Romaric!$G20="EX",3,IF(Romaric!$G20="BN",1,"0")) -> 0 | AM21: =IF(Soline!$G20="EX",3,IF(Soline!$G20="BN",1,"0")) -> 0 | AN21: =IF(Timo!$G20="EX",3,IF(Timo!$G20="BN",1,"0")) -> 0 | AO21: =IF(Vanessa!$G20="EX",3,IF(Vanessa!$G20="BN",1,"0")) -> 0 | AP21: =IF(Samy!G20="EX",3,IF(Samy!G20="BN",1,"0")) -> 0 | AQ21: =IF(Hypo!G20="EX",3,IF(Hypo!G20="BN",1,"0")) -> 0 | AR21: =IF(Bastien!G20="EX",3,IF(Bastien!G20="BN",1,"0")) -> 0 | AS21: =IF(Guillaume!G20="EX",3,IF(Guillaume!G20="BN",1,"0")) -> 0 | AT21: =IF(Arthur!G20="EX",3,IF(Arthur!G20="BN",1,"0")) -> 0 | AU21: =IF(Andrea!G20="EX",3,IF(Andrea!G20="BN",1,"0")) -> 0
A22: 44891 | B22: 0.83333333 | C22: =C19 -> Mexique | F22: =C20 -> Argentine | I22: =IF(Adrien!G21="EX",3,IF(Adrien!G21="BN",1,"0")) -> 0 | J22: =IF(Amine!G21="EX",3,IF(Amine!G21="BN",1,"0")) -> 0 | K22: =IF(Anas!G21="EX",3,IF(Anas!G21="BN",1,"0")) -> 0 | L22: =IF(Antoine!G21="EX",3,IF(Antoine!G21="BN",1,"0")) -> 0 | M22: =IF(Arezou!G21="EX",3,IF(Arezou!G21="BN",1,"0")) -> 0 | N22: =IF(Arnaud!$G21="EX",3,IF(Arnaud!$G21="BN",1,"0")) -> 0 | O22: =IF(Chloe!$G21="EX",3,IF(Chloe!$G21="BN",1,"0")) -> 0 | P22: =IF(Dan!$G21="EX",3,IF(Dan!$G21="BN",1,"0")) -> 0 | Q22: =IF(David!$G21="EX",3,IF(David!$G21="BN",1,"0")) -> 0 | R22: =IF(Dom!$G21="EX",3,IF(Dom!$G21="BN",1,"0")) -> 0 | S22: =IF(Dusan!$G21="EX",3,IF(Dusan!$G21="BN",1,"0")) -> 0 | T22: =IF(Dylan!$G21="EX",3,IF(Dylan!$G21="BN",1,"0")) -> 0 | U22: =IF(Fred!$G21="EX",3,IF(Fred!$G21="BN",1,"0")) -> 0 | V22: =IF(Hamama!$G21="EX",3,IF(Hamama!$G21="BN",1,"0")) -> 0 | W22: =IF('Jean Marie'!G21="EX",3,IF('Jean Marie'!G21="BN",1,"0")) -> 0 | X22: =IF('Jonathan B'!G21="EX",3,IF('Jonathan B'!$G21="BN",1,"0")) -> 0 | Y22: =IF('Jonathan M'!G21="EX",3,IF('Jonathan M'!$G21="BN",1,"0")) -> 0 | Z22: =IF(José!$G21="EX",3,IF(José!$G21="BN",1,"0")) -> 0 | AA22: =IF(Julie!$G21="EX",3,IF(Julie!$G21="BN",1,"0")) -> 0 | AB22: =IF(Julien!$G21="EX",3,IF(Julien!$G21="BN",1,"0")) -> 0 | AC22: =IF(Killian!$G21="EX",3,IF(Killian!$G21="BN",1,"0")) -> 0 | AD22: =IF(Lahcen!$G21="EX",3,IF(Lahcen!$G21="BN",1,"0")) -> 0 | AE22: =IF(Lucien!$G21="EX",3,IF(Lucien!$G21="BN",1,"0")) -> 0 | AF22: =IF(Mickael!$G21="EX",3,IF(Mickael!$G21="BN",1,"0")) -> 0 | AG22: =IF(Nazrin!$G21="EX",3,IF(Nazrin!$G21="BN",1,"0")) -> 0 | AH22: =IF('Patrick F'!$G21="EX",3,IF('Patrick F'!$G21="BN",1,"0")) -> 0 | AI22: =IF('Pierre S'!$G21="EX",3,IF('Pierre S'!$G21="BN",1,"0")) -> 0 | AJ22: =IF(Reda!$G21="EX",3,IF(Reda!$G21="BN",1,"0")) -> 0 | AK22: =IF(Renaud!$G21="EX",3,IF(Renaud!$G21="BN",1,"0")) -> 0 | AL22: =IF(Romaric!$G21="EX",3,IF(Romaric!$G21="BN",1,"0")) -> 0 | AM22: =IF(Soline!$G21="EX",3,IF(Soline!$G21="BN",1,"0")) -> 0 | AN22: =IF(Timo!$G21="EX",3,IF(Timo!$G21="BN",1,"0")) -> 0 | AO22: =IF(Vanessa!$G21="EX",3,IF(Vanessa!$G21="BN",1,"0")) -> 0 | AP22: =IF(Samy!G21="EX",3,IF(Samy!G21="BN",1,"0")) -> 0 | AQ22: =IF(Hypo!G21="EX",3,IF(Hypo!G21="BN",1,"0")) -> 0 | AR22: =IF(Bastien!G21="EX",3,IF(Bastien!G21="BN",1,"0")) -> 0 | AS22: =IF(Guillaume!G21="EX",3,IF(Guillaume!G21="BN",1,"0")) -> 0 | AT22: =IF(Arthur!G21="EX",3,IF(Arthur!G21="BN",1,"0")) -> 0 | AU22: =IF(Andrea!G21="EX",3,IF(Andrea!G21="BN",1,"0")) -> 0
A23: 44895 | B23: 0.83333333 | C23: =F20 -> Arabie Saoudite | F23: =C19 -> Mexique | I23: =IF(Adrien!G22="EX",3,IF(Adrien!G22="BN",1,"0")) -> 0 | J23: =IF(Amine!G22="EX",3,IF(Amine!G22="BN",1,"0")) -> 0 | K23: =IF(Anas!G22="EX",3,IF(Anas!G22="BN",1,"0")) -> 0 | L23: =IF(Antoine!G22="EX",3,IF(Antoine!G22="BN",1,"0")) -> 0 | M23: =IF(Arezou!G22="EX",3,IF(Arezou!G22="BN",1,"0")) -> 0 | N23: =IF(Arnaud!$G22="EX",3,IF(Arnaud!$G22="BN",1,"0")) -> 0 | O23: =IF(Chloe!$G22="EX",3,IF(Chloe!$G22="BN",1,"0")) -> 0 | P23: =IF(Dan!$G22="EX",3,IF(Dan!$G22="BN",1,"0")) -> 0 | Q23: =IF(David!$G22="EX",3,IF(David!$G22="BN",1,"0")) -> 0 | R23: =IF(Dom!$G22="EX",3,IF(Dom!$G22="BN",1,"0")) -> 0 | S23: =IF(Dusan!$G22="EX",3,IF(Dusan!$G22="BN",1,"0")) -> 0 | T23: =IF(Dylan!$G22="EX",3,IF(Dylan!$G22="BN",1,"0")) -> 0 | U23: =IF(Fred!$G22="EX",3,IF(Fred!$G22="BN",1,"0")) -> 0 | V23: =IF(Hamama!$G22="EX",3,IF(Hamama!$G22="BN",1,"0")) -> 0 | W23: =IF('Jean Marie'!G22="EX",3,IF('Jean Marie'!G22="BN",1,"0")) -> 0 | X23: =IF('Jonathan B'!G22="EX",3,IF('Jonathan B'!$G22="BN",1,"0")) -> 0 | Y23: =IF('Jonathan M'!G22="EX",3,IF('Jonathan M'!$G22="BN",1,"0")) -> 0 | Z23: =IF(José!$G22="EX",3,IF(José!$G22="BN",1,"0")) -> 0 | AA23: =IF(Julie!$G22="EX",3,IF(Julie!$G22="BN",1,"0")) -> 0 | AB23: =IF(Julien!$G22="EX",3,IF(Julien!$G22="BN",1,"0")) -> 0 | AC23: =IF(Killian!$G22="EX",3,IF(Killian!$G22="BN",1,"0")) -> 0 | AD23: =IF(Lahcen!$G22="EX",3,IF(Lahcen!$G22="BN",1,"0")) -> 0 | AE23: =IF(Lucien!$G22="EX",3,IF(Lucien!$G22="BN",1,"0")) -> 0 | AF23: =IF(Mickael!$G22="EX",3,IF(Mickael!$G22="BN",1,"0")) -> 0 | AG23: =IF(Nazrin!$G22="EX",3,IF(Nazrin!$G22="BN",1,"0")) -> 0 | AH23: =IF('Patrick F'!$G22="EX",3,IF('Patrick F'!$G22="BN",1,"0")) -> 0 | AI23: =IF('Pierre S'!$G22="EX",3,IF('Pierre S'!$G22="BN",1,"0")) -> 0 | AJ23: =IF(Reda!$G22="EX",3,IF(Reda!$G22="BN",1,"0")) -> 0 | AK23: =IF(Renaud!$G22="EX",3,IF(Renaud!$G22="BN",1,"0")) -> 0 | AL23: =IF(Romaric!$G22="EX",3,IF(Romaric!$G22="BN",1,"0")) -> 0 | AM23: =IF(Soline!$G22="EX",3,IF(Soline!$G22="BN",1,"0")) -> 0 | AN23: =IF(Timo!$G22="EX",3,IF(Timo!$G22="BN",1,"0")) -> 0 | AO23: =IF(Vanessa!$G22="EX",3,IF(Vanessa!$G22="BN",1,"0")) -> 0 | AP23: =IF(Samy!G22="EX",3,IF(Samy!G22="BN",1,"0")) -> 0 | AQ23: =IF(Hypo!G22="EX",3,IF(Hypo!G22="BN",1,"0")) -> 0 | AR23: =IF(Bastien!G22="EX",3,IF(Bastien!G22="BN",1,"0")) -> 0 | AS23: =IF(Guillaume!G22="EX",3,IF(Guillaume!G22="BN",1,"0")) -> 0 | AT23: =IF(Arthur!G22="EX",3,IF(Arthur!G22="BN",1,"0")) -> 0 | AU23: =IF(Andrea!G22="EX",3,IF(Andrea!G22="BN",1,"0")) -> 0
A24: 44895 | B24: 0.83333333 | C24: =F19 -> Pologne | F24: =C20 -> Argentine | I24: =IF(Adrien!G23="EX",3,IF(Adrien!G23="BN",1,"0")) -> 0 | J24: =IF(Amine!G23="EX",3,IF(Amine!G23="BN",1,"0")) -> 0 | K24: =IF(Anas!G23="EX",3,IF(Anas!G23="BN",1,"0")) -> 0 | L24: =IF(Antoine!G23="EX",3,IF(Antoine!G23="BN",1,"0")) -> 0 | M24: =IF(Arezou!G23="EX",3,IF(Arezou!G23="BN",1,"0")) -> 0 | N24: =IF(Arnaud!$G23="EX",3,IF(Arnaud!$G23="BN",1,"0")) -> 0 | O24: =IF(Chloe!$G23="EX",3,IF(Chloe!$G23="BN",1,"0")) -> 0 | P24: =IF(Dan!$G23="EX",3,IF(Dan!$G23="BN",1,"0")) -> 0 | Q24: =IF(David!$G23="EX",3,IF(David!$G23="BN",1,"0")) -> 0 | R24: =IF(Dom!$G23="EX",3,IF(Dom!$G23="BN",1,"0")) -> 0 | S24: =IF(Dusan!$G23="EX",3,IF(Dusan!$G23="BN",1,"0")) -> 0 | T24: =IF(Dylan!$G23="EX",3,IF(Dylan!$G23="BN",1,"0")) -> 0 | U24: =IF(Fred!$G23="EX",3,IF(Fred!$G23="BN",1,"0")) -> 0 | V24: =IF(Hamama!$G23="EX",3,IF(Hamama!$G23="BN",1,"0")) -> 0 | W24: =IF('Jean Marie'!G23="EX",3,IF('Jean Marie'!G23="BN",1,"0")) -> 0 | X24: =IF('Jonathan B'!G23="EX",3,IF('Jonathan B'!$G23="BN",1,"0")) -> 0 | Y24: =IF('Jonathan M'!G23="EX",3,IF('Jonathan M'!$G23="BN",1,"0")) -> 0 | Z24: =IF(José!$G23="EX",3,IF(José!$G23="BN",1,"0")) -> 0 | AA24: =IF(Julie!$G23="EX",3,IF(Julie!$G23="BN",1,"0")) -> 0 | AB24: =IF(Julien!$G23="EX",3,IF(Julien!$G23="BN",1,"0")) -> 0 | AC24: =IF(Killian!$G23="EX",3,IF(Killian!$G23="BN",1,"0")) -> 0 | AD24: =IF(Lahcen!$G23="EX",3,IF(Lahcen!$G23="BN",1,"0")) -> 0 | AE24: =IF(Lucien!$G23="EX",3,IF(Lucien!$G23="BN",1,"0")) -> 0 | AF24: =IF(Mickael!$G23="EX",3,IF(Mickael!$G23="BN",1,"0")) -> 0 | AG24: =IF(Nazrin!$G23="EX",3,IF(Nazrin!$G23="BN",1,"0")) -> 0 | AH24: =IF('Patrick F'!$G23="EX",3,IF('Patrick F'!$G23="BN",1,"0")) -> 0 | AI24: =IF('Pierre S'!$G23="EX",3,IF('Pierre S'!$G23="BN",1,"0")) -> 0 | AJ24: =IF(Reda!$G23="EX",3,IF(Reda!$G23="BN",1,"0")) -> 0 | AK24: =IF(Renaud!$G23="EX",3,IF(Renaud!$G23="BN",1,"0")) -> 0 | AL24: =IF(Romaric!$G23="EX",3,IF(Romaric!$G23="BN",1,"0")) -> 0 | AM24: =IF(Soline!$G23="EX",3,IF(Soline!$G23="BN",1,"0")) -> 0 | AN24: =IF(Timo!$G23="EX",3,IF(Timo!$G23="BN",1,"0")) -> 0 | AO24: =IF(Vanessa!$G23="EX",3,IF(Vanessa!$G23="BN",1,"0")) -> 0 | AP24: =IF(Samy!G23="EX",3,IF(Samy!G23="BN",1,"0")) -> 0 | AQ24: =IF(Hypo!G23="EX",3,IF(Hypo!G23="BN",1,"0")) -> 0 | AR24: =IF(Bastien!G23="EX",3,IF(Bastien!G23="BN",1,"0")) -> 0 | AS24: =IF(Guillaume!G23="EX",3,IF(Guillaume!G23="BN",1,"0")) -> 0 | AT24: =IF(Arthur!G23="EX",3,IF(Arthur!G23="BN",1,"0")) -> 0 | AU24: =IF(Andrea!G23="EX",3,IF(Andrea!G23="BN",1,"0")) -> 0
I25: =IF(Adrien!G24="EX",3,IF(Adrien!G24="BN",1,"0")) -> 0 | J25: =IF(Amine!G24="EX",3,IF(Amine!G24="BN",1,"0")) -> 0 | K25: =IF(Anas!G24="EX",3,IF(Anas!G24="BN",1,"0")) -> 0 | L25: =IF(Antoine!G24="EX",3,IF(Antoine!G24="BN",1,"0")) -> 0 | M25: =IF(Arezou!G24="EX",3,IF(Arezou!G24="BN",1,"0")) -> 0 | N25: =IF(Arnaud!$G24="EX",3,IF(Arnaud!$G24="BN",1,"0")) -> 0 | O25: =IF(Chloe!$G24="EX",3,IF(Chloe!$G24="BN",1,"0")) -> 0 | P25: =IF(Dan!$G24="EX",3,IF(Dan!$G24="BN",1,"0")) -> 0 | Q25: =IF(David!$G24="EX",3,IF(David!$G24="BN",1,"0")) -> 0 | R25: =IF(Dom!$G24="EX",3,IF(Dom!$G24="BN",1,"0")) -> 0 | S25: =IF(Dusan!$G24="EX",3,IF(Dusan!$G24="BN",1,"0")) -> 0 | T25: =IF(Dylan!$G24="EX",3,IF(Dylan!$G24="BN",1,"0")) -> 0 | U25: =IF(Fred!$G24="EX",3,IF(Fred!$G24="BN",1,"0")) -> 0 | V25: =IF(Hamama!$G24="EX",3,IF(Hamama!$G24="BN",1,"0")) -> 0 | W25: =IF('Jean Marie'!G24="EX",3,IF('Jean Marie'!G24="BN",1,"0")) -> 0 | X25: =IF('Jonathan B'!G24="EX",3,IF('Jonathan B'!$G24="BN",1,"0")) -> 0 | Y25: =IF('Jonathan M'!G24="EX",3,IF('Jonathan M'!$G24="BN",1,"0")) -> 0 | Z25: =IF(José!$G24="EX",3,IF(José!$G24="BN",1,"0")) -> 0 | AA25: =IF(Julie!$G24="EX",3,IF(Julie!$G24="BN",1,"0")) -> 0 | AB25: =IF(Julien!$G24="EX",3,IF(Julien!$G24="BN",1,"0")) -> 0 | AC25: =IF(Killian!$G24="EX",3,IF(Killian!$G24="BN",1,"0")) -> 0 | AD25: =IF(Lahcen!$G24="EX",3,IF(Lahcen!$G24="BN",1,"0")) -> 0 | AE25: =IF(Lucien!$G24="EX",3,IF(Lucien!$G24="BN",1,"0")) -> 0 | AF25: =IF(Mickael!$G24="EX",3,IF(Mickael!$G24="BN",1,"0")) -> 0 | AG25: =IF(Nazrin!$G24="EX",3,IF(Nazrin!$G24="BN",1,"0")) -> 0 | AH25: =IF('Patrick F'!$G24="EX",3,IF('Patrick F'!$G24="BN",1,"0")) -> 0 | AI25: =IF('Pierre S'!$G24="EX",3,IF('Pierre S'!$G24="BN",1,"0")) -> 0 | AJ25: =IF(Reda!$G24="EX",3,IF(Reda!$G24="BN",1,"0")) -> 0 | AK25: =IF(Renaud!$G24="EX",3,IF(Renaud!$G24="BN",1,"0")) -> 0 | AL25: =IF(Romaric!$G24="EX",3,IF(Romaric!$G24="BN",1,"0")) -> 0 | AM25: =IF(Soline!$G24="EX",3,IF(Soline!$G24="BN",1,"0")) -> 0 | AN25: =IF(Timo!$G24="EX",3,IF(Timo!$G24="BN",1,"0")) -> 0 | AO25: =IF(Vanessa!$G24="EX",3,IF(Vanessa!$G24="BN",1,"0")) -> 0 | AP25: =IF(Samy!G24="EX",3,IF(Samy!G24="BN",1,"0")) -> 0 | AQ25: =IF(Hypo!G24="EX",3,IF(Hypo!G24="BN",1,"0")) -> 0 | AR25: =IF(Bastien!G24="EX",3,IF(Bastien!G24="BN",1,"0")) -> 0 | AS25: =IF(Guillaume!G24="EX",3,IF(Guillaume!G24="BN",1,"0")) -> 0 | AT25: =IF(Arthur!G24="EX",3,IF(Arthur!G24="BN",1,"0")) -> 0 | AU25: =IF(Andrea!G24="EX",3,IF(Andrea!G24="BN",1,"0")) -> 0
A26: Groupe D | I26: =IF(Adrien!G25="EX",3,IF(Adrien!G25="BN",1,"0")) -> 0 | J26: =IF(Amine!G25="EX",3,IF(Amine!G25="BN",1,"0")) -> 0 | K26: =IF(Anas!G25="EX",3,IF(Anas!G25="BN",1,"0")) -> 0 | L26: =IF(Antoine!G25="EX",3,IF(Antoine!G25="BN",1,"0")) -> 0 | M26: =IF(Arezou!G25="EX",3,IF(Arezou!G25="BN",1,"0")) -> 0 | N26: =IF(Arnaud!$G25="EX",3,IF(Arnaud!$G25="BN",1,"0")) -> 0 | O26: =IF(Chloe!$G25="EX",3,IF(Chloe!$G25="BN",1,"0")) -> 0 | P26: =IF(Dan!$G25="EX",3,IF(Dan!$G25="BN",1,"0")) -> 0 | Q26: =IF(David!$G25="EX",3,IF(David!$G25="BN",1,"0")) -> 0 | R26: =IF(Dom!$G25="EX",3,IF(Dom!$G25="BN",1,"0")) -> 0 | S26: =IF(Dusan!$G25="EX",3,IF(Dusan!$G25="BN",1,"0")) -> 0 | T26: =IF(Dylan!$G25="EX",3,IF(Dylan!$G25="BN",1,"0")) -> 0 | U26: =IF(Fred!$G25="EX",3,IF(Fred!$G25="BN",1,"0")) -> 0 | V26: =IF(Hamama!$G25="EX",3,IF(Hamama!$G25="BN",1,"0")) -> 0 | W26: =IF('Jean Marie'!G25="EX",3,IF('Jean Marie'!G25="BN",1,"0")) -> 0 | X26: =IF('Jonathan B'!G25="EX",3,IF('Jonathan B'!$G25="BN",1,"0")) -> 0 | Y26: =IF('Jonathan M'!G25="EX",3,IF('Jonathan M'!$G25="BN",1,"0")) -> 0 | Z26: =IF(José!$G25="EX",3,IF(José!$G25="BN",1,"0")) -> 0 | AA26: =IF(Julie!$G25="EX",3,IF(Julie!$G25="BN",1,"0")) -> 0 | AB26: =IF(Julien!$G25="EX",3,IF(Julien!$G25="BN",1,"0")) -> 0 | AC26: =IF(Killian!$G25="EX",3,IF(Killian!$G25="BN",1,"0")) -> 0 | AD26: =IF(Lahcen!$G25="EX",3,IF(Lahcen!$G25="BN",1,"0")) -> 0 | AE26: =IF(Lucien!$G25="EX",3,IF(Lucien!$G25="BN",1,"0")) -> 0 | AF26: =IF(Mickael!$G25="EX",3,IF(Mickael!$G25="BN",1,"0")) -> 0 | AG26: =IF(Nazrin!$G25="EX",3,IF(Nazrin!$G25="BN",1,"0")) -> 0 | AH26: =IF('Patrick F'!$G25="EX",3,IF('Patrick F'!$G25="BN",1,"0")) -> 0 | AI26: =IF('Pierre S'!$G25="EX",3,IF('Pierre S'!$G25="BN",1,"0")) -> 0 | AJ26: =IF(Reda!$G25="EX",3,IF(Reda!$G25="BN",1,"0")) -> 0 | AK26: =IF(Renaud!$G25="EX",3,IF(Renaud!$G25="BN",1,"0")) -> 0 | AL26: =IF(Romaric!$G25="EX",3,IF(Romaric!$G25="BN",1,"0")) -> 0 | AM26: =IF(Soline!$G25="EX",3,IF(Soline!$G25="BN",1,"0")) -> 0 | AN26: =IF(Timo!$G25="EX",3,IF(Timo!$G25="BN",1,"0")) -> 0 | AO26: =IF(Vanessa!$G25="EX",3,IF(Vanessa!$G25="BN",1,"0")) -> 0 | AP26: =IF(Samy!G25="EX",3,IF(Samy!G25="BN",1,"0")) -> 0 | AQ26: =IF(Hypo!G25="EX",3,IF(Hypo!G25="BN",1,"0")) -> 0 | AR26: =IF(Bastien!G25="EX",3,IF(Bastien!G25="BN",1,"0")) -> 0 | AS26: =IF(Guillaume!G25="EX",3,IF(Guillaume!G25="BN",1,"0")) -> 0 | AT26: =IF(Arthur!G25="EX",3,IF(Arthur!G25="BN",1,"0")) -> 0 | AU26: =IF(Andrea!G25="EX",3,IF(Andrea!G25="BN",1,"0")) -> 0
A27: 44887 | B27: 0.58333333 | C27: Danemark | F27: Tunisie | I27: =IF(Adrien!G26="EX",3,IF(Adrien!G26="BN",1,"0")) -> 0 | J27: =IF(Amine!G26="EX",3,IF(Amine!G26="BN",1,"0")) -> 0 | K27: =IF(Anas!G26="EX",3,IF(Anas!G26="BN",1,"0")) -> 0 | L27: =IF(Antoine!G26="EX",3,IF(Antoine!G26="BN",1,"0")) -> 1 | M27: =IF(Arezou!G26="EX",3,IF(Arezou!G26="BN",1,"0")) -> 0 | N27: =IF(Arnaud!$G26="EX",3,IF(Arnaud!$G26="BN",1,"0")) -> 0 | O27: =IF(Chloe!$G26="EX",3,IF(Chloe!$G26="BN",1,"0")) -> 0 | P27: =IF(Dan!$G26="EX",3,IF(Dan!$G26="BN",1,"0")) -> 0 | Q27: =IF(David!$G26="EX",3,IF(David!$G26="BN",1,"0")) -> 0 | R27: =IF(Dom!$G26="EX",3,IF(Dom!$G26="BN",1,"0")) -> 0 | S27: =IF(Dusan!$G26="EX",3,IF(Dusan!$G26="BN",1,"0")) -> 0 | T27: =IF(Dylan!$G26="EX",3,IF(Dylan!$G26="BN",1,"0")) -> 0 | U27: =IF(Fred!$G26="EX",3,IF(Fred!$G26="BN",1,"0")) -> 1 | V27: =IF(Hamama!$G26="EX",3,IF(Hamama!$G26="BN",1,"0")) -> 0 | W27: =IF('Jean Marie'!G26="EX",3,IF('Jean Marie'!G26="BN",1,"0")) -> 0 | X27: =IF('Jonathan B'!G26="EX",3,IF('Jonathan B'!$G26="BN",1,"0")) -> 0 | Y27: =IF('Jonathan M'!G26="EX",3,IF('Jonathan M'!$G26="BN",1,"0")) -> 0 | Z27: =IF(José!$G26="EX",3,IF(José!$G26="BN",1,"0")) -> 0 | AA27: =IF(Julie!$G26="EX",3,IF(Julie!$G26="BN",1,"0")) -> 0 | AB27: =IF(Julien!$G26="EX",3,IF(Julien!$G26="BN",1,"0")) -> 0 | AC27: =IF(Killian!$G26="EX",3,IF(Killian!$G26="BN",1,"0")) -> 0 | AD27: =IF(Lahcen!$G26="EX",3,IF(Lahcen!$G26="BN",1,"0")) -> 0 | AE27: =IF(Lucien!$G26="EX",3,IF(Lucien!$G26="BN",1,"0")) -> 1 | AF27: =IF(Mickael!$G26="EX",3,IF(Mickael!$G26="BN",1,"0")) -> 0 | AG27: =IF(Nazrin!$G26="EX",3,IF(Nazrin!$G26="BN",1,"0")) -> 0 | AH27: =IF('Patrick F'!$G26="EX",3,IF('Patrick F'!$G26="BN",1,"0")) -> 0 | AI27: =IF('Pierre S'!$G26="EX",3,IF('Pierre S'!$G26="BN",1,"0")) -> 0 | AJ27: =IF(Reda!$G26="EX",3,IF(Reda!$G26="BN",1,"0")) -> 0 | AK27: =IF(Renaud!$G26="EX",3,IF(Renaud!$G26="BN",1,"0")) -> 0 | AL27: =IF(Romaric!$G26="EX",3,IF(Romaric!$G26="BN",1,"0")) -> 0 | AM27: =IF(Soline!$G26="EX",3,IF(Soline!$G26="BN",1,"0")) -> 0 | AN27: =IF(Timo!$G26="EX",3,IF(Timo!$G26="BN",1,"0")) -> 0 | AO27: =IF(Vanessa!$G26="EX",3,IF(Vanessa!$G26="BN",1,"0")) -> 0 | AP27: =IF(Samy!G26="EX",3,IF(Samy!G26="BN",1,"0")) -> 0 | AQ27: =IF(Hypo!G26="EX",3,IF(Hypo!G26="BN",1,"0")) -> 0 | AR27: =IF(Bastien!G26="EX",3,IF(Bastien!G26="BN",1,"0")) -> 0 | AS27: =IF(Guillaume!G26="EX",3,IF(Guillaume!G26="BN",1,"0")) -> 0 | AT27: =IF(Arthur!G26="EX",3,IF(Arthur!G26="BN",1,"0")) -> 0 | AU27: =IF(Andrea!G26="EX",3,IF(Andrea!G26="BN",1,"0")) -> 0
A28: 44887 | B28: 0.83333333 | C28: France | F28: Australie | I28: =IF(Adrien!G27="EX",3,IF(Adrien!G27="BN",1,"0")) -> 0 | J28: =IF(Amine!G27="EX",3,IF(Amine!G27="BN",1,"0")) -> 0 | K28: =IF(Anas!G27="EX",3,IF(Anas!G27="BN",1,"0")) -> 0 | L28: =IF(Antoine!G27="EX",3,IF(Antoine!G27="BN",1,"0")) -> 0 | M28: =IF(Arezou!G27="EX",3,IF(Arezou!G27="BN",1,"0")) -> 0 | N28: =IF(Arnaud!$G27="EX",3,IF(Arnaud!$G27="BN",1,"0")) -> 0 | O28: =IF(Chloe!$G27="EX",3,IF(Chloe!$G27="BN",1,"0")) -> 0 | P28: =IF(Dan!$G27="EX",3,IF(Dan!$G27="BN",1,"0")) -> 0 | Q28: =IF(David!$G27="EX",3,IF(David!$G27="BN",1,"0")) -> 0 | R28: =IF(Dom!$G27="EX",3,IF(Dom!$G27="BN",1,"0")) -> 0 | S28: =IF(Dusan!$G27="EX",3,IF(Dusan!$G27="BN",1,"0")) -> 0 | T28: =IF(Dylan!$G27="EX",3,IF(Dylan!$G27="BN",1,"0")) -> 0 | U28: =IF(Fred!$G27="EX",3,IF(Fred!$G27="BN",1,"0")) -> 0 | V28: =IF(Hamama!$G27="EX",3,IF(Hamama!$G27="BN",1,"0")) -> 0 | W28: =IF('Jean Marie'!G27="EX",3,IF('Jean Marie'!G27="BN",1,"0")) -> 0 | X28: =IF('Jonathan B'!G27="EX",3,IF('Jonathan B'!$G27="BN",1,"0")) -> 0 | Y28: =IF('Jonathan M'!G27="EX",3,IF('Jonathan M'!$G27="BN",1,"0")) -> 0 | Z28: =IF(José!$G27="EX",3,IF(José!$G27="BN",1,"0")) -> 0 | AA28: =IF(Julie!$G27="EX",3,IF(Julie!$G27="BN",1,"0")) -> 0 | AB28: =IF(Julien!$G27="EX",3,IF(Julien!$G27="BN",1,"0")) -> 0 | AC28: =IF(Killian!$G27="EX",3,IF(Killian!$G27="BN",1,"0")) -> 0 | AD28: =IF(Lahcen!$G27="EX",3,IF(Lahcen!$G27="BN",1,"0")) -> 0 | AE28: =IF(Lucien!$G27="EX",3,IF(Lucien!$G27="BN",1,"0")) -> 0 | AF28: =IF(Mickael!$G27="EX",3,IF(Mickael!$G27="BN",1,"0")) -> 0 | AG28: =IF(Nazrin!$G27="EX",3,IF(Nazrin!$G27="BN",1,"0")) -> 0 | AH28: =IF('Patrick F'!$G27="EX",3,IF('Patrick F'!$G27="BN",1,"0")) -> 0 | AI28: =IF('Pierre S'!$G27="EX",3,IF('Pierre S'!$G27="BN",1,"0")) -> 0 | AJ28: =IF(Reda!$G27="EX",3,IF(Reda!$G27="BN",1,"0")) -> 0 | AK28: =IF(Renaud!$G27="EX",3,IF(Renaud!$G27="BN",1,"0")) -> 0 | AL28: =IF(Romaric!$G27="EX",3,IF(Romaric!$G27="BN",1,"0")) -> 0 | AM28: =IF(Soline!$G27="EX",3,IF(Soline!$G27="BN",1,"0")) -> 0 | AN28: =IF(Timo!$G27="EX",3,IF(Timo!$G27="BN",1,"0")) -> 0 | AO28: =IF(Vanessa!$G27="EX",3,IF(Vanessa!$G27="BN",1,"0")) -> 0 | AP28: =IF(Samy!G27="EX",3,IF(Samy!G27="BN",1,"0")) -> 0 | AQ28: =IF(Hypo!G27="EX",3,IF(Hypo!G27="BN",1,"0")) -> 0 | AR28: =IF(Bastien!G27="EX",3,IF(Bastien!G27="BN",1,"0")) -> 0 | AS28: =IF(Guillaume!G27="EX",3,IF(Guillaume!G27="BN",1,"0")) -> 0 | AT28: =IF(Arthur!G27="EX",3,IF(Arthur!G27="BN",1,"0")) -> 0 | AU28: =IF(Andrea!G27="EX",3,IF(Andrea!G27="BN",1,"0")) -> 0
A29: 44891 | B29: 0.70833333 | C29: =C27 -> Danemark | F29: =C28 -> France | I29: =IF(Adrien!G28="EX",3,IF(Adrien!G28="BN",1,"0")) -> 0 | J29: =IF(Amine!G28="EX",3,IF(Amine!G28="BN",1,"0")) -> 0 | K29: =IF(Anas!G28="EX",3,IF(Anas!G28="BN",1,"0")) -> 0 | L29: =IF(Antoine!G28="EX",3,IF(Antoine!G28="BN",1,"0")) -> 0 | M29: =IF(Arezou!G28="EX",3,IF(Arezou!G28="BN",1,"0")) -> 0 | N29: =IF(Arnaud!$G28="EX",3,IF(Arnaud!$G28="BN",1,"0")) -> 0 | O29: =IF(Chloe!$G28="EX",3,IF(Chloe!$G28="BN",1,"0")) -> 0 | P29: =IF(Dan!$G28="EX",3,IF(Dan!$G28="BN",1,"0")) -> 0 | Q29: =IF(David!$G28="EX",3,IF(David!$G28="BN",1,"0")) -> 0 | R29: =IF(Dom!$G28="EX",3,IF(Dom!$G28="BN",1,"0")) -> 0 | S29: =IF(Dusan!$G28="EX",3,IF(Dusan!$G28="BN",1,"0")) -> 0 | T29: =IF(Dylan!$G28="EX",3,IF(Dylan!$G28="BN",1,"0")) -> 0 | U29: =IF(Fred!$G28="EX",3,IF(Fred!$G28="BN",1,"0")) -> 0 | V29: =IF(Hamama!$G28="EX",3,IF(Hamama!$G28="BN",1,"0")) -> 0 | W29: =IF('Jean Marie'!G28="EX",3,IF('Jean Marie'!G28="BN",1,"0")) -> 0 | X29: =IF('Jonathan B'!G28="EX",3,IF('Jonathan B'!$G28="BN",1,"0")) -> 0 | Y29: =IF('Jonathan M'!G28="EX",3,IF('Jonathan M'!$G28="BN",1,"0")) -> 0 | Z29: =IF(José!$G28="EX",3,IF(José!$G28="BN",1,"0")) -> 0 | AA29: =IF(Julie!$G28="EX",3,IF(Julie!$G28="BN",1,"0")) -> 0 | AB29: =IF(Julien!$G28="EX",3,IF(Julien!$G28="BN",1,"0")) -> 0 | AC29: =IF(Killian!$G28="EX",3,IF(Killian!$G28="BN",1,"0")) -> 0 | AD29: =IF(Lahcen!$G28="EX",3,IF(Lahcen!$G28="BN",1,"0")) -> 0 | AE29: =IF(Lucien!$G28="EX",3,IF(Lucien!$G28="BN",1,"0")) -> 0 | AF29: =IF(Mickael!$G28="EX",3,IF(Mickael!$G28="BN",1,"0")) -> 0 | AG29: =IF(Nazrin!$G28="EX",3,IF(Nazrin!$G28="BN",1,"0")) -> 0 | AH29: =IF('Patrick F'!$G28="EX",3,IF('Patrick F'!$G28="BN",1,"0")) -> 0 | AI29: =IF('Pierre S'!$G28="EX",3,IF('Pierre S'!$G28="BN",1,"0")) -> 0 | AJ29: =IF(Reda!$G28="EX",3,IF(Reda!$G28="BN",1,"0")) -> 0 | AK29: =IF(Renaud!$G28="EX",3,IF(Renaud!$G28="BN",1,"0")) -> 0 | AL29: =IF(Romaric!$G28="EX",3,IF(Romaric!$G28="BN",1,"0")) -> 0 | AM29: =IF(Soline!$G28="EX",3,IF(Soline!$G28="BN",1,"0")) -> 0 | AN29: =IF(Timo!$G28="EX",3,IF(Timo!$G28="BN",1,"0")) -> 0 | AO29: =IF(Vanessa!$G28="EX",3,IF(Vanessa!$G28="BN",1,"0")) -> 0 | AP29: =IF(Samy!G28="EX",3,IF(Samy!G28="BN",1,"0")) -> 0 | AQ29: =IF(Hypo!G28="EX",3,IF(Hypo!G28="BN",1,"0")) -> 0 | AR29: =IF(Bastien!G28="EX",3,IF(Bastien!G28="BN",1,"0")) -> 0 | AS29: =IF(Guillaume!G28="EX",3,IF(Guillaume!G28="BN",1,"0")) -> 0 | AT29: =IF(Arthur!G28="EX",3,IF(Arthur!G28="BN",1,"0")) -> 0 | AU29: =IF(Andrea!G28="EX",3,IF(Andrea!G28="BN",1,"0")) -> 0
A30: 44891 | B30: 0.45833333 | C30: =F28 -> Australie | F30: =F27 -> Tunisie | I30: =IF(Adrien!G29="EX",3,IF(Adrien!G29="BN",1,"0")) -> 0 | J30: =IF(Amine!G29="EX",3,IF(Amine!G29="BN",1,"0")) -> 0 | K30: =IF(Anas!G29="EX",3,IF(Anas!G29="BN",1,"0")) -> 0 | L30: =IF(Antoine!G29="EX",3,IF(Antoine!G29="BN",1,"0")) -> 0 | M30: =IF(Arezou!G29="EX",3,IF(Arezou!G29="BN",1,"0")) -> 0 | N30: =IF(Arnaud!$G29="EX",3,IF(Arnaud!$G29="BN",1,"0")) -> 0 | O30: =IF(Chloe!$G29="EX",3,IF(Chloe!$G29="BN",1,"0")) -> 0 | P30: =IF(Dan!$G29="EX",3,IF(Dan!$G29="BN",1,"0")) -> 0 | Q30: =IF(David!$G29="EX",3,IF(David!$G29="BN",1,"0")) -> 0 | R30: =IF(Dom!$G29="EX",3,IF(Dom!$G29="BN",1,"0")) -> 0 | S30: =IF(Dusan!$G29="EX",3,IF(Dusan!$G29="BN",1,"0")) -> 0 | T30: =IF(Dylan!$G29="EX",3,IF(Dylan!$G29="BN",1,"0")) -> 0 | U30: =IF(Fred!$G29="EX",3,IF(Fred!$G29="BN",1,"0")) -> 0 | V30: =IF(Hamama!$G29="EX",3,IF(Hamama!$G29="BN",1,"0")) -> 0 | W30: =IF('Jean Marie'!G29="EX",3,IF('Jean Marie'!G29="BN",1,"0")) -> 0 | X30: =IF('Jonathan B'!G29="EX",3,IF('Jonathan B'!$G29="BN",1,"0")) -> 0 | Y30: =IF('Jonathan M'!G29="EX",3,IF('Jonathan M'!$G29="BN",1,"0")) -> 0 | Z30: =IF(José!$G29="EX",3,IF(José!$G29="BN",1,"0")) -> 0 | AA30: =IF(Julie!$G29="EX",3,IF(Julie!$G29="BN",1,"0")) -> 0 | AB30: =IF(Julien!$G29="EX",3,IF(Julien!$G29="BN",1,"0")) -> 0 | AC30: =IF(Killian!$G29="EX",3,IF(Killian!$G29="BN",1,"0")) -> 0 | AD30: =IF(Lahcen!$G29="EX",3,IF(Lahcen!$G29="BN",1,"0")) -> 0 | AE30: =IF(Lucien!$G29="EX",3,IF(Lucien!$G29="BN",1,"0")) -> 0 | AF30: =IF(Mickael!$G29="EX",3,IF(Mickael!$G29="BN",1,"0")) -> 0 | AG30: =IF(Nazrin!$G29="EX",3,IF(Nazrin!$G29="BN",1,"0")) -> 0 | AH30: =IF('Patrick F'!$G29="EX",3,IF('Patrick F'!$G29="BN",1,"0")) -> 0 | AI30: =IF('Pierre S'!$G29="EX",3,IF('Pierre S'!$G29="BN",1,"0")) -> 0 | AJ30: =IF(Reda!$G29="EX",3,IF(Reda!$G29="BN",1,"0")) -> 0 | AK30: =IF(Renaud!$G29="EX",3,IF(Renaud!$G29="BN",1,"0")) -> 0 | AL30: =IF(Romaric!$G29="EX",3,IF(Romaric!$G29="BN",1,"0")) -> 0 | AM30: =IF(Soline!$G29="EX",3,IF(Soline!$G29="BN",1,"0")) -> 0 | AN30: =IF(Timo!$G29="EX",3,IF(Timo!$G29="BN",1,"0")) -> 0 | AO30: =IF(Vanessa!$G29="EX",3,IF(Vanessa!$G29="BN",1,"0")) -> 0 | AP30: =IF(Samy!G29="EX",3,IF(Samy!G29="BN",1,"0")) -> 0 | AQ30: =IF(Hypo!G29="EX",3,IF(Hypo!G29="BN",1,"0")) -> 0 | AR30: =IF(Bastien!G29="EX",3,IF(Bastien!G29="BN",1,"0")) -> 0 | AS30: =IF(Guillaume!G29="EX",3,IF(Guillaume!G29="BN",1,"0")) -> 0 | AT30: =IF(Arthur!G29="EX",3,IF(Arthur!G29="BN",1,"0")) -> 0 | AU30: =IF(Andrea!G29="EX",3,IF(Andrea!G29="BN",1,"0")) -> 0
A31: 44895 | B31: 0.66666667 | C31: =F28 -> Australie | F31: =C27 -> Danemark | I31: =IF(Adrien!G30="EX",3,IF(Adrien!G30="BN",1,"0")) -> 0 | J31: =IF(Amine!G30="EX",3,IF(Amine!G30="BN",1,"0")) -> 0 | K31: =IF(Anas!G30="EX",3,IF(Anas!G30="BN",1,"0")) -> 0 | L31: =IF(Antoine!G30="EX",3,IF(Antoine!G30="BN",1,"0")) -> 0 | M31: =IF(Arezou!G30="EX",3,IF(Arezou!G30="BN",1,"0")) -> 0 | N31: =IF(Arnaud!$G30="EX",3,IF(Arnaud!$G30="BN",1,"0")) -> 0 | O31: =IF(Chloe!$G30="EX",3,IF(Chloe!$G30="BN",1,"0")) -> 0 | P31: =IF(Dan!$G30="EX",3,IF(Dan!$G30="BN",1,"0")) -> 0 | Q31: =IF(David!$G30="EX",3,IF(David!$G30="BN",1,"0")) -> 0 | R31: =IF(Dom!$G30="EX",3,IF(Dom!$G30="BN",1,"0")) -> 0 | S31: =IF(Dusan!$G30="EX",3,IF(Dusan!$G30="BN",1,"0")) -> 0 | T31: =IF(Dylan!$G30="EX",3,IF(Dylan!$G30="BN",1,"0")) -> 0 | U31: =IF(Fred!$G30="EX",3,IF(Fred!$G30="BN",1,"0")) -> 0 | V31: =IF(Hamama!$G30="EX",3,IF(Hamama!$G30="BN",1,"0")) -> 0 | W31: =IF('Jean Marie'!G30="EX",3,IF('Jean Marie'!G30="BN",1,"0")) -> 0 | X31: =IF('Jonathan B'!G30="EX",3,IF('Jonathan B'!$G30="BN",1,"0")) -> 0 | Y31: =IF('Jonathan M'!G30="EX",3,IF('Jonathan M'!$G30="BN",1,"0")) -> 0 | Z31: =IF(José!$G30="EX",3,IF(José!$G30="BN",1,"0")) -> 0 | AA31: =IF(Julie!$G30="EX",3,IF(Julie!$G30="BN",1,"0")) -> 0 | AB31: =IF(Julien!$G30="EX",3,IF(Julien!$G30="BN",1,"0")) -> 0 | AC31: =IF(Killian!$G30="EX",3,IF(Killian!$G30="BN",1,"0")) -> 0 | AD31: =IF(Lahcen!$G30="EX",3,IF(Lahcen!$G30="BN",1,"0")) -> 0 | AE31: =IF(Lucien!$G30="EX",3,IF(Lucien!$G30="BN",1,"0")) -> 0 | AF31: =IF(Mickael!$G30="EX",3,IF(Mickael!$G30="BN",1,"0")) -> 0 | AG31: =IF(Nazrin!$G30="EX",3,IF(Nazrin!$G30="BN",1,"0")) -> 0 | AH31: =IF('Patrick F'!$G30="EX",3,IF('Patrick F'!$G30="BN",1,"0")) -> 0 | AI31: =IF('Pierre S'!$G30="EX",3,IF('Pierre S'!$G30="BN",1,"0")) -> 0 | AJ31: =IF(Reda!$G30="EX",3,IF(Reda!$G30="BN",1,"0")) -> 0 | AK31: =IF(Renaud!$G30="EX",3,IF(Renaud!$G30="BN",1,"0")) -> 0 | AL31: =IF(Romaric!$G30="EX",3,IF(Romaric!$G30="BN",1,"0")) -> 0 | AM31: =IF(Soline!$G30="EX",3,IF(Soline!$G30="BN",1,"0")) -> 0 | AN31: =IF(Timo!$G30="EX",3,IF(Timo!$G30="BN",1,"0")) -> 0 | AO31: =IF(Vanessa!$G30="EX",3,IF(Vanessa!$G30="BN",1,"0")) -> 0 | AP31: =IF(Samy!G30="EX",3,IF(Samy!G30="BN",1,"0")) -> 0 | AQ31: =IF(Hypo!G30="EX",3,IF(Hypo!G30="BN",1,"0")) -> 0 | AR31: =IF(Bastien!G30="EX",3,IF(Bastien!G30="BN",1,"0")) -> 0 | AS31: =IF(Guillaume!G30="EX",3,IF(Guillaume!G30="BN",1,"0")) -> 0 | AT31: =IF(Arthur!G30="EX",3,IF(Arthur!G30="BN",1,"0")) -> 0 | AU31: =IF(Andrea!G30="EX",3,IF(Andrea!G30="BN",1,"0")) -> 0
A32: 43281 | B32: 0.66666667 | C32: =F27 -> Tunisie | F32: =C28 -> France | I32: =IF(Adrien!G31="EX",3,IF(Adrien!G31="BN",1,"0")) -> 0 | J32: =IF(Amine!G31="EX",3,IF(Amine!G31="BN",1,"0")) -> 0 | K32: =IF(Anas!G31="EX",3,IF(Anas!G31="BN",1,"0")) -> 0 | L32: =IF(Antoine!G31="EX",3,IF(Antoine!G31="BN",1,"0")) -> 0 | M32: =IF(Arezou!G31="EX",3,IF(Arezou!G31="BN",1,"0")) -> 0 | N32: =IF(Arnaud!$G31="EX",3,IF(Arnaud!$G31="BN",1,"0")) -> 0 | O32: =IF(Chloe!$G31="EX",3,IF(Chloe!$G31="BN",1,"0")) -> 0 | P32: =IF(Dan!$G31="EX",3,IF(Dan!$G31="BN",1,"0")) -> 0 | Q32: =IF(David!$G31="EX",3,IF(David!$G31="BN",1,"0")) -> 0 | R32: =IF(Dom!$G31="EX",3,IF(Dom!$G31="BN",1,"0")) -> 0 | S32: =IF(Dusan!$G31="EX",3,IF(Dusan!$G31="BN",1,"0")) -> 0 | T32: =IF(Dylan!$G31="EX",3,IF(Dylan!$G31="BN",1,"0")) -> 0 | U32: =IF(Fred!$G31="EX",3,IF(Fred!$G31="BN",1,"0")) -> 0 | V32: =IF(Hamama!$G31="EX",3,IF(Hamama!$G31="BN",1,"0")) -> 0 | W32: =IF('Jean Marie'!G31="EX",3,IF('Jean Marie'!G31="BN",1,"0")) -> 0 | X32: =IF('Jonathan B'!G31="EX",3,IF('Jonathan B'!$G31="BN",1,"0")) -> 0 | Y32: =IF('Jonathan M'!G31="EX",3,IF('Jonathan M'!$G31="BN",1,"0")) -> 0 | Z32: =IF(José!$G31="EX",3,IF(José!$G31="BN",1,"0")) -> 0 | AA32: =IF(Julie!$G31="EX",3,IF(Julie!$G31="BN",1,"0")) -> 0 | AB32: =IF(Julien!$G31="EX",3,IF(Julien!$G31="BN",1,"0")) -> 0 | AC32: =IF(Killian!$G31="EX",3,IF(Killian!$G31="BN",1,"0")) -> 0 | AD32: =IF(Lahcen!$G31="EX",3,IF(Lahcen!$G31="BN",1,"0")) -> 0 | AE32: =IF(Lucien!$G31="EX",3,IF(Lucien!$G31="BN",1,"0")) -> 0 | AF32: =IF(Mickael!$G31="EX",3,IF(Mickael!$G31="BN",1,"0")) -> 0 | AG32: =IF(Nazrin!$G31="EX",3,IF(Nazrin!$G31="BN",1,"0")) -> 0 | AH32: =IF('Patrick F'!$G31="EX",3,IF('Patrick F'!$G31="BN",1,"0")) -> 0 | AI32: =IF('Pierre S'!$G31="EX",3,IF('Pierre S'!$G31="BN",1,"0")) -> 0 | AJ32: =IF(Reda!$G31="EX",3,IF(Reda!$G31="BN",1,"0")) -> 0 | AK32: =IF(Renaud!$G31="EX",3,IF(Renaud!$G31="BN",1,"0")) -> 0 | AL32: =IF(Romaric!$G31="EX",3,IF(Romaric!$G31="BN",1,"0")) -> 0 | AM32: =IF(Soline!$G31="EX",3,IF(Soline!$G31="BN",1,"0")) -> 0 | AN32: =IF(Timo!$G31="EX",3,IF(Timo!$G31="BN",1,"0")) -> 0 | AO32: =IF(Vanessa!$G31="EX",3,IF(Vanessa!$G31="BN",1,"0")) -> 0 | AP32: =IF(Samy!G31="EX",3,IF(Samy!G31="BN",1,"0")) -> 0 | AQ32: =IF(Hypo!G31="EX",3,IF(Hypo!G31="BN",1,"0")) -> 0 | AR32: =IF(Bastien!G31="EX",3,IF(Bastien!G31="BN",1,"0")) -> 0 | AS32: =IF(Guillaume!G31="EX",3,IF(Guillaume!G31="BN",1,"0")) -> 0 | AT32: =IF(Arthur!G31="EX",3,IF(Arthur!G31="BN",1,"0")) -> 0 | AU32: =IF(Andrea!G31="EX",3,IF(Andrea!G31="BN",1,"0")) -> 0
I33: =IF(Adrien!G32="EX",3,IF(Adrien!G32="BN",1,"0")) -> 0 | J33: =IF(Amine!G32="EX",3,IF(Amine!G32="BN",1,"0")) -> 0 | K33: =IF(Anas!G32="EX",3,IF(Anas!G32="BN",1,"0")) -> 0 | L33: =IF(Antoine!G32="EX",3,IF(Antoine!G32="BN",1,"0")) -> 0 | M33: =IF(Arezou!G32="EX",3,IF(Arezou!G32="BN",1,"0")) -> 0 | N33: =IF(Arnaud!$G32="EX",3,IF(Arnaud!$G32="BN",1,"0")) -> 0 | O33: =IF(Chloe!$G32="EX",3,IF(Chloe!$G32="BN",1,"0")) -> 0 | P33: =IF(Dan!$G32="EX",3,IF(Dan!$G32="BN",1,"0")) -> 0 | Q33: =IF(David!$G32="EX",3,IF(David!$G32="BN",1,"0")) -> 0 | R33: =IF(Dom!$G32="EX",3,IF(Dom!$G32="BN",1,"0")) -> 0 | S33: =IF(Dusan!$G32="EX",3,IF(Dusan!$G32="BN",1,"0")) -> 0 | T33: =IF(Dylan!$G32="EX",3,IF(Dylan!$G32="BN",1,"0")) -> 0 | U33: =IF(Fred!$G32="EX",3,IF(Fred!$G32="BN",1,"0")) -> 0 | V33: =IF(Hamama!$G32="EX",3,IF(Hamama!$G32="BN",1,"0")) -> 0 | W33: =IF('Jean Marie'!G32="EX",3,IF('Jean Marie'!G32="BN",1,"0")) -> 0 | X33: =IF('Jonathan B'!G32="EX",3,IF('Jonathan B'!$G32="BN",1,"0")) -> 0 | Y33: =IF('Jonathan M'!G32="EX",3,IF('Jonathan M'!$G32="BN",1,"0")) -> 0 | Z33: =IF(José!$G32="EX",3,IF(José!$G32="BN",1,"0")) -> 0 | AA33: =IF(Julie!$G32="EX",3,IF(Julie!$G32="BN",1,"0")) -> 0 | AB33: =IF(Julien!$G32="EX",3,IF(Julien!$G32="BN",1,"0")) -> 0 | AC33: =IF(Killian!$G32="EX",3,IF(Killian!$G32="BN",1,"0")) -> 0 | AD33: =IF(Lahcen!$G32="EX",3,IF(Lahcen!$G32="BN",1,"0")) -> 0 | AE33: =IF(Lucien!$G32="EX",3,IF(Lucien!$G32="BN",1,"0")) -> 0 | AF33: =IF(Mickael!$G32="EX",3,IF(Mickael!$G32="BN",1,"0")) -> 0 | AG33: =IF(Nazrin!$G32="EX",3,IF(Nazrin!$G32="BN",1,"0")) -> 0 | AH33: =IF('Patrick F'!$G32="EX",3,IF('Patrick F'!$G32="BN",1,"0")) -> 0 | AI33: =IF('Pierre S'!$G32="EX",3,IF('Pierre S'!$G32="BN",1,"0")) -> 0 | AJ33: =IF(Reda!$G32="EX",3,IF(Reda!$G32="BN",1,"0")) -> 0 | AK33: =IF(Renaud!$G32="EX",3,IF(Renaud!$G32="BN",1,"0")) -> 0 | AL33: =IF(Romaric!$G32="EX",3,IF(Romaric!$G32="BN",1,"0")) -> 0 | AM33: =IF(Soline!$G32="EX",3,IF(Soline!$G32="BN",1,"0")) -> 0 | AN33: =IF(Timo!$G32="EX",3,IF(Timo!$G32="BN",1,"0")) -> 0 | AO33: =IF(Vanessa!$G32="EX",3,IF(Vanessa!$G32="BN",1,"0")) -> 0 | AP33: =IF(Samy!G32="EX",3,IF(Samy!G32="BN",1,"0")) -> 0 | AQ33: =IF(Hypo!G32="EX",3,IF(Hypo!G32="BN",1,"0")) -> 0 | AR33: =IF(Bastien!G32="EX",3,IF(Bastien!G32="BN",1,"0")) -> 0 | AS33: =IF(Guillaume!G32="EX",3,IF(Guillaume!G32="BN",1,"0")) -> 0 | AT33: =IF(Arthur!G32="EX",3,IF(Arthur!G32="BN",1,"0")) -> 0 | AU33: =IF(Andrea!G32="EX",3,IF(Andrea!G32="BN",1,"0")) -> 0
A34: Groupe E | I34: =IF(Adrien!G33="EX",3,IF(Adrien!G33="BN",1,"0")) -> 0 | J34: =IF(Amine!G33="EX",3,IF(Amine!G33="BN",1,"0")) -> 0 | K34: =IF(Anas!G33="EX",3,IF(Anas!G33="BN",1,"0")) -> 0 | L34: =IF(Antoine!G33="EX",3,IF(Antoine!G33="BN",1,"0")) -> 0 | M34: =IF(Arezou!G33="EX",3,IF(Arezou!G33="BN",1,"0")) -> 0 | N34: =IF(Arnaud!$G33="EX",3,IF(Arnaud!$G33="BN",1,"0")) -> 0 | O34: =IF(Chloe!$G33="EX",3,IF(Chloe!$G33="BN",1,"0")) -> 0 | P34: =IF(Dan!$G33="EX",3,IF(Dan!$G33="BN",1,"0")) -> 0 | Q34: =IF(David!$G33="EX",3,IF(David!$G33="BN",1,"0")) -> 0 | R34: =IF(Dom!$G33="EX",3,IF(Dom!$G33="BN",1,"0")) -> 0 | S34: =IF(Dusan!$G33="EX",3,IF(Dusan!$G33="BN",1,"0")) -> 0 | T34: =IF(Dylan!$G33="EX",3,IF(Dylan!$G33="BN",1,"0")) -> 0 | U34: =IF(Fred!$G33="EX",3,IF(Fred!$G33="BN",1,"0")) -> 0 | V34: =IF(Hamama!$G33="EX",3,IF(Hamama!$G33="BN",1,"0")) -> 0 | W34: =IF('Jean Marie'!G33="EX",3,IF('Jean Marie'!G33="BN",1,"0")) -> 0 | X34: =IF('Jonathan B'!G33="EX",3,IF('Jonathan B'!$G33="BN",1,"0")) -> 0 | Y34: =IF('Jonathan M'!G33="EX",3,IF('Jonathan M'!$G33="BN",1,"0")) -> 0 | Z34: =IF(José!$G33="EX",3,IF(José!$G33="BN",1,"0")) -> 0 | AA34: =IF(Julie!$G33="EX",3,IF(Julie!$G33="BN",1,"0")) -> 0 | AB34: =IF(Julien!$G33="EX",3,IF(Julien!$G33="BN",1,"0")) -> 0 | AC34: =IF(Killian!$G33="EX",3,IF(Killian!$G33="BN",1,"0")) -> 0 | AD34: =IF(Lahcen!$G33="EX",3,IF(Lahcen!$G33="BN",1,"0")) -> 0 | AE34: =IF(Lucien!$G33="EX",3,IF(Lucien!$G33="BN",1,"0")) -> 0 | AF34: =IF(Mickael!$G33="EX",3,IF(Mickael!$G33="BN",1,"0")) -> 0 | AG34: =IF(Nazrin!$G33="EX",3,IF(Nazrin!$G33="BN",1,"0")) -> 0 | AH34: =IF('Patrick F'!$G33="EX",3,IF('Patrick F'!$G33="BN",1,"0")) -> 0 | AI34: =IF('Pierre S'!$G33="EX",3,IF('Pierre S'!$G33="BN",1,"0")) -> 0 | AJ34: =IF(Reda!$G33="EX",3,IF(Reda!$G33="BN",1,"0")) -> 0 | AK34: =IF(Renaud!$G33="EX",3,IF(Renaud!$G33="BN",1,"0")) -> 0 | AL34: =IF(Romaric!$G33="EX",3,IF(Romaric!$G33="BN",1,"0")) -> 0 | AM34: =IF(Soline!$G33="EX",3,IF(Soline!$G33="BN",1,"0")) -> 0 | AN34: =IF(Timo!$G33="EX",3,IF(Timo!$G33="BN",1,"0")) -> 0 | AO34: =IF(Vanessa!$G33="EX",3,IF(Vanessa!$G33="BN",1,"0")) -> 0 | AP34: =IF(Samy!G33="EX",3,IF(Samy!G33="BN",1,"0")) -> 0 | AQ34: =IF(Hypo!G33="EX",3,IF(Hypo!G33="BN",1,"0")) -> 0 | AR34: =IF(Bastien!G33="EX",3,IF(Bastien!G33="BN",1,"0")) -> 0 | AS34: =IF(Guillaume!G33="EX",3,IF(Guillaume!G33="BN",1,"0")) -> 0 | AT34: =IF(Arthur!G33="EX",3,IF(Arthur!G33="BN",1,"0")) -> 0 | AU34: =IF(Andrea!G33="EX",3,IF(Andrea!G33="BN",1,"0")) -> 0
A35: 44888 | B35: 0.58333333 | C35: Allemagne | F35: Japon | I35: =IF(Adrien!G34="EX",3,IF(Adrien!G34="BN",1,"0")) -> 0 | J35: =IF(Amine!G34="EX",3,IF(Amine!G34="BN",1,"0")) -> 0 | K35: =IF(Anas!G34="EX",3,IF(Anas!G34="BN",1,"0")) -> 0 | L35: =IF(Antoine!G34="EX",3,IF(Antoine!G34="BN",1,"0")) -> 0 | M35: =IF(Arezou!G34="EX",3,IF(Arezou!G34="BN",1,"0")) -> 0 | N35: =IF(Arnaud!$G34="EX",3,IF(Arnaud!$G34="BN",1,"0")) -> 0 | O35: =IF(Chloe!$G34="EX",3,IF(Chloe!$G34="BN",1,"0")) -> 0 | P35: =IF(Dan!$G34="EX",3,IF(Dan!$G34="BN",1,"0")) -> 0 | Q35: =IF(David!$G34="EX",3,IF(David!$G34="BN",1,"0")) -> 0 | R35: =IF(Dom!$G34="EX",3,IF(Dom!$G34="BN",1,"0")) -> 0 | S35: =IF(Dusan!$G34="EX",3,IF(Dusan!$G34="BN",1,"0")) -> 0 | T35: =IF(Dylan!$G34="EX",3,IF(Dylan!$G34="BN",1,"0")) -> 0 | U35: =IF(Fred!$G34="EX",3,IF(Fred!$G34="BN",1,"0")) -> 0 | V35: =IF(Hamama!$G34="EX",3,IF(Hamama!$G34="BN",1,"0")) -> 0 | W35: =IF('Jean Marie'!G34="EX",3,IF('Jean Marie'!G34="BN",1,"0")) -> 0 | X35: =IF('Jonathan B'!G34="EX",3,IF('Jonathan B'!$G34="BN",1,"0")) -> 0 | Y35: =IF('Jonathan M'!G34="EX",3,IF('Jonathan M'!$G34="BN",1,"0")) -> 0 | Z35: =IF(José!$G34="EX",3,IF(José!$G34="BN",1,"0")) -> 0 | AA35: =IF(Julie!$G34="EX",3,IF(Julie!$G34="BN",1,"0")) -> 0 | AB35: =IF(Julien!$G34="EX",3,IF(Julien!$G34="BN",1,"0")) -> 0 | AC35: =IF(Killian!$G34="EX",3,IF(Killian!$G34="BN",1,"0")) -> 0 | AD35: =IF(Lahcen!$G34="EX",3,IF(Lahcen!$G34="BN",1,"0")) -> 0 | AE35: =IF(Lucien!$G34="EX",3,IF(Lucien!$G34="BN",1,"0")) -> 0 | AF35: =IF(Mickael!$G34="EX",3,IF(Mickael!$G34="BN",1,"0")) -> 0 | AG35: =IF(Nazrin!$G34="EX",3,IF(Nazrin!$G34="BN",1,"0")) -> 0 | AH35: =IF('Patrick F'!$G34="EX",3,IF('Patrick F'!$G34="BN",1,"0")) -> 0 | AI35: =IF('Pierre S'!$G34="EX",3,IF('Pierre S'!$G34="BN",1,"0")) -> 0 | AJ35: =IF(Reda!$G34="EX",3,IF(Reda!$G34="BN",1,"0")) -> 0 | AK35: =IF(Renaud!$G34="EX",3,IF(Renaud!$G34="BN",1,"0")) -> 0 | AL35: =IF(Romaric!$G34="EX",3,IF(Romaric!$G34="BN",1,"0")) -> 0 | AM35: =IF(Soline!$G34="EX",3,IF(Soline!$G34="BN",1,"0")) -> 0 | AN35: =IF(Timo!$G34="EX",3,IF(Timo!$G34="BN",1,"0")) -> 0 | AO35: =IF(Vanessa!$G34="EX",3,IF(Vanessa!$G34="BN",1,"0")) -> 0 | AP35: =IF(Samy!G34="EX",3,IF(Samy!G34="BN",1,"0")) -> 0 | AQ35: =IF(Hypo!G34="EX",3,IF(Hypo!G34="BN",1,"0")) -> 0 | AR35: =IF(Bastien!G34="EX",3,IF(Bastien!G34="BN",1,"0")) -> 0 | AS35: =IF(Guillaume!G34="EX",3,IF(Guillaume!G34="BN",1,"0")) -> 0 | AT35: =IF(Arthur!G34="EX",3,IF(Arthur!G34="BN",1,"0")) -> 0 | AU35: =IF(Andrea!G34="EX",3,IF(Andrea!G34="BN",1,"0")) -> 0
A36: 44888 | B36: 0.70833333 | C36: Espagne | F36: Costa Rica | I36: =IF(Adrien!G35="EX",3,IF(Adrien!G35="BN",1,"0")) -> 0 | J36: =IF(Amine!G35="EX",3,IF(Amine!G35="BN",1,"0")) -> 0 | K36: =IF(Anas!G35="EX",3,IF(Anas!G35="BN",1,"0")) -> 0 | L36: =IF(Antoine!G35="EX",3,IF(Antoine!G35="BN",1,"0")) -> 0 | M36: =IF(Arezou!G35="EX",3,IF(Arezou!G35="BN",1,"0")) -> 0 | N36: =IF(Arnaud!$G35="EX",3,IF(Arnaud!$G35="BN",1,"0")) -> 0 | O36: =IF(Chloe!$G35="EX",3,IF(Chloe!$G35="BN",1,"0")) -> 0 | P36: =IF(Dan!$G35="EX",3,IF(Dan!$G35="BN",1,"0")) -> 0 | Q36: =IF(David!$G35="EX",3,IF(David!$G35="BN",1,"0")) -> 0 | R36: =IF(Dom!$G35="EX",3,IF(Dom!$G35="BN",1,"0")) -> 0 | S36: =IF(Dusan!$G35="EX",3,IF(Dusan!$G35="BN",1,"0")) -> 0 | T36: =IF(Dylan!$G35="EX",3,IF(Dylan!$G35="BN",1,"0")) -> 0 | U36: =IF(Fred!$G35="EX",3,IF(Fred!$G35="BN",1,"0")) -> 0 | V36: =IF(Hamama!$G35="EX",3,IF(Hamama!$G35="BN",1,"0")) -> 0 | W36: =IF('Jean Marie'!G35="EX",3,IF('Jean Marie'!G35="BN",1,"0")) -> 0 | X36: =IF('Jonathan B'!G35="EX",3,IF('Jonathan B'!$G35="BN",1,"0")) -> 0 | Y36: =IF('Jonathan M'!G35="EX",3,IF('Jonathan M'!$G35="BN",1,"0")) -> 0 | Z36: =IF(José!$G35="EX",3,IF(José!$G35="BN",1,"0")) -> 0 | AA36: =IF(Julie!$G35="EX",3,IF(Julie!$G35="BN",1,"0")) -> 0 | AB36: =IF(Julien!$G35="EX",3,IF(Julien!$G35="BN",1,"0")) -> 0 | AC36: =IF(Killian!$G35="EX",3,IF(Killian!$G35="BN",1,"0")) -> 0 | AD36: =IF(Lahcen!$G35="EX",3,IF(Lahcen!$G35="BN",1,"0")) -> 0 | AE36: =IF(Lucien!$G35="EX",3,IF(Lucien!$G35="BN",1,"0")) -> 0 | AF36: =IF(Mickael!$G35="EX",3,IF(Mickael!$G35="BN",1,"0")) -> 0 | AG36: =IF(Nazrin!$G35="EX",3,IF(Nazrin!$G35="BN",1,"0")) -> 0 | AH36: =IF('Patrick F'!$G35="EX",3,IF('Patrick F'!$G35="BN",1,"0")) -> 0 | AI36: =IF('Pierre S'!$G35="EX",3,IF('Pierre S'!$G35="BN",1,"0")) -> 0 | AJ36: =IF(Reda!$G35="EX",3,IF(Reda!$G35="BN",1,"0")) -> 0 | AK36: =IF(Renaud!$G35="EX",3,IF(Renaud!$G35="BN",1,"0")) -> 0 | AL36: =IF(Romaric!$G35="EX",3,IF(Romaric!$G35="BN",1,"0")) -> 0 | AM36: =IF(Soline!$G35="EX",3,IF(Soline!$G35="BN",1,"0")) -> 0 | AN36: =IF(Timo!$G35="EX",3,IF(Timo!$G35="BN",1,"0")) -> 0 | AO36: =IF(Vanessa!$G35="EX",3,IF(Vanessa!$G35="BN",1,"0")) -> 0 | AP36: =IF(Samy!G35="EX",3,IF(Samy!G35="BN",1,"0")) -> 0 | AQ36: =IF(Hypo!G35="EX",3,IF(Hypo!G35="BN",1,"0")) -> 0 | AR36: =IF(Bastien!G35="EX",3,IF(Bastien!G35="BN",1,"0")) -> 0 | AS36: =IF(Guillaume!G35="EX",3,IF(Guillaume!G35="BN",1,"0")) -> 0 | AT36: =IF(Arthur!G35="EX",3,IF(Arthur!G35="BN",1,"0")) -> 0 | AU36: =IF(Andrea!G35="EX",3,IF(Andrea!G35="BN",1,"0")) -> 0
A37: 44892 | B37: 0.83333333 | C37: =C36 -> Espagne | F37: =C35 -> Allemagne | I37: =IF(Adrien!G36="EX",3,IF(Adrien!G36="BN",1,"0")) -> 0 | J37: =IF(Amine!G36="EX",3,IF(Amine!G36="BN",1,"0")) -> 0 | K37: =IF(Anas!G36="EX",3,IF(Anas!G36="BN",1,"0")) -> 0 | L37: =IF(Antoine!G36="EX",3,IF(Antoine!G36="BN",1,"0")) -> 0 | M37: =IF(Arezou!G36="EX",3,IF(Arezou!G36="BN",1,"0")) -> 0 | N37: =IF(Arnaud!$G36="EX",3,IF(Arnaud!$G36="BN",1,"0")) -> 0 | O37: =IF(Chloe!$G36="EX",3,IF(Chloe!$G36="BN",1,"0")) -> 0 | P37: =IF(Dan!$G36="EX",3,IF(Dan!$G36="BN",1,"0")) -> 0 | Q37: =IF(David!$G36="EX",3,IF(David!$G36="BN",1,"0")) -> 0 | R37: =IF(Dom!$G36="EX",3,IF(Dom!$G36="BN",1,"0")) -> 0 | S37: =IF(Dusan!$G36="EX",3,IF(Dusan!$G36="BN",1,"0")) -> 0 | T37: =IF(Dylan!$G36="EX",3,IF(Dylan!$G36="BN",1,"0")) -> 0 | U37: =IF(Fred!$G36="EX",3,IF(Fred!$G36="BN",1,"0")) -> 0 | V37: =IF(Hamama!$G36="EX",3,IF(Hamama!$G36="BN",1,"0")) -> 0 | W37: =IF('Jean Marie'!G36="EX",3,IF('Jean Marie'!G36="BN",1,"0")) -> 0 | X37: =IF('Jonathan B'!G36="EX",3,IF('Jonathan B'!$G36="BN",1,"0")) -> 0 | Y37: =IF('Jonathan M'!G36="EX",3,IF('Jonathan M'!$G36="BN",1,"0")) -> 0 | Z37: =IF(José!$G36="EX",3,IF(José!$G36="BN",1,"0")) -> 0 | AA37: =IF(Julie!$G36="EX",3,IF(Julie!$G36="BN",1,"0")) -> 0 | AB37: =IF(Julien!$G36="EX",3,IF(Julien!$G36="BN",1,"0")) -> 0 | AC37: =IF(Killian!$G36="EX",3,IF(Killian!$G36="BN",1,"0")) -> 0 | AD37: =IF(Lahcen!$G36="EX",3,IF(Lahcen!$G36="BN",1,"0")) -> 0 | AE37: =IF(Lucien!$G36="EX",3,IF(Lucien!$G36="BN",1,"0")) -> 0 | AF37: =IF(Mickael!$G36="EX",3,IF(Mickael!$G36="BN",1,"0")) -> 0 | AG37: =IF(Nazrin!$G36="EX",3,IF(Nazrin!$G36="BN",1,"0")) -> 0 | AH37: =IF('Patrick F'!$G36="EX",3,IF('Patrick F'!$G36="BN",1,"0")) -> 0 | AI37: =IF('Pierre S'!$G36="EX",3,IF('Pierre S'!$G36="BN",1,"0")) -> 0 | AJ37: =IF(Reda!$G36="EX",3,IF(Reda!$G36="BN",1,"0")) -> 0 | AK37: =IF(Renaud!$G36="EX",3,IF(Renaud!$G36="BN",1,"0")) -> 0 | AL37: =IF(Romaric!$G36="EX",3,IF(Romaric!$G36="BN",1,"0")) -> 0 | AM37: =IF(Soline!$G36="EX",3,IF(Soline!$G36="BN",1,"0")) -> 0 | AN37: =IF(Timo!$G36="EX",3,IF(Timo!$G36="BN",1,"0")) -> 0 | AO37: =IF(Vanessa!$G36="EX",3,IF(Vanessa!$G36="BN",1,"0")) -> 0 | AP37: =IF(Samy!G36="EX",3,IF(Samy!G36="BN",1,"0")) -> 0 | AQ37: =IF(Hypo!G36="EX",3,IF(Hypo!G36="BN",1,"0")) -> 0 | AR37: =IF(Bastien!G36="EX",3,IF(Bastien!G36="BN",1,"0")) -> 0 | AS37: =IF(Guillaume!G36="EX",3,IF(Guillaume!G36="BN",1,"0")) -> 0 | AT37: =IF(Arthur!G36="EX",3,IF(Arthur!G36="BN",1,"0")) -> 0 | AU37: =IF(Andrea!G36="EX",3,IF(Andrea!G36="BN",1,"0")) -> 0
A38: 44892 | B38: 0.45833333 | C38: =F35 -> Japon | F38: =F36 -> Costa Rica | I38: =IF(Adrien!G37="EX",3,IF(Adrien!G37="BN",1,"0")) -> 0 | J38: =IF(Amine!G37="EX",3,IF(Amine!G37="BN",1,"0")) -> 0 | K38: =IF(Anas!G37="EX",3,IF(Anas!G37="BN",1,"0")) -> 0 | L38: =IF(Antoine!G37="EX",3,IF(Antoine!G37="BN",1,"0")) -> 0 | M38: =IF(Arezou!G37="EX",3,IF(Arezou!G37="BN",1,"0")) -> 0 | N38: =IF(Arnaud!$G37="EX",3,IF(Arnaud!$G37="BN",1,"0")) -> 0 | O38: =IF(Chloe!$G37="EX",3,IF(Chloe!$G37="BN",1,"0")) -> 0 | P38: =IF(Dan!$G37="EX",3,IF(Dan!$G37="BN",1,"0")) -> 0 | Q38: =IF(David!$G37="EX",3,IF(David!$G37="BN",1,"0")) -> 0 | R38: =IF(Dom!$G37="EX",3,IF(Dom!$G37="BN",1,"0")) -> 0 | S38: =IF(Dusan!$G37="EX",3,IF(Dusan!$G37="BN",1,"0")) -> 0 | T38: =IF(Dylan!$G37="EX",3,IF(Dylan!$G37="BN",1,"0")) -> 0 | U38: =IF(Fred!$G37="EX",3,IF(Fred!$G37="BN",1,"0")) -> 0 | V38: =IF(Hamama!$G37="EX",3,IF(Hamama!$G37="BN",1,"0")) -> 0 | W38: =IF('Jean Marie'!G37="EX",3,IF('Jean Marie'!G37="BN",1,"0")) -> 0 | X38: =IF('Jonathan B'!G37="EX",3,IF('Jonathan B'!$G37="BN",1,"0")) -> 0 | Y38: =IF('Jonathan M'!G37="EX",3,IF('Jonathan M'!$G37="BN",1,"0")) -> 0 | Z38: =IF(José!$G37="EX",3,IF(José!$G37="BN",1,"0")) -> 0 | AA38: =IF(Julie!$G37="EX",3,IF(Julie!$G37="BN",1,"0")) -> 0 | AB38: =IF(Julien!$G37="EX",3,IF(Julien!$G37="BN",1,"0")) -> 0 | AC38: =IF(Killian!$G37="EX",3,IF(Killian!$G37="BN",1,"0")) -> 0 | AD38: =IF(Lahcen!$G37="EX",3,IF(Lahcen!$G37="BN",1,"0")) -> 0 | AE38: =IF(Lucien!$G37="EX",3,IF(Lucien!$G37="BN",1,"0")) -> 0 | AF38: =IF(Mickael!$G37="EX",3,IF(Mickael!$G37="BN",1,"0")) -> 0 | AG38: =IF(Nazrin!$G37="EX",3,IF(Nazrin!$G37="BN",1,"0")) -> 0 | AH38: =IF('Patrick F'!$G37="EX",3,IF('Patrick F'!$G37="BN",1,"0")) -> 0 | AI38: =IF('Pierre S'!$G37="EX",3,IF('Pierre S'!$G37="BN",1,"0")) -> 0 | AJ38: =IF(Reda!$G37="EX",3,IF(Reda!$G37="BN",1,"0")) -> 0 | AK38: =IF(Renaud!$G37="EX",3,IF(Renaud!$G37="BN",1,"0")) -> 0 | AL38: =IF(Romaric!$G37="EX",3,IF(Romaric!$G37="BN",1,"0")) -> 0 | AM38: =IF(Soline!$G37="EX",3,IF(Soline!$G37="BN",1,"0")) -> 0 | AN38: =IF(Timo!$G37="EX",3,IF(Timo!$G37="BN",1,"0")) -> 0 | AO38: =IF(Vanessa!$G37="EX",3,IF(Vanessa!$G37="BN",1,"0")) -> 0 | AP38: =IF(Samy!G37="EX",3,IF(Samy!G37="BN",1,"0")) -> 0 | AQ38: =IF(Hypo!G37="EX",3,IF(Hypo!G37="BN",1,"0")) -> 0 | AR38: =IF(Bastien!G37="EX",3,IF(Bastien!G37="BN",1,"0")) -> 0 | AS38: =IF(Guillaume!G37="EX",3,IF(Guillaume!G37="BN",1,"0")) -> 0 | AT38: =IF(Arthur!G37="EX",3,IF(Arthur!G37="BN",1,"0")) -> 0 | AU38: =IF(Andrea!G37="EX",3,IF(Andrea!G37="BN",1,"0")) -> 0
A39: 44896 | B39: 0.83333333 | C39: =F35 -> Japon | F39: =C36 -> Espagne | I39: =IF(Adrien!G38="EX",3,IF(Adrien!G38="BN",1,"0")) -> 0 | J39: =IF(Amine!G38="EX",3,IF(Amine!G38="BN",1,"0")) -> 0 | K39: =IF(Anas!G38="EX",3,IF(Anas!G38="BN",1,"0")) -> 0 | L39: =IF(Antoine!G38="EX",3,IF(Antoine!G38="BN",1,"0")) -> 0 | M39: =IF(Arezou!G38="EX",3,IF(Arezou!G38="BN",1,"0")) -> 0 | N39: =IF(Arnaud!$G38="EX",3,IF(Arnaud!$G38="BN",1,"0")) -> 0 | O39: =IF(Chloe!$G38="EX",3,IF(Chloe!$G38="BN",1,"0")) -> 0 | P39: =IF(Dan!$G38="EX",3,IF(Dan!$G38="BN",1,"0")) -> 0 | Q39: =IF(David!$G38="EX",3,IF(David!$G38="BN",1,"0")) -> 0 | R39: =IF(Dom!$G38="EX",3,IF(Dom!$G38="BN",1,"0")) -> 0 | S39: =IF(Dusan!$G38="EX",3,IF(Dusan!$G38="BN",1,"0")) -> 0 | T39: =IF(Dylan!$G38="EX",3,IF(Dylan!$G38="BN",1,"0")) -> 0 | U39: =IF(Fred!$G38="EX",3,IF(Fred!$G38="BN",1,"0")) -> 0 | V39: =IF(Hamama!$G38="EX",3,IF(Hamama!$G38="BN",1,"0")) -> 0 | W39: =IF('Jean Marie'!G38="EX",3,IF('Jean Marie'!G38="BN",1,"0")) -> 0 | X39: =IF('Jonathan B'!G38="EX",3,IF('Jonathan B'!$G38="BN",1,"0")) -> 0 | Y39: =IF('Jonathan M'!G38="EX",3,IF('Jonathan M'!$G38="BN",1,"0")) -> 0 | Z39: =IF(José!$G38="EX",3,IF(José!$G38="BN",1,"0")) -> 0 | AA39: =IF(Julie!$G38="EX",3,IF(Julie!$G38="BN",1,"0")) -> 0 | AB39: =IF(Julien!$G38="EX",3,IF(Julien!$G38="BN",1,"0")) -> 0 | AC39: =IF(Killian!$G38="EX",3,IF(Killian!$G38="BN",1,"0")) -> 0 | AD39: =IF(Lahcen!$G38="EX",3,IF(Lahcen!$G38="BN",1,"0")) -> 0 | AE39: =IF(Lucien!$G38="EX",3,IF(Lucien!$G38="BN",1,"0")) -> 0 | AF39: =IF(Mickael!$G38="EX",3,IF(Mickael!$G38="BN",1,"0")) -> 0 | AG39: =IF(Nazrin!$G38="EX",3,IF(Nazrin!$G38="BN",1,"0")) -> 0 | AH39: =IF('Patrick F'!$G38="EX",3,IF('Patrick F'!$G38="BN",1,"0")) -> 0 | AI39: =IF('Pierre S'!$G38="EX",3,IF('Pierre S'!$G38="BN",1,"0")) -> 0 | AJ39: =IF(Reda!$G38="EX",3,IF(Reda!$G38="BN",1,"0")) -> 0 | AK39: =IF(Renaud!$G38="EX",3,IF(Renaud!$G38="BN",1,"0")) -> 0 | AL39: =IF(Romaric!$G38="EX",3,IF(Romaric!$G38="BN",1,"0")) -> 0 | AM39: =IF(Soline!$G38="EX",3,IF(Soline!$G38="BN",1,"0")) -> 0 | AN39: =IF(Timo!$G38="EX",3,IF(Timo!$G38="BN",1,"0")) -> 0 | AO39: =IF(Vanessa!$G38="EX",3,IF(Vanessa!$G38="BN",1,"0")) -> 0 | AP39: =IF(Samy!G38="EX",3,IF(Samy!G38="BN",1,"0")) -> 0 | AQ39: =IF(Hypo!G38="EX",3,IF(Hypo!G38="BN",1,"0")) -> 0 | AR39: =IF(Bastien!G38="EX",3,IF(Bastien!G38="BN",1,"0")) -> 0 | AS39: =IF(Guillaume!G38="EX",3,IF(Guillaume!G38="BN",1,"0")) -> 0 | AT39: =IF(Arthur!G38="EX",3,IF(Arthur!G38="BN",1,"0")) -> 0 | AU39: =IF(Andrea!G38="EX",3,IF(Andrea!G38="BN",1,"0")) -> 0
A40: 44896 | B40: 0.83333333 | C40: =F36 -> Costa Rica | F40: =C35 -> Allemagne | I40: =IF(Adrien!G39="EX",3,IF(Adrien!G39="BN",1,"0")) -> 0 | J40: =IF(Amine!G39="EX",3,IF(Amine!G39="BN",1,"0")) -> 0 | K40: =IF(Anas!G39="EX",3,IF(Anas!G39="BN",1,"0")) -> 0 | L40: =IF(Antoine!G39="EX",3,IF(Antoine!G39="BN",1,"0")) -> 0 | M40: =IF(Arezou!G39="EX",3,IF(Arezou!G39="BN",1,"0")) -> 0 | N40: =IF(Arnaud!$G39="EX",3,IF(Arnaud!$G39="BN",1,"0")) -> 0 | O40: =IF(Chloe!$G39="EX",3,IF(Chloe!$G39="BN",1,"0")) -> 0 | P40: =IF(Dan!$G39="EX",3,IF(Dan!$G39="BN",1,"0")) -> 0 | Q40: =IF(David!$G39="EX",3,IF(David!$G39="BN",1,"0")) -> 0 | R40: =IF(Dom!$G39="EX",3,IF(Dom!$G39="BN",1,"0")) -> 0 | S40: =IF(Dusan!$G39="EX",3,IF(Dusan!$G39="BN",1,"0")) -> 0 | T40: =IF(Dylan!$G39="EX",3,IF(Dylan!$G39="BN",1,"0")) -> 0 | U40: =IF(Fred!$G39="EX",3,IF(Fred!$G39="BN",1,"0")) -> 0 | V40: =IF(Hamama!$G39="EX",3,IF(Hamama!$G39="BN",1,"0")) -> 0 | W40: =IF('Jean Marie'!G39="EX",3,IF('Jean Marie'!G39="BN",1,"0")) -> 0 | X40: =IF('Jonathan B'!G39="EX",3,IF('Jonathan B'!$G39="BN",1,"0")) -> 0 | Y40: =IF('Jonathan M'!G39="EX",3,IF('Jonathan M'!$G39="BN",1,"0")) -> 0 | Z40: =IF(José!$G39="EX",3,IF(José!$G39="BN",1,"0")) -> 0 | AA40: =IF(Julie!$G39="EX",3,IF(Julie!$G39="BN",1,"0")) -> 0 | AB40: =IF(Julien!$G39="EX",3,IF(Julien!$G39="BN",1,"0")) -> 0 | AC40: =IF(Killian!$G39="EX",3,IF(Killian!$G39="BN",1,"0")) -> 0 | AD40: =IF(Lahcen!$G39="EX",3,IF(Lahcen!$G39="BN",1,"0")) -> 0 | AE40: =IF(Lucien!$G39="EX",3,IF(Lucien!$G39="BN",1,"0")) -> 0 | AF40: =IF(Mickael!$G39="EX",3,IF(Mickael!$G39="BN",1,"0")) -> 0 | AG40: =IF(Nazrin!$G39="EX",3,IF(Nazrin!$G39="BN",1,"0")) -> 0 | AH40: =IF('Patrick F'!$G39="EX",3,IF('Patrick F'!$G39="BN",1,"0")) -> 0 | AI40: =IF('Pierre S'!$G39="EX",3,IF('Pierre S'!$G39="BN",1,"0")) -> 0 | AJ40: =IF(Reda!$G39="EX",3,IF(Reda!$G39="BN",1,"0")) -> 0 | AK40: =IF(Renaud!$G39="EX",3,IF(Renaud!$G39="BN",1,"0")) -> 0 | AL40: =IF(Romaric!$G39="EX",3,IF(Romaric!$G39="BN",1,"0")) -> 0 | AM40: =IF(Soline!$G39="EX",3,IF(Soline!$G39="BN",1,"0")) -> 0 | AN40: =IF(Timo!$G39="EX",3,IF(Timo!$G39="BN",1,"0")) -> 0 | AO40: =IF(Vanessa!$G39="EX",3,IF(Vanessa!$G39="BN",1,"0")) -> 0 | AP40: =IF(Samy!G39="EX",3,IF(Samy!G39="BN",1,"0")) -> 0 | AQ40: =IF(Hypo!G39="EX",3,IF(Hypo!G39="BN",1,"0")) -> 0 | AR40: =IF(Bastien!G39="EX",3,IF(Bastien!G39="BN",1,"0")) -> 0 | AS40: =IF(Guillaume!G39="EX",3,IF(Guillaume!G39="BN",1,"0")) -> 0 | AT40: =IF(Arthur!G39="EX",3,IF(Arthur!G39="BN",1,"0")) -> 0 | AU40: =IF(Andrea!G39="EX",3,IF(Andrea!G39="BN",1,"0")) -> 0
I41: =IF(Adrien!G40="EX",3,IF(Adrien!G40="BN",1,"0")) -> 0 | J41: =IF(Amine!G40="EX",3,IF(Amine!G40="BN",1,"0")) -> 0 | K41: =IF(Anas!G40="EX",3,IF(Anas!G40="BN",1,"0")) -> 0 | L41: =IF(Antoine!G40="EX",3,IF(Antoine!G40="BN",1,"0")) -> 0 | M41: =IF(Arezou!G40="EX",3,IF(Arezou!G40="BN",1,"0")) -> 0 | N41: =IF(Arnaud!$G40="EX",3,IF(Arnaud!$G40="BN",1,"0")) -> 0 | O41: =IF(Chloe!$G40="EX",3,IF(Chloe!$G40="BN",1,"0")) -> 0 | P41: =IF(Dan!$G40="EX",3,IF(Dan!$G40="BN",1,"0")) -> 0 | Q41: =IF(David!$G40="EX",3,IF(David!$G40="BN",1,"0")) -> 0 | R41: =IF(Dom!$G40="EX",3,IF(Dom!$G40="BN",1,"0")) -> 0 | S41: =IF(Dusan!$G40="EX",3,IF(Dusan!$G40="BN",1,"0")) -> 0 | T41: =IF(Dylan!$G40="EX",3,IF(Dylan!$G40="BN",1,"0")) -> 0 | U41: =IF(Fred!$G40="EX",3,IF(Fred!$G40="BN",1,"0")) -> 0 | V41: =IF(Hamama!$G40="EX",3,IF(Hamama!$G40="BN",1,"0")) -> 0 | W41: =IF('Jean Marie'!G40="EX",3,IF('Jean Marie'!G40="BN",1,"0")) -> 0 | X41: =IF('Jonathan B'!G40="EX",3,IF('Jonathan B'!$G40="BN",1,"0")) -> 0 | Y41: =IF('Jonathan M'!G40="EX",3,IF('Jonathan M'!$G40="BN",1,"0")) -> 0 | Z41: =IF(José!$G40="EX",3,IF(José!$G40="BN",1,"0")) -> 0 | AA41: =IF(Julie!$G40="EX",3,IF(Julie!$G40="BN",1,"0")) -> 0 | AB41: =IF(Julien!$G40="EX",3,IF(Julien!$G40="BN",1,"0")) -> 0 | AC41: =IF(Killian!$G40="EX",3,IF(Killian!$G40="BN",1,"0")) -> 0 | AD41: =IF(Lahcen!$G40="EX",3,IF(Lahcen!$G40="BN",1,"0")) -> 0 | AE41: =IF(Lucien!$G40="EX",3,IF(Lucien!$G40="BN",1,"0")) -> 0 | AF41: =IF(Mickael!$G40="EX",3,IF(Mickael!$G40="BN",1,"0")) -> 0 | AG41: =IF(Nazrin!$G40="EX",3,IF(Nazrin!$G40="BN",1,"0")) -> 0 | AH41: =IF('Patrick F'!$G40="EX",3,IF('Patrick F'!$G40="BN",1,"0")) -> 0 | AI41: =IF('Pierre S'!$G40="EX",3,IF('Pierre S'!$G40="BN",1,"0")) -> 0 | AJ41: =IF(Reda!$G40="EX",3,IF(Reda!$G40="BN",1,"0")) -> 0 | AK41: =IF(Renaud!$G40="EX",3,IF(Renaud!$G40="BN",1,"0")) -> 0 | AL41: =IF(Romaric!$G40="EX",3,IF(Romaric!$G40="BN",1,"0")) -> 0 | AM41: =IF(Soline!$G40="EX",3,IF(Soline!$G40="BN",1,"0")) -> 0 | AN41: =IF(Timo!$G40="EX",3,IF(Timo!$G40="BN",1,"0")) -> 0 | AO41: =IF(Vanessa!$G40="EX",3,IF(Vanessa!$G40="BN",1,"0")) -> 0 | AP41: =IF(Samy!G40="EX",3,IF(Samy!G40="BN",1,"0")) -> 0 | AQ41: =IF(Hypo!G40="EX",3,IF(Hypo!G40="BN",1,"0")) -> 0 | AR41: =IF(Bastien!G40="EX",3,IF(Bastien!G40="BN",1,"0")) -> 0 | AS41: =IF(Guillaume!G40="EX",3,IF(Guillaume!G40="BN",1,"0")) -> 0 | AT41: =IF(Arthur!G40="EX",3,IF(Arthur!G40="BN",1,"0")) -> 0 | AU41: =IF(Andrea!G40="EX",3,IF(Andrea!G40="BN",1,"0")) -> 0
A42: Groupe F | I42: =IF(Adrien!G41="EX",3,IF(Adrien!G41="BN",1,"0")) -> 0 | J42: =IF(Amine!G41="EX",3,IF(Amine!G41="BN",1,"0")) -> 0 | K42: =IF(Anas!G41="EX",3,IF(Anas!G41="BN",1,"0")) -> 0 | L42: =IF(Antoine!G41="EX",3,IF(Antoine!G41="BN",1,"0")) -> 0 | M42: =IF(Arezou!G41="EX",3,IF(Arezou!G41="BN",1,"0")) -> 0 | N42: =IF(Arnaud!$G41="EX",3,IF(Arnaud!$G41="BN",1,"0")) -> 0 | O42: =IF(Chloe!$G41="EX",3,IF(Chloe!$G41="BN",1,"0")) -> 0 | P42: =IF(Dan!$G41="EX",3,IF(Dan!$G41="BN",1,"0")) -> 0 | Q42: =IF(David!$G41="EX",3,IF(David!$G41="BN",1,"0")) -> 0 | R42: =IF(Dom!$G41="EX",3,IF(Dom!$G41="BN",1,"0")) -> 0 | S42: =IF(Dusan!$G41="EX",3,IF(Dusan!$G41="BN",1,"0")) -> 0 | T42: =IF(Dylan!$G41="EX",3,IF(Dylan!$G41="BN",1,"0")) -> 0 | U42: =IF(Fred!$G41="EX",3,IF(Fred!$G41="BN",1,"0")) -> 0 | V42: =IF(Hamama!$G41="EX",3,IF(Hamama!$G41="BN",1,"0")) -> 0 | W42: =IF('Jean Marie'!G41="EX",3,IF('Jean Marie'!G41="BN",1,"0")) -> 0 | X42: =IF('Jonathan B'!G41="EX",3,IF('Jonathan B'!$G41="BN",1,"0")) -> 0 | Y42: =IF('Jonathan M'!G41="EX",3,IF('Jonathan M'!$G41="BN",1,"0")) -> 0 | Z42: =IF(José!$G41="EX",3,IF(José!$G41="BN",1,"0")) -> 0 | AA42: =IF(Julie!$G41="EX",3,IF(Julie!$G41="BN",1,"0")) -> 0 | AB42: =IF(Julien!$G41="EX",3,IF(Julien!$G41="BN",1,"0")) -> 0 | AC42: =IF(Killian!$G41="EX",3,IF(Killian!$G41="BN",1,"0")) -> 0 | AD42: =IF(Lahcen!$G41="EX",3,IF(Lahcen!$G41="BN",1,"0")) -> 0 | AE42: =IF(Lucien!$G41="EX",3,IF(Lucien!$G41="BN",1,"0")) -> 0 | AF42: =IF(Mickael!$G41="EX",3,IF(Mickael!$G41="BN",1,"0")) -> 0 | AG42: =IF(Nazrin!$G41="EX",3,IF(Nazrin!$G41="BN",1,"0")) -> 0 | AH42: =IF('Patrick F'!$G41="EX",3,IF('Patrick F'!$G41="BN",1,"0")) -> 0 | AI42: =IF('Pierre S'!$G41="EX",3,IF('Pierre S'!$G41="BN",1,"0")) -> 0 | AJ42: =IF(Reda!$G41="EX",3,IF(Reda!$G41="BN",1,"0")) -> 0 | AK42: =IF(Renaud!$G41="EX",3,IF(Renaud!$G41="BN",1,"0")) -> 0 | AL42: =IF(Romaric!$G41="EX",3,IF(Romaric!$G41="BN",1,"0")) -> 0 | AM42: =IF(Soline!$G41="EX",3,IF(Soline!$G41="BN",1,"0")) -> 0 | AN42: =IF(Timo!$G41="EX",3,IF(Timo!$G41="BN",1,"0")) -> 0 | AO42: =IF(Vanessa!$G41="EX",3,IF(Vanessa!$G41="BN",1,"0")) -> 0 | AP42: =IF(Samy!G41="EX",3,IF(Samy!G41="BN",1,"0")) -> 0 | AQ42: =IF(Hypo!G41="EX",3,IF(Hypo!G41="BN",1,"0")) -> 0 | AR42: =IF(Bastien!G41="EX",3,IF(Bastien!G41="BN",1,"0")) -> 0 | AS42: =IF(Guillaume!G41="EX",3,IF(Guillaume!G41="BN",1,"0")) -> 0 | AT42: =IF(Arthur!G41="EX",3,IF(Arthur!G41="BN",1,"0")) -> 0 | AU42: =IF(Andrea!G41="EX",3,IF(Andrea!G41="BN",1,"0")) -> 0
A43: 44888 | B43: 0.45833333 | C43: Maroc | F43: Croatie | I43: =IF(Adrien!G42="EX",3,IF(Adrien!G42="BN",1,"0")) -> 0 | J43: =IF(Amine!G42="EX",3,IF(Amine!G42="BN",1,"0")) -> 0 | K43: =IF(Anas!G42="EX",3,IF(Anas!G42="BN",1,"0")) -> 0 | L43: =IF(Antoine!G42="EX",3,IF(Antoine!G42="BN",1,"0")) -> 0 | M43: =IF(Arezou!G42="EX",3,IF(Arezou!G42="BN",1,"0")) -> 0 | N43: =IF(Arnaud!$G42="EX",3,IF(Arnaud!$G42="BN",1,"0")) -> 0 | O43: =IF(Chloe!$G42="EX",3,IF(Chloe!$G42="BN",1,"0")) -> 0 | P43: =IF(Dan!$G42="EX",3,IF(Dan!$G42="BN",1,"0")) -> 0 | Q43: =IF(David!$G42="EX",3,IF(David!$G42="BN",1,"0")) -> 0 | R43: =IF(Dom!$G42="EX",3,IF(Dom!$G42="BN",1,"0")) -> 0 | S43: =IF(Dusan!$G42="EX",3,IF(Dusan!$G42="BN",1,"0")) -> 0 | T43: =IF(Dylan!$G42="EX",3,IF(Dylan!$G42="BN",1,"0")) -> 0 | U43: =IF(Fred!$G42="EX",3,IF(Fred!$G42="BN",1,"0")) -> 0 | V43: =IF(Hamama!$G42="EX",3,IF(Hamama!$G42="BN",1,"0")) -> 0 | W43: =IF('Jean Marie'!G42="EX",3,IF('Jean Marie'!G42="BN",1,"0")) -> 0 | X43: =IF('Jonathan B'!G42="EX",3,IF('Jonathan B'!$G42="BN",1,"0")) -> 0 | Y43: =IF('Jonathan M'!G42="EX",3,IF('Jonathan M'!$G42="BN",1,"0")) -> 0 | Z43: =IF(José!$G42="EX",3,IF(José!$G42="BN",1,"0")) -> 0 | AA43: =IF(Julie!$G42="EX",3,IF(Julie!$G42="BN",1,"0")) -> 0 | AB43: =IF(Julien!$G42="EX",3,IF(Julien!$G42="BN",1,"0")) -> 0 | AC43: =IF(Killian!$G42="EX",3,IF(Killian!$G42="BN",1,"0")) -> 0 | AD43: =IF(Lahcen!$G42="EX",3,IF(Lahcen!$G42="BN",1,"0")) -> 0 | AE43: =IF(Lucien!$G42="EX",3,IF(Lucien!$G42="BN",1,"0")) -> 0 | AF43: =IF(Mickael!$G42="EX",3,IF(Mickael!$G42="BN",1,"0")) -> 0 | AG43: =IF(Nazrin!$G42="EX",3,IF(Nazrin!$G42="BN",1,"0")) -> 0 | AH43: =IF('Patrick F'!$G42="EX",3,IF('Patrick F'!$G42="BN",1,"0")) -> 0 | AI43: =IF('Pierre S'!$G42="EX",3,IF('Pierre S'!$G42="BN",1,"0")) -> 0 | AJ43: =IF(Reda!$G42="EX",3,IF(Reda!$G42="BN",1,"0")) -> 0 | AK43: =IF(Renaud!$G42="EX",3,IF(Renaud!$G42="BN",1,"0")) -> 0 | AL43: =IF(Romaric!$G42="EX",3,IF(Romaric!$G42="BN",1,"0")) -> 0 | AM43: =IF(Soline!$G42="EX",3,IF(Soline!$G42="BN",1,"0")) -> 0 | AN43: =IF(Timo!$G42="EX",3,IF(Timo!$G42="BN",1,"0")) -> 0 | AO43: =IF(Vanessa!$G42="EX",3,IF(Vanessa!$G42="BN",1,"0")) -> 0 | AP43: =IF(Samy!G42="EX",3,IF(Samy!G42="BN",1,"0")) -> 0 | AQ43: =IF(Hypo!G42="EX",3,IF(Hypo!G42="BN",1,"0")) -> 0 | AR43: =IF(Bastien!G42="EX",3,IF(Bastien!G42="BN",1,"0")) -> 0 | AS43: =IF(Guillaume!G42="EX",3,IF(Guillaume!G42="BN",1,"0")) -> 0 | AT43: =IF(Arthur!G42="EX",3,IF(Arthur!G42="BN",1,"0")) -> 0 | AU43: =IF(Andrea!G42="EX",3,IF(Andrea!G42="BN",1,"0")) -> 0
A44: 44888 | B44: 0.83333333 | C44: Belgique | F44: Canada | I44: =IF(Adrien!G43="EX",3,IF(Adrien!G43="BN",1,"0")) -> 0 | J44: =IF(Amine!G43="EX",3,IF(Amine!G43="BN",1,"0")) -> 0 | K44: =IF(Anas!G43="EX",3,IF(Anas!G43="BN",1,"0")) -> 0 | L44: =IF(Antoine!G43="EX",3,IF(Antoine!G43="BN",1,"0")) -> 0 | M44: =IF(Arezou!G43="EX",3,IF(Arezou!G43="BN",1,"0")) -> 0 | N44: =IF(Arnaud!$G43="EX",3,IF(Arnaud!$G43="BN",1,"0")) -> 0 | O44: =IF(Chloe!$G43="EX",3,IF(Chloe!$G43="BN",1,"0")) -> 0 | P44: =IF(Dan!$G43="EX",3,IF(Dan!$G43="BN",1,"0")) -> 0 | Q44: =IF(David!$G43="EX",3,IF(David!$G43="BN",1,"0")) -> 0 | R44: =IF(Dom!$G43="EX",3,IF(Dom!$G43="BN",1,"0")) -> 0 | S44: =IF(Dusan!$G43="EX",3,IF(Dusan!$G43="BN",1,"0")) -> 0 | T44: =IF(Dylan!$G43="EX",3,IF(Dylan!$G43="BN",1,"0")) -> 0 | U44: =IF(Fred!$G43="EX",3,IF(Fred!$G43="BN",1,"0")) -> 0 | V44: =IF(Hamama!$G43="EX",3,IF(Hamama!$G43="BN",1,"0")) -> 0 | W44: =IF('Jean Marie'!G43="EX",3,IF('Jean Marie'!G43="BN",1,"0")) -> 0 | X44: =IF('Jonathan B'!G43="EX",3,IF('Jonathan B'!$G43="BN",1,"0")) -> 0 | Y44: =IF('Jonathan M'!G43="EX",3,IF('Jonathan M'!$G43="BN",1,"0")) -> 0 | Z44: =IF(José!$G43="EX",3,IF(José!$G43="BN",1,"0")) -> 0 | AA44: =IF(Julie!$G43="EX",3,IF(Julie!$G43="BN",1,"0")) -> 0 | AB44: =IF(Julien!$G43="EX",3,IF(Julien!$G43="BN",1,"0")) -> 0 | AC44: =IF(Killian!$G43="EX",3,IF(Killian!$G43="BN",1,"0")) -> 0 | AD44: =IF(Lahcen!$G43="EX",3,IF(Lahcen!$G43="BN",1,"0")) -> 0 | AE44: =IF(Lucien!$G43="EX",3,IF(Lucien!$G43="BN",1,"0")) -> 0 | AF44: =IF(Mickael!$G43="EX",3,IF(Mickael!$G43="BN",1,"0")) -> 0 | AG44: =IF(Nazrin!$G43="EX",3,IF(Nazrin!$G43="BN",1,"0")) -> 0 | AH44: =IF('Patrick F'!$G43="EX",3,IF('Patrick F'!$G43="BN",1,"0")) -> 0 | AI44: =IF('Pierre S'!$G43="EX",3,IF('Pierre S'!$G43="BN",1,"0")) -> 0 | AJ44: =IF(Reda!$G43="EX",3,IF(Reda!$G43="BN",1,"0")) -> 0 | AK44: =IF(Renaud!$G43="EX",3,IF(Renaud!$G43="BN",1,"0")) -> 0 | AL44: =IF(Romaric!$G43="EX",3,IF(Romaric!$G43="BN",1,"0")) -> 0 | AM44: =IF(Soline!$G43="EX",3,IF(Soline!$G43="BN",1,"0")) -> 0 | AN44: =IF(Timo!$G43="EX",3,IF(Timo!$G43="BN",1,"0")) -> 0 | AO44: =IF(Vanessa!$G43="EX",3,IF(Vanessa!$G43="BN",1,"0")) -> 0 | AP44: =IF(Samy!G43="EX",3,IF(Samy!G43="BN",1,"0")) -> 0 | AQ44: =IF(Hypo!G43="EX",3,IF(Hypo!G43="BN",1,"0")) -> 0 | AR44: =IF(Bastien!G43="EX",3,IF(Bastien!G43="BN",1,"0")) -> 0 | AS44: =IF(Guillaume!G43="EX",3,IF(Guillaume!G43="BN",1,"0")) -> 0 | AT44: =IF(Arthur!G43="EX",3,IF(Arthur!G43="BN",1,"0")) -> 0 | AU44: =IF(Andrea!G43="EX",3,IF(Andrea!G43="BN",1,"0")) -> 0
A45: 44892 | B45: 0.70833333 | C45: =F44 -> Canada | F45: =F43 -> Croatie | I45: =IF(Adrien!G44="EX",3,IF(Adrien!G44="BN",1,"0")) -> 0 | J45: =IF(Amine!G44="EX",3,IF(Amine!G44="BN",1,"0")) -> 0 | K45: =IF(Anas!G44="EX",3,IF(Anas!G44="BN",1,"0")) -> 0 | L45: =IF(Antoine!G44="EX",3,IF(Antoine!G44="BN",1,"0")) -> 0 | M45: =IF(Arezou!G44="EX",3,IF(Arezou!G44="BN",1,"0")) -> 0 | N45: =IF(Arnaud!$G44="EX",3,IF(Arnaud!$G44="BN",1,"0")) -> 0 | O45: =IF(Chloe!$G44="EX",3,IF(Chloe!$G44="BN",1,"0")) -> 0 | P45: =IF(Dan!$G44="EX",3,IF(Dan!$G44="BN",1,"0")) -> 0 | Q45: =IF(David!$G44="EX",3,IF(David!$G44="BN",1,"0")) -> 0 | R45: =IF(Dom!$G44="EX",3,IF(Dom!$G44="BN",1,"0")) -> 0 | S45: =IF(Dusan!$G44="EX",3,IF(Dusan!$G44="BN",1,"0")) -> 0 | T45: =IF(Dylan!$G44="EX",3,IF(Dylan!$G44="BN",1,"0")) -> 0 | U45: =IF(Fred!$G44="EX",3,IF(Fred!$G44="BN",1,"0")) -> 0 | V45: =IF(Hamama!$G44="EX",3,IF(Hamama!$G44="BN",1,"0")) -> 0 | W45: =IF('Jean Marie'!G44="EX",3,IF('Jean Marie'!G44="BN",1,"0")) -> 0 | X45: =IF('Jonathan B'!G44="EX",3,IF('Jonathan B'!$G44="BN",1,"0")) -> 0 | Y45: =IF('Jonathan M'!G44="EX",3,IF('Jonathan M'!$G44="BN",1,"0")) -> 0 | Z45: =IF(José!$G44="EX",3,IF(José!$G44="BN",1,"0")) -> 0 | AA45: =IF(Julie!$G44="EX",3,IF(Julie!$G44="BN",1,"0")) -> 0 | AB45: =IF(Julien!$G44="EX",3,IF(Julien!$G44="BN",1,"0")) -> 0 | AC45: =IF(Killian!$G44="EX",3,IF(Killian!$G44="BN",1,"0")) -> 0 | AD45: =IF(Lahcen!$G44="EX",3,IF(Lahcen!$G44="BN",1,"0")) -> 0 | AE45: =IF(Lucien!$G44="EX",3,IF(Lucien!$G44="BN",1,"0")) -> 0 | AF45: =IF(Mickael!$G44="EX",3,IF(Mickael!$G44="BN",1,"0")) -> 0 | AG45: =IF(Nazrin!$G44="EX",3,IF(Nazrin!$G44="BN",1,"0")) -> 0 | AH45: =IF('Patrick F'!$G44="EX",3,IF('Patrick F'!$G44="BN",1,"0")) -> 0 | AI45: =IF('Pierre S'!$G44="EX",3,IF('Pierre S'!$G44="BN",1,"0")) -> 0 | AJ45: =IF(Reda!$G44="EX",3,IF(Reda!$G44="BN",1,"0")) -> 0 | AK45: =IF(Renaud!$G44="EX",3,IF(Renaud!$G44="BN",1,"0")) -> 0 | AL45: =IF(Romaric!$G44="EX",3,IF(Romaric!$G44="BN",1,"0")) -> 0 | AM45: =IF(Soline!$G44="EX",3,IF(Soline!$G44="BN",1,"0")) -> 0 | AN45: =IF(Timo!$G44="EX",3,IF(Timo!$G44="BN",1,"0")) -> 0 | AO45: =IF(Vanessa!$G44="EX",3,IF(Vanessa!$G44="BN",1,"0")) -> 0 | AP45: =IF(Samy!G44="EX",3,IF(Samy!G44="BN",1,"0")) -> 0 | AQ45: =IF(Hypo!G44="EX",3,IF(Hypo!G44="BN",1,"0")) -> 0 | AR45: =IF(Bastien!G44="EX",3,IF(Bastien!G44="BN",1,"0")) -> 0 | AS45: =IF(Guillaume!G44="EX",3,IF(Guillaume!G44="BN",1,"0")) -> 0 | AT45: =IF(Arthur!G44="EX",3,IF(Arthur!G44="BN",1,"0")) -> 0 | AU45: =IF(Andrea!G44="EX",3,IF(Andrea!G44="BN",1,"0")) -> 0
A46: 44892 | B46: 0.58333333 | C46: =C43 -> Maroc | F46: =C44 -> Belgique | I46: =IF(Adrien!G45="EX",3,IF(Adrien!G45="BN",1,"0")) -> 0 | J46: =IF(Amine!G45="EX",3,IF(Amine!G45="BN",1,"0")) -> 0 | K46: =IF(Anas!G45="EX",3,IF(Anas!G45="BN",1,"0")) -> 0 | L46: =IF(Antoine!G45="EX",3,IF(Antoine!G45="BN",1,"0")) -> 0 | M46: =IF(Arezou!G45="EX",3,IF(Arezou!G45="BN",1,"0")) -> 0 | N46: =IF(Arnaud!$G45="EX",3,IF(Arnaud!$G45="BN",1,"0")) -> 0 | O46: =IF(Chloe!$G45="EX",3,IF(Chloe!$G45="BN",1,"0")) -> 0 | P46: =IF(Dan!$G45="EX",3,IF(Dan!$G45="BN",1,"0")) -> 0 | Q46: =IF(David!$G45="EX",3,IF(David!$G45="BN",1,"0")) -> 0 | R46: =IF(Dom!$G45="EX",3,IF(Dom!$G45="BN",1,"0")) -> 0 | S46: =IF(Dusan!$G45="EX",3,IF(Dusan!$G45="BN",1,"0")) -> 0 | T46: =IF(Dylan!$G45="EX",3,IF(Dylan!$G45="BN",1,"0")) -> 0 | U46: =IF(Fred!$G45="EX",3,IF(Fred!$G45="BN",1,"0")) -> 0 | V46: =IF(Hamama!$G45="EX",3,IF(Hamama!$G45="BN",1,"0")) -> 0 | W46: =IF('Jean Marie'!G45="EX",3,IF('Jean Marie'!G45="BN",1,"0")) -> 0 | X46: =IF('Jonathan B'!G45="EX",3,IF('Jonathan B'!$G45="BN",1,"0")) -> 0 | Y46: =IF('Jonathan M'!G45="EX",3,IF('Jonathan M'!$G45="BN",1,"0")) -> 0 | Z46: =IF(José!$G45="EX",3,IF(José!$G45="BN",1,"0")) -> 0 | AA46: =IF(Julie!$G45="EX",3,IF(Julie!$G45="BN",1,"0")) -> 0 | AB46: =IF(Julien!$G45="EX",3,IF(Julien!$G45="BN",1,"0")) -> 0 | AC46: =IF(Killian!$G45="EX",3,IF(Killian!$G45="BN",1,"0")) -> 0 | AD46: =IF(Lahcen!$G45="EX",3,IF(Lahcen!$G45="BN",1,"0")) -> 0 | AE46: =IF(Lucien!$G45="EX",3,IF(Lucien!$G45="BN",1,"0")) -> 0 | AF46: =IF(Mickael!$G45="EX",3,IF(Mickael!$G45="BN",1,"0")) -> 0 | AG46: =IF(Nazrin!$G45="EX",3,IF(Nazrin!$G45="BN",1,"0")) -> 0 | AH46: =IF('Patrick F'!$G45="EX",3,IF('Patrick F'!$G45="BN",1,"0")) -> 0 | AI46: =IF('Pierre S'!$G45="EX",3,IF('Pierre S'!$G45="BN",1,"0")) -> 0 | AJ46: =IF(Reda!$G45="EX",3,IF(Reda!$G45="BN",1,"0")) -> 0 | AK46: =IF(Renaud!$G45="EX",3,IF(Renaud!$G45="BN",1,"0")) -> 0 | AL46: =IF(Romaric!$G45="EX",3,IF(Romaric!$G45="BN",1,"0")) -> 0 | AM46: =IF(Soline!$G45="EX",3,IF(Soline!$G45="BN",1,"0")) -> 0 | AN46: =IF(Timo!$G45="EX",3,IF(Timo!$G45="BN",1,"0")) -> 0 | AO46: =IF(Vanessa!$G45="EX",3,IF(Vanessa!$G45="BN",1,"0")) -> 0 | AP46: =IF(Samy!G45="EX",3,IF(Samy!G45="BN",1,"0")) -> 0 | AQ46: =IF(Hypo!G45="EX",3,IF(Hypo!G45="BN",1,"0")) -> 0 | AR46: =IF(Bastien!G45="EX",3,IF(Bastien!G45="BN",1,"0")) -> 0 | AS46: =IF(Guillaume!G45="EX",3,IF(Guillaume!G45="BN",1,"0")) -> 0 | AT46: =IF(Arthur!G45="EX",3,IF(Arthur!G45="BN",1,"0")) -> 0 | AU46: =IF(Andrea!G45="EX",3,IF(Andrea!G45="BN",1,"0")) -> 0
A47: 44896 | B47: 0.66666667 | C47: =F44 -> Canada | F47: =C43 -> Maroc | I47: =IF(Adrien!G46="EX",3,IF(Adrien!G46="BN",1,"0")) -> 0 | J47: =IF(Amine!G46="EX",3,IF(Amine!G46="BN",1,"0")) -> 0 | K47: =IF(Anas!G46="EX",3,IF(Anas!G46="BN",1,"0")) -> 0 | L47: =IF(Antoine!G46="EX",3,IF(Antoine!G46="BN",1,"0")) -> 0 | M47: =IF(Arezou!G46="EX",3,IF(Arezou!G46="BN",1,"0")) -> 0 | N47: =IF(Arnaud!$G46="EX",3,IF(Arnaud!$G46="BN",1,"0")) -> 0 | O47: =IF(Chloe!$G46="EX",3,IF(Chloe!$G46="BN",1,"0")) -> 0 | P47: =IF(Dan!$G46="EX",3,IF(Dan!$G46="BN",1,"0")) -> 0 | Q47: =IF(David!$G46="EX",3,IF(David!$G46="BN",1,"0")) -> 0 | R47: =IF(Dom!$G46="EX",3,IF(Dom!$G46="BN",1,"0")) -> 0 | S47: =IF(Dusan!$G46="EX",3,IF(Dusan!$G46="BN",1,"0")) -> 0 | T47: =IF(Dylan!$G46="EX",3,IF(Dylan!$G46="BN",1,"0")) -> 0 | U47: =IF(Fred!$G46="EX",3,IF(Fred!$G46="BN",1,"0")) -> 0 | V47: =IF(Hamama!$G46="EX",3,IF(Hamama!$G46="BN",1,"0")) -> 0 | W47: =IF('Jean Marie'!G46="EX",3,IF('Jean Marie'!G46="BN",1,"0")) -> 0 | X47: =IF('Jonathan B'!G46="EX",3,IF('Jonathan B'!$G46="BN",1,"0")) -> 0 | Y47: =IF('Jonathan M'!G46="EX",3,IF('Jonathan M'!$G46="BN",1,"0")) -> 0 | Z47: =IF(José!$G46="EX",3,IF(José!$G46="BN",1,"0")) -> 0 | AA47: =IF(Julie!$G46="EX",3,IF(Julie!$G46="BN",1,"0")) -> 0 | AB47: =IF(Julien!$G46="EX",3,IF(Julien!$G46="BN",1,"0")) -> 0 | AC47: =IF(Killian!$G46="EX",3,IF(Killian!$G46="BN",1,"0")) -> 0 | AD47: =IF(Lahcen!$G46="EX",3,IF(Lahcen!$G46="BN",1,"0")) -> 0 | AE47: =IF(Lucien!$G46="EX",3,IF(Lucien!$G46="BN",1,"0")) -> 0 | AF47: =IF(Mickael!$G46="EX",3,IF(Mickael!$G46="BN",1,"0")) -> 0 | AG47: =IF(Nazrin!$G46="EX",3,IF(Nazrin!$G46="BN",1,"0")) -> 0 | AH47: =IF('Patrick F'!$G46="EX",3,IF('Patrick F'!$G46="BN",1,"0")) -> 0 | AI47: =IF('Pierre S'!$G46="EX",3,IF('Pierre S'!$G46="BN",1,"0")) -> 0 | AJ47: =IF(Reda!$G46="EX",3,IF(Reda!$G46="BN",1,"0")) -> 0 | AK47: =IF(Renaud!$G46="EX",3,IF(Renaud!$G46="BN",1,"0")) -> 0 | AL47: =IF(Romaric!$G46="EX",3,IF(Romaric!$G46="BN",1,"0")) -> 0 | AM47: =IF(Soline!$G46="EX",3,IF(Soline!$G46="BN",1,"0")) -> 0 | AN47: =IF(Timo!$G46="EX",3,IF(Timo!$G46="BN",1,"0")) -> 0 | AO47: =IF(Vanessa!$G46="EX",3,IF(Vanessa!$G46="BN",1,"0")) -> 0 | AP47: =IF(Samy!G46="EX",3,IF(Samy!G46="BN",1,"0")) -> 0 | AQ47: =IF(Hypo!G46="EX",3,IF(Hypo!G46="BN",1,"0")) -> 0 | AR47: =IF(Bastien!G46="EX",3,IF(Bastien!G46="BN",1,"0")) -> 0 | AS47: =IF(Guillaume!G46="EX",3,IF(Guillaume!G46="BN",1,"0")) -> 0 | AT47: =IF(Arthur!G46="EX",3,IF(Arthur!G46="BN",1,"0")) -> 0 | AU47: =IF(Andrea!G46="EX",3,IF(Andrea!G46="BN",1,"0")) -> 0
A48: 44896 | B48: 0.66666667 | C48: =F43 -> Croatie | F48: =C44 -> Belgique | I48: =IF(Adrien!G47="EX",3,IF(Adrien!G47="BN",1,"0")) -> 0 | J48: =IF(Amine!G47="EX",3,IF(Amine!G47="BN",1,"0")) -> 0 | K48: =IF(Anas!G47="EX",3,IF(Anas!G47="BN",1,"0")) -> 0 | L48: =IF(Antoine!G47="EX",3,IF(Antoine!G47="BN",1,"0")) -> 0 | M48: =IF(Arezou!G47="EX",3,IF(Arezou!G47="BN",1,"0")) -> 0 | N48: =IF(Arnaud!$G47="EX",3,IF(Arnaud!$G47="BN",1,"0")) -> 0 | O48: =IF(Chloe!$G47="EX",3,IF(Chloe!$G47="BN",1,"0")) -> 0 | P48: =IF(Dan!$G47="EX",3,IF(Dan!$G47="BN",1,"0")) -> 0 | Q48: =IF(David!$G47="EX",3,IF(David!$G47="BN",1,"0")) -> 0 | R48: =IF(Dom!$G47="EX",3,IF(Dom!$G47="BN",1,"0")) -> 0 | S48: =IF(Dusan!$G47="EX",3,IF(Dusan!$G47="BN",1,"0")) -> 0 | T48: =IF(Dylan!$G47="EX",3,IF(Dylan!$G47="BN",1,"0")) -> 0 | U48: =IF(Fred!$G47="EX",3,IF(Fred!$G47="BN",1,"0")) -> 0 | V48: =IF(Hamama!$G47="EX",3,IF(Hamama!$G47="BN",1,"0")) -> 0 | W48: =IF('Jean Marie'!G47="EX",3,IF('Jean Marie'!G47="BN",1,"0")) -> 0 | X48: =IF('Jonathan B'!G47="EX",3,IF('Jonathan B'!$G47="BN",1,"0")) -> 0 | Y48: =IF('Jonathan M'!G47="EX",3,IF('Jonathan M'!$G47="BN",1,"0")) -> 0 | Z48: =IF(José!$G47="EX",3,IF(José!$G47="BN",1,"0")) -> 0 | AA48: =IF(Julie!$G47="EX",3,IF(Julie!$G47="BN",1,"0")) -> 0 | AB48: =IF(Julien!$G47="EX",3,IF(Julien!$G47="BN",1,"0")) -> 0 | AC48: =IF(Killian!$G47="EX",3,IF(Killian!$G47="BN",1,"0")) -> 0 | AD48: =IF(Lahcen!$G47="EX",3,IF(Lahcen!$G47="BN",1,"0")) -> 0 | AE48: =IF(Lucien!$G47="EX",3,IF(Lucien!$G47="BN",1,"0")) -> 0 | AF48: =IF(Mickael!$G47="EX",3,IF(Mickael!$G47="BN",1,"0")) -> 0 | AG48: =IF(Nazrin!$G47="EX",3,IF(Nazrin!$G47="BN",1,"0")) -> 0 | AH48: =IF('Patrick F'!$G47="EX",3,IF('Patrick F'!$G47="BN",1,"0")) -> 0 | AI48: =IF('Pierre S'!$G47="EX",3,IF('Pierre S'!$G47="BN",1,"0")) -> 0 | AJ48: =IF(Reda!$G47="EX",3,IF(Reda!$G47="BN",1,"0")) -> 0 | AK48: =IF(Renaud!$G47="EX",3,IF(Renaud!$G47="BN",1,"0")) -> 0 | AL48: =IF(Romaric!$G47="EX",3,IF(Romaric!$G47="BN",1,"0")) -> 0 | AM48: =IF(Soline!$G47="EX",3,IF(Soline!$G47="BN",1,"0")) -> 0 | AN48: =IF(Timo!$G47="EX",3,IF(Timo!$G47="BN",1,"0")) -> 0 | AO48: =IF(Vanessa!$G47="EX",3,IF(Vanessa!$G47="BN",1,"0")) -> 0 | AP48: =IF(Samy!G47="EX",3,IF(Samy!G47="BN",1,"0")) -> 0 | AQ48: =IF(Hypo!G47="EX",3,IF(Hypo!G47="BN",1,"0")) -> 0 | AR48: =IF(Bastien!G47="EX",3,IF(Bastien!G47="BN",1,"0")) -> 0 | AS48: =IF(Guillaume!G47="EX",3,IF(Guillaume!G47="BN",1,"0")) -> 0 | AT48: =IF(Arthur!G47="EX",3,IF(Arthur!G47="BN",1,"0")) -> 0 | AU48: =IF(Andrea!G47="EX",3,IF(Andrea!G47="BN",1,"0")) -> 0
I49: =IF(Adrien!G48="EX",3,IF(Adrien!G48="BN",1,"0")) -> 0 | J49: =IF(Amine!G48="EX",3,IF(Amine!G48="BN",1,"0")) -> 0 | K49: =IF(Anas!G48="EX",3,IF(Anas!G48="BN",1,"0")) -> 0 | L49: =IF(Antoine!G48="EX",3,IF(Antoine!G48="BN",1,"0")) -> 0 | M49: =IF(Arezou!G48="EX",3,IF(Arezou!G48="BN",1,"0")) -> 0 | N49: =IF(Arnaud!$G48="EX",3,IF(Arnaud!$G48="BN",1,"0")) -> 0 | O49: =IF(Chloe!$G48="EX",3,IF(Chloe!$G48="BN",1,"0")) -> 0 | P49: =IF(Dan!$G48="EX",3,IF(Dan!$G48="BN",1,"0")) -> 0 | Q49: =IF(David!$G48="EX",3,IF(David!$G48="BN",1,"0")) -> 0 | R49: =IF(Dom!$G48="EX",3,IF(Dom!$G48="BN",1,"0")) -> 0 | S49: =IF(Dusan!$G48="EX",3,IF(Dusan!$G48="BN",1,"0")) -> 0 | T49: =IF(Dylan!$G48="EX",3,IF(Dylan!$G48="BN",1,"0")) -> 0 | U49: =IF(Fred!$G48="EX",3,IF(Fred!$G48="BN",1,"0")) -> 0 | V49: =IF(Hamama!$G48="EX",3,IF(Hamama!$G48="BN",1,"0")) -> 0 | W49: =IF('Jean Marie'!G48="EX",3,IF('Jean Marie'!G48="BN",1,"0")) -> 0 | X49: =IF('Jonathan B'!G48="EX",3,IF('Jonathan B'!$G48="BN",1,"0")) -> 0 | Y49: =IF('Jonathan M'!G48="EX",3,IF('Jonathan M'!$G48="BN",1,"0")) -> 0 | Z49: =IF(José!$G48="EX",3,IF(José!$G48="BN",1,"0")) -> 0 | AA49: =IF(Julie!$G48="EX",3,IF(Julie!$G48="BN",1,"0")) -> 0 | AB49: =IF(Julien!$G48="EX",3,IF(Julien!$G48="BN",1,"0")) -> 0 | AC49: =IF(Killian!$G48="EX",3,IF(Killian!$G48="BN",1,"0")) -> 0 | AD49: =IF(Lahcen!$G48="EX",3,IF(Lahcen!$G48="BN",1,"0")) -> 0 | AE49: =IF(Lucien!$G48="EX",3,IF(Lucien!$G48="BN",1,"0")) -> 0 | AF49: =IF(Mickael!$G48="EX",3,IF(Mickael!$G48="BN",1,"0")) -> 0 | AG49: =IF(Nazrin!$G48="EX",3,IF(Nazrin!$G48="BN",1,"0")) -> 0 | AH49: =IF('Patrick F'!$G48="EX",3,IF('Patrick F'!$G48="BN",1,"0")) -> 0 | AI49: =IF('Pierre S'!$G48="EX",3,IF('Pierre S'!$G48="BN",1,"0")) -> 0 | AJ49: =IF(Reda!$G48="EX",3,IF(Reda!$G48="BN",1,"0")) -> 0 | AK49: =IF(Renaud!$G48="EX",3,IF(Renaud!$G48="BN",1,"0")) -> 0 | AL49: =IF(Romaric!$G48="EX",3,IF(Romaric!$G48="BN",1,"0")) -> 0 | AM49: =IF(Soline!$G48="EX",3,IF(Soline!$G48="BN",1,"0")) -> 0 | AN49: =IF(Timo!$G48="EX",3,IF(Timo!$G48="BN",1,"0")) -> 0 | AO49: =IF(Vanessa!$G48="EX",3,IF(Vanessa!$G48="BN",1,"0")) -> 0 | AP49: =IF(Samy!G48="EX",3,IF(Samy!G48="BN",1,"0")) -> 0 | AQ49: =IF(Hypo!G48="EX",3,IF(Hypo!G48="BN",1,"0")) -> 0 | AR49: =IF(Bastien!G48="EX",3,IF(Bastien!G48="BN",1,"0")) -> 0 | AS49: =IF(Guillaume!G48="EX",3,IF(Guillaume!G48="BN",1,"0")) -> 0 | AT49: =IF(Arthur!G48="EX",3,IF(Arthur!G48="BN",1,"0")) -> 0 | AU49: =IF(Andrea!G48="EX",3,IF(Andrea!G48="BN",1,"0")) -> 0
A50: Groupe G | I50: =IF(Adrien!G49="EX",3,IF(Adrien!G49="BN",1,"0")) -> 0 | J50: =IF(Amine!G49="EX",3,IF(Amine!G49="BN",1,"0")) -> 0 | K50: =IF(Anas!G49="EX",3,IF(Anas!G49="BN",1,"0")) -> 0 | L50: =IF(Antoine!G49="EX",3,IF(Antoine!G49="BN",1,"0")) -> 0 | M50: =IF(Arezou!G49="EX",3,IF(Arezou!G49="BN",1,"0")) -> 0 | N50: =IF(Arnaud!$G49="EX",3,IF(Arnaud!$G49="BN",1,"0")) -> 0 | O50: =IF(Chloe!$G49="EX",3,IF(Chloe!$G49="BN",1,"0")) -> 0 | P50: =IF(Dan!$G49="EX",3,IF(Dan!$G49="BN",1,"0")) -> 0 | Q50: =IF(David!$G49="EX",3,IF(David!$G49="BN",1,"0")) -> 0 | R50: =IF(Dom!$G49="EX",3,IF(Dom!$G49="BN",1,"0")) -> 0 | S50: =IF(Dusan!$G49="EX",3,IF(Dusan!$G49="BN",1,"0")) -> 0 | T50: =IF(Dylan!$G49="EX",3,IF(Dylan!$G49="BN",1,"0")) -> 0 | U50: =IF(Fred!$G49="EX",3,IF(Fred!$G49="BN",1,"0")) -> 0 | V50: =IF(Hamama!$G49="EX",3,IF(Hamama!$G49="BN",1,"0")) -> 0 | W50: =IF('Jean Marie'!G49="EX",3,IF('Jean Marie'!G49="BN",1,"0")) -> 0 | X50: =IF('Jonathan B'!G49="EX",3,IF('Jonathan B'!$G49="BN",1,"0")) -> 0 | Y50: =IF('Jonathan M'!G49="EX",3,IF('Jonathan M'!$G49="BN",1,"0")) -> 0 | Z50: =IF(José!$G49="EX",3,IF(José!$G49="BN",1,"0")) -> 0 | AA50: =IF(Julie!$G49="EX",3,IF(Julie!$G49="BN",1,"0")) -> 0 | AB50: =IF(Julien!$G49="EX",3,IF(Julien!$G49="BN",1,"0")) -> 0 | AC50: =IF(Killian!$G49="EX",3,IF(Killian!$G49="BN",1,"0")) -> 0 | AD50: =IF(Lahcen!$G49="EX",3,IF(Lahcen!$G49="BN",1,"0")) -> 0 | AE50: =IF(Lucien!$G49="EX",3,IF(Lucien!$G49="BN",1,"0")) -> 0 | AF50: =IF(Mickael!$G49="EX",3,IF(Mickael!$G49="BN",1,"0")) -> 0 | AG50: =IF(Nazrin!$G49="EX",3,IF(Nazrin!$G49="BN",1,"0")) -> 0 | AH50: =IF('Patrick F'!$G49="EX",3,IF('Patrick F'!$G49="BN",1,"0")) -> 0 | AI50: =IF('Pierre S'!$G49="EX",3,IF('Pierre S'!$G49="BN",1,"0")) -> 0 | AJ50: =IF(Reda!$G49="EX",3,IF(Reda!$G49="BN",1,"0")) -> 0 | AK50: =IF(Renaud!$G49="EX",3,IF(Renaud!$G49="BN",1,"0")) -> 0 | AL50: =IF(Romaric!$G49="EX",3,IF(Romaric!$G49="BN",1,"0")) -> 0 | AM50: =IF(Soline!$G49="EX",3,IF(Soline!$G49="BN",1,"0")) -> 0 | AN50: =IF(Timo!$G49="EX",3,IF(Timo!$G49="BN",1,"0")) -> 0 | AO50: =IF(Vanessa!$G49="EX",3,IF(Vanessa!$G49="BN",1,"0")) -> 0 | AP50: =IF(Samy!G49="EX",3,IF(Samy!G49="BN",1,"0")) -> 0 | AQ50: =IF(Hypo!G49="EX",3,IF(Hypo!G49="BN",1,"0")) -> 0 | AR50: =IF(Bastien!G49="EX",3,IF(Bastien!G49="BN",1,"0")) -> 0 | AS50: =IF(Guillaume!G49="EX",3,IF(Guillaume!G49="BN",1,"0")) -> 0 | AT50: =IF(Arthur!G49="EX",3,IF(Arthur!G49="BN",1,"0")) -> 0 | AU50: =IF(Andrea!G49="EX",3,IF(Andrea!G49="BN",1,"0")) -> 0
A51: 44889 | B51: 0.45833333 | C51: Suisse | F51: Cameroun | I51: =IF(Adrien!G50="EX",3,IF(Adrien!G50="BN",1,"0")) -> 0 | J51: =IF(Amine!G50="EX",3,IF(Amine!G50="BN",1,"0")) -> 0 | K51: =IF(Anas!G50="EX",3,IF(Anas!G50="BN",1,"0")) -> 0 | L51: =IF(Antoine!G50="EX",3,IF(Antoine!G50="BN",1,"0")) -> 0 | M51: =IF(Arezou!G50="EX",3,IF(Arezou!G50="BN",1,"0")) -> 0 | N51: =IF(Arnaud!$G50="EX",3,IF(Arnaud!$G50="BN",1,"0")) -> 0 | O51: =IF(Chloe!$G50="EX",3,IF(Chloe!$G50="BN",1,"0")) -> 0 | P51: =IF(Dan!$G50="EX",3,IF(Dan!$G50="BN",1,"0")) -> 0 | Q51: =IF(David!$G50="EX",3,IF(David!$G50="BN",1,"0")) -> 0 | R51: =IF(Dom!$G50="EX",3,IF(Dom!$G50="BN",1,"0")) -> 0 | S51: =IF(Dusan!$G50="EX",3,IF(Dusan!$G50="BN",1,"0")) -> 0 | T51: =IF(Dylan!$G50="EX",3,IF(Dylan!$G50="BN",1,"0")) -> 0 | U51: =IF(Fred!$G50="EX",3,IF(Fred!$G50="BN",1,"0")) -> 0 | V51: =IF(Hamama!$G50="EX",3,IF(Hamama!$G50="BN",1,"0")) -> 0 | W51: =IF('Jean Marie'!G50="EX",3,IF('Jean Marie'!G50="BN",1,"0")) -> 0 | X51: =IF('Jonathan B'!G50="EX",3,IF('Jonathan B'!$G50="BN",1,"0")) -> 0 | Y51: =IF('Jonathan M'!G50="EX",3,IF('Jonathan M'!$G50="BN",1,"0")) -> 0 | Z51: =IF(José!$G50="EX",3,IF(José!$G50="BN",1,"0")) -> 0 | AA51: =IF(Julie!$G50="EX",3,IF(Julie!$G50="BN",1,"0")) -> 0 | AB51: =IF(Julien!$G50="EX",3,IF(Julien!$G50="BN",1,"0")) -> 0 | AC51: =IF(Killian!$G50="EX",3,IF(Killian!$G50="BN",1,"0")) -> 0 | AD51: =IF(Lahcen!$G50="EX",3,IF(Lahcen!$G50="BN",1,"0")) -> 0 | AE51: =IF(Lucien!$G50="EX",3,IF(Lucien!$G50="BN",1,"0")) -> 0 | AF51: =IF(Mickael!$G50="EX",3,IF(Mickael!$G50="BN",1,"0")) -> 0 | AG51: =IF(Nazrin!$G50="EX",3,IF(Nazrin!$G50="BN",1,"0")) -> 0 | AH51: =IF('Patrick F'!$G50="EX",3,IF('Patrick F'!$G50="BN",1,"0")) -> 0 | AI51: =IF('Pierre S'!$G50="EX",3,IF('Pierre S'!$G50="BN",1,"0")) -> 0 | AJ51: =IF(Reda!$G50="EX",3,IF(Reda!$G50="BN",1,"0")) -> 0 | AK51: =IF(Renaud!$G50="EX",3,IF(Renaud!$G50="BN",1,"0")) -> 0 | AL51: =IF(Romaric!$G50="EX",3,IF(Romaric!$G50="BN",1,"0")) -> 0 | AM51: =IF(Soline!$G50="EX",3,IF(Soline!$G50="BN",1,"0")) -> 0 | AN51: =IF(Timo!$G50="EX",3,IF(Timo!$G50="BN",1,"0")) -> 0 | AO51: =IF(Vanessa!$G50="EX",3,IF(Vanessa!$G50="BN",1,"0")) -> 0 | AP51: =IF(Samy!G50="EX",3,IF(Samy!G50="BN",1,"0")) -> 0 | AQ51: =IF(Hypo!G50="EX",3,IF(Hypo!G50="BN",1,"0")) -> 0 | AR51: =IF(Bastien!G50="EX",3,IF(Bastien!G50="BN",1,"0")) -> 0 | AS51: =IF(Guillaume!G50="EX",3,IF(Guillaume!G50="BN",1,"0")) -> 0 | AT51: =IF(Arthur!G50="EX",3,IF(Arthur!G50="BN",1,"0")) -> 0 | AU51: =IF(Andrea!G50="EX",3,IF(Andrea!G50="BN",1,"0")) -> 0
A52: 44889 | B52: 0.83333333 | C52: Brésil | F52: Serbie | I52: =IF(Adrien!G51="EX",3,IF(Adrien!G51="BN",1,"0")) -> 0 | J52: =IF(Amine!G51="EX",3,IF(Amine!G51="BN",1,"0")) -> 0 | K52: =IF(Anas!G51="EX",3,IF(Anas!G51="BN",1,"0")) -> 0 | L52: =IF(Antoine!G51="EX",3,IF(Antoine!G51="BN",1,"0")) -> 0 | M52: =IF(Arezou!G51="EX",3,IF(Arezou!G51="BN",1,"0")) -> 0 | N52: =IF(Arnaud!$G51="EX",3,IF(Arnaud!$G51="BN",1,"0")) -> 0 | O52: =IF(Chloe!$G51="EX",3,IF(Chloe!$G51="BN",1,"0")) -> 0 | P52: =IF(Dan!$G51="EX",3,IF(Dan!$G51="BN",1,"0")) -> 0 | Q52: =IF(David!$G51="EX",3,IF(David!$G51="BN",1,"0")) -> 0 | R52: =IF(Dom!$G51="EX",3,IF(Dom!$G51="BN",1,"0")) -> 0 | S52: =IF(Dusan!$G51="EX",3,IF(Dusan!$G51="BN",1,"0")) -> 0 | T52: =IF(Dylan!$G51="EX",3,IF(Dylan!$G51="BN",1,"0")) -> 0 | U52: =IF(Fred!$G51="EX",3,IF(Fred!$G51="BN",1,"0")) -> 0 | V52: =IF(Hamama!$G51="EX",3,IF(Hamama!$G51="BN",1,"0")) -> 0 | W52: =IF('Jean Marie'!G51="EX",3,IF('Jean Marie'!G51="BN",1,"0")) -> 0 | X52: =IF('Jonathan B'!G51="EX",3,IF('Jonathan B'!$G51="BN",1,"0")) -> 0 | Y52: =IF('Jonathan M'!G51="EX",3,IF('Jonathan M'!$G51="BN",1,"0")) -> 0 | Z52: =IF(José!$G51="EX",3,IF(José!$G51="BN",1,"0")) -> 0 | AA52: =IF(Julie!$G51="EX",3,IF(Julie!$G51="BN",1,"0")) -> 0 | AB52: =IF(Julien!$G51="EX",3,IF(Julien!$G51="BN",1,"0")) -> 0 | AC52: =IF(Killian!$G51="EX",3,IF(Killian!$G51="BN",1,"0")) -> 0 | AD52: =IF(Lahcen!$G51="EX",3,IF(Lahcen!$G51="BN",1,"0")) -> 0 | AE52: =IF(Lucien!$G51="EX",3,IF(Lucien!$G51="BN",1,"0")) -> 0 | AF52: =IF(Mickael!$G51="EX",3,IF(Mickael!$G51="BN",1,"0")) -> 0 | AG52: =IF(Nazrin!$G51="EX",3,IF(Nazrin!$G51="BN",1,"0")) -> 0 | AH52: =IF('Patrick F'!$G51="EX",3,IF('Patrick F'!$G51="BN",1,"0")) -> 0 | AI52: =IF('Pierre S'!$G51="EX",3,IF('Pierre S'!$G51="BN",1,"0")) -> 0 | AJ52: =IF(Reda!$G51="EX",3,IF(Reda!$G51="BN",1,"0")) -> 0 | AK52: =IF(Renaud!$G51="EX",3,IF(Renaud!$G51="BN",1,"0")) -> 0 | AL52: =IF(Romaric!$G51="EX",3,IF(Romaric!$G51="BN",1,"0")) -> 0 | AM52: =IF(Soline!$G51="EX",3,IF(Soline!$G51="BN",1,"0")) -> 0 | AN52: =IF(Timo!$G51="EX",3,IF(Timo!$G51="BN",1,"0")) -> 0 | AO52: =IF(Vanessa!$G51="EX",3,IF(Vanessa!$G51="BN",1,"0")) -> 0 | AP52: =IF(Samy!G51="EX",3,IF(Samy!G51="BN",1,"0")) -> 0 | AQ52: =IF(Hypo!G51="EX",3,IF(Hypo!G51="BN",1,"0")) -> 0 | AR52: =IF(Bastien!G51="EX",3,IF(Bastien!G51="BN",1,"0")) -> 0 | AS52: =IF(Guillaume!G51="EX",3,IF(Guillaume!G51="BN",1,"0")) -> 0 | AT52: =IF(Arthur!G51="EX",3,IF(Arthur!G51="BN",1,"0")) -> 0 | AU52: =IF(Andrea!G51="EX",3,IF(Andrea!G51="BN",1,"0")) -> 0
A53: 44893 | B53: 0.70833333 | C53: =C51 -> Suisse | F53: =C52 -> Brésil | I53: =IF(Adrien!G52="EX",3,IF(Adrien!G52="BN",1,"0")) -> 0 | J53: =IF(Amine!G52="EX",3,IF(Amine!G52="BN",1,"0")) -> 0 | K53: =IF(Anas!G52="EX",3,IF(Anas!G52="BN",1,"0")) -> 0 | L53: =IF(Antoine!G52="EX",3,IF(Antoine!G52="BN",1,"0")) -> 0 | M53: =IF(Arezou!G52="EX",3,IF(Arezou!G52="BN",1,"0")) -> 0 | N53: =IF(Arnaud!$G52="EX",3,IF(Arnaud!$G52="BN",1,"0")) -> 0 | O53: =IF(Chloe!$G52="EX",3,IF(Chloe!$G52="BN",1,"0")) -> 0 | P53: =IF(Dan!$G52="EX",3,IF(Dan!$G52="BN",1,"0")) -> 0 | Q53: =IF(David!$G52="EX",3,IF(David!$G52="BN",1,"0")) -> 0 | R53: =IF(Dom!$G52="EX",3,IF(Dom!$G52="BN",1,"0")) -> 0 | S53: =IF(Dusan!$G52="EX",3,IF(Dusan!$G52="BN",1,"0")) -> 0 | T53: =IF(Dylan!$G52="EX",3,IF(Dylan!$G52="BN",1,"0")) -> 0 | U53: =IF(Fred!$G52="EX",3,IF(Fred!$G52="BN",1,"0")) -> 0 | V53: =IF(Hamama!$G52="EX",3,IF(Hamama!$G52="BN",1,"0")) -> 0 | W53: =IF('Jean Marie'!G52="EX",3,IF('Jean Marie'!G52="BN",1,"0")) -> 0 | X53: =IF('Jonathan B'!G52="EX",3,IF('Jonathan B'!$G52="BN",1,"0")) -> 0 | Y53: =IF('Jonathan M'!G52="EX",3,IF('Jonathan M'!$G52="BN",1,"0")) -> 0 | Z53: =IF(José!$G52="EX",3,IF(José!$G52="BN",1,"0")) -> 0 | AA53: =IF(Julie!$G52="EX",3,IF(Julie!$G52="BN",1,"0")) -> 0 | AB53: =IF(Julien!$G52="EX",3,IF(Julien!$G52="BN",1,"0")) -> 0 | AC53: =IF(Killian!$G52="EX",3,IF(Killian!$G52="BN",1,"0")) -> 0 | AD53: =IF(Lahcen!$G52="EX",3,IF(Lahcen!$G52="BN",1,"0")) -> 0 | AE53: =IF(Lucien!$G52="EX",3,IF(Lucien!$G52="BN",1,"0")) -> 0 | AF53: =IF(Mickael!$G52="EX",3,IF(Mickael!$G52="BN",1,"0")) -> 0 | AG53: =IF(Nazrin!$G52="EX",3,IF(Nazrin!$G52="BN",1,"0")) -> 0 | AH53: =IF('Patrick F'!$G52="EX",3,IF('Patrick F'!$G52="BN",1,"0")) -> 0 | AI53: =IF('Pierre S'!$G52="EX",3,IF('Pierre S'!$G52="BN",1,"0")) -> 0 | AJ53: =IF(Reda!$G52="EX",3,IF(Reda!$G52="BN",1,"0")) -> 0 | AK53: =IF(Renaud!$G52="EX",3,IF(Renaud!$G52="BN",1,"0")) -> 0 | AL53: =IF(Romaric!$G52="EX",3,IF(Romaric!$G52="BN",1,"0")) -> 0 | AM53: =IF(Soline!$G52="EX",3,IF(Soline!$G52="BN",1,"0")) -> 0 | AN53: =IF(Timo!$G52="EX",3,IF(Timo!$G52="BN",1,"0")) -> 0 | AO53: =IF(Vanessa!$G52="EX",3,IF(Vanessa!$G52="BN",1,"0")) -> 0 | AP53: =IF(Samy!G52="EX",3,IF(Samy!G52="BN",1,"0")) -> 0 | AQ53: =IF(Hypo!G52="EX",3,IF(Hypo!G52="BN",1,"0")) -> 0 | AR53: =IF(Bastien!G52="EX",3,IF(Bastien!G52="BN",1,"0")) -> 0 | AS53: =IF(Guillaume!G52="EX",3,IF(Guillaume!G52="BN",1,"0")) -> 0 | AT53: =IF(Arthur!G52="EX",3,IF(Arthur!G52="BN",1,"0")) -> 0 | AU53: =IF(Andrea!G52="EX",3,IF(Andrea!G52="BN",1,"0")) -> 0
A54: 44893 | B54: 0.45833333 | C54: =F52 -> Serbie | F54: =F51 -> Cameroun | I54: =IF(Adrien!G53="EX",3,IF(Adrien!G53="BN",1,"0")) -> 0 | J54: =IF(Amine!G53="EX",3,IF(Amine!G53="BN",1,"0")) -> 0 | K54: =IF(Anas!G53="EX",3,IF(Anas!G53="BN",1,"0")) -> 0 | L54: =IF(Antoine!G53="EX",3,IF(Antoine!G53="BN",1,"0")) -> 0 | M54: =IF(Arezou!G53="EX",3,IF(Arezou!G53="BN",1,"0")) -> 0 | N54: =IF(Arnaud!$G53="EX",3,IF(Arnaud!$G53="BN",1,"0")) -> 0 | O54: =IF(Chloe!$G53="EX",3,IF(Chloe!$G53="BN",1,"0")) -> 0 | P54: =IF(Dan!$G53="EX",3,IF(Dan!$G53="BN",1,"0")) -> 0 | Q54: =IF(David!$G53="EX",3,IF(David!$G53="BN",1,"0")) -> 0 | R54: =IF(Dom!$G53="EX",3,IF(Dom!$G53="BN",1,"0")) -> 0 | S54: =IF(Dusan!$G53="EX",3,IF(Dusan!$G53="BN",1,"0")) -> 0 | T54: =IF(Dylan!$G53="EX",3,IF(Dylan!$G53="BN",1,"0")) -> 0 | U54: =IF(Fred!$G53="EX",3,IF(Fred!$G53="BN",1,"0")) -> 0 | V54: =IF(Hamama!$G53="EX",3,IF(Hamama!$G53="BN",1,"0")) -> 0 | W54: =IF('Jean Marie'!G53="EX",3,IF('Jean Marie'!G53="BN",1,"0")) -> 0 | X54: =IF('Jonathan B'!G53="EX",3,IF('Jonathan B'!$G53="BN",1,"0")) -> 0 | Y54: =IF('Jonathan M'!G53="EX",3,IF('Jonathan M'!$G53="BN",1,"0")) -> 0 | Z54: =IF(José!$G53="EX",3,IF(José!$G53="BN",1,"0")) -> 0 | AA54: =IF(Julie!$G53="EX",3,IF(Julie!$G53="BN",1,"0")) -> 0 | AB54: =IF(Julien!$G53="EX",3,IF(Julien!$G53="BN",1,"0")) -> 0 | AC54: =IF(Killian!$G53="EX",3,IF(Killian!$G53="BN",1,"0")) -> 0 | AD54: =IF(Lahcen!$G53="EX",3,IF(Lahcen!$G53="BN",1,"0")) -> 0 | AE54: =IF(Lucien!$G53="EX",3,IF(Lucien!$G53="BN",1,"0")) -> 0 | AF54: =IF(Mickael!$G53="EX",3,IF(Mickael!$G53="BN",1,"0")) -> 0 | AG54: =IF(Nazrin!$G53="EX",3,IF(Nazrin!$G53="BN",1,"0")) -> 0 | AH54: =IF('Patrick F'!$G53="EX",3,IF('Patrick F'!$G53="BN",1,"0")) -> 0 | AI54: =IF('Pierre S'!$G53="EX",3,IF('Pierre S'!$G53="BN",1,"0")) -> 0 | AJ54: =IF(Reda!$G53="EX",3,IF(Reda!$G53="BN",1,"0")) -> 0 | AK54: =IF(Renaud!$G53="EX",3,IF(Renaud!$G53="BN",1,"0")) -> 0 | AL54: =IF(Romaric!$G53="EX",3,IF(Romaric!$G53="BN",1,"0")) -> 0 | AM54: =IF(Soline!$G53="EX",3,IF(Soline!$G53="BN",1,"0")) -> 0 | AN54: =IF(Timo!$G53="EX",3,IF(Timo!$G53="BN",1,"0")) -> 0 | AO54: =IF(Vanessa!$G53="EX",3,IF(Vanessa!$G53="BN",1,"0")) -> 0 | AP54: =IF(Samy!G53="EX",3,IF(Samy!G53="BN",1,"0")) -> 0 | AQ54: =IF(Hypo!G53="EX",3,IF(Hypo!G53="BN",1,"0")) -> 0 | AR54: =IF(Bastien!G53="EX",3,IF(Bastien!G53="BN",1,"0")) -> 0 | AS54: =IF(Guillaume!G53="EX",3,IF(Guillaume!G53="BN",1,"0")) -> 0 | AT54: =IF(Arthur!G53="EX",3,IF(Arthur!G53="BN",1,"0")) -> 0 | AU54: =IF(Andrea!G53="EX",3,IF(Andrea!G53="BN",1,"0")) -> 0
A55: 44897 | B55: 0.83333333 | C55: =F52 -> Serbie | F55: =C51 -> Suisse | I55: =IF(Adrien!G54="EX",3,IF(Adrien!G54="BN",1,"0")) -> 0 | J55: =IF(Amine!G54="EX",3,IF(Amine!G54="BN",1,"0")) -> 0 | K55: =IF(Anas!G54="EX",3,IF(Anas!G54="BN",1,"0")) -> 0 | L55: =IF(Antoine!G54="EX",3,IF(Antoine!G54="BN",1,"0")) -> 0 | M55: =IF(Arezou!G54="EX",3,IF(Arezou!G54="BN",1,"0")) -> 0 | N55: =IF(Arnaud!$G54="EX",3,IF(Arnaud!$G54="BN",1,"0")) -> 0 | O55: =IF(Chloe!$G54="EX",3,IF(Chloe!$G54="BN",1,"0")) -> 0 | P55: =IF(Dan!$G54="EX",3,IF(Dan!$G54="BN",1,"0")) -> 0 | Q55: =IF(David!$G54="EX",3,IF(David!$G54="BN",1,"0")) -> 0 | R55: =IF(Dom!$G54="EX",3,IF(Dom!$G54="BN",1,"0")) -> 0 | S55: =IF(Dusan!$G54="EX",3,IF(Dusan!$G54="BN",1,"0")) -> 0 | T55: =IF(Dylan!$G54="EX",3,IF(Dylan!$G54="BN",1,"0")) -> 0 | U55: =IF(Fred!$G54="EX",3,IF(Fred!$G54="BN",1,"0")) -> 0 | V55: =IF(Hamama!$G54="EX",3,IF(Hamama!$G54="BN",1,"0")) -> 0 | W55: =IF('Jean Marie'!G54="EX",3,IF('Jean Marie'!G54="BN",1,"0")) -> 0 | X55: =IF('Jonathan B'!G54="EX",3,IF('Jonathan B'!$G54="BN",1,"0")) -> 0 | Y55: =IF('Jonathan M'!G54="EX",3,IF('Jonathan M'!$G54="BN",1,"0")) -> 0 | Z55: =IF(José!$G54="EX",3,IF(José!$G54="BN",1,"0")) -> 0 | AA55: =IF(Julie!$G54="EX",3,IF(Julie!$G54="BN",1,"0")) -> 0 | AB55: =IF(Julien!$G54="EX",3,IF(Julien!$G54="BN",1,"0")) -> 0 | AC55: =IF(Killian!$G54="EX",3,IF(Killian!$G54="BN",1,"0")) -> 0 | AD55: =IF(Lahcen!$G54="EX",3,IF(Lahcen!$G54="BN",1,"0")) -> 0 | AE55: =IF(Lucien!$G54="EX",3,IF(Lucien!$G54="BN",1,"0")) -> 0 | AF55: =IF(Mickael!$G54="EX",3,IF(Mickael!$G54="BN",1,"0")) -> 0 | AG55: =IF(Nazrin!$G54="EX",3,IF(Nazrin!$G54="BN",1,"0")) -> 0 | AH55: =IF('Patrick F'!$G54="EX",3,IF('Patrick F'!$G54="BN",1,"0")) -> 0 | AI55: =IF('Pierre S'!$G54="EX",3,IF('Pierre S'!$G54="BN",1,"0")) -> 0 | AJ55: =IF(Reda!$G54="EX",3,IF(Reda!$G54="BN",1,"0")) -> 0 | AK55: =IF(Renaud!$G54="EX",3,IF(Renaud!$G54="BN",1,"0")) -> 0 | AL55: =IF(Romaric!$G54="EX",3,IF(Romaric!$G54="BN",1,"0")) -> 0 | AM55: =IF(Soline!$G54="EX",3,IF(Soline!$G54="BN",1,"0")) -> 0 | AN55: =IF(Timo!$G54="EX",3,IF(Timo!$G54="BN",1,"0")) -> 0 | AO55: =IF(Vanessa!$G54="EX",3,IF(Vanessa!$G54="BN",1,"0")) -> 0 | AP55: =IF(Samy!G54="EX",3,IF(Samy!G54="BN",1,"0")) -> 0 | AQ55: =IF(Hypo!G54="EX",3,IF(Hypo!G54="BN",1,"0")) -> 0 | AR55: =IF(Bastien!G54="EX",3,IF(Bastien!G54="BN",1,"0")) -> 0 | AS55: =IF(Guillaume!G54="EX",3,IF(Guillaume!G54="BN",1,"0")) -> 0 | AT55: =IF(Arthur!G54="EX",3,IF(Arthur!G54="BN",1,"0")) -> 0 | AU55: =IF(Andrea!G54="EX",3,IF(Andrea!G54="BN",1,"0")) -> 0
A56: 44897 | B56: 0.83333333 | C56: =F51 -> Cameroun | F56: =C52 -> Brésil | I56: =IF(Adrien!G55="EX",3,IF(Adrien!G55="BN",1,"0")) -> 0 | J56: =IF(Amine!G55="EX",3,IF(Amine!G55="BN",1,"0")) -> 0 | K56: =IF(Anas!G55="EX",3,IF(Anas!G55="BN",1,"0")) -> 0 | L56: =IF(Antoine!G55="EX",3,IF(Antoine!G55="BN",1,"0")) -> 0 | M56: =IF(Arezou!G55="EX",3,IF(Arezou!G55="BN",1,"0")) -> 0 | N56: =IF(Arnaud!$G55="EX",3,IF(Arnaud!$G55="BN",1,"0")) -> 0 | O56: =IF(Chloe!$G55="EX",3,IF(Chloe!$G55="BN",1,"0")) -> 0 | P56: =IF(Dan!$G55="EX",3,IF(Dan!$G55="BN",1,"0")) -> 0 | Q56: =IF(David!$G55="EX",3,IF(David!$G55="BN",1,"0")) -> 0 | R56: =IF(Dom!$G55="EX",3,IF(Dom!$G55="BN",1,"0")) -> 0 | S56: =IF(Dusan!$G55="EX",3,IF(Dusan!$G55="BN",1,"0")) -> 0 | T56: =IF(Dylan!$G55="EX",3,IF(Dylan!$G55="BN",1,"0")) -> 0 | U56: =IF(Fred!$G55="EX",3,IF(Fred!$G55="BN",1,"0")) -> 0 | V56: =IF(Hamama!$G55="EX",3,IF(Hamama!$G55="BN",1,"0")) -> 0 | W56: =IF('Jean Marie'!G55="EX",3,IF('Jean Marie'!G55="BN",1,"0")) -> 0 | X56: =IF('Jonathan B'!G55="EX",3,IF('Jonathan B'!$G55="BN",1,"0")) -> 0 | Y56: =IF('Jonathan M'!G55="EX",3,IF('Jonathan M'!$G55="BN",1,"0")) -> 0 | Z56: =IF(José!$G55="EX",3,IF(José!$G55="BN",1,"0")) -> 0 | AA56: =IF(Julie!$G55="EX",3,IF(Julie!$G55="BN",1,"0")) -> 0 | AB56: =IF(Julien!$G55="EX",3,IF(Julien!$G55="BN",1,"0")) -> 0 | AC56: =IF(Killian!$G55="EX",3,IF(Killian!$G55="BN",1,"0")) -> 0 | AD56: =IF(Lahcen!$G55="EX",3,IF(Lahcen!$G55="BN",1,"0")) -> 0 | AE56: =IF(Lucien!$G55="EX",3,IF(Lucien!$G55="BN",1,"0")) -> 0 | AF56: =IF(Mickael!$G55="EX",3,IF(Mickael!$G55="BN",1,"0")) -> 0 | AG56: =IF(Nazrin!$G55="EX",3,IF(Nazrin!$G55="BN",1,"0")) -> 0 | AH56: =IF('Patrick F'!$G55="EX",3,IF('Patrick F'!$G55="BN",1,"0")) -> 0 | AI56: =IF('Pierre S'!$G55="EX",3,IF('Pierre S'!$G55="BN",1,"0")) -> 0 | AJ56: =IF(Reda!$G55="EX",3,IF(Reda!$G55="BN",1,"0")) -> 0 | AK56: =IF(Renaud!$G55="EX",3,IF(Renaud!$G55="BN",1,"0")) -> 0 | AL56: =IF(Romaric!$G55="EX",3,IF(Romaric!$G55="BN",1,"0")) -> 0 | AM56: =IF(Soline!$G55="EX",3,IF(Soline!$G55="BN",1,"0")) -> 0 | AN56: =IF(Timo!$G55="EX",3,IF(Timo!$G55="BN",1,"0")) -> 0 | AO56: =IF(Vanessa!$G55="EX",3,IF(Vanessa!$G55="BN",1,"0")) -> 0 | AP56: =IF(Samy!G55="EX",3,IF(Samy!G55="BN",1,"0")) -> 0 | AQ56: =IF(Hypo!G55="EX",3,IF(Hypo!G55="BN",1,"0")) -> 0 | AR56: =IF(Bastien!G55="EX",3,IF(Bastien!G55="BN",1,"0")) -> 0 | AS56: =IF(Guillaume!G55="EX",3,IF(Guillaume!G55="BN",1,"0")) -> 0 | AT56: =IF(Arthur!G55="EX",3,IF(Arthur!G55="BN",1,"0")) -> 0 | AU56: =IF(Andrea!G55="EX",3,IF(Andrea!G55="BN",1,"0")) -> 0
I57: =IF(Adrien!G56="EX",3,IF(Adrien!G56="BN",1,"0")) -> 0 | J57: =IF(Amine!G56="EX",3,IF(Amine!G56="BN",1,"0")) -> 0 | K57: =IF(Anas!G56="EX",3,IF(Anas!G56="BN",1,"0")) -> 0 | L57: =IF(Antoine!G56="EX",3,IF(Antoine!G56="BN",1,"0")) -> 0 | M57: =IF(Arezou!G56="EX",3,IF(Arezou!G56="BN",1,"0")) -> 0 | N57: =IF(Arnaud!$G56="EX",3,IF(Arnaud!$G56="BN",1,"0")) -> 0 | O57: =IF(Chloe!$G56="EX",3,IF(Chloe!$G56="BN",1,"0")) -> 0 | P57: =IF(Dan!$G56="EX",3,IF(Dan!$G56="BN",1,"0")) -> 0 | Q57: =IF(David!$G56="EX",3,IF(David!$G56="BN",1,"0")) -> 0 | R57: =IF(Dom!$G56="EX",3,IF(Dom!$G56="BN",1,"0")) -> 0 | S57: =IF(Dusan!$G56="EX",3,IF(Dusan!$G56="BN",1,"0")) -> 0 | T57: =IF(Dylan!$G56="EX",3,IF(Dylan!$G56="BN",1,"0")) -> 0 | U57: =IF(Fred!$G56="EX",3,IF(Fred!$G56="BN",1,"0")) -> 0 | V57: =IF(Hamama!$G56="EX",3,IF(Hamama!$G56="BN",1,"0")) -> 0 | W57: =IF('Jean Marie'!G56="EX",3,IF('Jean Marie'!G56="BN",1,"0")) -> 0 | X57: =IF('Jonathan B'!G56="EX",3,IF('Jonathan B'!$G56="BN",1,"0")) -> 0 | Y57: =IF('Jonathan M'!G56="EX",3,IF('Jonathan M'!$G56="BN",1,"0")) -> 0 | Z57: =IF(José!$G56="EX",3,IF(José!$G56="BN",1,"0")) -> 0 | AA57: =IF(Julie!$G56="EX",3,IF(Julie!$G56="BN",1,"0")) -> 0 | AB57: =IF(Julien!$G56="EX",3,IF(Julien!$G56="BN",1,"0")) -> 0 | AC57: =IF(Killian!$G56="EX",3,IF(Killian!$G56="BN",1,"0")) -> 0 | AD57: =IF(Lahcen!$G56="EX",3,IF(Lahcen!$G56="BN",1,"0")) -> 0 | AE57: =IF(Lucien!$G56="EX",3,IF(Lucien!$G56="BN",1,"0")) -> 0 | AF57: =IF(Mickael!$G56="EX",3,IF(Mickael!$G56="BN",1,"0")) -> 0 | AG57: =IF(Nazrin!$G56="EX",3,IF(Nazrin!$G56="BN",1,"0")) -> 0 | AH57: =IF('Patrick F'!$G56="EX",3,IF('Patrick F'!$G56="BN",1,"0")) -> 0 | AI57: =IF('Pierre S'!$G56="EX",3,IF('Pierre S'!$G56="BN",1,"0")) -> 0 | AJ57: =IF(Reda!$G56="EX",3,IF(Reda!$G56="BN",1,"0")) -> 0 | AK57: =IF(Renaud!$G56="EX",3,IF(Renaud!$G56="BN",1,"0")) -> 0 | AL57: =IF(Romaric!$G56="EX",3,IF(Romaric!$G56="BN",1,"0")) -> 0 | AM57: =IF(Soline!$G56="EX",3,IF(Soline!$G56="BN",1,"0")) -> 0 | AN57: =IF(Timo!$G56="EX",3,IF(Timo!$G56="BN",1,"0")) -> 0 | AO57: =IF(Vanessa!$G56="EX",3,IF(Vanessa!$G56="BN",1,"0")) -> 0 | AP57: =IF(Samy!G56="EX",3,IF(Samy!G56="BN",1,"0")) -> 0 | AQ57: =IF(Hypo!G56="EX",3,IF(Hypo!G56="BN",1,"0")) -> 0 | AR57: =IF(Bastien!G56="EX",3,IF(Bastien!G56="BN",1,"0")) -> 0 | AS57: =IF(Guillaume!G56="EX",3,IF(Guillaume!G56="BN",1,"0")) -> 0 | AT57: =IF(Arthur!G56="EX",3,IF(Arthur!G56="BN",1,"0")) -> 0 | AU57: =IF(Andrea!G56="EX",3,IF(Andrea!G56="BN",1,"0")) -> 0
A58: Groupe H | I58: =IF(Adrien!G57="EX",3,IF(Adrien!G57="BN",1,"0")) -> 0 | J58: =IF(Amine!G57="EX",3,IF(Amine!G57="BN",1,"0")) -> 0 | K58: =IF(Anas!G57="EX",3,IF(Anas!G57="BN",1,"0")) -> 0 | L58: =IF(Antoine!G57="EX",3,IF(Antoine!G57="BN",1,"0")) -> 0 | M58: =IF(Arezou!G57="EX",3,IF(Arezou!G57="BN",1,"0")) -> 0 | N58: =IF(Arnaud!$G57="EX",3,IF(Arnaud!$G57="BN",1,"0")) -> 0 | O58: =IF(Chloe!$G57="EX",3,IF(Chloe!$G57="BN",1,"0")) -> 0 | P58: =IF(Dan!$G57="EX",3,IF(Dan!$G57="BN",1,"0")) -> 0 | Q58: =IF(David!$G57="EX",3,IF(David!$G57="BN",1,"0")) -> 0 | R58: =IF(Dom!$G57="EX",3,IF(Dom!$G57="BN",1,"0")) -> 0 | S58: =IF(Dusan!$G57="EX",3,IF(Dusan!$G57="BN",1,"0")) -> 0 | T58: =IF(Dylan!$G57="EX",3,IF(Dylan!$G57="BN",1,"0")) -> 0 | U58: =IF(Fred!$G57="EX",3,IF(Fred!$G57="BN",1,"0")) -> 0 | V58: =IF(Hamama!$G57="EX",3,IF(Hamama!$G57="BN",1,"0")) -> 0 | W58: =IF('Jean Marie'!G57="EX",3,IF('Jean Marie'!G57="BN",1,"0")) -> 0 | X58: =IF('Jonathan B'!G57="EX",3,IF('Jonathan B'!$G57="BN",1,"0")) -> 0 | Y58: =IF('Jonathan M'!G57="EX",3,IF('Jonathan M'!$G57="BN",1,"0")) -> 0 | Z58: =IF(José!$G57="EX",3,IF(José!$G57="BN",1,"0")) -> 0 | AA58: =IF(Julie!$G57="EX",3,IF(Julie!$G57="BN",1,"0")) -> 0 | AB58: =IF(Julien!$G57="EX",3,IF(Julien!$G57="BN",1,"0")) -> 0 | AC58: =IF(Killian!$G57="EX",3,IF(Killian!$G57="BN",1,"0")) -> 0 | AD58: =IF(Lahcen!$G57="EX",3,IF(Lahcen!$G57="BN",1,"0")) -> 0 | AE58: =IF(Lucien!$G57="EX",3,IF(Lucien!$G57="BN",1,"0")) -> 0 | AF58: =IF(Mickael!$G57="EX",3,IF(Mickael!$G57="BN",1,"0")) -> 0 | AG58: =IF(Nazrin!$G57="EX",3,IF(Nazrin!$G57="BN",1,"0")) -> 0 | AH58: =IF('Patrick F'!$G57="EX",3,IF('Patrick F'!$G57="BN",1,"0")) -> 0 | AI58: =IF('Pierre S'!$G57="EX",3,IF('Pierre S'!$G57="BN",1,"0")) -> 0 | AJ58: =IF(Reda!$G57="EX",3,IF(Reda!$G57="BN",1,"0")) -> 0 | AK58: =IF(Renaud!$G57="EX",3,IF(Renaud!$G57="BN",1,"0")) -> 0 | AL58: =IF(Romaric!$G57="EX",3,IF(Romaric!$G57="BN",1,"0")) -> 0 | AM58: =IF(Soline!$G57="EX",3,IF(Soline!$G57="BN",1,"0")) -> 0 | AN58: =IF(Timo!$G57="EX",3,IF(Timo!$G57="BN",1,"0")) -> 0 | AO58: =IF(Vanessa!$G57="EX",3,IF(Vanessa!$G57="BN",1,"0")) -> 0 | AP58: =IF(Samy!G57="EX",3,IF(Samy!G57="BN",1,"0")) -> 0 | AQ58: =IF(Hypo!G57="EX",3,IF(Hypo!G57="BN",1,"0")) -> 0 | AR58: =IF(Bastien!G57="EX",3,IF(Bastien!G57="BN",1,"0")) -> 0 | AS58: =IF(Guillaume!G57="EX",3,IF(Guillaume!G57="BN",1,"0")) -> 0 | AT58: =IF(Arthur!G57="EX",3,IF(Arthur!G57="BN",1,"0")) -> 0 | AU58: =IF(Andrea!G57="EX",3,IF(Andrea!G57="BN",1,"0")) -> 0
A59: 44889 | B59: 0.58333333 | C59: Uruguay | F59: Corée du sud | I59: =IF(Adrien!G58="EX",3,IF(Adrien!G58="BN",1,"0")) -> 0 | J59: =IF(Amine!G58="EX",3,IF(Amine!G58="BN",1,"0")) -> 0 | K59: =IF(Anas!G58="EX",3,IF(Anas!G58="BN",1,"0")) -> 0 | L59: =IF(Antoine!G58="EX",3,IF(Antoine!G58="BN",1,"0")) -> 0 | M59: =IF(Arezou!G58="EX",3,IF(Arezou!G58="BN",1,"0")) -> 0 | N59: =IF(Arnaud!$G58="EX",3,IF(Arnaud!$G58="BN",1,"0")) -> 0 | O59: =IF(Chloe!$G58="EX",3,IF(Chloe!$G58="BN",1,"0")) -> 0 | P59: =IF(Dan!$G58="EX",3,IF(Dan!$G58="BN",1,"0")) -> 0 | Q59: =IF(David!$G58="EX",3,IF(David!$G58="BN",1,"0")) -> 0 | R59: =IF(Dom!$G58="EX",3,IF(Dom!$G58="BN",1,"0")) -> 0 | S59: =IF(Dusan!$G58="EX",3,IF(Dusan!$G58="BN",1,"0")) -> 0 | T59: =IF(Dylan!$G58="EX",3,IF(Dylan!$G58="BN",1,"0")) -> 0 | U59: =IF(Fred!$G58="EX",3,IF(Fred!$G58="BN",1,"0")) -> 0 | V59: =IF(Hamama!$G58="EX",3,IF(Hamama!$G58="BN",1,"0")) -> 0 | W59: =IF('Jean Marie'!G58="EX",3,IF('Jean Marie'!G58="BN",1,"0")) -> 0 | X59: =IF('Jonathan B'!G58="EX",3,IF('Jonathan B'!$G58="BN",1,"0")) -> 0 | Y59: =IF('Jonathan M'!G58="EX",3,IF('Jonathan M'!$G58="BN",1,"0")) -> 0 | Z59: =IF(José!$G58="EX",3,IF(José!$G58="BN",1,"0")) -> 0 | AA59: =IF(Julie!$G58="EX",3,IF(Julie!$G58="BN",1,"0")) -> 0 | AB59: =IF(Julien!$G58="EX",3,IF(Julien!$G58="BN",1,"0")) -> 0 | AC59: =IF(Killian!$G58="EX",3,IF(Killian!$G58="BN",1,"0")) -> 0 | AD59: =IF(Lahcen!$G58="EX",3,IF(Lahcen!$G58="BN",1,"0")) -> 0 | AE59: =IF(Lucien!$G58="EX",3,IF(Lucien!$G58="BN",1,"0")) -> 0 | AF59: =IF(Mickael!$G58="EX",3,IF(Mickael!$G58="BN",1,"0")) -> 0 | AG59: =IF(Nazrin!$G58="EX",3,IF(Nazrin!$G58="BN",1,"0")) -> 0 | AH59: =IF('Patrick F'!$G58="EX",3,IF('Patrick F'!$G58="BN",1,"0")) -> 0 | AI59: =IF('Pierre S'!$G58="EX",3,IF('Pierre S'!$G58="BN",1,"0")) -> 0 | AJ59: =IF(Reda!$G58="EX",3,IF(Reda!$G58="BN",1,"0")) -> 0 | AK59: =IF(Renaud!$G58="EX",3,IF(Renaud!$G58="BN",1,"0")) -> 0 | AL59: =IF(Romaric!$G58="EX",3,IF(Romaric!$G58="BN",1,"0")) -> 0 | AM59: =IF(Soline!$G58="EX",3,IF(Soline!$G58="BN",1,"0")) -> 0 | AN59: =IF(Timo!$G58="EX",3,IF(Timo!$G58="BN",1,"0")) -> 0 | AO59: =IF(Vanessa!$G58="EX",3,IF(Vanessa!$G58="BN",1,"0")) -> 0 | AP59: =IF(Samy!G58="EX",3,IF(Samy!G58="BN",1,"0")) -> 0 | AQ59: =IF(Hypo!G58="EX",3,IF(Hypo!G58="BN",1,"0")) -> 0 | AR59: =IF(Bastien!G58="EX",3,IF(Bastien!G58="BN",1,"0")) -> 0 | AS59: =IF(Guillaume!G58="EX",3,IF(Guillaume!G58="BN",1,"0")) -> 0 | AT59: =IF(Arthur!G58="EX",3,IF(Arthur!G58="BN",1,"0")) -> 0 | AU59: =IF(Andrea!G58="EX",3,IF(Andrea!G58="BN",1,"0")) -> 0
A60: 44889 | B60: 0.70833333 | C60: Portugal | F60: Ghana | I60: =IF(Adrien!G59="EX",3,IF(Adrien!G59="BN",1,"0")) -> 0 | J60: =IF(Amine!G59="EX",3,IF(Amine!G59="BN",1,"0")) -> 0 | K60: =IF(Anas!G59="EX",3,IF(Anas!G59="BN",1,"0")) -> 0 | L60: =IF(Antoine!G59="EX",3,IF(Antoine!G59="BN",1,"0")) -> 0 | M60: =IF(Arezou!G59="EX",3,IF(Arezou!G59="BN",1,"0")) -> 0 | N60: =IF(Arnaud!$G59="EX",3,IF(Arnaud!$G59="BN",1,"0")) -> 0 | O60: =IF(Chloe!$G59="EX",3,IF(Chloe!$G59="BN",1,"0")) -> 0 | P60: =IF(Dan!$G59="EX",3,IF(Dan!$G59="BN",1,"0")) -> 0 | Q60: =IF(David!$G59="EX",3,IF(David!$G59="BN",1,"0")) -> 0 | R60: =IF(Dom!$G59="EX",3,IF(Dom!$G59="BN",1,"0")) -> 0 | S60: =IF(Dusan!$G59="EX",3,IF(Dusan!$G59="BN",1,"0")) -> 0 | T60: =IF(Dylan!$G59="EX",3,IF(Dylan!$G59="BN",1,"0")) -> 0 | U60: =IF(Fred!$G59="EX",3,IF(Fred!$G59="BN",1,"0")) -> 0 | V60: =IF(Hamama!$G59="EX",3,IF(Hamama!$G59="BN",1,"0")) -> 0 | W60: =IF('Jean Marie'!G59="EX",3,IF('Jean Marie'!G59="BN",1,"0")) -> 0 | X60: =IF('Jonathan B'!G59="EX",3,IF('Jonathan B'!$G59="BN",1,"0")) -> 0 | Y60: =IF('Jonathan M'!G59="EX",3,IF('Jonathan M'!$G59="BN",1,"0")) -> 0 | Z60: =IF(José!$G59="EX",3,IF(José!$G59="BN",1,"0")) -> 0 | AA60: =IF(Julie!$G59="EX",3,IF(Julie!$G59="BN",1,"0")) -> 0 | AB60: =IF(Julien!$G59="EX",3,IF(Julien!$G59="BN",1,"0")) -> 0 | AC60: =IF(Killian!$G59="EX",3,IF(Killian!$G59="BN",1,"0")) -> 0 | AD60: =IF(Lahcen!$G59="EX",3,IF(Lahcen!$G59="BN",1,"0")) -> 0 | AE60: =IF(Lucien!$G59="EX",3,IF(Lucien!$G59="BN",1,"0")) -> 0 | AF60: =IF(Mickael!$G59="EX",3,IF(Mickael!$G59="BN",1,"0")) -> 0 | AG60: =IF(Nazrin!$G59="EX",3,IF(Nazrin!$G59="BN",1,"0")) -> 0 | AH60: =IF('Patrick F'!$G59="EX",3,IF('Patrick F'!$G59="BN",1,"0")) -> 0 | AI60: =IF('Pierre S'!$G59="EX",3,IF('Pierre S'!$G59="BN",1,"0")) -> 0 | AJ60: =IF(Reda!$G59="EX",3,IF(Reda!$G59="BN",1,"0")) -> 0 | AK60: =IF(Renaud!$G59="EX",3,IF(Renaud!$G59="BN",1,"0")) -> 0 | AL60: =IF(Romaric!$G59="EX",3,IF(Romaric!$G59="BN",1,"0")) -> 0 | AM60: =IF(Soline!$G59="EX",3,IF(Soline!$G59="BN",1,"0")) -> 0 | AN60: =IF(Timo!$G59="EX",3,IF(Timo!$G59="BN",1,"0")) -> 0 | AO60: =IF(Vanessa!$G59="EX",3,IF(Vanessa!$G59="BN",1,"0")) -> 0 | AP60: =IF(Samy!G59="EX",3,IF(Samy!G59="BN",1,"0")) -> 0 | AQ60: =IF(Hypo!G59="EX",3,IF(Hypo!G59="BN",1,"0")) -> 0 | AR60: =IF(Bastien!G59="EX",3,IF(Bastien!G59="BN",1,"0")) -> 0 | AS60: =IF(Guillaume!G59="EX",3,IF(Guillaume!G59="BN",1,"0")) -> 0 | AT60: =IF(Arthur!G59="EX",3,IF(Arthur!G59="BN",1,"0")) -> 0 | AU60: =IF(Andrea!G59="EX",3,IF(Andrea!G59="BN",1,"0")) -> 0
A61: 44893 | B61: 0.58333333 | C61: =F59 -> Corée du sud | F61: =F60 -> Ghana | I61: =IF(Adrien!G60="EX",3,IF(Adrien!G60="BN",1,"0")) -> 0 | J61: =IF(Amine!G60="EX",3,IF(Amine!G60="BN",1,"0")) -> 0 | K61: =IF(Anas!G60="EX",3,IF(Anas!G60="BN",1,"0")) -> 0 | L61: =IF(Antoine!G60="EX",3,IF(Antoine!G60="BN",1,"0")) -> 0 | M61: =IF(Arezou!G60="EX",3,IF(Arezou!G60="BN",1,"0")) -> 0 | N61: =IF(Arnaud!$G60="EX",3,IF(Arnaud!$G60="BN",1,"0")) -> 0 | O61: =IF(Chloe!$G60="EX",3,IF(Chloe!$G60="BN",1,"0")) -> 0 | P61: =IF(Dan!$G60="EX",3,IF(Dan!$G60="BN",1,"0")) -> 0 | Q61: =IF(David!$G60="EX",3,IF(David!$G60="BN",1,"0")) -> 0 | R61: =IF(Dom!$G60="EX",3,IF(Dom!$G60="BN",1,"0")) -> 0 | S61: =IF(Dusan!$G60="EX",3,IF(Dusan!$G60="BN",1,"0")) -> 0 | T61: =IF(Dylan!$G60="EX",3,IF(Dylan!$G60="BN",1,"0")) -> 0 | U61: =IF(Fred!$G60="EX",3,IF(Fred!$G60="BN",1,"0")) -> 0 | V61: =IF(Hamama!$G60="EX",3,IF(Hamama!$G60="BN",1,"0")) -> 0 | W61: =IF('Jean Marie'!G60="EX",3,IF('Jean Marie'!G60="BN",1,"0")) -> 0 | X61: =IF('Jonathan B'!G60="EX",3,IF('Jonathan B'!$G60="BN",1,"0")) -> 0 | Y61: =IF('Jonathan M'!G60="EX",3,IF('Jonathan M'!$G60="BN",1,"0")) -> 0 | Z61: =IF(José!$G60="EX",3,IF(José!$G60="BN",1,"0")) -> 0 | AA61: =IF(Julie!$G60="EX",3,IF(Julie!$G60="BN",1,"0")) -> 0 | AB61: =IF(Julien!$G60="EX",3,IF(Julien!$G60="BN",1,"0")) -> 0 | AC61: =IF(Killian!$G60="EX",3,IF(Killian!$G60="BN",1,"0")) -> 0 | AD61: =IF(Lahcen!$G60="EX",3,IF(Lahcen!$G60="BN",1,"0")) -> 0 | AE61: =IF(Lucien!$G60="EX",3,IF(Lucien!$G60="BN",1,"0")) -> 0 | AF61: =IF(Mickael!$G60="EX",3,IF(Mickael!$G60="BN",1,"0")) -> 0 | AG61: =IF(Nazrin!$G60="EX",3,IF(Nazrin!$G60="BN",1,"0")) -> 0 | AH61: =IF('Patrick F'!$G60="EX",3,IF('Patrick F'!$G60="BN",1,"0")) -> 0 | AI61: =IF('Pierre S'!$G60="EX",3,IF('Pierre S'!$G60="BN",1,"0")) -> 0 | AJ61: =IF(Reda!$G60="EX",3,IF(Reda!$G60="BN",1,"0")) -> 0 | AK61: =IF(Renaud!$G60="EX",3,IF(Renaud!$G60="BN",1,"0")) -> 0 | AL61: =IF(Romaric!$G60="EX",3,IF(Romaric!$G60="BN",1,"0")) -> 0 | AM61: =IF(Soline!$G60="EX",3,IF(Soline!$G60="BN",1,"0")) -> 0 | AN61: =IF(Timo!$G60="EX",3,IF(Timo!$G60="BN",1,"0")) -> 0 | AO61: =IF(Vanessa!$G60="EX",3,IF(Vanessa!$G60="BN",1,"0")) -> 0 | AP61: =IF(Samy!G60="EX",3,IF(Samy!G60="BN",1,"0")) -> 0 | AQ61: =IF(Hypo!G60="EX",3,IF(Hypo!G60="BN",1,"0")) -> 0 | AR61: =IF(Bastien!G60="EX",3,IF(Bastien!G60="BN",1,"0")) -> 0 | AS61: =IF(Guillaume!G60="EX",3,IF(Guillaume!G60="BN",1,"0")) -> 0 | AT61: =IF(Arthur!G60="EX",3,IF(Arthur!G60="BN",1,"0")) -> 0 | AU61: =IF(Andrea!G60="EX",3,IF(Andrea!G60="BN",1,"0")) -> 0
A62: 44893 | B62: 0.83333333 | C62: =C60 -> Portugal | F62: =C59 -> Uruguay | I62: =IF(Adrien!G61="EX",3,IF(Adrien!G61="BN",1,"0")) -> 0 | J62: =IF(Amine!G61="EX",3,IF(Amine!G61="BN",1,"0")) -> 0 | K62: =IF(Anas!G61="EX",3,IF(Anas!G61="BN",1,"0")) -> 0 | L62: =IF(Antoine!G61="EX",3,IF(Antoine!G61="BN",1,"0")) -> 0 | M62: =IF(Arezou!G61="EX",3,IF(Arezou!G61="BN",1,"0")) -> 0 | N62: =IF(Arnaud!$G61="EX",3,IF(Arnaud!$G61="BN",1,"0")) -> 0 | O62: =IF(Chloe!$G61="EX",3,IF(Chloe!$G61="BN",1,"0")) -> 0 | P62: =IF(Dan!$G61="EX",3,IF(Dan!$G61="BN",1,"0")) -> 0 | Q62: =IF(David!$G61="EX",3,IF(David!$G61="BN",1,"0")) -> 0 | R62: =IF(Dom!$G61="EX",3,IF(Dom!$G61="BN",1,"0")) -> 0 | S62: =IF(Dusan!$G61="EX",3,IF(Dusan!$G61="BN",1,"0")) -> 0 | T62: =IF(Dylan!$G61="EX",3,IF(Dylan!$G61="BN",1,"0")) -> 0 | U62: =IF(Fred!$G61="EX",3,IF(Fred!$G61="BN",1,"0")) -> 0 | V62: =IF(Hamama!$G61="EX",3,IF(Hamama!$G61="BN",1,"0")) -> 0 | W62: =IF('Jean Marie'!G61="EX",3,IF('Jean Marie'!G61="BN",1,"0")) -> 0 | X62: =IF('Jonathan B'!G61="EX",3,IF('Jonathan B'!$G61="BN",1,"0")) -> 0 | Y62: =IF('Jonathan M'!G61="EX",3,IF('Jonathan M'!$G61="BN",1,"0")) -> 0 | Z62: =IF(José!$G61="EX",3,IF(José!$G61="BN",1,"0")) -> 0 | AA62: =IF(Julie!$G61="EX",3,IF(Julie!$G61="BN",1,"0")) -> 0 | AB62: =IF(Julien!$G61="EX",3,IF(Julien!$G61="BN",1,"0")) -> 0 | AC62: =IF(Killian!$G61="EX",3,IF(Killian!$G61="BN",1,"0")) -> 0 | AD62: =IF(Lahcen!$G61="EX",3,IF(Lahcen!$G61="BN",1,"0")) -> 0 | AE62: =IF(Lucien!$G61="EX",3,IF(Lucien!$G61="BN",1,"0")) -> 0 | AF62: =IF(Mickael!$G61="EX",3,IF(Mickael!$G61="BN",1,"0")) -> 0 | AG62: =IF(Nazrin!$G61="EX",3,IF(Nazrin!$G61="BN",1,"0")) -> 0 | AH62: =IF('Patrick F'!$G61="EX",3,IF('Patrick F'!$G61="BN",1,"0")) -> 0 | AI62: =IF('Pierre S'!$G61="EX",3,IF('Pierre S'!$G61="BN",1,"0")) -> 0 | AJ62: =IF(Reda!$G61="EX",3,IF(Reda!$G61="BN",1,"0")) -> 0 | AK62: =IF(Renaud!$G61="EX",3,IF(Renaud!$G61="BN",1,"0")) -> 0 | AL62: =IF(Romaric!$G61="EX",3,IF(Romaric!$G61="BN",1,"0")) -> 0 | AM62: =IF(Soline!$G61="EX",3,IF(Soline!$G61="BN",1,"0")) -> 0 | AN62: =IF(Timo!$G61="EX",3,IF(Timo!$G61="BN",1,"0")) -> 0 | AO62: =IF(Vanessa!$G61="EX",3,IF(Vanessa!$G61="BN",1,"0")) -> 0 | AP62: =IF(Samy!G61="EX",3,IF(Samy!G61="BN",1,"0")) -> 0 | AQ62: =IF(Hypo!G61="EX",3,IF(Hypo!G61="BN",1,"0")) -> 0 | AR62: =IF(Bastien!G61="EX",3,IF(Bastien!G61="BN",1,"0")) -> 0 | AS62: =IF(Guillaume!G61="EX",3,IF(Guillaume!G61="BN",1,"0")) -> 0 | AT62: =IF(Arthur!G61="EX",3,IF(Arthur!G61="BN",1,"0")) -> 0 | AU62: =IF(Andrea!G61="EX",3,IF(Andrea!G61="BN",1,"0")) -> 0
A63: 44897 | B63: 0.66666667 | C63: =F59 -> Corée du sud | F63: =C60 -> Portugal | I63: =IF(Adrien!G62="EX",3,IF(Adrien!G62="BN",1,"0")) -> 0 | J63: =IF(Amine!G62="EX",3,IF(Amine!G62="BN",1,"0")) -> 0 | K63: =IF(Anas!G62="EX",3,IF(Anas!G62="BN",1,"0")) -> 0 | L63: =IF(Antoine!G62="EX",3,IF(Antoine!G62="BN",1,"0")) -> 0 | M63: =IF(Arezou!G62="EX",3,IF(Arezou!G62="BN",1,"0")) -> 0 | N63: =IF(Arnaud!$G62="EX",3,IF(Arnaud!$G62="BN",1,"0")) -> 0 | O63: =IF(Chloe!$G62="EX",3,IF(Chloe!$G62="BN",1,"0")) -> 0 | P63: =IF(Dan!$G62="EX",3,IF(Dan!$G62="BN",1,"0")) -> 0 | Q63: =IF(David!$G62="EX",3,IF(David!$G62="BN",1,"0")) -> 0 | R63: =IF(Dom!$G62="EX",3,IF(Dom!$G62="BN",1,"0")) -> 0 | S63: =IF(Dusan!$G62="EX",3,IF(Dusan!$G62="BN",1,"0")) -> 0 | T63: =IF(Dylan!$G62="EX",3,IF(Dylan!$G62="BN",1,"0")) -> 0 | U63: =IF(Fred!$G62="EX",3,IF(Fred!$G62="BN",1,"0")) -> 0 | V63: =IF(Hamama!$G62="EX",3,IF(Hamama!$G62="BN",1,"0")) -> 0 | W63: =IF('Jean Marie'!G62="EX",3,IF('Jean Marie'!G62="BN",1,"0")) -> 0 | X63: =IF('Jonathan B'!G62="EX",3,IF('Jonathan B'!$G62="BN",1,"0")) -> 0 | Y63: =IF('Jonathan M'!G62="EX",3,IF('Jonathan M'!$G62="BN",1,"0")) -> 0 | Z63: =IF(José!$G62="EX",3,IF(José!$G62="BN",1,"0")) -> 0 | AA63: =IF(Julie!$G62="EX",3,IF(Julie!$G62="BN",1,"0")) -> 0 | AB63: =IF(Julien!$G62="EX",3,IF(Julien!$G62="BN",1,"0")) -> 0 | AC63: =IF(Killian!$G62="EX",3,IF(Killian!$G62="BN",1,"0")) -> 0 | AD63: =IF(Lahcen!$G62="EX",3,IF(Lahcen!$G62="BN",1,"0")) -> 0 | AE63: =IF(Lucien!$G62="EX",3,IF(Lucien!$G62="BN",1,"0")) -> 0 | AF63: =IF(Mickael!$G62="EX",3,IF(Mickael!$G62="BN",1,"0")) -> 0 | AG63: =IF(Nazrin!$G62="EX",3,IF(Nazrin!$G62="BN",1,"0")) -> 0 | AH63: =IF('Patrick F'!$G62="EX",3,IF('Patrick F'!$G62="BN",1,"0")) -> 0 | AI63: =IF('Pierre S'!$G62="EX",3,IF('Pierre S'!$G62="BN",1,"0")) -> 0 | AJ63: =IF(Reda!$G62="EX",3,IF(Reda!$G62="BN",1,"0")) -> 0 | AK63: =IF(Renaud!$G62="EX",3,IF(Renaud!$G62="BN",1,"0")) -> 0 | AL63: =IF(Romaric!$G62="EX",3,IF(Romaric!$G62="BN",1,"0")) -> 0 | AM63: =IF(Soline!$G62="EX",3,IF(Soline!$G62="BN",1,"0")) -> 0 | AN63: =IF(Timo!$G62="EX",3,IF(Timo!$G62="BN",1,"0")) -> 0 | AO63: =IF(Vanessa!$G62="EX",3,IF(Vanessa!$G62="BN",1,"0")) -> 0 | AP63: =IF(Samy!G62="EX",3,IF(Samy!G62="BN",1,"0")) -> 0 | AQ63: =IF(Hypo!G62="EX",3,IF(Hypo!G62="BN",1,"0")) -> 0 | AR63: =IF(Bastien!G62="EX",3,IF(Bastien!G62="BN",1,"0")) -> 0 | AS63: =IF(Guillaume!G62="EX",3,IF(Guillaume!G62="BN",1,"0")) -> 0 | AT63: =IF(Arthur!G62="EX",3,IF(Arthur!G62="BN",1,"0")) -> 0 | AU63: =IF(Andrea!G62="EX",3,IF(Andrea!G62="BN",1,"0")) -> 0
A64: 44897 | B64: 0.66666667 | C64: =F60 -> Ghana | F64: =C59 -> Uruguay | I64: =IF(Adrien!G63="EX",3,IF(Adrien!G63="BN",1,"0")) -> 0 | J64: =IF(Amine!G63="EX",3,IF(Amine!G63="BN",1,"0")) -> 0 | K64: =IF(Anas!G63="EX",3,IF(Anas!G63="BN",1,"0")) -> 0 | L64: =IF(Antoine!G63="EX",3,IF(Antoine!G63="BN",1,"0")) -> 0 | M64: =IF(Arezou!G63="EX",3,IF(Arezou!G63="BN",1,"0")) -> 0 | N64: =IF(Arnaud!$G63="EX",3,IF(Arnaud!$G63="BN",1,"0")) -> 0 | O64: =IF(Chloe!$G63="EX",3,IF(Chloe!$G63="BN",1,"0")) -> 0 | P64: =IF(Dan!$G63="EX",3,IF(Dan!$G63="BN",1,"0")) -> 0 | Q64: =IF(David!$G63="EX",3,IF(David!$G63="BN",1,"0")) -> 0 | R64: =IF(Dom!$G63="EX",3,IF(Dom!$G63="BN",1,"0")) -> 0 | S64: =IF(Dusan!$G63="EX",3,IF(Dusan!$G63="BN",1,"0")) -> 0 | T64: =IF(Dylan!$G63="EX",3,IF(Dylan!$G63="BN",1,"0")) -> 0 | U64: =IF(Fred!$G63="EX",3,IF(Fred!$G63="BN",1,"0")) -> 0 | V64: =IF(Hamama!$G63="EX",3,IF(Hamama!$G63="BN",1,"0")) -> 0 | W64: =IF('Jean Marie'!G63="EX",3,IF('Jean Marie'!G63="BN",1,"0")) -> 0 | X64: =IF('Jonathan B'!G63="EX",3,IF('Jonathan B'!$G63="BN",1,"0")) -> 0 | Y64: =IF('Jonathan M'!G63="EX",3,IF('Jonathan M'!$G63="BN",1,"0")) -> 0 | Z64: =IF(José!$G63="EX",3,IF(José!$G63="BN",1,"0")) -> 0 | AA64: =IF(Julie!$G63="EX",3,IF(Julie!$G63="BN",1,"0")) -> 0 | AB64: =IF(Julien!$G63="EX",3,IF(Julien!$G63="BN",1,"0")) -> 0 | AC64: =IF(Killian!$G63="EX",3,IF(Killian!$G63="BN",1,"0")) -> 0 | AD64: =IF(Lahcen!$G63="EX",3,IF(Lahcen!$G63="BN",1,"0")) -> 0 | AE64: =IF(Lucien!$G63="EX",3,IF(Lucien!$G63="BN",1,"0")) -> 0 | AF64: =IF(Mickael!$G63="EX",3,IF(Mickael!$G63="BN",1,"0")) -> 0 | AG64: =IF(Nazrin!$G63="EX",3,IF(Nazrin!$G63="BN",1,"0")) -> 0 | AH64: =IF('Patrick F'!$G63="EX",3,IF('Patrick F'!$G63="BN",1,"0")) -> 0 | AI64: =IF('Pierre S'!$G63="EX",3,IF('Pierre S'!$G63="BN",1,"0")) -> 0 | AJ64: =IF(Reda!$G63="EX",3,IF(Reda!$G63="BN",1,"0")) -> 0 | AK64: =IF(Renaud!$G63="EX",3,IF(Renaud!$G63="BN",1,"0")) -> 0 | AL64: =IF(Romaric!$G63="EX",3,IF(Romaric!$G63="BN",1,"0")) -> 0 | AM64: =IF(Soline!$G63="EX",3,IF(Soline!$G63="BN",1,"0")) -> 0 | AN64: =IF(Timo!$G63="EX",3,IF(Timo!$G63="BN",1,"0")) -> 0 | AO64: =IF(Vanessa!$G63="EX",3,IF(Vanessa!$G63="BN",1,"0")) -> 0 | AP64: =IF(Samy!G63="EX",3,IF(Samy!G63="BN",1,"0")) -> 0 | AQ64: =IF(Hypo!G63="EX",3,IF(Hypo!G63="BN",1,"0")) -> 0 | AR64: =IF(Bastien!G63="EX",3,IF(Bastien!G63="BN",1,"0")) -> 0 | AS64: =IF(Guillaume!G63="EX",3,IF(Guillaume!G63="BN",1,"0")) -> 0 | AT64: =IF(Arthur!G63="EX",3,IF(Arthur!G63="BN",1,"0")) -> 0 | AU64: =IF(Andrea!G63="EX",3,IF(Andrea!G63="BN",1,"0")) -> 0
I65: =SUBTOTAL(109,Table1[Adrien]) -> 1 | J65: =SUBTOTAL(109,Table1[Amine]) -> 3 | K65: =SUBTOTAL(109,Table1[Anas]) -> 7 | L65: =SUBTOTAL(109,Table1[Antoine M.]) -> 3 | M65: =SUBTOTAL(109,Table1[Arezou]) -> 5 | N65: =SUBTOTAL(109,Table1[Arnaud T.]) -> 1 | O65: =SUBTOTAL(109,Table1[Chloé]) -> 7 | P65: =SUBTOTAL(109,Table1[Dan L.]) -> 6 | Q65: =SUBTOTAL(109,Table1[David P.]) -> 5 | R65: =SUBTOTAL(109,Table1[Dom]) -> 4 | S65: =SUBTOTAL(109,Table1[Dusan]) -> 5 | T65: =SUBTOTAL(109,Table1[Dylan R.]) -> 6 | U65: =SUBTOTAL(109,Table1[Fred Moreau]) -> 4 | V65: =SUBTOTAL(109,Table1[Hamama]) -> 2 | W65: =SUBTOTAL(109,Table1[Jean-Marie]) -> 5 | X65: =SUBTOTAL(109,Table1[Jonathan B.]) -> 6 | Y65: =SUBTOTAL(109,Table1[Jonathan M.]) -> 5 | Z65: =SUBTOTAL(109,Table1[José]) -> 1 | AA65: =SUBTOTAL(109,Table1[Julie]) -> 5 | AB65: =SUBTOTAL(109,Table1[Julien]) -> 5 | AC65: =SUBTOTAL(109,Table1[Kilian]) -> 4 | AD65: =SUBTOTAL(109,Table1[Lahcen]) -> 3 | AE65: =SUBTOTAL(109,Table1[Lucien]) -> 4 | AF65: =SUBTOTAL(109,Table1[Mikael]) -> 2 | AG65: =SUBTOTAL(109,Table1[Nazrin]) -> 2 | AH65: =SUBTOTAL(109,Table1[Patrick F.]) -> 4 | AI65: =SUBTOTAL(109,Table1[Pierre S.]) -> 2 | AJ65: =SUBTOTAL(109,Table1[Reda]) -> 2 | AK65: =SUBTOTAL(109,Table1[Renaud]) -> 2 | AL65: =SUBTOTAL(109,Table1[Romaric]) -> 1 | AM65: =SUBTOTAL(109,Table1[Soline]) -> 3 | AN65: =SUBTOTAL(109,Table1[Timo D.]) -> 8 | AO65: =SUBTOTAL(109,Table1[Vanessa]) -> 4 | AP65: =SUBTOTAL(109,Table1[Samy]) -> 8 | AQ65: =SUBTOTAL(109,Table1[Hypolyte]) -> 5 | AR65: =SUBTOTAL(109,Table1[Bastien]) -> 6 | AS65: =SUBTOTAL(109,Table1[Guillaume]) -> 4 | AT65: =SUBTOTAL(109,Table1[Arthur]) -> 8 | AU65: =SUBTOTAL(109,Table1[Andrea]) -> 5

Sheet Cagnotte
A1: NOM | B1: Payé
A2: Adrien | B2: P
A3: Amine
A4: Anas
A5: Antoine M.
A6: Arezou
A7: Arnaud T.
A8: Arthur
A9: Bastien
A10: Chloé
A11: Dan L.
A12: David P.
A13: Dom | B13: P
A14: Dusan
A15: Dylan R.
A16: Fred Moreau
A17: Guillaume
A18: Hamama | B18: P
A19: Hypolyte
A20: Jean-Marie | B20: P
A21: Jonathan B. | B21: P
A22: Jonathan M.
A23: José | B23: P
A24: Julie | B24: P
A25: Julien | B25: P
A26: Kilian | B26: P
A27: Lahcen | B27: P
A28: Lucien | B28: P
A29: Mikael
A30: Nazrin
A31: Patrick F. | B31: P
A32: Pierre S.
A33: Reda
A34: Renaud | B34: P
A35: Romaric
A36: Samy | B36: P
A37: Soline
A38: Timo D.
A39: Vanessa | B39: P

Sheet Adrien
A1: Groupe A / Faites vos pronostics
A2: 44885 | B2: 0.70833333 | C2: Qatar | D2: 2 | E2: 1 | F2: Equateur | G2: N
A3: 44886 | B3: 0.70833333 | C3: Sénégal | D3: 3 | E3: 2 | F3: Pays-Bas | G3: N
A4: 44890 | B4: 0.58333333 | C4: Qatar | D4: 2 | E4: 3 | F4: Sénégal
A5: 44890 | B5: 0.70833333 | C5: Pays-Bas | D5: 4 | E5: 1 | F5: Equateur
A6: 44894 | B6: 0.66666667 | C6: Pays-Bas | D6: 2 | E6: 1 | F6: Qatar
A7: 44894 | B7: 0.66666667 | C7: Equateur | D7: 0 | E7: 1 | F7: Sénégal
A9: Groupe B / Faites vos pronostics
A10: 44886 | B10: 0.58333333 | C10: Angleterre | D10: 3 | E10: 0 | F10: Iran | G10: BN
A11: 44886 | B11: 0.83333333 | C11: Etats-Unis | D11: 1 | E11: 0 | F11: Pays de Galles | G11: N
A12: 44890 | B12: 0.83333333 | C12: Angleterre | D12: 2 | E12: 1 | F12: Etats-Unis
A13: 44890 | B13: 0.45833333 | C13: Pays de Galles | D13: 1 | E13: 0 | F13: Iran
A14: 44894 | B14: 0.83333333 | C14: Pays de Galles | D14: 0 | E14: 2 | F14: Angleterre
A15: 44894 | B15: 0.83333333 | C15: Iran | D15: 0 | E15: 2 | F15: Etats-Unis
A17: Groupe C / Faites vos pronostics
A18: 44887 | B18: 0.70833333 | C18: Mexique | D18: 2 | E18: 1 | F18: Pologne
A19: 44887 | B19: 0.45833333 | C19: Argentine | D19: 3 | E19: 1 | F19: Arabie Saoudite | G19: N
A20: 44891 | B20: 0.58333333 | C20: Arabie Saoudite | D20: 0 | E20: 1 | F20: Pologne
A21: 44891 | B21: 0.83333333 | C21: Mexique | D21: 0 | E21: 1 | F21: Argentine
A22: 44895 | B22: 0.83333333 | C22: Arabie Saoudite | D22: 1 | E22: 2 | F22: Mexique
A23: 44895 | B23: 0.83333333 | C23: Pologne | D23: 0 | E23: 1 | F23: Argentine
A25: Groupe D / Faites vos pronostics
A26: 44887 | B26: 0.58333333 | C26: Danemark | D26: 1 | E26: 0 | F26: Tunisie
A27: 44887 | B27: 0.83333333 | C27: France | D27: 2 | E27: 1 | F27: Australie
A28: 44891 | B28: 0.70833333 | C28: Danemark | D28: 1 | E28: 0 | F28: France
A29: 44891 | B29: 0.45833333 | C29: Australie | D29: 0 | E29: 0 | F29: Tunisie
A30: 44895 | B30: 0.66666667 | C30: Australie | D30: 0 | E30: 1 | F30: Danemark
A31: 43281 | B31: 0.66666667 | C31: Tunisie | D31: 1 | E31: 3 | F31: France
A33: Groupe E / Faites vos pronostics
A34: 44888 | B34: 0.58333333 | C34: Allemagne | D34: 1 | E34: 0 | F34: Japon
A35: 44888 | B35: 0.70833333 | C35: Espagne | D35: 2 | E35: 1 | F35: Costa Rica
A36: 44892 | B36: 0.83333333 | C36: Espagne | D36: 1 | E36: 1 | F36: Allemagne
A37: 44892 | B37: 0.45833333 | C37: Japon | D37: 2 | E37: 1 | F37: Costa Rica
A38: 44896 | B38: 0.83333333 | C38: Japon | D38: 0 | E38: 2 | F38: Espagne
A39: 44896 | B39: 0.83333333 | C39: Costa Rica | D39: 0 | E39: 1 | F39: Allemagne
A41: Groupe F / Faites vos pronostics
A42: 44888 | B42: 0.45833333 | C42: Maroc | D42: 1 | E42: 2 | F42: Croatie
A43: 44888 | B43: 0.83333333 | C43: Belgique | D43: 3 | E43: 1 | F43: Canada
A44: 44892 | B44: 0.70833333 | C44: Canada | D44: 0 | E44: 1 | F44: Croatie
A45: 44892 | B45: 0.58333333 | C45: Maroc | D45: 0 | E45: 2 | F45: Belgique
A46: 44896 | B46: 0.66666667 | C46: Canada | D46: 1 | E46: 1 | F46: Maroc
A47: 44896 | B47: 0.66666667 | C47: Croatie | D47: 2 | E47: 2 | F47: Belgique
A49: Groupe G / Faites vos pronostics
A50: 44889 | B50: 0.45833333 | C50: Suisse | D50: 1 | E50: 2 | F50: Cameroun
A51: 44889 | B51: 0.83333333 | C51: Brésil | D51: 3 | E51: 1 | F51: Serbie
A52: 44893 | B52: 0.70833333 | C52: Suisse | D52: 0 | E52: 3 | F52: Brésil
A53: 44893 | B53: 0.45833333 | C53: Serbie | D53: 2 | E53: 1 | F53: Cameroun
A54: 44897 | B54: 0.83333333 | C54: Serbie | D54: 1 | E54: 0 | F54: Suisse
A55: 44897 | B55: 0.83333333 | C55: Cameroun | D55: 0 | E55: 2 | F55: Brésil
A57: Groupe H / Faites vos pronostics
A58: 44889 | B58: 0.58333333 | C58: Uruguay | D58: 1 | E58: 0 | F58: Corée du sud
A59: 44889 | B59: 0.70833333 | C59: Portugal | D59: 2 | E59: 1 | F59: Ghana
A60: 44893 | B60: 0.58333333 | C60: Corée du sud | D60: 1 | E60: 2 | F60: Ghana
A61: 44893 | B61: 0.83333333 | C61: Portugal | D61: 0 | E61: 1 | F61: Uruguay
A62: 44897 | B62: 0.66666667 | C62: Corée du sud | D62: 1 | E62: 2 | F62: Portugal
A63: 44897 | B63: 0.66666667 | C63: Ghana | D63: 0 | E63: 1 | F63: Uruguay

Sheet Anas
A1: Groupe A / Faites vos pronostics
A2: 44885 | B2: 0.70833333 | C2: Qatar | D2: 2 | E2: 1 | F2: Equateur | G2: N
A3: 44886 | B3: 0.70833333 | C3: Sénégal | D3: 0 | E3: 2 | F3: Pays-Bas | G3: EX
A4: 44890 | B4: 0.58333333 | C4: Qatar | D4: 0 | E4: 0 | F4: Sénégal
A5: 44890 | B5: 0.70833333 | C5: Pays-Bas | D5: 2 | E5: 0 | F5: Equateur
A6: 44894 | B6: 0.66666667 | C6: Pays-Bas | D6: 1 | E6: 0 | F6: Qatar
A7: 44894 | B7: 0.66666667 | C7: Equateur | D7: 2 | E7: 1 | F7: Sénégal
A9: Groupe B / Faites vos pronostics
A10: 44886 | B10: 0.58333333 | C10: Angleterre | D10: 1 | E10: 0 | F10: Iran | G10: BN
A11: 44886 | B11: 0.83333333 | C11: Etats-Unis | D11: 1 | E11: 1 | F11: Pays de Galles | G11: EX
A12: 44890 | B12: 0.83333333 | C12: Angleterre | D12: 2 | E12: 2 | F12: Etats-Unis
A13: 44890 | B13: 0.45833333 | C13: Pays de Galles | D13: 2 | E13: 0 | F13: Iran
A14: 44894 | B14: 0.83333333 | C14: Pays de Galles | D14: 1 | E14: 3 | F14: Angleterre
A15: 44894 | B15: 0.83333333 | C15: Iran | D15: 0 | E15: 2 | F15: Etats-Unis
A17: Groupe C / Faites vos pronostics
A18: 44887 | B18: 0.70833333 | C18: Mexique | D18: 2 | E18: 0 | F18: Pologne
A19: 44887 | B19: 0.45833333 | C19: Argentine | D19: 1 | E19: 0 | F19: Arabie Saoudite | G19: N
A20: 44891 | B20: 0.58333333 | C20: Arabie Saoudite | D20: 0 | E20: 3 | F20: Pologne
A21: 44891 | B21: 0.83333333 | C21: Mexique | D21: 0 | E21: 1 | F21: Argentine
A22: 44895 | B22: 0.83333333 | C22: Arabie Saoudite | D22: 0 | E22: 2 | F22: Mexique
A23: 44895 | B23: 0.83333333 | C23: Pologne | D23: 0 | E23: 0 | F23: Argentine
A25: Groupe D / Faites vos pronostics
A26: 44887 | B26: 0.58333333 | C26: Danemark | D26: 1 | E26: 0 | F26: Tunisie
A27: 44887 | B27: 0.83333333 | C27: France | D27: 3 | E27: 1 | F27: Australie
A28: 44891 | B28: 0.70833333 | C28: Danemark | D28: 2 | E28: 2 | F28: France
A29: 44891 | B29: 0.45833333 | C29: Australie | D29: 0 | E29: 0 | F29: Tunisie
A30: 44895 | B30: 0.66666667 | C30: Australie | D30: 0 | E30: 2 | F30: Danemark
A31: 43281 | B31: 0.66666667 | C31: Tunisie | D31: 0 | E31: 3 | F31: France
A33: Groupe E / Faites vos pronostics
A34: 44888 | B34: 0.58333333 | C34: Allemagne | D34: 3 | E34: 0 | F34: Japon
A35: 44888 | B35: 0.70833333 | C35: Espagne | D35: 3 | E35: 0 | F35: Costa Rica
A36: 44892 | B36: 0.83333333 | C36: Espagne | D36: 1 | E36: 1 | F36: Allemagne
A37: 44892 | B37: 0.45833333 | C37: Japon | D37: 0 | E37: 1 | F37: Costa Rica
A38: 44896 | B38: 0.83333333 | C38: Japon | D38: 1 | E38: 2 | F38: Espagne
A39: 44896 | B39: 0.83333333 | C39: Costa Rica | D39: 0 | E39: 2 | F39: Allemagne
A41: Groupe F / Faites vos pronostics
A42: 44888 | B42: 0.45833333 | C42: Maroc | D42: 1 | E42: 1 | F42: Croatie
A43: 44888 | B43: 0.83333333 | C43: Belgique | D43: 3 | E43: 1 | F43: Canada
A44: 44892 | B44: 0.70833333 | C44: Canada | D44: 1 | E44: 1 | F44: Croatie
A45: 44892 | B45: 0.58333333 | C45: Maroc | D45: 1 | E45: 1 | F45: Belgique
A46: 44896 | B46: 0.66666667 | C46: Canada | D46: 0 | E46: 1 | F46: Maroc
A47: 44896 | B47: 0.66666667 | C47: Croatie | D47: 2 | E47: 2 | F47: Belgique
A49: Groupe G / Faites vos pronostics
A50: 44889 | B50: 0.45833333 | C50: Suisse | D50: 2 | E50: 0 | F50: Cameroun
A51: 44889 | B51: 0.83333333 | C51: Brésil | D51: 3 | E51: 0 | F51: Serbie
A52: 44893 | B52: 0.70833333 | C52: Suisse | D52: 1 | E52: 2 | F52: Brésil
A53: 44893 | B53: 0.45833333 | C53: Serbie | D53: 3 | E53: 2 | F53: Cameroun
A54: 44897 | B54: 0.83333333 | C54: Serbie | D54: 1 | E54: 2 | F54: Suisse
A55: 44897 | B55: 0.83333333 | C55: Cameroun | D55: 0 | E55: 1 | F55: Brésil
A57: Groupe H / Faites vos pronostics
A58: 44889 | B58: 0.58333333 | C58: Uruguay | D58: 0 | E58: 1 | F58: Corée du sud
A59: 44889 | B59: 0.70833333 | C59: Portugal | D59: 1 | E59: 1 | F59: Ghana
A60: 44893 | B60: 0.58333333 | C60: Corée du sud | D60: 2 | E60: 2 | F60: Ghana
A61: 44893 | B61: 0.83333333 | C61: Portugal | D61: 1 | E61: 0 | F61: Uruguay
A62: 44897 | B62: 0.66666667 | C62: Corée du sud | D62: 0 | E62: 1 | F62: Portugal
A63: 44897 | B63: 0.66666667 | C63: Ghana | D63: 2 | E63: 1 | F63: Uruguay

Sheet Andrea
A1: Groupe A / Faites vos pronostics
A2: 44885 | B2: 0.70833333 | C2: Qatar | D2: 0 | E2: 0 | F2: Equateur | G2: N
A3: 44886 | B3: 0.70833333 | C3: Sénégal | D3: 0 | E3: 2 | F3: Pays-Bas | G3: EX
A4: 44890 | B4: 0.58333333 | C4: Qatar | D4: 0 | E4: 2 | F4: Sénégal
A5: 44890 | B5: 0.70833333 | C5: Pays-Bas | D5: 2 | E5: 1 | F5: Equateur
A6: 44894 | B6: 0.66666667 | C6: Pays-Bas | D6: 4 | E6: 0 | F6: Qatar
A7: 44894 | B7: 0.66666667 | C7: Equateur | D7: 1 | E7: 1 | F7: Sénégal
A9: Groupe B / Faites vos pronostics
A10: 44886 | B10: 0.58333333 | C10: Angleterre | D10: 3 | E10: 0 | F10: Iran | G10: BN
A11: 44886 | B11: 0.83333333 | C11: Etats-Unis | D11: 0 | E11: 0 | F11: Pays de Galles | G11: BN
A12: 44890 | B12: 0.83333333 | C12: Angleterre | D12: 2 | E12: 0 | F12: Etats-Unis
A13: 44890 | B13: 0.45833333 | C13: Pays de Galles | D13: 1 | E13: 0 | F13: Iran
A14: 44894 | B14: 0.83333333 | C14: Pays de Galles | D14: 0 | E14: 1 | F14: Angleterre
A15: 44894 | B15: 0.83333333 | C15: Iran | D15: 1 | E15: 2 | F15: Etats-Unis
A17: Groupe C / Faites vos pronostics
A18: 44887 | B18: 0.70833333 | C18: Mexique | D18: 0 | E18: 1 | F18: Pologne
A19: 44887 | B19: 0.45833333 | C19: Argentine | D19: 4 | E19: 0 | F19: Arabie Saoudite | G19: N
A20: 44891 | B20: 0.58333333 | C20: Arabie Saoudite | D20: 0 | E20: 2 | F20: Pologne
A21: 44891 | B21: 0.83333333 | C21: Mexique | D21: 0 | E21: 2 | F21: Argentine
A22: 44895 | B22: 0.83333333 | C22: Arabie Saoudite | D22: 0 | E22: 1 | F22: Mexique
A23: 44895 | B23: 0.83333333 | C23: Pologne | D23: 1 | E23: 2 | F23: Argentine
A25: Groupe D / Faites vos pronostics
A26: 44887 | B26: 0.58333333 | C26: Danemark | D26: 2 | E26: 0 | F26: Tunisie
A27: 44887 | B27: 0.83333333 | C27: France | D27: 2 | E27: 0 | F27: Australie
A28: 44891 | B28: 0.70833333 | C28: Danemark | D28: 1 | E28: 1 | F28: France
A29: 44891 | B29: 0.45833333 | C29: Australie | D29: 0 | E29: 0 | F29: Tunisie
A30: 44895 | B30: 0.66666667 | C30: Australie | D30: 0 | E30: 1 | F30: Danemark
A31: 43281 | B31: 0.66666667 | C31: Tunisie | D31: 0 | E31: 3 | F31: France
A33: Groupe E / Faites vos pronostics
A34: 44888 | B34: 0.58333333 | C34: Allemagne | D34: 4 | E34: 0 | F34: Japon
A35: 44888 | B35: 0.70833333 | C35: Espagne | D35: 3 | E35: 0 | F35: Costa Rica
A36: 44892 | B36: 0.83333333 | C36: Espagne | D36: 2 | E36: 1 | F36: Allemagne
A37: 44892 | B37: 0.45833333 | C37: Japon | D37: 1 | E37: 1 | F37: Costa Rica
A38: 44896 | B38: 0.83333333 | C38: Japon | D38: 0 | E38: 2 | F38: Espagne
A39: 44896 | B39: 0.83333333 | C39: Costa Rica | D39: 0 | E39: 1 | F39: Allemagne
A41: Groupe F / Faites vos pronostics
A42: 44888 | B42: 0.45833333 | C42: Maroc | D42: 1 | E42: 1 | F42: Croatie
A43: 44888 | B43: 0.83333333 | C43: Belgique | D43: 1 | E43: 0 | F43: Canada
A44: 44892 | B44: 0.70833333 | C44: Canada | D44: 0 | E44: 2 | F44: Croatie
A45: 44892 | B45: 0.58333333 | C45: Maroc | D45: 0 | E45: 3 | F45: Belgique
A46: 44896 | B46: 0.66666667 | C46: Canada | D46: 1 | E46: 0 | F46: Maroc
A47: 44896 | B47: 0.66666667 | C47: Croatie | D47: 1 | E47: 1 | F47: Belgique
A49: Groupe G / Faites vos pronostics
A50: 44889 | B50: 0.45833333 | C50: Suisse | D50: 1 | E50: 1 | F50: Cameroun
A51: 44889 | B51: 0.83333333 | C51: Brésil | D51: 2 | E51: 0 | F51: Serbie
A52: 44893 | B52: 0.70833333 | C52: Suisse | D52: 0 | E52: 2 | F52: Brésil
A53: 44893 | B53: 0.45833333 | C53: Serbie | D53: 0 | E53: 1 | F53: Cameroun
A54: 44897 | B54: 0.83333333 | C54: Serbie | D54: 0 | E54: 0 | F54: Suisse
A55: 44897 | B55: 0.83333333 | C55: Cameroun | D55: 0 | E55: 3 | F55: Brésil
A57: Groupe H / Faites vos pronostics
A58: 44889 | B58: 0.58333333 | C58: Uruguay | D58: 2 | E58: 0 | F58: Corée du sud
A59: 44889 | B59: 0.70833333 | C59: Portugal | D59: 3 | E59: 0 | F59: Ghana
A60: 44893 | B60: 0.58333333 | C60: Corée du sud | D60: 0 | E60: 1 | F60: Ghana
A61: 44893 | B61: 0.83333333 | C61: Portugal | D61: 1 | E61: 0 | F61: Uruguay
A62: 44897 | B62: 0.66666667 | C62: Corée du sud | D62: 0 | E62: 2 | F62: Portugal
A63: 44897 | B63: 0.66666667 | C63: Ghana | D63: 1 | E63: 1 | F63: Uruguay

Sheet Amine
A1: Groupe A / Faites vos pronostics
A2: 44885 | B2: 0.70833333 | C2: Qatar | D2: 1 | E2: 1 | F2: Equateur | G2: N
A3: 44886 | B3: 0.70833333 | C3: Sénégal | D3: 1 | E3: 3 | F3: Pays-Bas | G3: BN
A4: 44890 | B4: 0.58333333 | C4: Qatar | D4: 2 | E4: 2 | F4: Sénégal
A5: 44890 | B5: 0.70833333 | C5: Pays-Bas | D5: 2 | E5: 0 | F5: Equateur
A6: 44894 | B6: 0.66666667 | C6: Pays-Bas | D6: 3 | E6: 1 | F6: Qatar
A7: 44894 | B7: 0.66666667 | C7: Equateur | D7: 0 | E7: 0 | F7: Sénégal
A9: Groupe B / Faites vos pronostics
A10: 44886 | B10: 0.58333333 | C10: Angleterre | D10: 3 | E10: 1 | F10: Iran | G10: BN
A11: 44886 | B11: 0.83333333 | C11: Etats-Unis | D11: 2 | E11: 2 | F11: Pays de Galles | G11: BN
A12: 44890 | B12: 0.83333333 | C12: Angleterre | D12: 2 | E12: 2 | F12: Etats-Unis
A13: 44890 | B13: 0.45833333 | C13: Pays de Galles | D13: 2 | E13: 0 | F13: Iran
A14: 44894 | B14: 0.83333333 | C14: Pays de Galles | D14: 1 | E14: 2 | F14: Angleterre
A15: 44894 | B15: 0.83333333 | C15: Iran | D15: 0 | E15: 0 | F15: Etats-Unis
A17: Groupe C / Faites vos pronostics
A18: 44887 | B18: 0.70833333 | C18: Mexique | D18: 2 | E18: 2 | F18: Pologne
A19: 44887 | B19: 0.45833333 | C19: Argentine | D19: 3 | E19: 1 | F19: Arabie Saoudite | G19: N
A20: 44891 | B20: 0.58333333 | C20: Arabie Saoudite | D20: 1 | E20: 1 | F20: Pologne
A21: 44891 | B21: 0.83333333 | C21: Mexique | D21: 1 | E21: 2 | F21: Argentine
A22: 44895 | B22: 0.83333333 | C22: Arabie Saoudite | D22: 1 | E22: 1 | F22: Mexique
A23: 44895 | B23: 0.83333333 | C23: Pologne | D23: 0 | E23: 1 | F23: Argentine
A25: Groupe D / Faites vos pronostics
A26: 44887 | B26: 0.58333333 | C26: Danemark | D26: 1 | E26: 0 | F26: Tunisie
A27: 44887 | B27: 0.83333333 | C27: France | D27: 1 | E27: 0 | F27: Australie
A28: 44891 | B28: 0.70833333 | C28: Danemark | D28: 1 | E28: 1 | F28: France
A29: 44891 | B29: 0.45833333 | C29: Australie | D29: 1 | E29: 1 | F29: Tunisie
A30: 44895 | B30: 0.66666667 | C30: Australie | D30: 0 | E30: 1 | F30: Danemark
A31: 43281 | B31: 0.66666667 | C31: Tunisie | D31: 0 | E31: 2 | F31: France
A33: Groupe E / Faites vos pronostics
A34: 44888 | B34: 0.58333333 | C34: Allemagne | D34: 2 | E34: 0 | F34: Japon
A35: 44888 | B35: 0.70833333 | C35: Espagne | D35: 2 | E35: 0 | F35: Costa Rica
A36: 44892 | B36: 0.83333333 | C36: Espagne | D36: 2 | E36: 2 | F36: Allemagne
A37: 44892 | B37: 0.45833333 | C37: Japon | D37: 0 | E37: 0 | F37: Costa Rica
A38: 44896 | B38: 0.83333333 | C38: Japon | D38: 1 | E38: 2 | F38: Espagne
A39: 44896 | B39: 0.83333333 | C39: Costa Rica | D39: 1 | E39: 3 | F39: Allemagne
A41: Groupe F / Faites vos pronostics
A42: 44888 | B42: 0.45833333 | C42: Maroc | D42: 0 | E42: 1 | F42: Croatie
A43: 44888 | B43: 0.83333333 | C43: Belgique | D43: 1 | E43: 0 | F43: Canada
A44: 44892 | B44: 0.70833333 | C44: Canada | D44: 0 | E44: 1 | F44: Croatie
A45: 44892 | B45: 0.58333333 | C45: Maroc | D45: 0 | E45: 2 | F45: Belgique
A46: 44896 | B46: 0.66666667 | C46: Canada | D46: 1 | E46: 1 | F46: Maroc
A47: 44896 | B47: 0.66666667 | C47: Croatie | D47: 1 | E47: 1 | F47: Belgique
A49: Groupe G / Faites vos pronostics
A50: 44889 | B50: 0.45833333 | C50: Suisse | D50: 2 | E50: 0 | F50: Cameroun
A51: 44889 | B51: 0.83333333 | C51: Brésil | D51: 2 | E51: 0 | F51: Serbie
A52: 44893 | B52: 0.70833333 | C52: Suisse | D52: 1 | E52: 3 | F52: Brésil
A53: 44893 | B53: 0.45833333 | C53: Serbie | D53: 3 | E53: 1 | F53: Cameroun
A54: 44897 | B54: 0.83333333 | C54: Serbie | D54: 1 | E54: 1 | F54: Suisse
A55: 44897 | B55: 0.83333333 | C55: Cameroun | D55: 0 | E55: 3 | F55: Brésil
A57: Groupe H / Faites vos pronostics
A58: 44889 | B58: 0.58333333 | C58: Uruguay | D58: 1 | E58: 0 | F58: Corée du sud
A59: 44889 | B59: 0.70833333 | C59: Portugal | D59: 1 | E59: 0 | F59: Ghana
A60: 44893 | B60: 0.58333333 | C60: Corée du sud | D60: 0 | E60: 0 | F60: Ghana
A61: 44893 | B61: 0.83333333 | C61: Portugal | D61: 1 | E61: 1 | F61: Uruguay
A62: 44897 | B62: 0.66666667 | C62: Corée du sud | D62: 1 | E62: 1 | F62: Portugal
A63: 44897 | B63: 0.66666667 | C63: Ghana | D63: 1 | E63: 2 | F63: Uruguay

Sheet Antoine
A1: Groupe A / Faites vos pronostics
A2: 44885 | B2: 0.70833333 | C2: Qatar | D2: 2 | E2: 1 | F2: Equateur | G2: N
A3: 44886 | B3: 0.70833333 | C3: Sénégal | D3: 1 | E3: 1 | F3: Pays-Bas | G3: N
A4: 44890 | B4: 0.58333333 | C4: Qatar | D4: 0 | E4: 0 | F4: Sénégal
A5: 44890 | B5: 0.70833333 | C5: Pays-Bas | D5: 2 | E5: 0 | F5: Equateur
A6: 44894 | B6: 0.66666667 | C6: Pays-Bas | D6: 2 | E6: 1 | F6: Qatar
A7: 44894 | B7: 0.66666667 | C7: Equateur | D7: 1 | E7: 1 | F7: Sénégal
A9: Groupe B / Faites vos pronostics
A10: 44886 | B10: 0.58333333 | C10: Angleterre | D10: 3 | E10: 0 | F10: Iran | G10: BN
A11: 44886 | B11: 0.83333333 | C11: Etats-Unis | D11: 2 | E11: 2 | F11: Pays de Galles | G11: BN
A12: 44890 | B12: 0.83333333 | C12: Angleterre | D12: 0 | E12: 1 | F12: Etats-Unis
A13: 44890 | B13: 0.45833333 | C13: Pays de Galles | D13: 3 | E13: 1 | F13: Iran
A14: 44894 | B14: 0.83333333 | C14: Pays de Galles | D14: 2 | E14: 3 | F14: Angleterre
A15: 44894 | B15: 0.83333333 | C15: Iran | D15: 1 | E15: 3 | F15: Etats-Unis
A17: Groupe C / Faites vos pronostics
A18: 44887 | B18: 0.70833333 | C18: Mexique | D18: 2 | E18: 1 | F18: Pologne
A19: 44887 | B19: 0.45833333 | C19: Argentine | D19: 3 | E19: 0 | F19: Arabie Saoudite | G19: N
A20: 44891 | B20: 0.58333333 | C20: Arabie Saoudite | D20: 0 | E20: 1 | F20: Pologne
A21: 44891 | B21: 0.83333333 | C21: Mexique | D21: 1 | E21: 2 | F21: Argentine
A22: 44895 | B22: 0.83333333 | C22: Arabie Saoudite | D22: 1 | E22: 3 | F22: Mexique
A23: 44895 | B23: 0.83333333 | C23: Pologne | D23: 1 | E23: 1 | F23: Argentine
A25: Groupe D / Faites vos pronostics
A26: 44887 | B26: 0.58333333 | C26: Danemark | D26: 1 | E26: 1 | F26: Tunisie | G26: BN
A27: 44887 | B27: 0.83333333 | C27: France | D27: 2 | E27: 0 | F27: Australie
A28: 44891 | B28: 0.70833333 | C28: Danemark | D28: 0 | E28: 0 | F28: France
A29: 44891 | B29: 0.45833333 | C29: Australie | D29: 1 | E29: 1 | F29: Tunisie
A30: 44895 | B30: 0.66666667 | C30: Australie | D30: 1 | E30: 3 | F30: Danemark
A31: 43281 | B31: 0.66666667 | C31: Tunisie | D31: 1 | E31: 2 | F31: France
A33: Groupe E / Faites vos pronostics
A34: 44888 | B34: 0.58333333 | C34: Allemagne | D34: 2 | E34: 0 | F34: Japon
A35: 44888 | B35: 0.70833333 | C35: Espagne | D35: 3 | E35: 1 | F35: Costa Rica
A36: 44892 | B36: 0.83333333 | C36: Espagne | D36: 1 | E36: 4 | F36: Allemagne
A37: 44892 | B37: 0.45833333 | C37: Japon | D37: 2 | E37: 1 | F37: Costa Rica
A38: 44896 | B38: 0.83333333 | C38: Japon | D38: 1 | E38: 2 | F38: Espagne
A39: 44896 | B39: 0.83333333 | C39: Costa Rica | D39: 0 | E39: 4 | F39: Allemagne
A41: Groupe F / Faites vos pronostics
A42: 44888 | B42: 0.45833333 | C42: Maroc | D42: 0 | E42: 0 | F42: Croatie
A43: 44888 | B43: 0.83333333 | C43: Belgique | D43: 3 | E43: 0 | F43: Canada
A44: 44892 | B44: 0.70833333 | C44: Canada | D44: 1 | E44: 2 | F44: Croatie
A45: 44892 | B45: 0.58333333 | C45: Maroc | D45: 1 | E45: 3 | F45: Belgique
A46: 44896 | B46: 0.66666667 | C46: Canada | D46: 1 | E46: 1 | F46: Maroc
A47: 44896 | B47: 0.66666667 | C47: Croatie | D47: 1 | E47: 1 | F47: Belgique
A49: Groupe G / Faites vos pronostics
A50: 44889 | B50: 0.45833333 | C50: Suisse | D50: 1 | E50: 1 | F50: Cameroun
A51: 44889 | B51: 0.83333333 | C51: Brésil | D51: 2 | E51: 0 | F51: Serbie
A52: 44893 | B52: 0.70833333 | C52: Suisse | D52: 1 | E52: 1 | F52: Brésil
A53: 44893 | B53: 0.45833333 | C53: Serbie | D53: 1 | E53: 2 | F53: Cameroun
A54: 44897 | B54: 0.83333333 | C54: Serbie | D54: 0 | E54: 0 | F54: Suisse
A55: 44897 | B55: 0.83333333 | C55: Cameroun | D55: 0 | E55: 2 | F55: Brésil
A57: Groupe H / Faites vos pronostics
A58: 44889 | B58: 0.58333333 | C58: Uruguay | D58: 1 | E58: 1 | F58: Corée du sud
A59: 44889 | B59: 0.70833333 | C59: Portugal | D59: 1 | E59: 1 | F59: Ghana
A60: 44893 | B60: 0.58333333 | C60: Corée du sud | D60: 2 | E60: 0 | F60: Ghana
A61: 44893 | B61: 0.83333333 | C61: Portugal | D61: 1 | E61: 1 | F61: Uruguay
A62: 44897 | B62: 0.66666667 | C62: Corée du sud | D62: 1 | E62: 2 | F62: Portugal
A63: 44897 | B63: 0.66666667 | C63: Ghana | D63: 0 | E63: 1 | F63: Uruguay

Sheet Arezou
A1: Groupe A / Faites vos pronostics
A2: 44885 | B2: 0.70833333 | C2: Qatar | D2: 0 | E2: 1 | F2: Equateur | G2: BN
A3: 44886 | B3: 0.70833333 | C3: Sénégal | D3: 0 | E3: 2 | F3: Pays-Bas | G3: EX
A4: 44890 | B4: 0.58333333 | C4: Qatar | D4: 0 | E4: 0 | F4: Sénégal
A5: 44890 | B5: 0.70833333 | C5: Pays-Bas | D5: 3 | E5: 1 | F5: Equateur
A6: 44894 | B6: 0.66666667 | C6: Pays-Bas | D6: 2 | E6: 0 | F6: Qatar
A7: 44894 | B7: 0.66666667 | C7: Equateur | D7: 1 | E7: 1 | F7: Sénégal
A9: Groupe B / Faites vos pronostics
A10: 44886 | B10: 0.58333333 | C10: Angleterre | D10: 3 | E10: 0 | F10: Iran | G10: BN
A11: 44886 | B11: 0.83333333 | C11: Etats-Unis | D11: 0 | E11: 1 | F11: Pays de Galles | G11: N
A12: 44890 | B12: 0.83333333 | C12: Angleterre | D12: 2 | E12: 0 | F12: Etats-Unis
A13: 44890 | B13: 0.45833333 | C13: Pays de Galles | D13: 1 | E13: 1 | F13: Iran
A14: 44894 | B14: 0.83333333 | C14: Pays de Galles | D14: 0 | E14: 2 | F14: Angleterre
A15: 44894 | B15: 0.83333333 | C15: Iran | D15: 2 | E15: 2 | F15: Etats-Unis
A17: Groupe C / Faites vos pronostics
A18: 44887 | B18: 0.70833333 | C18: Mexique | D18: 1 | E18: 1 | F18: Pologne
A19: 44887 | B19: 0.45833333 | C19: Argentine | D19: 3 | E19: 1 | F19: Arabie Saoudite | G19: N
A20: 44891 | B20: 0.58333333 | C20: Arabie Saoudite | D20: 0 | E20: 2 | F20: Pologne
A21: 44891 | B21: 0.83333333 | C21: Mexique | D21: 0 | E21: 2 | F21: Argentine
A22: 44895 | B22: 0.83333333 | C22: Arabie Saoudite | D22: 1 | E22: 1 | F22: Mexique
A23: 44895 | B23: 0.83333333 | C23: Pologne | D23: 1 | E23: 3 | F23: Argentine
A25: Groupe D / Faites vos pronostics
A26: 44887 | B26: 0.58333333 | C26: Danemark | D26: 3 | E26: 1 | F26: Tunisie
A27: 44887 | B27: 0.83333333 | C27: France | D27: 2 | E27: 1 | F27: Australie
A28: 44891 | B28: 0.70833333 | C28: Danemark | D28: 3 | E28: 1 | F28: France
A29: 44891 | B29: 0.45833333 | C29: Australie | D29: 0 | E29: 1 | F29: Tunisie
A30: 44895 | B30: 0.66666667 | C30: Australie | D30: 0 | E30: 2 | F30: Danemark
A31: 43281 | B31: 0.66666667 | C31: Tunisie | D31: 1 | E31: 2 | F31: France
A33: Groupe E / Faites vos pronostics
A34: 44888 | B34: 0.58333333 | C34: Allemagne | D34: 3 | E34: 0 | F34: Japon
A35: 44888 | B35: 0.70833333 | C35: Espagne | D35: 2 | E35: 0 | F35: Costa Rica
A36: 44892 | B36: 0.83333333 | C36: Espagne | D36: 2 | E36: 2 | F36: Allemagne
A37: 44892 | B37: 0.45833333 | C37: Japon | D37: 0 | E37: 1 | F37: Costa Rica
A38: 44896 | B38: 0.83333333 | C38: Japon | D38: 0 | E38: 3 | F38: Espagne
A39: 44896 | B39: 0.83333333 | C39: Costa Rica | D39: 0 | E39: 3 | F39: Allemagne
A41: Groupe F / Faites vos pronostics
A42: 44888 | B42: 0.45833333 | C42: Maroc | D42: 1 | E42: 2 | F42: Croatie
A43: 44888 | B43: 0.83333333 | C43: Belgique | D43: 2 | E43: 0 | F43: Canada
A44: 44892 | B44: 0.70833333 | C44: Canada | D44: 0 | E44: 2 | F44: Croatie
A45: 44892 | B45: 0.58333333 | C45: Maroc | D45: 2 | E45: 2 | F45: Belgique
A46: 44896 | B46: 0.66666667 | C46: Canada | D46: 0 | E46: 1 | F46: Maroc
A47: 44896 | B47: 0.66666667 | C47: Croatie | D47: 2 | E47: 2 | F47: Belgique
A49: Groupe G / Faites vos pronostics
A50: 44889 | B50: 0.45833333 | C50: Suisse | D50: 0 | E50: 1 | F50: Cameroun
A51: 44889 | B51: 0.83333333 | C51: Brésil | D51: 2 | E51: 0 | F51: Serbie
A52: 44893 | B52: 0.70833333 | C52: Suisse | D52: 0 | E52: 3 | F52: Brésil
A53: 44893 | B53: 0.45833333 | C53: Serbie | D53: 1 | E53: 1 | F53: Cameroun
A54: 44897 | B54: 0.83333333 | C54: Serbie | D54: 1 | E54: 1 | F54: Suisse
A55: 44897 | B55: 0.83333333 | C55: Cameroun | D55: 0 | E55: 2 | F55: Brésil
A57: Groupe H / Faites vos pronostics
A58: 44889 | B58: 0.58333333 | C58: Uruguay | D58: 3 | E58: 0 | F58: Corée du sud
A59: 44889 | B59: 0.70833333 | C59: Portugal | D59: 4 | E59: 0 | F59: Ghana
A60: 44893 | B60: 0.58333333 | C60: Corée du sud | D60: 0 | E60: 0 | F60: Ghana
A61: 44893 | B61: 0.83333333 | C61: Portugal | D61: 2 | E61: 2 | F61: Uruguay
A62: 44897 | B62: 0.66666667 | C62: Corée du sud | D62: 0 | E62: 2 | F62: Portugal
A63: 44897 | B63: 0.66666667 | C63: Ghana | D63: 1 | E63: 3 | F63: Uruguay

Sheet Arnaud
A1: Groupe A / Faites vos pronostics
A2: 44885 | B2: 0.70833333 | C2: Qatar | D2: 1 | E2: 1 | F2: Equateur | G2: N
A3: 44886 | B3: 0.70833333 | C3: Sénégal | D3: 1 | E3: 1 | F3: Pays-Bas | G3: N
A4: 44890 | B4: 0.58333333 | C4: Qatar | D4: 0 | E4: 2 | F4: Sénégal
A5: 44890 | B5: 0.70833333 | C5: Pays-Bas | D5: 3 | E5: 1 | F5: Equateur
A6: 44894 | B6: 0.66666667 | C6: Pays-Bas | D6: 4 | E6: 0 | F6: Qatar
A7: 44894 | B7: 0.66666667 | C7: Equateur | D7: 0 | E7: 1 | F7: Sénégal
A9: Groupe B / Faites vos pronostics
A10: 44886 | B10: 0.58333333 | C10: Angleterre | D10: 2 | E10: 0 | F10: Iran | G10: BN
A11: 44886 | B11: 0.83333333 | C11: Etats-Unis | D11: 0 | E11: 1 | F11: Pays de Galles | G11: N
A12: 44890 | B12: 0.83333333 | C12: Angleterre | D12: 3 | E12: 1 | F12: Etats-Unis
A13: 44890 | B13: 0.45833333 | C13: Pays de Galles | D13: 2 | E13: 1 | F13: Iran
A14: 44894 | B14: 0.83333333 | C14: Pays de Galles | D14: 0 | E14: 1 | F14: Angleterre
A15: 44894 | B15: 0.83333333 | C15: Iran | D15: 1 | E15: 1 | F15: Etats-Unis
A17: Groupe C / Faites vos pronostics
A18: 44887 | B18: 0.70833333 | C18: Mexique | D18: 2 | E18: 0 | F18: Pologne
A19: 44887 | B19: 0.45833333 | C19: Argentine | D19: 4 | E19: 0 | F19: Arabie Saoudite | G19: N
A20: 44891 | B20: 0.58333333 | C20: Arabie Saoudite | D20: 1 | E20: 2 | F20: Pologne
A21: 44891 | B21: 0.83333333 | C21: Mexique | D21: 1 | E21: 1 | F21: Argentine
A22: 44895 | B22: 0.83333333 | C22: Arabie Saoudite | D22: 0 | E22: 2 | F22: Mexique
A23: 44895 | B23: 0.83333333 | C23: Pologne | D23: 0 | E23: 4 | F23: Argentine
A25: Groupe D / Faites vos pronostics
A26: 44887 | B26: 0.58333333 | C26: Danemark | D26: 2 | E26: 1 | F26: Tunisie
A27: 44887 | B27: 0.83333333 | C27: France | D27: 1 | E27: 0 | F27: Australie
A28: 44891 | B28: 0.70833333 | C28: Danemark | D28: 0 | E28: 1 | F28: France
A29: 44891 | B29: 0.45833333 | C29: Australie | D29: 1 | E29: 1 | F29: Tunisie
A30: 44895 | B30: 0.66666667 | C30: Australie | D30: 0 | E30: 1 | F30: Danemark
A31: 43281 | B31: 0.66666667 | C31: Tunisie | D31: 0 | E31: 3 | F31: France
A33: Groupe E / Faites vos pronostics
A34: 44888 | B34: 0.58333333 | C34: Allemagne | D34: 3 | E34: 0 | F34: Japon
A35: 44888 | B35: 0.70833333 | C35: Espagne | D35: 4 | E35: 1 | F35: Costa Rica
A36: 44892 | B36: 0.83333333 | C36: Espagne | D36: 3 | E36: 0 | F36: Allemagne
A37: 44892 | B37: 0.45833333 | C37: Japon | D37: 0 | E37: 0 | F37: Costa Rica
A38: 44896 | B38: 0.83333333 | C38: Japon | D38: 0 | E38: 2 | F38: Espagne
A39: 44896 | B39: 0.83333333 | C39: Costa Rica | D39: 1 | E39: 1 | F39: Allemagne
A41: Groupe F / Faites vos pronostics
A42: 44888 | B42: 0.45833333 | C42: Maroc | D42: 0 | E42: 1 | F42: Croatie
A43: 44888 | B43: 0.83333333 | C43: Belgique | D43: 3 | E43: 0 | F43: Canada
A44: 44892 | B44: 0.70833333 | C44: Canada | D44: 1 | E44: 2 | F44: Croatie
A45: 44892 | B45: 0.58333333 | C45: Maroc | D45: 1 | E45: 2 | F45: Belgique
A46: 44896 | B46: 0.66666667 | C46: Canada | D46: 1 | E46: 0 | F46: Maroc
A47: 44896 | B47: 0.66666667 | C47: Croatie | D47: 2 | E47: 1 | F47: Belgique
A49: Groupe G / Faites vos pronostics
A50: 44889 | B50: 0.45833333 | C50: Suisse | D50: 2 | E50: 1 | F50: Cameroun
A51: 44889 | B51: 0.83333333 | C51: Brésil | D51: 3 | E51: 1 | F51: Serbie
A52: 44893 | B52: 0.70833333 | C52: Suisse | D52: 0 | E52: 1 | F52: Brésil
A53: 44893 | B53: 0.45833333 | C53: Serbie | D53: 1 | E53: 0 | F53: Cameroun
A54: 44897 | B54: 0.83333333 | C54: Serbie | D54: 1 | E54: 0 | F54: Suisse
A55: 44897 | B55: 0.83333333 | C55: Cameroun | D55: 1 | E55: 5 | F55: Brésil
A57: Groupe H / Faites vos pronostics
A58: 44889 | B58: 0.58333333 | C58: Uruguay | D58: 1 | E58: 1 | F58: Corée du sud
A59: 44889 | B59: 0.70833333 | C59: Portugal | D59: 1 | E59: 0 | F59: Ghana
A60: 44893 | B60: 0.58333333 | C60: Corée du sud | D60: 2 | E60: 2 | F60: Ghana
A61: 44893 | B61: 0.83333333 | C61: Portugal | D61: 2 | E61: 1 | F61: Uruguay
A62: 44897 | B62: 0.66666667 | C62: Corée du sud | D62: 1 | E62: 3 | F62: Portugal
A63: 44897 | B63: 0.66666667 | C63: Ghana | D63: 0 | E63: 1 | F63: Uruguay

Sheet Arthur
A1: Groupe A / Faites vos pronostics
A2: 20-nov. | B2: 0.70833333 | C2: Qatar | D2: 0 | E2: 2 | F2: Equateur | G2: EX
A3: 21-nov. | B3: 0.70833333 | C3: Sénégal | D3: 1 | E3: 2 | F3: Pays-Bas | G3: BN
A4: 25-nov. | B4: 0.58333333 | C4: Qatar | D4: 0 | E4: 1 | F4: Sénégal
A5: 25-nov. | B5: 0.70833333 | C5: Pays-Bas | D5: 2 | E5: 1 | F5: Equateur
A6: 29-nov. | B6: 0.66666667 | C6: Pays-Bas | D6: 3 | E6: 0 | F6: Qatar
A7: 29-nov. | B7: 0.66666667 | C7: Equateur | D7: 1 | E7: 1 | F7: Sénégal
A9: Groupe B / Faites vos pronostics
A10: 21-nov. | B10: 0.58333333 | C10: Angleterre | D10: 1 | E10: 0 | F10: Iran | G10: BN
A11: 21-nov. | B11: 0.83333333 | C11: Etats-Unis | D11: 1 | E11: 1 | F11: Pays de Galles | G11: EX
A12: 25-nov. | B12: 0.83333333 | C12: Angleterre | D12: 2 | E12: 1 | F12: Etats-Unis
A13: 25-nov. | B13: 0.45833333 | C13: Pays de Galles | D13: 1 | E13: 1 | F13: Iran
A14: 29-nov. | B14: 0.83333333 | C14: Pays de Galles | D14: 1 | E14: 2 | F14: Angleterre
A15: 29-nov. | B15: 0.83333333 | C15: Iran | D15: 2 | E15: 2 | F15: Etats-Unis
A17: Groupe C / Faites vos pronostics
A18: 22-nov. | B18: 0.70833333 | C18: Mexique | D18: 3 | E18: 0 | F18: Pologne
A19: 22-nov. | B19: 0.45833333 | C19: Argentine | D19: 3 | E19: 0 | F19: Arabie Saoudite | G19: N
A20: 26-nov. | B20: 0.58333333 | C20: Arabie Saoudite | D20: 1 | E20: 1 | F20: Pologne
A21: 26-nov. | B21: 0.83333333 | C21: Mexique | D21: 1 | E21: 2 | F21: Argentine
A22: 30-nov. | B22: 0.83333333 | C22: Arabie Saoudite | D22: 0 | E22: 2 | F22: Mexique
A23: 30-nov. | B23: 0.83333333 | C23: Pologne | D23: 1 | E23: 3 | F23: Argentine
A25: Groupe D / Faites vos pronostics
A26: 22-nov. | B26: 0.58333333 | C26: Danemark | D26: 2 | E26: 0 | F26: Tunisie
A27: 22-nov. | B27: 0.83333333 | C27: France | D27: 3 | E27: 1 | F27: Australie
A28: 26-nov. | B28: 0.70833333 | C28: Danemark | D28: 1 | E28: 1 | F28: France
A29: 26-nov. | B29: 0.45833333 | C29: Australie | D29: 0 | E29: 2 | F29: Tunisie
A30: 30-nov. | B30: 0.66666667 | C30: Australie | D30: 1 | E30: 2 | F30: Danemark
A31: 44742 | B31: 0.66666667 | C31: Tunisie | D31: 0 | E31: 3 | F31: France
A33: Groupe E / Faites vos pronostics
A34: 23-nov. | B34: 0.58333333 | C34: Allemagne | D34: 2 | E34: 1 | F34: Japon
A35: 23-nov. | B35: 0.70833333 | C35: Espagne | D35: 2 | E35: 0 | F35: Costa Rica
A36: 27-nov. | B36: 0.83333333 | C36: Espagne | D36: 1 | E36: 1 | F36: Allemagne
A37: 27-nov. | B37: 0.45833333 | C37: Japon | D37: 2 | E37: 0 | F37: Costa Rica
A38: 1-déc. | B38: 0.83333333 | C38: Japon | D38: 1 | E38: 2 | F38: Espagne
A39: 1-déc. | B39: 0.83333333 | C39: Costa Rica | D39: 1 | E39: 2 | F39: Allemagne
A41: Groupe F / Faites vos pronostics
A42: 23-nov. | B42: 0.45833333 | C42: Maroc | D42: 0 | E42: 2 | F42: Croatie
A43: 23-nov. | B43: 0.83333333 | C43: Belgique | D43: 2 | E43: 0 | F43: Canada
A44: 27-nov. | B44: 0.70833333 | C44: Canada | D44: 0 | E44: 3 | F44: Croatie
A45: 27-nov. | B45: 0.58333333 | C45: Maroc | D45: 0 | E45: 3 | F45: Belgique
A46: 1-déc. | B46: 0.66666667 | C46: Canada | D46: 0 | E46: 1 | F46: Maroc
A47: 1-déc. | B47: 0.66666667 | C47: Croatie | D47: 3 | E47: 3 | F47: Belgique
A49: Groupe G / Faites vos pronostics
A50: 24-nov. | B50: 0.45833333 | C50: Suisse | D50: 2 | E50: 1 | F50: Cameroun
A51: 24-nov. | B51: 0.83333333 | C51: Brésil | D51: 3 | E51: 1 | F51: Serbie
A52: 28-nov. | B52: 0.70833333 | C52: Suisse | D52: 2 | E52: 2 | F52: Brésil
A53: 28-nov. | B53: 0.45833333 | C53: Serbie | D53: 2 | E53: 1 | F53: Cameroun
A54: 2-déc. | B54: 0.83333333 | C54: Serbie | D54: 1 | E54: 2 | F54: Suisse
A55: 2-déc. | B55: 0.83333333 | C55: Cameroun | D55: 1 | E55: 4 | F55: Brésil
A57: Groupe H / Faites vos pronostics
A58: 24-nov. | B58: 0.58333333 | C58: Uruguay | D58: 1 | E58: 1 | F58: Corée du sud
A59: 24-nov. | B59: 0.70833333 | C59: Portugal | D59: 2 | E59: 0 | F59: Ghana
A60: 28-nov. | B60: 0.58333333 | C60: Corée du sud | D60: 1 | E60: 0 | F60: Ghana
A61: 28-nov. | B61: 0.83333333 | C61: Portugal | D61: 3 | E61: 1 | F61: Uruguay
A62: 2-déc. | B62: 0.66666667 | C62: Corée du sud | D62: 1 | E62: 1 | F62: Portugal
A63: 2-déc. | B63: 0.66666667 | C63: Ghana | D63: 1 | E63: 2 | F63: Uruguay

Sheet Bastien
A1: Groupe A / Faites vos pronostics
A2: 20-nov. | B2: 0.70833333 | C2: Qatar | D2: 1 | E2: 2 | F2: Equateur | G2: BN
A3: 21-nov. | B3: 0.70833333 | C3: Sénégal | D3: 1 | E3: 2 | F3: Pays-Bas | G3: BN
A4: 25-nov. | B4: 0.58333333 | C4: Qatar | D4: 1 | E4: 2 | F4: Sénégal
A5: 25-nov. | B5: 0.70833333 | C5: Pays-Bas | D5: 2 | E5: 0 | F5: Equateur
A6: 29-nov. | B6: 0.66666667 | C6: Pays-Bas | D6: 3 | E6: 0 | F6: Qatar
A7: 29-nov. | B7: 0.66666667 | C7: Equateur | D7: 1 | E7: 1 | F7: Sénégal
A8: Groupe B / Faites vos pronostics
A9: 21-nov. | B9: 0.58333333 | C9: Angleterre | D9: 3 | E9: 0 | F9: Iran | G9: BN
A10: 21-nov. | B10: 0.83333333 | C10: Etats-Unis | D10: 1 | E10: 1 | F10: Pays de Galles | G10: EX
A11: 25-nov. | B11: 0.83333333 | C11: Angleterre | D11: 2 | E11: 1 | F11: Etats-Unis
A12: 25-nov. | B12: 0.45833333 | C12: Pays de Galles | D12: 2 | E12: 1 | F12: Iran
A13: 29-nov. | B13: 0.83333333 | C13: Pays de Galles | D13: 1 | E13: 2 | F13: Angleterre
A14: 29-nov. | B14: 0.83333333 | C14: Iran | D14: 0 | E14: 1 | F14: Etats-Unis
A15: Groupe C / Faites vos pronostics
A16: 22-nov. | B16: 0.70833333 | C16: Mexique | D16: 1 | E16: 2 | F16: Pologne
A17: 22-nov. | B17: 0.45833333 | C17: Argentine | D17: 4 | E17: 0 | F17: Arabie Saoudite | G17: N
A18: 26-nov. | B18: 0.58333333 | C18: Arabie Saoudite | D18: 0 | E18: 2 | F18: Pologne
A19: 26-nov. | B19: 0.83333333 | C19: Mexique | D19: 1 | E19: 3 | F19: Argentine
A20: 30-nov. | B20: 0.83333333 | C20: Arabie Saoudite | D20: 1 | E20: 2 | F20: Mexique
A21: 30-nov. | B21: 0.83333333 | C21: Pologne | D21: 1 | E21: 2 | F21: Argentine
A22: Groupe D / Faites vos pronostics
A23: 22-nov. | B23: 0.58333333 | C23: Danemark | D23: 2 | E23: 1 | F23: Tunisie
A24: 22-nov. | B24: 0.83333333 | C24: France | D24: 3 | E24: 1 | F24: Australie
A25: 26-nov. | B25: 0.70833333 | C25: Danemark | D25: 1 | E25: 2 | F25: France
A26: 26-nov. | B26: 0.45833333 | C26: Australie | D26: 2 | E26: 1 | F26: Tunisie
A27: 30-nov. | B27: 0.66666667 | C27: Australie | D27: 2 | E27: 2 | F27: Danemark
A28: 44742 | B28: 0.66666667 | C28: Tunisie | D28: 0 | E28: 2 | F28: France
A29: Groupe E / Faites vos pronostics
A30: 23-nov. | B30: 0.58333333 | C30: Allemagne | D30: 2 | E30: 0 | F30: Japon
A31: 23-nov. | B31: 0.70833333 | C31: Espagne | D31: 2 | E31: 1 | F31: Costa Rica
A32: 27-nov. | B32: 0.83333333 | C32: Espagne | D32: 2 | E32: 1 | F32: Allemagne
A33: 27-nov. | B33: 0.45833333 | C33: Japon | D33: 0 | E33: 1 | F33: Costa Rica
A34: 1-déc. | B34: 0.83333333 | C34: Japon | D34: 1 | E34: 3 | F34: Espagne
A35: 1-déc. | B35: 0.83333333 | C35: Costa Rica | D35: 0 | E35: 1 | F35: Allemagne
A36: Groupe F / Faites vos pronostics
A37: 23-nov. | B37: 0.45833333 | C37: Maroc | D37: 1 | E37: 2 | F37: Croatie
A38: 23-nov. | B38: 0.83333333 | C38: Belgique | D38: 2 | E38: 0 | F38: Canada
A39: 27-nov. | B39: 0.70833333 | C39: Canada | D39: 0 | E39: 2 | F39: Croatie
A40: 27-nov. | B40: 0.58333333 | C40: Maroc | D40: 1 | E40: 2 | F40: Belgique
A41: 1-déc. | B41: 0.66666667 | C41: Canada | D41: 1 | E41: 2 | F41: Maroc
A42: 1-déc. | B42: 0.66666667 | C42: Croatie | D42: 1 | E42: 1 | F42: Belgique
A43: Groupe G / Faites vos pronostics
A44: 24-nov. | B44: 0.45833333 | C44: Suisse | D44: 1 | E44: 1 | F44: Cameroun
A45: 24-nov. | B45: 0.83333333 | C45: Brésil | D45: 3 | E45: 0 | F45: Serbie
A46: 28-nov. | B46: 0.70833333 | C46: Suisse | D46: 1 | E46: 2 | F46: Brésil
A47: 28-nov. | B47: 0.45833333 | C47: Serbie | D47: 1 | E47: 0 | F47: Cameroun
A48: 2-déc. | B48: 0.83333333 | C48: Serbie | D48: 1 | E48: 1 | F48: Suisse
A49: 2-déc. | B49: 0.83333333 | C49: Cameroun | D49: 1 | E49: 3 | F49: Brésil
A50: Groupe H / Faites vos pronostics
A51: 24-nov. | B51: 0.58333333 | C51: Uruguay | D51: 2 | E51: 0 | F51: Corée du sud
A52: 24-nov. | B52: 0.70833333 | C52: Portugal | D52: 3 | E52: 1 | F52: Ghana
A53: 28-nov. | B53: 0.58333333 | C53: Corée du sud | D53: 1 | E53: 1 | F53: Ghana
A54: 28-nov. | B54: 0.83333333 | C54: Portugal | D54: 2 | E54: 1 | F54: Uruguay
A55: 2-déc. | B55: 0.66666667 | C55: Corée du sud | D55: 0 | E55: 2 | F55: Portugal
A56: 2-déc. | B56: 0.66666667 | C56: Ghana | D56: 1 | E56: 2 | F56: Uruguay

Sheet Chloe
A1: Groupe A / Faites vos pronostics
A2: 44885 | B2: 0.70833333 | C2: Qatar | D2: 1 | E2: 0 | F2: Equateur | G2: N
A3: 44886 | B3: 0.70833333 | C3: Sénégal | D3: 0 | E3: 2 | F3: Pays-Bas | G3: EX
A4: 44890 | B4: 0.58333333 | C4: Qatar | D4: 0 | E4: 2 | F4: Sénégal
A5: 44890 | B5: 0.70833333 | C5: Pays-Bas | D5: 2 | E5: 1 | F5: Equateur
A6: 44894 | B6: 0.66666667 | C6: Pays-Bas | D6: 2 | E6: 0 | F6: Qatar
A7: 44894 | B7: 0.66666667 | C7: Equateur | D7: 1 | E7: 1 | F7: Sénégal
A9: Groupe B / Faites vos pronostics
A10: 44886 | B10: 0.58333333 | C10: Angleterre | D10: 4 | E10: 0 | F10: Iran | G10: BN
A11: 44886 | B11: 0.83333333 | C11: Etats-Unis | D11: 1 | E11: 1 | F11: Pays de Galles | G11: EX
A12: 44890 | B12: 0.83333333 | C12: Angleterre | D12: 3 | E12: 1 | F12: Etats-Unis
A13: 44890 | B13: 0.45833333 | C13: Pays de Galles | D13: 2 | E13: 0 | F13: Iran
A14: 44894 | B14: 0.83333333 | C14: Pays de Galles | D14: 1 | E14: 3 | F14: Angleterre
A15: 44894 | B15: 0.83333333 | C15: Iran | D15: 0 | E15: 0 | F15: Etats-Unis
A17: Groupe C / Faites vos pronostics
A18: 44887 | B18: 0.70833333 | C18: Mexique | D18: 1 | E18: 2 | F18: Pologne
A19: 44887 | B19: 0.45833333 | C19: Argentine | D19: 4 | E19: 0 | F19: Arabie Saoudite | G19: N
A20: 44891 | B20: 0.58333333 | C20: Arabie Saoudite | D20: 0 | E20: 2 | F20: Pologne
A21: 44891 | B21: 0.83333333 | C21: Mexique | D21: 0 | E21: 3 | F21: Argentine
A22: 44895 | B22: 0.83333333 | C22: Arabie Saoudite | D22: 0 | E22: 2 | F22: Mexique
A23: 44895 | B23: 0.83333333 | C23: Pologne | D23: 1 | E23: 2 | F23: Argentine
A25: Groupe D / Faites vos pronostics
A26: 44887 | B26: 0.58333333 | C26: Danemark | D26: 2 | E26: 1 | F26: Tunisie
A27: 44887 | B27: 0.83333333 | C27: France | D27: 2 | E27: 0 | F27: Australie
A28: 44891 | B28: 0.70833333 | C28: Danemark | D28: 1 | E28: 1 | F28: France
A29: 44891 | B29: 0.45833333 | C29: Australie | D29: 0 | E29: 1 | F29: Tunisie
A30: 44895 | B30: 0.66666667 | C30: Australie | D30: 0 | E30: 2 | F30: Danemark
A31: 43281 | B31: 0.66666667 | C31: Tunisie | D31: 1 | E31: 2 | F31: France
A33: Groupe E / Faites vos pronostics
A34: 44888 | B34: 0.58333333 | C34: Allemagne | D34: 2 | E34: 0 | F34: Japon
A35: 44888 | B35: 0.70833333 | C35: Espagne | D35: 2 | E35: 0 | F35: Costa Rica
A36: 44892 | B36: 0.83333333 | C36: Espagne | D36: 1 | E36: 1 | F36: Allemagne
A37: 44892 | B37: 0.45833333 | C37: Japon | D37: 0 | E37: 0 | F37: Costa Rica
A38: 44896 | B38: 0.83333333 | C38: Japon | D38: 0 | E38: 2 | F38: Espagne
A39: 44896 | B39: 0.83333333 | C39: Costa Rica | D39: 0 | E39: 2 | F39: Allemagne
A41: Groupe F / Faites vos pronostics
A42: 44888 | B42: 0.45833333 | C42: Maroc | D42: 1 | E42: 3 | F42: Croatie
A43: 44888 | B43: 0.83333333 | C43: Belgique | D43: 3 | E43: 1 | F43: Canada
A44: 44892 | B44: 0.70833333 | C44: Canada | D44: 0 | E44: 2 | F44: Croatie
A45: 44892 | B45: 0.58333333 | C45: Maroc | D45: 1 | E45: 2 | F45: Belgique
A46: 44896 | B46: 0.66666667 | C46: Canada | D46: 0 | E46: 1 | F46: Maroc
A47: 44896 | B47: 0.66666667 | C47: Croatie | D47: 1 | E47: 1 | F47: Belgique
A49: Groupe G / Faites vos pronostics
A50: 44889 | B50: 0.45833333 | C50: Suisse | D50: 2 | E50: 0 | F50: Cameroun
A51: 44889 | B51: 0.83333333 | C51: Brésil | D51: 3 | E51: 0 | F51: Serbie
A52: 44893 | B52: 0.70833333 | C52: Suisse | D52: 0 | E52: 2 | F52: Brésil
A53: 44893 | B53: 0.45833333 | C53: Serbie | D53: 1 | E53: 1 | F53: Cameroun
A54: 44897 | B54: 0.83333333 | C54: Serbie | D54: 0 | E54: 2 | F54: Suisse
A55: 44897 | B55: 0.83333333 | C55: Cameroun | D55: 0 | E55: 3 | F55: Brésil
A57: Groupe H / Faites vos pronostics
A58: 44889 | B58: 0.58333333 | C58: Uruguay | D58: 3 | E58: 0 | F58: Corée du sud
A59: 44889 | B59: 0.70833333 | C59: Portugal | D59: 3 | E59: 0 | F59: Ghana
A60: 44893 | B60: 0.58333333 | C60: Corée du sud | D60: 0 | E60: 0 | F60: Ghana
A61: 44893 | B61: 0.83333333 | C61: Portugal | D61: 2 | E61: 1 | F61: Uruguay
