Workbook

Sheet Tableau des points
A1: Phase de poule | I1: PARTICIPANTS
A2: Groupe A | G2: Score Exact | H2: Bon Résultat | I2: Adrien | J2: Amine | K2: Anas | L2: Antoine M. | M2: Arezou | N2: Arnaud T. | O2: Chloé | P2: Dan L. | Q2: David P. | R2: Dom | S2: Dusan | T2: Dylan R. | U2: Fred Moreau | V2: Hamama | W2: Jean-Marie | X2: Jonathan B. | Y2: Jonathan M. | Z2: José | AA2: Julie | AB2: Julien | AC2: Kilian | AD2: Lahcen | AE2: Lucien | AF2: Mikael | AG2: Nazrin | AH2: Patrick F. | AI2: Pierre S. | AJ2: Reda | AK2: Renaud | AL2: Romaric | AM2: Soline | AN2: Timo D. | AO2: Vanessa | AP2: Samy | AQ2: Hypolyte | AR2: Bastien | AS2: Guillaume | AT2: Arthur | AU2: Andrea
A3: 44885 | B3: 0.70833333 | C3: Qatar | D3: 0 | E3: 2 | F3: Equateur | G3: 3 Points | H3: 1 Point | I3: =IF(Adrien!G2="EX",3,IF(Adrien!G2="BN",1,"0")) -> 0 | J3: =IF(Amine!G2="EX",3,IF(Amine!G2="BN",1,"0")) -> 0 | K3: =IF(Anas!G2="EX",3,IF(Anas!G2="BN",1,"0")) -> 0 | L3: =IF(Antoine!G2="EX",3,IF(Antoine!G2="BN",1,"0")) -> 0 | M3: =IF(Arezou!G2="EX",3,IF(Arezou!G2="BN",1,"0")) -> 1 | N3: =IF(Arnaud!$G2="EX",3,IF(Arnaud!$G2="BN",1,"0")) -> 0 | O3: =IF(Chloe!$G2="EX",3,IF(Chloe!$G2="BN",1,"0")) -> 0 | P3: =IF(Dan!$G2="EX",3,IF(Dan!$G2="BN",1,"0")) -> 3 | Q3: =IF(David!$G2="EX",3,IF(David!$G2="BN",1,"0")) -> 0 | R3: =IF(Dom!$G2="EX",3,IF(Dom!$G2="BN",1,"0")) -> 0 | S3: =IF(Dusan!$G2="EX",3,IF(Dusan!$G2="BN",1,"0")) -> 1 | T3: =IF(Dylan!$G2="EX",3,IF(Dylan!$G2="BN",1,"0")) -> 1 | U3: =IF(Fred!$G2="EX",3,IF(Fred!$G2="BN",1,"0")) -> 1 | V3: =IF(Hamama!$G2="EX",3,IF(Hamama!$G2="BN",1,"0")) -> 1 | W3: =IF('Jean Marie'!G2="EX",3,IF('Jean Marie'!G2="BN",1,"0")) -> 0 | X3: =IF('Jonathan B'!G2="EX",3,IF('Jonathan B'!$G2="BN",1,"0")) -> 1 | Y3: =IF('Jonathan M'!G2="EX",3,IF('Jonathan M'!$G2="BN",1,"0")) -> 0 | Z3: =IF(José!$G2="EX",3,IF(José!$G2="BN",1,"0")) -> 0 | AA3: =IF(Julie!$G2="EX",3,IF(Julie!$G2="BN",1,"0")) -> 3 | AB3: =IF(Julien!$G2="EX",3,IF(Julien!$G2="BN",1,"0")) -> 0 | AC3: =IF(Killian!$G2="EX",3,IF(Killian!$G2="BN",1,"0")) -> 0 | AD3: =IF(Lahcen!$G2="EX",3,IF(Lahcen!$G2="BN",1,"0")) -> 1 | AE3: =IF(Lucien!$G2="EX",3,IF(Lucien!$G2="BN",1,"0")) -> 1 | AF3: =IF(Mickael!$G2="EX",3,IF(Mickael!$G2="BN",1,"0")) -> 1 | AG3: =IF(Nazrin!$G2="EX",3,IF(Nazrin!$G2="BN",1,"0")) -> 0 | AH3: =IF('Patrick F'!$G2="EX",3,IF('Patrick F'!$G2="BN",1,"0")) -> 3 | AI3: =IF('Pierre S'!$G2="EX",3,IF('Pierre S'!$G2="BN",1,"0")) -> 0 | AJ3: =IF(Reda!$G2="EX",3,IF(Reda!$G2="BN",1,"0")) -> 0 | AK3: =IF(Renaud!$G2="EX",3,IF(Renaud!$G2="BN",1,"0")) -> 0 | AL3: =IF(Romaric!$G2="EX",3,IF(Romaric!$G2="BN",1,"0")) -> 0 | AM3: =IF(Soline!$G2="EX",3,IF(Soline!$G2="BN",1,"0")) -> 0 | AN3: =IF(Timo!$G2="EX",3,IF(Timo!$G2="BN",1,"0")) -> 3 | AO3: =IF(Vanessa!$G2="EX",3,IF(Vanessa!$G2="BN",1,"0")) -> 3 | AP3: =IF(Samy!G2="EX",3,IF(Samy!G2="BN",1,"0")) -> 1 | AQ3: =IF(Hypo!G2="EX",3,IF(Hypo!G2="BN",1,"0")) -> 1 | AR3: =IF(Bastien!G2="EX",3,IF(Bastien!G2="BN",1,"0")) -> 1 | AS3: =IF(Guillaume!G2="EX",3,IF(Guillaume!G2="BN",1,"0")) -> 1 | AT3: =IF(Arthur!G2="EX",3,IF(Arthur!G2="BN",1,"0")) -> 3 | AU3: =IF(Andrea!G2="EX",3,IF(Andrea!G2="BN",1,"0")) -> 0
A4: 44886 | B4: 0.70833333 | C4: Sénégal | D4: 0 | E4: 2 | F4: Pays-Bas | I4: =IF(Adrien!G3="EX",3,IF(Adrien!G3="BN",1,"0")) -> 0 | J4: =IF(Amine!G3="EX",3,IF(Amine!G3="BN",1,"0")) -> 1 | K4: =IF(Anas!G3="EX",3,IF(Anas!G3="BN",1,"0")) -> 3 | L4: =IF(Antoine!G3="EX",3,IF(Antoine!G3="BN",1,"0")) -> 0 | M4: =IF(Arezou!G3="EX",3,IF(Arezou!G3="BN",1,"0")) -> 3 | N4: =IF(Arnaud!$G3="EX",3,IF(Arnaud!$G3="BN",1,"0")) -> 0 | O4: =IF(Chloe!$G3="EX",3,IF(Chloe!$G3="BN",1,"0")) -> 3 | P4: =IF(Dan!$G3="EX",3,IF(Dan!$G3="BN",1,"0")) -> 1 | Q4: =IF(David!$G3="EX",3,IF(David!$G3="BN",1,"0")) -> 1 | R4: =IF(Dom!$G3="EX",3,IF(Dom!$G3="BN",1,"0")) -> 3 | S4: =IF(Dusan!$G3="EX",3,IF(Dusan!$G3="BN",1,"0")) -> 3 | T4: =IF(Dylan!$G3="EX",3,IF(Dylan!$G3="BN",1,"0")) -> 1 | U4: =IF(Fred!$G3="EX",3,IF(Fred!$G3="BN",1,"0")) -> 1 | V4: =IF(Hamama!$G3="EX",3,IF(Hamama!$G3="BN",1,"0")) -> 0 | W4: =IF('Jean Marie'!G3="EX",3,IF('Jean Marie'!G3="BN",1,"0")) -> 1 | X4: =IF('Jonathan B'!G3="EX",3,IF('Jonathan B'!$G3="BN",1,"0")) -> 1 | Y4: =IF('Jonathan M'!G3="EX",3,IF('Jonathan M'!$G3="BN",1,"0")) -> 3 | Z4: =IF(José!$G3="EX",3,IF(José!$G3="BN",1,"0")) -> 0 | AA4: =IF(Julie!$G3="EX",3,IF(Julie!$G3="BN",1,"0")) -> 1 | AB4: =IF(Julien!$G3="EX",3,IF(Julien!$G3="BN",1,"0")) -> 1 | AC4: =IF(Killian!$G3="EX",3,IF(Killian!$G3="BN",1,"0")) -> 0 | AD4: =IF(Lahcen!$G3="EX",3,IF(Lahcen!$G3="BN",1,"0")) -> 1 | AE4: =IF(Lucien!$G3="EX",3,IF(Lucien!$G3="BN",1,"0")) -> 1 | AF4: =IF(Mickael!$G3="EX",3,IF(Mickael!$G3="BN",1,"0")) -> 0 | AG4: =IF(Nazrin!$G3="EX",3,IF(Nazrin!$G3="BN",1,"0")) -> 1 | AH4: =IF('Patrick F'!$G3="EX",3,IF('Patrick F'!$G3="BN",1,"0")) -> 0 | AI4: =IF('Pierre S'!$G3="EX",3,IF('Pierre S'!$G3="BN",1,"0")) -> 1 | AJ4: =IF(Reda!$G3="EX",3,IF(Reda!$G3="BN",1,"0")) -> 1 | AK4: =IF(Renaud!$G3="EX",3,IF(Renaud!$G3="BN",1,"0")) -> 1 | AL4: =IF(Romaric!$G3="EX",3,IF(Romaric!$G3="BN",1,"0")) -> 0 | AM4: =IF(Soline!$G3="EX",3,IF(Soline!$G3="BN",1,"0")) -> 1 | AN4: =IF(Timo!$G3="EX",3,IF(Timo!$G3="BN",1,"0")) -> 1 | AO4: =IF(Vanessa!$G3="EX",3,IF(Vanessa!$G3="BN",1,"0")) -> 0 | AP4: =IF(Samy!G3="EX",3,IF(Samy!G3="BN",1,"0")) -> 3 | AQ4: =IF(Hypo!G3="EX",3,IF(Hypo!G3="BN",1,"0")) -> 0 | AR4: =IF(Bastien!G3="EX",3,IF(Bastien!G3="BN",1,"0")) -> 1 | AS4: =IF(Guillaume!G3="EX",3,IF(Guillaume!G3="BN",1,"0")) -> 1 | AT4: =IF(Arthur!G3="EX",3,IF(Arthur!G3="BN",1,"0")) -> 1 | AU4: =IF(Andrea!G3="EX",3,IF(Andrea!G3="BN",1,"0")) -> 3
A5: 44890 | B5: 0.58333333 | C5: =C3 -> Qatar | F5: =C4 -> Sénégal | I5: =IF(Adrien!G4="EX",3,IF(Adrien!G4="BN",1,"0")) -> 0 | J5: =IF(Amine!G4="EX",3,IF(Amine!G4="BN",1,"0")) -> 0 | K5: =IF(Anas!G4="EX",3,IF(Anas!G4="BN",1,"0")) -> 0 | L5: =IF(Antoine!G4="EX",3,IF(Antoine!G4="BN",1,"0")) -> 0 | M5: =IF(Arezou!G4="EX",3,IF(Arezou!G4="BN",1,"0")) -> 0 | N5: =IF(Arnaud!$G4="EX",3,IF(Arnaud!$G4="BN",1,"0")) -> 0 | O5: =IF(Chloe!$G4="EX",3,IF(Chloe!$G4="BN",1,"0")) -> 0 | P5: =IF(Dan!$G4="EX",3,IF(Dan!$G4="BN",1,"0")) -> 0 | Q5: =IF(David!$G4="EX",3,IF(David!$G4="BN",1,"0")) -> 0 | R5: =IF(Dom!$G4="EX",3,IF(Dom!$G4="BN",1,"0")) -> 0 | S5: =IF(Dusan!$G4="EX",3,IF(Dusan!$G4="BN",1,"0")) -> 0 | T5: =IF(Dylan!$G4="EX",3,IF(Dylan!$G4="BN",1,"0")) -> 0 | U5: =IF(Fred!$G4="EX",3,IF(Fred!$G4="BN",1,"0")) -> 0 | V5: =IF(Hamama!$G4="EX",3,IF(Hamama!$G4="BN",1,"0")) -> 0 | W5: =IF('Jean Marie'!G4="EX",3,IF('Jean Marie'!G4="BN",1,"0")) -> 0 | X5: =IF('Jonathan B'!G4="EX",3,IF('Jonathan B'!$G4="BN",1,"0")) -> 0 | Y5: =IF('Jonathan M'!G4="EX",3,IF('Jonathan M'!$G4="BN",1,"0")) -> 0 | Z5: =IF(José!$G4="EX",3,IF(José!$G4="BN",1,"0")) -> 0 | AA5: =IF(Julie!$G4="EX",3,IF(Julie!$G4="BN",1,"0")) -> 0 | AB5: =IF(Julien!$G4="EX",3,IF(Julien!$G4="BN",1,"0")) -> 0 | AC5: =IF(Killian!$G4="EX",3,IF(Killian!$G4="BN",1,"0")) -> 0 | AD5: =IF(Lahcen!$G4="EX",3,IF(Lahcen!$G4="BN",1,"0")) -> 0 | AE5: =IF(Lucien!$G4="EX",3,IF(Lucien!$G4="BN",1,"0")) -> 0 | AF5: =IF(Mickael!$G4="EX",3,IF(Mickael!$G4="BN",1,"0")) -> 0 | AG5: =IF(Nazrin!$G4="EX",3,IF(Nazrin!$G4="BN",1,"0")) -> 0 | AH5: =IF('Patrick F'!$G4="EX",3,IF('Patrick F'!$G4="BN",1,"0")) -> 0 | AI5: =IF('Pierre S'!$G4="EX",3,IF('Pierre S'!$G4="BN",1,"0")) -> 0 | AJ5: =IF(Reda!$G4="EX",3,IF(Reda!$G4="BN",1,"0")) -> 0 | AK5: =IF(Renaud!$G4="EX",3,IF(Renaud!$G4="BN",1,"0")) -> 0 | AL5: =IF(Romaric!$G4="EX",3,IF(Romaric!$G4="BN",1,"0")) -> 0 | AM5: =IF(Soline!$G4="EX",3,IF(Soline!$G4="BN",1,"0")) -> 0 | AN5: =IF(Timo!$G4="EX",3,IF(Timo!$G4="BN",1,"0")) -> 0 | AO5: =IF(Vanessa!$G4="EX",3,IF(Vanessa!$G4="BN",1,"0")) -> 0 | AP5: =IF(Samy!G4="EX",3,IF(Samy!G4="BN",1,"0")) -> 0 | AQ5: =IF(Hypo!G4="EX",3,IF(Hypo!G4="BN",1,"0")) -> 0 | AR5: =IF(Bastien!G4="EX",3,IF(Bastien!G4="BN",1,"0")) -> 0 | AS5: =IF(Guillaume!G4="EX",3,IF(Guillaume!G4="BN",1,"0")) -> 0 | AT5: =IF(Arthur!G4="EX",3,IF(Arthur!G4="BN",1,"0")) -> 0 | AU5: =IF(Andrea!G4="EX",3,IF(Andrea!G4="BN",1,"0")) -> 0
A6: 44890 | B6: 0.70833333 | C6: =F4 -> Pays-Bas | F6: =F3 -> Equateur | I6: =IF(Adrien!G5="EX",3,IF(Adrien!G5="BN",1,"0")) -> 0 | J6: =IF(Amine!G5="EX",3,IF(Amine!G5="BN",1,"0")) -> 0 | K6: =IF(Anas!G5="EX",3,IF(Anas!G5="BN",1,"0")) -> 0 | L6: =IF(Antoine!G5="EX",3,IF(Antoine!G5="BN",1,"0")) -> 0 | M6: =IF(Arezou!G5="EX",3,IF(Arezou!G5="BN",1,"0")) -> 0 | N6: =IF(Arnaud!$G5="EX",3,IF(Arnaud!$G5="BN",1,"0")) -> 0 | O6: =IF(Chloe!$G5="EX",3,IF(Chloe!$G5="BN",1,"0")) -> 0 | P6: =IF(Dan!$G5="EX",3,IF(Dan!$G5="BN",1,"0")) -> 0 | Q6: =IF(David!$G5="EX",3,IF(David!$G5="BN",1,"0")) -> 0 | R6: =IF(Dom!$G5="EX",3,IF(Dom!$G5="BN",1,"0")) -> 0 | S6: =IF(Dusan!$G5="EX",3,IF(Dusan!$G5="BN",1,"0")) -> 0 | T6: =IF(Dylan!$G5="EX",3,IF(Dylan!$G5="BN",1,"0")) -> 0 | U6: =IF(Fred!$G5="EX",3,IF(Fred!$G5="BN",1,"0")) -> 0 | V6: =IF(Hamama!$G5="EX",3,IF(Hamama!$G5="BN",1,"0")) -> 0 | W6: =IF('Jean Marie'!G5="EX",3,IF('Jean Marie'!G5="BN",1,"0")) -> 0 | X6: =IF('Jonathan B'!G5="EX",3,IF('Jonathan B'!$G5="BN",1,"0")) -> 0 | Y6: =IF('Jonathan M'!G5="EX",3,IF('Jonathan M'!$G5="BN",1,"0")) -> 0 | Z6: =IF(José!$G5="EX",3,IF(José!$G5="BN",1,"0")) -> 0 | AA6: =IF(Julie!$G5="EX",3,IF(Julie!$G5="BN",1,"0")) -> 0 | AB6: =IF(Julien!$G5="EX",3,IF(Julien!$G5="BN",1,"0")) -> 0 | AC6: =IF(Killian!$G5="EX",3,IF(Killian!$G5="BN",1,"0")) -> 0 | AD6: =IF(Lahcen!$G5="EX",3,IF(Lahcen!$G5="BN",1,"0")) -> 0 | AE6: =IF(Lucien!$G5="EX",3,IF(Lucien!$G5="BN",1,"0")) -> 0 | AF6: =IF(Mickael!$G5="EX",3,IF(Mickael!$G5="BN",1,"0")) -> 0 | AG6: =IF(Nazrin!$G5="EX",3,IF(Nazrin!$G5="BN",1,"0")) -> 0 | AH6: =IF('Patrick F'!$G5="EX",3,IF('Patrick F'!$G5="BN",1,"0")) -> 0 | AI6: =IF('Pierre S'!$G5="EX",3,IF('Pierre S'!$G5="BN",1,"0")) -> 0 | AJ6: =IF(Reda!$G5="EX",3,IF(Reda!$G5="BN",1,"0")) -> 0 | AK6: =IF(Renaud!$G5="EX",3,IF(Renaud!$G5="BN",1,"0")) -> 0 | AL6: =IF(Romaric!$G5="EX",3,IF(Romaric!$G5="BN",1,"0")) -> 0 | AM6: =IF(Soline!$G5="EX",3,IF(Soline!$G5="BN",1,"0")) -> 0 | AN6: =IF(Timo!$G5="EX",3,IF(Timo!$G5="BN",1,"0")) -> 0 | AO6: =IF(Vanessa!$G5="EX",3,IF(Vanessa!$G5="BN",1,"0")) -> 0 | AP6: =IF(Samy!G5="EX",3,IF(Samy!G5="BN",1,"0")) -> 0 | AQ6: =IF(Hypo!G5="EX",3,IF(Hypo!G5="BN",1,"0")) -> 0 | AR6: =IF(Bastien!G5="EX",3,IF(Bastien!G5="BN",1,"0")) -> 0 | AS6: =IF(Guillaume!G5="EX",3,IF(Guillaume!G5="BN",1,"0")) -> 0 | AT6: =IF(Arthur!G5="EX",3,IF(Arthur!G5="BN",1,"0")) -> 0 | AU6: =IF(Andrea!G5="EX",3,IF(Andrea!G5="BN",1,"0")) -> 0
A7: 44894 | B7: 0.66666667 | C7: =F4 -> Pays-Bas | F7: =C3 -> Qatar | I7: =IF(Adrien!G6="EX",3,IF(Adrien!G6="BN",1,"0")) -> 0 | J7: =IF(Amine!G6="EX",3,IF(Amine!G6="BN",1,"0")) -> 0 | K7: =IF(Anas!G6="EX",3,IF(Anas!G6="BN",1,"0")) -> 0 | L7: =IF(Antoine!G6="EX",3,IF(Antoine!G6="BN",1,"0")) -> 0 | M7: =IF(Arezou!G6="EX",3,IF(Arezou!G6="BN",1,"0")) -> 0 | N7: =IF(Arnaud!$G6="EX",3,IF(Arnaud!$G6="BN",1,"0")) -> 0 | O7: =IF(Chloe!$G6="EX",3,IF(Chloe!$G6="BN",1,"0")) -> 0 | P7: =IF(Dan!$G6="EX",3,IF(Dan!$G6="BN",1,"0")) -> 0 | Q7: =IF(David!$G6="EX",3,IF(David!$G6="BN",1,"0")) -> 0 | R7: =IF(Dom!$G6="EX",3,IF(Dom!$G6="BN",1,"0")) -> 0 | S7: =IF(Dusan!$G6="EX",3,IF(Dusan!$G6="BN",1,"0")) -> 0 | T7: =IF(Dylan!$G6="EX",3,IF(Dylan!$G6="BN",1,"0")) -> 0 | U7: =IF(Fred!$G6="EX",3,IF(Fred!$G6="BN",1,"0")) -> 0 | V7: =IF(Hamama!$G6="EX",3,IF(Hamama!$G6="BN",1,"0")) -> 0 | W7: =IF('Jean Marie'!G6="EX",3,IF('Jean Marie'!G6="BN",1,"0")) -> 0 | X7: =IF('Jonathan B'!G6="EX",3,IF('Jonathan B'!$G6="BN",1,"0")) -> 0 | Y7: =IF('Jonathan M'!G6="EX",3,IF('Jonathan M'!$G6="BN",1,"0")) -> 0 | Z7: =IF(José!$G6="EX",3,IF(José!$G6="BN",1,"0")) -> 0 | AA7: =IF(Julie!$G6="EX",3,IF(Julie!$G6="BN",1,"0")) -> 0 | AB7: =IF(Julien!$G6="EX",3,IF(Julien!$G6="BN",1,"0")) -> 0 | AC7: =IF(Killian!$G6="EX",3,IF(Killian!$G6="BN",1,"0")) -> 0 | AD7: =IF(Lahcen!$G6="EX",3,IF(Lahcen!$G6="BN",1,"0")) -> 0 | AE7: =IF(Lucien!$G6="EX",3,IF(Lucien!$G6="BN",1,"0")) -> 0 | AF7: =IF(Mickael!$G6="EX",3,IF(Mickael!$G6="BN",1,"0")) -> 0 | AG7: =IF(Nazrin!$G6="EX",3,IF(Nazrin!$G6="BN",1,"0")) -> 0 | AH7: =IF('Patrick F'!$G6="EX",3,IF('Patrick F'!$G6="BN",1,"0")) -> 0 | AI7: =IF('Pierre S'!$G6="EX",3,IF('Pierre S'!$G6="BN",1,"0")) -> 0 | AJ7: =IF(Reda!$G6="EX",3,IF(Reda!$G6="BN",1,"0")) -> 0 | AK7: =IF(Renaud!$G6="EX",3,IF(Renaud!$G6="BN",1,"0")) -> 0 | AL7: =IF(Romaric!$G6="EX",3,IF(Romaric!$G6="BN",1,"0")) -> 0 | AM7: =IF(Soline!$G6="EX",3,IF(Soline!$G6="BN",1,"0")) -> 0 | AN7: =IF(Timo!$G6="EX",3,IF(Timo!$G6="BN",1,"0")) -> 0 | AO7: =IF(Vanessa!$G6="EX",3,IF(Vanessa!$G6="BN",1,"0")) -> 0 | AP7: =IF(Samy!G6="EX",3,IF(Samy!G6="BN",1,"0")) -> 0 | AQ7: =IF(Hypo!G6="EX",3,IF(Hypo!G6="BN",1,"0")) -> 0 | AR7: =IF(Bastien!G6="EX",3,IF(Bastien!G6="BN",1,"0")) -> 0 | AS7: =IF(Guillaume!G6="EX",3,IF(Guillaume!G6="BN",1,"0")) -> 0 | AT7: =IF(Arthur!G6="EX",3,IF(Arthur!G6="BN",1,"0")) -> 0 | AU7: =IF(Andrea!G6="EX",3,IF(Andrea!G6="BN",1,"0")) -> 0
A8: 44894 | B8: 0.66666667 | C8: =F3 -> Equateur | F8: =C4 -> Sénégal | I8: =IF(Adrien!G7="EX",3,IF(Adrien!G7="BN",1,"0")) -> 0 | J8: =IF(Amine!G7="EX",3,IF(Amine!G7="BN",1,"0")) -> 0 | K8: =IF(Anas!G7="EX",3,IF(Anas!G7="BN",1,"0")) -> 0 | L8: =IF(Antoine!G7="EX",3,IF(Antoine!G7="BN",1,"0")) -> 0 | M8: =IF(Arezou!G7="EX",3,IF(Arezou!G7="BN",1,"0")) -> 0 | N8: =IF(Arnaud!$G7="EX",3,IF(Arnaud!$G7="BN",1,"0")) -> 0 | O8: =IF(Chloe!$G7="EX",3,IF(Chloe!$G7="BN",1,"0")) -> 0 | P8: =IF(Dan!$G7="EX",3,IF(Dan!$G7="BN",1,"0")) -> 0 | Q8: =IF(David!$G7="EX",3,IF(David!$G7="BN",1,"0")) -> 0 | R8: =IF(Dom!$G7="EX",3,IF(Dom!$G7="BN",1,"0")) -> 0 | S8: =IF(Dusan!$G7="EX",3,IF(Dusan!$G7="BN",1,"0")) -> 0 | T8: =IF(Dylan!$G7="EX",3,IF(Dylan!$G7="BN",1,"0")) -> 0 | U8: =IF(Fred!$G7="EX",3,IF(Fred!$G7="BN",1,"0")) -> 0 | V8: =IF(Hamama!$G7="EX",3,IF(Hamama!$G7="BN",1,"0")) -> 0 | W8: =IF('Jean Marie'!G7="EX",3,IF('Jean Marie'!G7="BN",1,"0")) -> 0 | X8: =IF('Jonathan B'!G7="EX",3,IF('Jonathan B'!$G7="BN",1,"0")) -> 0 | Y8: =IF('Jonathan M'!G7="EX",3,IF('Jonathan M'!$G7="BN",1,"0")) -> 0 | Z8: =IF(José!$G7="EX",3,IF(José!$G7="BN",1,"0")) -> 0 | AA8: =IF(Julie!$G7="EX",3,IF(Julie!$G7="BN",1,"0")) -> 0 | AB8: =IF(Julien!$G7="EX",3,IF(Julien!$G7="BN",1,"0")) -> 0 | AC8: =IF(Killian!$G7="EX",3,IF(Killian!$G7="BN",1,"0")) -> 0 | AD8: =IF(Lahcen!$G7="EX",3,IF(Lahcen!$G7="BN",1,"0")) -> 0 | AE8: =IF(Lucien!$G7="EX",3,IF(Lucien!$G7="BN",1,"0")) -> 0 | AF8: =IF(Mickael!$G7="EX",3,IF(Mickael!$G7="BN",1,"0")) -> 0 | AG8: =IF(Nazrin!$G7="EX",3,IF(Nazrin!$G7="BN",1,"0")) -> 0 | AH8: =IF('Patrick F'!$G7="EX",3,IF('Patrick F'!$G7="BN",1,"0")) -> 0 | AI8: =IF('Pierre S'!$G7="EX",3,IF('Pierre S'!$G7="BN",1,"0")) -> 0 | AJ8: =IF(Reda!$G7="EX",3,IF(Reda!$G7="BN",1,"0")) -> 0 | AK8: =IF(Renaud!$G7="EX",3,IF(Renaud!$G7="BN",1,"0")) -> 0 | AL8: =IF(Romaric!$G7="EX",3,IF(Romaric!$G7="BN",1,"0")) -> 0 | AM8: =IF(Soline!$G7="EX",3,IF(Soline!$G7="BN",1,"0")) -> 0 | AN8: =IF(Timo!$G7="EX",3,IF(Timo!$G7="BN",1,"0")) -> 0 | AO8: =IF(Vanessa!$G7="EX",3,IF(Vanessa!$G7="BN",1,"0")) -> 0 | AP8: =IF(Samy!G7="EX",3,IF(Samy!G7="BN",1,"0")) -> 0 | AQ8: =IF(Hypo!G7="EX",3,IF(Hypo!G7="BN",1,"0")) -> 0 | AR8: =IF(Bastien!G7="EX",3,IF(Bastien!G7="BN",1,"0")) -> 0 | AS8: =IF(Guillaume!G7="EX",3,IF(Guillaume!G7="BN",1,"0")) -> 0 | AT8: =IF(Arthur!G7="EX",3,IF(Arthur!G7="BN",1,"0")) -> 0 | AU8: =IF(Andrea!G7="EX",3,IF(Andrea!G7="BN",1,"0")) -> 0
I9: =IF(Adrien!G8="EX",3,IF(Adrien!G8="BN",1,"0")) -> 0 | J9: =IF(Amine!G8="EX",3,IF(Amine!G8="BN",1,"0")) -> 0 | K9: =IF(Anas!G8="EX",3,IF(Anas!G8="BN",1,"0")) -> 0 | L9: =IF(Antoine!G8="EX",3,IF(Antoine!G8="BN",1,"0")) -> 0 | M9: =IF(Arezou!G8="EX",3,IF(Arezou!G8="BN",1,"0")) -> 0 | N9: =IF(Arnaud!$G8="EX",3,IF(Arnaud!$G8="BN",1,"0")) -> 0 | O9: =IF(Chloe!$G8="EX",3,IF(Chloe!$G8="BN",1,"0")) -> 0 | P9: =IF(Dan!$G8="EX",3,IF(Dan!$G8="BN",1,"0")) -> 0 | Q9: =IF(David!$G8="EX",3,IF(David!$G8="BN",1,"0")) -> 0 | R9: =IF(Dom!$G8="EX",3,IF(Dom!$G8="BN",1,"0")) -> 0 | S9: =IF(Dusan!$G8="EX",3,IF(Dusan!$G8="BN",1,"0")) -> 0 | T9: =IF(Dylan!$G8="EX",3,IF(Dylan!$G8="BN",1,"0")) -> 0 | U9: =IF(Fred!$G8="EX",3,IF(Fred!$G8="BN",1,"0")) -> 0 | V9: =IF(Hamama!$G8="EX",3,IF(Hamama!$G8="BN",1,"0")) -> 0 | W9: =IF('Jean Marie'!G8="EX",3,IF('Jean Marie'!G8="BN",1,"0")) -> 0 | X9: =IF('Jonathan B'!G8="EX",3,IF('Jonathan B'!$G8="BN",1,"0")) -> 0 | Y9: =IF('Jonathan M'!G8="EX",3,IF('Jonathan M'!$G8="BN",1,"0")) -> 0 | Z9: =IF(José!$G8="EX",3,IF(José!$G8="BN",1,"0")) -> 0 | AA9: =IF(Julie!$G8="EX",3,IF(Julie!$G8="BN",1,"0")) -> 0 | AB9: =IF(Julien!$G8="EX",3,IF(Julien!$G8="BN",1,"0")) -> 0 | AC9: =IF(Killian!$G8="EX",3,IF(Killian!$G8="BN",1,"0")) -> 0 | AD9: =IF(Lahcen!$G8="EX",3,IF(Lahcen!$G8="BN",1,"0")) -> 0 | AE9: =IF(Lucien!$G8="EX",3,IF(Lucien!$G8="BN",1,"0")) -> 0 | AF9: =IF(Mickael!$G8="EX",3,IF(Mickael!$G8="BN",1,"0")) -> 0 | AG9: =IF(Nazrin!$G8="EX",3,IF(Nazrin!$G8="BN",1,"0")) -> 0 | AH9: =IF('Patrick F'!$G8="EX",3,IF('Patrick F'!$G8="BN",1,"0")) -> 0 | AI9: =IF('Pierre S'!$G8="EX",3,IF('Pierre S'!$G8="BN",1,"0")) -> 0 | AJ9: =IF(Reda!$G8="EX",3,IF(Reda!$G8="BN",1,"0")) -> 0 | AK9: =IF(Renaud!$G8="EX",3,IF(Renaud!$G8="BN",1,"0")) -> 0 | AL9: =IF(Romaric!$G8="EX",3,IF(Romaric!$G8="BN",1,"0")) -> 0 | AM9: =IF(Soline!$G8="EX",3,IF(Soline!$G8="BN",1,"0")) -> 0 | AN9: =IF(Timo!$G8="EX",3,IF(Timo!$G8="BN",1,"0")) -> 0 | AO9: =IF(Vanessa!$G8="EX",3,IF(Vanessa!$G8="BN",1,"0")) -> 0 | AP9: =IF(Samy!G8="EX",3,IF(Samy!G8="BN",1,"0")) -> 0 | AQ9: =IF(Hypo!G8="EX",3,IF(Hypo!G8="BN",1,"0")) -> 0 | AR9: =IF(Bastien!G8="EX",3,IF(Bastien!G8="BN",1,"0")) -> 0 | AS9: =IF(Guillaume!G8="EX",3,IF(Guillaume!G8="BN",1,"0")) -> 0 | AT9: =IF(Arthur!G8="EX",3,IF(Arthur!G8="BN",1,"0")) -> 0 | AU9: =IF(Andrea!G8="EX",3,IF(Andrea!G8="BN",1,"0")) -> 0
A10: Groupe B | I10: =IF(Adrien!G9="EX",3,IF(Adrien!G9="BN",1,"0")) -> 0 | J10: =IF(Amine!G9="EX",3,IF(Amine!G9="BN",1,"0")) -> 0 | K10: =IF(Anas!G9="EX",3,IF(Anas!G9="BN",1,"0")) -> 0 | L10: =IF(Antoine!G9="EX",3,IF(Antoine!G9="BN",1,"0")) -> 0 | M10: =IF(Arezou!G9="EX",3,IF(Arezou!G9="BN",1,"0")) -> 0 | N10: =IF(Arnaud!$G9="EX",3,IF(Arnaud!$G9="BN",1,"0")) -> 0 | O10: =IF(Chloe!$G9="EX",3,IF(Chloe!$G9="BN",1,"0")) -> 0 | P10: =IF(Dan!$G9="EX",3,IF(Dan!$G9="BN",1,"0")) -> 0 | Q10: =IF(David!$G9="EX",3,IF(David!$G9="BN",1,"0")) -> 0 | R10: =IF(Dom!$G9="EX",3,IF(Dom!$G9="BN",1,"0")) -> 0 | S10: =IF(Dusan!$G9="EX",3,IF(Dusan!$G9="BN",1,"0")) -> 0 | T10: =IF(Dylan!$G9="EX",3,IF(Dylan!$G9="BN",1,"0")) -> 0 | U10: =IF(Fred!$G9="EX",3,IF(Fred!$G9="BN",1,"0")) -> 0 | V10: =IF(Hamama!$G9="EX",3,IF(Hamama!$G9="BN",1,"0")) -> 0 | W10: =IF('Jean Marie'!G9="EX",3,IF('Jean Marie'!G9="BN",1,"0")) -> 0 | X10: =IF('Jonathan B'!G9="EX",3,IF('Jonathan B'!$G9="BN",1,"0")) -> 0 | Y10: =IF('Jonathan M'!G9="EX",3,IF('Jonathan M'!$G9="BN",1,"0")) -> 0 | Z10: =IF(José!$G9="EX",3,IF(José!$G9="BN",1,"0")) -> 0 | AA10: =IF(Julie!$G9="EX",3,IF(Julie!$G9="BN",1,"0")) -> 0 | AB10: =IF(Julien!$G9="EX",3,IF(Julien!$G9="BN",1,"0")) -> 0 | AC10: =IF(Killian!$G9="EX",3,IF(Killian!$G9="BN",1,"0")) -> 0 | AD10: =IF(Lahcen!$G9="EX",3,IF(Lahcen!$G9="BN",1,"0")) -> 0 | AE10: =IF(Lucien!$G9="EX",3,IF(Lucien!$G9="BN",1,"0")) -> 0 | AF10: =IF(Mickael!$G9="EX",3,IF(Mickael!$G9="BN",1,"0")) -> 0 | AG10: =IF(Nazrin!$G9="EX",3,IF(Nazrin!$G9="BN",1,"0")) -> 0 | AH10: =IF('Patrick F'!$G9="EX",3,IF('Patrick F'!$G9="BN",1,"0")) -> 0 | AI10: =IF('Pierre S'!$G9="EX",3,IF('Pierre S'!$G9="BN",1,"0")) -> 0 | AJ10: =IF(Reda!$G9="EX",3,IF(Reda!$G9="BN",1,"0")) -> 0 | AK10: =IF(Renaud!$G9="EX",3,IF(Renaud!$G9="BN",1,"0")) -> 0 | AL10: =IF(Romaric!$G9="EX",3,IF(Romaric!$G9="BN",1,"0")) -> 0 | AM10: =IF(Soline!$G9="EX",3,IF(Soline!$G9="BN",1,"0")) -> 0 | AN10: =IF(Timo!$G9="EX",3,IF(Timo!$G9="BN",1,"0")) -> 0 | AO10: =IF(Vanessa!$G9="EX",3,IF(Vanessa!$G9="BN",1,"0")) -> 0 | AP10: =IF(Samy!G9="EX",3,IF(Samy!G9="BN",1,"0")) -> 1 | AQ10: =IF(Hypo!G9="EX",3,IF(Hypo!G9="BN",1,"0")) -> 1 | AR10: =IF(Bastien!G9="EX",3,IF(Bastien!G9="BN",1,"0")) -> 1 | AS10: =IF(Guillaume!G9="EX",3,IF(Guillaume!G9="BN",1,"0")) -> 0 | AT10: =IF(Arthur!G9="EX",3,IF(Arthur!G9="BN",1,"0")) -> 0 | AU10: =IF(Andrea!G9="EX",3,IF(Andrea!G9="BN",1,"0")) -> 0
A11: 44886 | B11: 0.58333333 | C11: Angleterre | D11: 6 | E11: 2 | F11: Iran | I11: =IF(Adrien!G10="EX",3,IF(Adrien!G10="BN",1,"0")) -> 1 | J11: =IF(Amine!G10="EX",3,IF(Amine!G10="BN",1,"0")) -> 1 | K11: =IF(Anas!G10="EX",3,IF(Anas!G10="BN",1,"0")) -> 1 | L11: =IF(Antoine!G10="EX",3,IF(Antoine!G10="BN",1,"0")) -> 1 | M11: =IF(Arezou!G10="EX",3,IF(Arezou!G10="BN",1,"0")) -> 1 | N11: =IF(Arnaud!$G10="EX",3,IF(Arnaud!$G10="BN",1,"0")) -> 1 | O11: =IF(Chloe!$G10="EX",3,IF(Chloe!$G10="BN",1,"0")) -> 1 | P11: =IF(Dan!$G10="EX",3,IF(Dan!$G10="BN",1,"0")) -> 1 | Q11: =IF(David!$G10="EX",3,IF(David!$G10="BN",1,"0")) -> 1 | R11: =IF(Dom!$G10="EX",3,IF(Dom!$G10="BN",1,"0")) -> 1 | S11: =IF(Dusan!$G10="EX",3,IF(Dusan!$G10="BN",1,"0")) -> 1 | T11: =IF(Dylan!$G10="EX",3,IF(Dylan!$G10="BN",1,"0")) -> 1 | U11: =IF(Fred!$G10="EX",3,IF(Fred!$G10="BN",1,"0")) -> 1 | V11: =IF(Hamama!$G10="EX",3,IF(Hamama!$G10="BN",1,"0")) -> 1 | W11: =IF('Jean Marie'!G10="EX",3,IF('Jean Marie'!G10="BN",1,"0")) -> 1 | X11: =IF('Jonathan B'!G10="EX",3,IF('Jonathan B'!$G10="BN",1,"0")) -> 1 | Y11: =IF('Jonathan M'!G10="EX",3,IF('Jonathan M'!$G10="BN",1,"0")) -> 1 | Z11: =IF(José!$G10="EX",3,IF(José!$G10="BN",1,"0")) -> 1 | AA11: =IF(Julie!$G10="EX",3,IF(Julie!$G10="BN",1,"0")) -> 1 | AB11: =IF(Julien!$G10="EX",3,IF(Julien!$G10="BN",1,"0")) -> 1 | AC11: =IF(Killian!$G10="EX",3,IF(Killian!$G10="BN",1,"0")) -> 1 | AD11: =IF(Lahcen!$G10="EX",3,IF(Lahcen!$G10="BN",1,"0")) -> 1 | AE11: =IF(Lucien!$G10="EX",3,IF(Lucien!$G10="BN",1,"0")) -> 1 | AF11: =IF(Mickael!$G10="EX",3,IF(Mickael!$G10="BN",1,"0")) -> 1 | AG11: =IF(Nazrin!$G10="EX",3,IF(Nazrin!$G10="BN",1,"0")) -> 1 | AH11: =IF('Patrick F'!$G10="EX",3,IF('Patrick F'!$G10="BN",1,"0")) -> 1 | AI11: =IF('Pierre S'!$G10="EX",3,IF('Pierre S'!$G10="BN",1,"0")) -> 1 | AJ11: =IF(Reda!$G10="EX",3,IF(Reda!$G10="BN",1,"0")) -> 1 | AK11: =IF(Renaud!$G10="EX",3,IF(Renaud!$G10="BN",1,"0")) -> 1 | AL11: =IF(Romaric!$G10="EX",3,IF(Romaric!$G10="BN",1,"0")) -> 1 | AM11: =IF(Soline!$G10="EX",3,IF(Soline!$G10="BN",1,"0")) -> 1 | AN11: =IF(Timo!$G10="EX",3,IF(Timo!$G10="BN",1,"0")) -> 1 | AO11: =IF(Vanessa!$G10="EX",3,IF(Vanessa!$G10="BN",1,"0")) -> 1 | AP11: =IF(Samy!G10="EX",3,IF(Samy!G10="BN",1,"0")) -> 3 | AQ11: =IF(Hypo!G10="EX",3,IF(Hypo!G10="BN",1,"0")) -> 3 | AR11: =IF(Bastien!G10="EX",3,IF(Bastien!G10="BN",1,"0")) -> 3 | AS11: =IF(Guillaume!G10="EX",3,IF(Guillaume!G10="BN",1,"0")) -> 1 | AT11: =IF(Arthur!G10="EX",3,IF(Arthur!G10="BN",1,"0")) -> 1 | AU11: =IF(Andrea!G10="EX",3,IF(Andrea!G10="BN",1,"0")) -> 1
A12: 44886 | B12: 0.83333333 | C12: Etats-Unis | D12: 1 | E12: 1 | F12: Pays de Galles | I12: =IF(Adrien!G11="EX",3,IF(Adrien!G11="BN",1,"0")) -> 0 | J12: =IF(Amine!G11="EX",3,IF(Amine!G11="BN",1,"0")) -> 1 | K12: =IF(Anas!G11="EX",3,IF(Anas!G11="BN",1,"0")) -> 3 | L12: =IF(Antoine!G11="EX",3,IF(Antoine!G11="BN",1,"0")) -> 1 | M12: =IF(Arezou!G11="EX",3,IF(Arezou!G11="BN",1,"0")) -> 0 | N12: =IF(Arnaud!$G11="EX",3,IF(Arnaud!$G11="BN",1,"0")) -> 0 | O12: =IF(Chloe!$G11="EX",3,IF(Chloe!$G11="BN",1,"0")) -> 3 | P12: =IF(Dan!$G11="EX",3,IF(Dan!$G11="BN",1,"0")) -> 1 | Q12: =IF(David!$G11="EX",3,IF(David!$G11="BN",1,"0")) -> 3 | R12: =IF(Dom!$G11="EX",3,IF(Dom!$G11="BN",1,"0")) -> 0 | S12: =IF(Dusan!$G11="EX",3,IF(Dusan!$G11="BN",1,"0")) -> 0 | T12: =IF(Dylan!$G11="EX",3,IF(Dylan!$G11="BN",1,"0")) -> 3 | U12: =IF(Fred!$G11="EX",3,IF(Fred!$G11="BN",1,"0")) -> 0 | V12: =IF(Hamama!$G11="EX",3,IF(Hamama!$G11="BN",1,"0")) -> 0 | W12: =IF('Jean Marie'!G11="EX",3,IF('Jean Marie'!G11="BN",1,"0")) -> 3 | X12: =IF('Jonathan B'!G11="EX",3,IF('Jonathan B'!$G11="BN",1,"0")) -> 3 | Y12: =IF('Jonathan M'!G11="EX",3,IF('Jonathan M'!$G11="BN",1,"0")) -> 1 | Z12: =IF(José!$G11="EX",3,IF(José!$G11="BN",1,"0")) -> 0 | AA12: =IF(Julie!$G11="EX",3,IF(Julie!$G11="BN",1,"0")) -> 0 | AB12: =IF(Julien!$G11="EX",3,IF(Julien!$G11="BN",1,"0")) -> 3 | AC12: =IF(Killian!$G11="EX",3,IF(Killian!$G11="BN",1,"0")) -> 3 | AD12: =IF(Lahcen!$G11="EX",3,IF(Lahcen!$G11="BN",1,"0")) -> 0 | AE12: =IF(Lucien!$G11="EX",3,IF(Lucien!$G11="BN",1,"0")) -> 0 | AF12: =IF(Mickael!$G11="EX",3,IF(Mickael!$G11="BN",1,"0")) -> 0 | AG12: =IF(Nazrin!$G11="EX",3,IF(Nazrin!$G11="BN",1,"0")) -> 0 | AH12: =IF('Patrick F'!$G11="EX",3,IF('Patrick F'!$G11="BN",1,"0")) -> 0 | AI12: =IF('Pierre S'!$G11="EX",3,IF('Pierre S'!$G11="BN",1,"0")) -> 0 | AJ12: =IF(Reda!$G11="EX",3,IF(Reda!$G11="BN",1,"0")) -> 0 | AK12: =IF(Renaud!$G11="EX",3,IF(Renaud!$G11="BN",1,"0")) -> 0 | AL12: =IF(Romaric!$G11="EX",3,IF(Romaric!$G11="BN",1,"0")) -> 0 | AM12: =IF(Soline!$G11="EX",3,IF(Soline!$G11="BN",1,"0")) -> 1 | AN12: =IF(Timo!$G11="EX",3,IF(Timo!$G11="BN",1,"0")) -> 3 | AO12: =IF(Vanessa!$G11="EX",3,IF(Vanessa!$G11="BN",1,"0")) -> 0 | AP12: =IF(Samy!G11="EX",3,IF(Samy!G11="BN",1,"0")) -> 0 | AQ12: =IF(Hypo!G11="EX",3,IF(Hypo!G11="BN",1,"0")) -> 0 | AR12: =IF(Bastien!G11="EX",3,IF(Bastien!G11="BN",1,"0")) -> 0 | AS12: =IF(Guillaume!G11="EX",3,IF(Guillaume!G11="BN",1,"0")) -> 1 | AT12: =IF(Arthur!G11="EX",3,IF(Arthur!G11="BN",1,"0")) -> 3 | AU12: =IF(Andrea!G11="EX",3,IF(Andrea!G11="BN",1,"0")) -> 1
A13: 44890 | B13: 0.83333333 | C13: =C11 -> Angleterre | F13: =C12 -> Etats-Unis | I13: =IF(Adrien!G12="EX",3,IF(Adrien!G12="BN",1,"0")) -> 0 | J13: =IF(Amine!G12="EX",3,IF(Amine!G12="BN",1,"0")) -> 0 | K13: =IF(Anas!G12="EX",3,IF(Anas!G12="BN",1,"0")) -> 0 | L13: =IF(Antoine!G12="EX",3,IF(Antoine!G12="BN",1,"0")) -> 0 | M13: =IF(Arezou!G12="EX",3,IF(Arezou!G12="BN",1,"0")) -> 0 | N13: =IF(Arnaud!$G12="EX",3,IF(Arnaud!$G12="BN",1,"0")) -> 0 | O13: =IF(Chloe!$G12="EX",3,IF(Chloe!$G12="BN",1,"0")) -> 0 | P13: =IF(Dan!$G12="EX",3,IF(Dan!$G12="BN",1,"0")) -> 0 | Q13: =IF(David!$G12="EX",3,IF(David!$G12="BN",1,"0")) -> 0 | R13: =IF(Dom!$G12="EX",3,IF(Dom!$G12="BN",1,"0")) -> 0 | S13: =IF(Dusan!$G12="EX",3,IF(Dusan!$G12="BN",1,"0")) -> 0 | T13: =IF(Dylan!$G12="EX",3,IF(Dylan!$G12="BN",1,"0")) -> 0 | U13: =IF(Fred!$G12="EX",3,IF(Fred!$G12="BN",1,"0")) -> 0 | V13: =IF(Hamama!$G12="EX",3,IF(Hamama!$G12="BN",1,"0")) -> 0 | W13: =IF('Jean Marie'!G12="EX",3,IF('Jean Marie'!G12="BN",1,"0")) -> 0 | X13: =IF('Jonathan B'!G12="EX",3,IF('Jonathan B'!$G12="BN",1,"0")) -> 0 | Y13: =IF('Jonathan M'!G12="EX",3,IF('Jonathan M'!$G12="BN",1,"0")) -> 0 | Z13: =IF(José!$G12="EX",3,IF(José!$G12="BN",1,"0")) -> 0 | AA13: =IF(Julie!$G12="EX",3,IF(Julie!$G12="BN",1,"0")) -> 0 | AB13: =IF(Julien!$G12="EX",3,IF(Julien!$G12="BN",1,"0")) -> 0 | AC13: =IF(Killian!$G12="EX",3,IF(Killian!$G12="BN",1,"0")) -> 0 | AD13: =IF(Lahcen!$G12="EX",3,IF(Lahcen!$G12="BN",1,"0")) -> 0 | AE13: =IF(Lucien!$G12="EX",3,IF(Lucien!$G12="BN",1,"0")) -> 0 | AF13: =IF(Mickael!$G12="EX",3,IF(Mickael!$G12="BN",1,"0")) -> 0 | AG13: =IF(Nazrin!$G12="EX",3,IF(Nazrin!$G12="BN",1,"0")) -> 0 | AH13: =IF('Patrick F'!$G12="EX",3,IF('Patrick F'!$G12="BN",1,"0")) -> 0 | AI13: =IF('Pierre S'!$G12="EX",3,IF('Pierre S'!$G12="BN",1,"0")) -> 0 | AJ13: =IF(Reda!$G12="EX",3,IF(Reda!$G12="BN",1,"0")) -> 0 | AK13: =IF(Renaud!$G12="EX",3,IF(Renaud!$G12="BN",1,"0")) -> 0 | AL13: =IF(Romaric!$G12="EX",3,IF(Romaric!$G12="BN",1,"0")) -> 0 | AM13: =IF(Soline!$G12="EX",3,IF(Soline!$G12="BN",1,"0")) -> 0 | AN13: =IF(Timo!$G12="EX",3,IF(Timo!$G12="BN",1,"0")) -> 0 | AO13: =IF(Vanessa!$G12="EX",3,IF(Vanessa!$G12="BN",1,"0")) -> 0 | AP13: =IF(Samy!G12="EX",3,IF(Samy!G12="BN",1,"0")) -> 0 | AQ13: =IF(Hypo!G12="EX",3,IF(Hypo!G12="BN",1,"0")) -> 0 | AR13: =IF(Bastien!G12="EX",3,IF(Bastien!G12="BN",1,"0")) -> 0 | AS13: =IF(Guillaume!G12="EX",3,IF(Guillaume!G12="BN",1,"0")) -> 0 | AT13: =IF(Arthur!G12="EX",3,IF(Arthur!G12="BN",1,"0")) -> 0 | AU13: =IF(Andrea!G12="EX",3,IF(Andrea!G12="BN",1,"0")) -> 0
A14: 44890 | B14: 0.45833333 | C14: =F12 -> Pays de Galles | F14: =F11 -> Iran | I14: =IF(Adrien!G13="EX",3,IF(Adrien!G13="BN",1,"0")) -> 0 | J14: =IF(Amine!G13="EX",3,IF(Amine!G13="BN",1,"0")) -> 0 | K14: =IF(Anas!G13="EX",3,IF(Anas!G13="BN",1,"0")) -> 0 | L14: =IF(Antoine!G13="EX",3,IF(Antoine!G13="BN",1,"0")) -> 0 | M14: =IF(Arezou!G13="EX",3,IF(Arezou!G13="BN",1,"0")) -> 0 | N14: =IF(Arnaud!$G13="EX",3,IF(Arnaud!$G13="BN",1,"0")) -> 0 | O14: =IF(Chloe!$G13="EX",3,IF(Chloe!$G13="BN",1,"0")) -> 0 | P14: =IF(Dan!$G13="EX",3,IF(Dan!$G13="BN",1,"0")) -> 0 | Q14: =IF(David!$G13="EX",3,IF(David!$G13="BN",1,"0")) -> 0 | R14: =IF(Dom!$G13="EX",3,IF(Dom!$G13="BN",1,"0")) -> 0 | S14: =IF(Dusan!$G13="EX",3,IF(Dusan!$G13="BN",1,"0")) -> 0 | T14: =IF(Dylan!$G13="EX",3,IF(Dylan!$G13="BN",1,"0")) -> 0 | U14: =IF(Fred!$G13="EX",3,IF(Fred!$G13="BN",1,"0")) -> 0 | V14: =IF(Hamama!$G13="EX",3,IF(Hamama!$G13="BN",1,"0")) -> 0 | W14: =IF('Jean Marie'!G13="EX",3,IF('Jean Marie'!G13="BN",1,"0")) -> 0 | X14: =IF('Jonathan B'!G13="EX",3,IF('Jonathan B'!$G13="BN",1,"0")) -> 0 | Y14: =IF('Jonathan M'!G13="EX",3,IF('Jonathan M'!$G13="BN",1,"0")) -> 0 | Z14: =IF(José!$G13="EX",3,IF(José!$G13="BN",1,"0")) -> 0 | AA14: =IF(Julie!$G13="EX",3,IF(Julie!$G13="BN",1,"0")) -> 0 | AB14: =IF(Julien!$G13="EX",3,IF(Julien!$G13="BN",1,"0")) -> 0 | AC14: =IF(Killian!$G13="EX",3,IF(Killian!$G13="BN",1,"0")) -> 0 | AD14: =IF(Lahcen!$G13="EX",3,IF(Lahcen!$G13="BN",1,"0")) -> 0 | AE14: =IF(Lucien!$G13="EX",3,IF(Lucien!$G13="BN",1,"0")) -> 0 | AF14: =IF(Mickael!$G13="EX",3,IF(Mickael!$G13="BN",1,"0")) -> 0 | AG14: =IF(Nazrin!$G13="EX",3,IF(Nazrin!$G13="BN",1,"0")) -> 0 | AH14: =IF('Patrick F'!$G13="EX",3,IF('Patrick F'!$G13="BN",1,"0")) -> 0 | AI14: =IF('Pierre S'!$G13="EX",3,IF('Pierre S'!$G13="BN",1,"0")) -> 0 | AJ14: =IF(Reda!$G13="EX",3,IF(Reda!$G13="BN",1,"0")) -> 0 | AK14: =IF(Renaud!$G13="EX",3,IF(Renaud!$G13="BN",1,"0")) -> 0 | AL14: =IF(Romaric!$G13="EX",3,IF(Romaric!$G13="BN",1,"0")) -> 0 | AM14: =IF(Soline!$G13="EX",3,IF(Soline!$G13="BN",1,"0")) -> 0 | AN14: =IF(Timo!$G13="EX",3,IF(Timo!$G13="BN",1,"0")) -> 0 | AO14: =IF(Vanessa!$G13="EX",3,IF(Vanessa!$G13="BN",1,"0")) -> 0 | AP14: =IF(Samy!G13="EX",3,IF(Samy!G13="BN",1,"0")) -> 0 | AQ14: =IF(Hypo!G13="EX",3,IF(Hypo!G13="BN",1,"0")) -> 0 | AR14: =IF(Bastien!G13="EX",3,IF(Bastien!G13="BN",1,"0")) -> 0 | AS14: =IF(Guillaume!G13="EX",3,IF(Guillaume!G13="BN",1,"0")) -> 0 | AT14: =IF(Arthur!G13="EX",3,IF(Arthur!G13="BN",1,"0")) -> 0 | AU14: =IF(Andrea!G13="EX",3,IF(Andrea!G13="BN",1,"0")) -> 0
A15: 44894 | B15: 0.83333333 | C15: =F12 -> Pays de Galles | F15: =C11 -> Angleterre | I15: =IF(Adrien!G14="EX",3,IF(Adrien!G14="BN",1,"0")) -> 0 | J15: =IF(Amine!G14="EX",3,IF(Amine!G14="BN",1,"0")) -> 0 | K15: =IF(Anas!G14="EX",3,IF(Anas!G14="BN",1,"0")) -> 0 | L15: =IF(Antoine!G14="EX",3,IF(Antoine!G14="BN",1,"0")) -> 0 | M15: =IF(Arezou!G14="EX",3,IF(Arezou!G14="BN",1,"0")) -> 0 | N15: =IF(Arnaud!$G14="EX",3,IF(Arnaud!$G14="BN",1,"0")) -> 0 | O15: =IF(Chloe!$G14="EX",3,IF(Chloe!$G14="BN",1,"0")) -> 0 | P15: =IF(Dan!$G14="EX",3,IF(Dan!$G14="BN",1,"0")) -> 0 | Q15: =IF(David!$G14="EX",3,IF(David!$G14="BN",1,"0")) -> 0 | R15: =IF(Dom!$G14="EX",3,IF(Dom!$G14="BN",1,"0")) -> 0 | S15: =IF(Dusan!$G14="EX",3,IF(Dusan!$G14="BN",1,"0")) -> 0 | T15: =IF(Dylan!$G14="EX",3,IF(Dylan!$G14="BN",1,"0")) -> 0 | U15: =IF(Fred!$G14="EX",3,IF(Fred!$G14="BN",1,"0")) -> 0 | V15: =IF(Hamama!$G14="EX",3,IF(Hamama!$G14="BN",1,"0")) -> 0 | W15: =IF('Jean Marie'!G14="EX",3,IF('Jean Marie'!G14="BN",1,"0")) -> 0 | X15: =IF('Jonathan B'!G14="EX",3,IF('Jonathan B'!$G14="BN",1,"0")) -> 0 | Y15: =IF('Jonathan M'!G14="EX",3,IF('Jonathan M'!$G14="BN",1,"0")) -> 0 | Z15: =IF(José!$G14="EX",3,IF(José!$G14="BN",1,"0")) -> 0 | AA15: =IF(Julie!$G14="EX",3,IF(Julie!$G14="BN",1,"0")) -> 0 | AB15: =IF(Julien!$G14="EX",3,IF(Julien!$G14="BN",1,"0")) -> 0 | AC15: =IF(Killian!$G14="EX",3,IF(Killian!$G14="BN",1,"0")) -> 0 | AD15: =IF(Lahcen!$G14="EX",3,IF(Lahcen!$G14="BN",1,"0")) -> 0 | AE15: =IF(Lucien!$G14="EX",3,IF(Lucien!$G14="BN",1,"0")) -> 0 | AF15: =IF(Mickael!$G14="EX",3,IF(Mickael!$G14="BN",1,"0")) -> 0 | AG15: =IF(Nazrin!$G14="EX",3,IF(Nazrin!$G14="BN",1,"0")) -> 0 | AH15: =IF('Patrick F'!$G14="EX",3,IF('Patrick F'!$G14="BN",1,"0")) -> 0 | AI15: =IF('Pierre S'!$G14="EX",3,IF('Pierre S'!$G14="BN",1,"0")) -> 0 | AJ15: =IF(Reda!$G14="EX",3,IF(Reda!$G14="BN",1,"0")) -> 0 | AK15: =IF(Renaud!$G14="EX",3,IF(Renaud!$G14="BN",1,"0")) -> 0 | AL15: =IF(Romaric!$G14="EX",3,IF(Romaric!$G14="BN",1,"0")) -> 0 | AM15: =IF(Soline!$G14="EX",3,IF(Soline!$G14="BN",1,"0")) -> 0 | AN15: =IF(Timo!$G14="EX",3,IF(Timo!$G14="BN",1,"0")) -> 0 | AO15: =IF(Vanessa!$G14="EX",3,IF(Vanessa!$G14="BN",1,"0")) -> 0 | AP15: =IF(Samy!G14="EX",3,IF(Samy!G14="BN",1,"0")) -> 0 | AQ15: =IF(Hypo!G14="EX",3,IF(Hypo!G14="BN",1,"0")) -> 0 | AR15: =IF(Bastien!G14="EX",3,IF(Bastien!G14="BN",1,"0")) -> 0 | AS15: =IF(Guillaume!G14="EX",3,IF(Guillaume!G14="BN",1,"0")) -> 0 | AT15: =IF(Arthur!G14="EX",3,IF(Arthur!G14="BN",1,"0")) -> 0 | AU15: =IF(Andrea!G14="EX",3,IF(Andrea!G14="BN",1,"0")) -> 0
A16: 44894 | B16: 0.83333333 | C16: =F11 -> Iran | F16: =C12 -> Etats-Unis | I16: =IF(Adrien!G15="EX",3,IF(Adrien!G15="BN",1,"0")) -> 0 | J16: =IF(Amine!G15="EX",3,IF(Amine!G15="BN",1,"0")) -> 0 | K16: =IF(Anas!G15="EX",3,IF(Anas!G15="BN",1,"0")) -> 0 | L16: =IF(Antoine!G15="EX",3,IF(Antoine!G15="BN",1,"0")) -> 0 | M16: =IF(Arezou!G15="EX",3,IF(Arezou!G15="BN",1,"0")) -> 0 | N16: =IF(Arnaud!$G15="EX",3,IF(Arnaud!$G15="BN",1,"0")) -> 0 | O16: =IF(Chloe!$G15="EX",3,IF(Chloe!$G15="BN",1,"0")) -> 0 | P16: =IF(Dan!$G15="EX",3,IF(Dan!$G15="BN",1,"0")) -> 0 | Q16: =IF(David!$G15="EX",3,IF(David!$G15="BN",1,"0")) -> 0 | R16: =IF(Dom!$G15="EX",3,IF(Dom!$G15="BN",1,"0")) -> 0 | S16: =IF(Dusan!$G15="EX",3,IF(Dusan!$G15="BN",1,"0")) -> 0 | T16: =IF(Dylan!$G15="EX",3,IF(Dylan!$G15="BN",1,"0")) -> 0 | U16: =IF(Fred!$G15="EX",3,IF(Fred!$G15="BN",1,"0")) -> 0 | V16: =IF(Hamama!$G15="EX",3,IF(Hamama!$G15="BN",1,"0")) -> 0 | W16: =IF('Jean Marie'!G15="EX",3,IF('Jean Marie'!G15="BN",1,"0")) -> 0 | X16: =IF('Jonathan B'!G15="EX",3,IF('Jonathan B'!$G15="BN",1,"0")) -> 0 | Y16: =IF('Jonathan M'!G15="EX",3,IF('Jonathan M'!$G15="BN",1,"0")) -> 0 | Z16: =IF(José!$G15="EX",3,IF(José!$G15="BN",1,"0")) -> 0 | AA16: =IF(Julie!$G15="EX",3,IF(Julie!$G15="BN",1,"0")) -> 0 | AB16: =IF(Julien!$G15="EX",3,IF(Julien!$G15="BN",1,"0")) -> 0 | AC16: =IF(Killian!$G15="EX",3,IF(Killian!$G15="BN",1,"0")) -> 0 | AD16: =IF(Lahcen!$G15="EX",3,IF(Lahcen!$G15="BN",1,"0")) -> 0 | AE16: =IF(Lucien!$G15="EX",3,IF(Lucien!$G15="BN",1,"0")) -> 0 | AF16: =IF(Mickael!$G15="EX",3,IF(Mickael!$G15="BN",1,"0")) -> 0 | AG16: =IF(Nazrin!$G15="EX",3,IF(Nazrin!$G15="BN",1,"0")) -> 0 | AH16: =IF('Patrick F'!$G15="EX",3,IF('Patrick F'!$G15="BN",1,"0")) -> 0 | AI16: =IF('Pierre S'!$G15="EX",3,IF('Pierre S'!$G15="BN",1,"0")) -> 0 | AJ16: =IF(Reda!$G15="EX",3,IF(Reda!$G15="BN",1,"0")) -> 0 | AK16: =IF(Renaud!$G15="EX",3,IF(Renaud!$G15="BN",1,"0")) -> 0 | AL16: =IF(Romaric!$G15="EX",3,IF(Romaric!$G15="BN",1,"0")) -> 0 | AM16: =IF(Soline!$G15="EX",3,IF(Soline!$G15="BN",1,"0")) -> 0 | AN16: =IF(Timo!$G15="EX",3,IF(Timo!$G15="BN",1,"0")) -> 0 | AO16: =IF(Vanessa!$G15="EX",3,IF(Vanessa!$G15="BN",1,"0")) -> 0 | AP16: =IF(Samy!G15="EX",3,IF(Samy!G15="BN",1,"0")) -> 0 | AQ16: =IF(Hypo!G15="EX",3,IF(Hypo!G15="BN",1,"0")) -> 0 | AR16: =IF(Bastien!G15="EX",3,IF(Bastien!G15="BN",1,"0")) -> 0 | AS16: =IF(Guillaume!G15="EX",3,IF(Guillaume!G15="BN",1,"0")) -> 0 | AT16: =IF(Arthur!G15="EX",3,IF(Arthur!G15="BN",1,"0")) -> 0 | AU16: =IF(Andrea!G15="EX",3,IF(Andrea!G15="BN",1,"0")) -> 0
I17: =IF(Adrien!G16="EX",3,IF(Adrien!G16="BN",1,"0")) -> 0 | J17: =IF(Amine!G16="EX",3,IF(Amine!G16="BN",1,"0")) -> 0 | K17: =IF(Anas!G16="EX",3,IF(Anas!G16="BN",1,"0")) -> 0 | L17: =IF(Antoine!G16="EX",3,IF(Antoine!G16="BN",1,"0")) -> 0 | M17: =IF(Arezou!G16="EX",3,IF(Arezou!G16="BN",1,"0")) -> 0 | N17: =IF(Arnaud!$G16="EX",3,IF(Arnaud!$G16="BN",1,"0")) -> 0 | O17: =IF(Chloe!$G16="EX",3,IF(Chloe!$G16="BN",1,"0")) -> 0 | P17: =IF(Dan!$G16="EX",3,IF(Dan!$G16="BN",1,"0")) -> 0 | Q17: =IF(David!$G16="EX",3,IF(David!$G16="BN",1,"0")) -> 0 | R17: =IF(Dom!$G16="EX",3,IF(Dom!$G16="BN",1,"0")) -> 0 | S17: =IF(Dusan!$G16="EX",3,IF(Dusan!$G16="BN",1,"0")) -> 0 | T17: =IF(Dylan!$G16="EX",3,IF(Dylan!$G16="BN",1,"0")) -> 0 | U17: =IF(Fred!$G16="EX",3,IF(Fred!$G16="BN",1,"0")) -> 0 | V17: =IF(Hamama!$G16="EX",3,IF(Hamama!$G16="BN",1,"0")) -> 0 | W17: =IF('Jean Marie'!G16="EX",3,IF('Jean Marie'!G16="BN",1,"0")) -> 0 | X17: =IF('Jonathan B'!G16="EX",3,IF('Jonathan B'!$G16="BN",1,"0")) -> 0 | Y17: =IF('Jonathan M'!G16="EX",3,IF('Jonathan M'!$G16="BN",1,"0")) -> 0 | Z17: =IF(José!$G16="EX",3,IF(José!$G16="BN",1,"0")) -> 0 | AA17: =IF(Julie!$G16="EX",3,IF(Julie!$G16="BN",1,"0")) -> 0 | AB17: =IF(Julien!$G16="EX",3,IF(Julien!$G16="BN",1,"0")) -> 0 | AC17: =IF(Killian!$G16="EX",3,IF(Killian!$G16="BN",1,"0")) -> 0 | AD17: =IF(Lahcen!$G16="EX",3,IF(Lahcen!$G16="BN",1,"0")) -> 0 | AE17: =IF(Lucien!$G16="EX",3,IF(Lucien!$G16="BN",1,"0")) -> 0 | AF17: =IF(Mickael!$G16="EX",3,IF(Mickael!$G16="BN",1,"0")) -> 0 | AG17: =IF(Nazrin!$G16="EX",3,IF(Nazrin!$G16="BN",1,"0")) -> 0 | AH17: =IF('Patrick F'!$G16="EX",3,IF('Patrick F'!$G16="BN",1,"0")) -> 0 | AI17: =IF('Pierre S'!$G16="EX",3,IF('Pierre S'!$G16="BN",1,"0")) -> 0 | AJ17: =IF(Reda!$G16="EX",3,IF(Reda!$G16="BN",1,"0")) -> 0 | AK17: =IF(Renaud!$G16="EX",3,IF(Renaud!$G16="BN",1,"0")) -> 0 | AL17: =IF(Romaric!$G16="EX",3,IF(Romaric!$G16="BN",1,"0")) -> 0 | AM17: =IF(Soline!$G16="EX",3,IF(Soline!$G16="BN",1,"0")) -> 0 | AN17: =IF(Timo!$G16="EX",3,IF(Timo!$G16="BN",1,"0")) -> 0 | AO17: =IF(Vanessa!$G16="EX",3,IF(Vanessa!$G16="BN",1,"0")) -> 0 | AP17: =IF(Samy!G16="EX",3,IF(Samy!G16="BN",1,"0")) -> 0 | AQ17: =IF(Hypo!G16="EX",3,IF(Hypo!G16="BN",1,"0")) -> 0 | AR17: =IF(Bastien!G16="EX",3,IF(Bastien!G16="BN",1,"0")) -> 0 | AS17: =IF(Guillaume!G16="EX",3,IF(Guillaume!G16="BN",1,"0")) -> 0 | AT17: =IF(Arthur!G16="EX",3,IF(Arthur!G16="BN",1,"0")) -> 0 | AU17: =IF(Andrea!G16="EX",3,IF(Andrea!G16="BN",1,"0")) -> 0
A18: Groupe C | I18: =IF(Adrien!G17="EX",3,IF(Adrien!G17="BN",1,"0")) -> 0 | J18: =IF(Amine!G17="EX",3,IF(Amine!G17="BN",1,"0")) -> 0 | K18: =IF(Anas!G17="EX",3,IF(Anas!G17="BN",1,"0")) -> 0 | L18: =IF(Antoine!G17="EX",3,IF(Antoine!G17="BN",1,"0")) -> 0 | M18: =IF(Arezou!G17="EX",3,IF(Arezou!G17="BN",1,"0")) -> 0 | N18: =IF(Arnaud!$G17="EX",3,IF(Arnaud!$G17="BN",1,"0")) -> 0 | O18: =IF(Chloe!$G17="EX",3,IF(Chloe!$G17="BN",1,"0")) -> 0 | P18: =IF(Dan!$G17="EX",3,IF(Dan!$G17="BN",1,"0")) -> 0 | Q18: =IF(David!$G17="EX",3,IF(David!$G17="BN",1,"0")) -> 0 | R18: =IF(Dom!$G17="EX",3,IF(Dom!$G17="BN",1,"0")) -> 0 | S18: =IF(Dusan!$G17="EX",3,IF(Dusan!$G17="BN",1,"0")) -> 0 | T18: =IF(Dylan!$G17="EX",3,IF(Dylan!$G17="BN",1,"0")) -> 0 | U18: =IF(Fred!$G17="EX",3,IF(Fred!$G17="BN",1,"0")) -> 0 | V18: =IF(Hamama!$G17="EX",3,IF(Hamama!$G17="BN",1,"0")) -> 0 | W18: =IF('Jean Marie'!G17="EX",3,IF('Jean Marie'!G17="BN",1,"0")) -> 0 | X18: =IF('Jonathan B'!G17="EX",3,IF('Jonathan B'!$G17="BN",1,"0")) -> 0 | Y18: =IF('Jonathan M'!G17="EX",3,IF('Jonathan M'!$G17="BN",1,"0")) -> 0 | Z18: =IF(José!$G17="EX",3,IF(José!$G17="BN",1,"0")) -> 0 | AA18: =IF(Julie!$G17="EX",3,IF(Julie!$G17="BN",1,"0")) -> 0 | AB18: =IF(Julien!$G17="EX",3,IF(Julien!$G17="BN",1,"0")) -> 0 | AC18: =IF(Killian!$G17="EX",3,IF(Killian!$G17="BN",1,"0")) -> 0 | AD18: =IF(Lahcen!$G17="EX",3,IF(Lahcen!$G17="BN",1,"0")) -> 0 | AE18: =IF(Lucien!$G17="EX",3,IF(Lucien!$G17="BN",1,"0")) -> 0 | AF18: =IF(Mickael!$G17="EX",3,IF(Mickael!$G17="BN",1,"0")) -> 0 | AG18: =IF(Nazrin!$G17="EX",3,IF(Nazrin!$G17="BN",1,"0")) -> 0 | AH18: =IF('Patrick F'!$G17="EX",3,IF('Patrick F'!$G17="BN",1,"0")) -> 0 | AI18: =IF('Pierre S'!$G17="EX",3,IF('Pierre S'!$G17="BN",1,"0")) -> 0 | AJ18: =IF(Reda!$G17="EX",3,IF(Reda!$G17="BN",1,"0")) -> 0 | AK18: =IF(Renaud!$G17="EX",3,IF(Renaud!$G17="BN",1,"0")) -> 0 | AL18: =IF(Romaric!$G17="EX",3,IF(Romaric!$G17="BN",1,"0")) -> 0 | AM18: =IF(Soline!$G17="EX",3,IF(Soline!$G17="BN",1,"0")) -> 0 | AN18: =IF(Timo!$G17="EX",3,IF(Timo!$G17="BN",1,"0")) -> 0 | AO18: =IF(Vanessa!$G17="EX",3,IF(Vanessa!$G17="BN",1,"0")) -> 0 | AP18: =IF(Samy!G17="EX",3,IF(Samy!G17="BN",1,"0")) -> 0 | AQ18: =IF(Hypo!G17="EX",3,IF(Hypo!G17="BN",1,"0")) -> 0 | AR18: =IF(Bastien!G17="EX",3,IF(Bastien!G17="BN",1,"0")) -> 0 | AS18: =IF(Guillaume!G17="EX",3,IF(Guillaume!G17="BN",1,"0")) -> 0 | AT18: =IF(Arthur!G17="EX",3,IF(Arthur!G17="BN",1,"0")) -> 0 | AU18: =IF(Andrea!G17="EX",3,IF(Andrea!G17="BN",1,"0")) -> 0
A19: 44887 | B19: 0.70833333 | C19: Mexique | F19: Pologne | I19: =IF(Adrien!G18="EX",3,IF(Adrien!G18="BN",1,"0")) -> 0 | J19: =IF(Amine!G18="EX",3,IF(Amine!G18="BN",1,"0")) -> 0 | K19: =IF(Anas!G18="EX",3,IF(Anas!G18="BN",1,"0")) -> 0 | L19: =IF(Antoine!G18="EX",3,IF(Antoine!G18="BN",1,"0")) -> 0 | M19: =IF(Arezou!G18="EX",3,IF(Arezou!G18="BN",1,"0")) -> 0 | N19: =IF(Arnaud!$G18="EX",3,IF(Arnaud!$G18="BN",1,"0")) -> 0 | O19: =IF(Chloe!$G18="EX",3,IF(Chloe!$G18="BN",1,"0")) -> 0 | P19: =IF(Dan!$G18="EX",3,IF(Dan!$G18="BN",1,"0")) -> 0 | Q19: =IF(David!$G18="EX",3,IF(David!$G18="BN",1,"0")) -> 0 | R19: =IF(Dom!$G18="EX",3,IF(Dom!$G18="BN",1,"0")) -> 0 | S19: =IF(Dusan!$G18="EX",3,IF(Dusan!$G18="BN",1,"0")) -> 0 | T19: =IF(Dylan!$G18="EX",3,IF(Dylan!$G18="BN",1,"0")) -> 0 | U19: =IF(Fred!$G18="EX",3,IF(Fred!$G18="BN",1,"0")) -> 0 | V19: =IF(Hamama!$G18="EX",3,IF(Hamama!$G18="BN",1,"0")) -> 0 | W19: =IF('Jean Marie'!G18="EX",3,IF('Jean Marie'!G18="BN",1,"0")) -> 0 | X19: =IF('Jonathan B'!G18="EX",3,IF('Jonathan B'!$G18="BN",1,"0")) -> 0 | Y19: =IF('Jonathan M'!G18="EX",3,IF('Jonathan M'!$G18="BN",1,"0")) -> 0 | Z19: =IF(José!$G18="EX",3,IF(José!$G18="BN",1,"0")) -> 0 | AA19: =IF(Julie!$G18="EX",3,IF(Julie!$G18="BN",1,"0")) -> 0 | AB19: =IF(Julien!$G18="EX",3,IF(Julien!$G18="BN",1,"0")) -> 0 | AC19: =IF(Killian!$G18="EX",3,IF(Killian!$G18="BN",1,"0")) -> 0 | AD19: =IF(Lahcen!$G18="EX",3,IF(Lahcen!$G18="BN",1,"0")) -> 0 | AE19: =IF(Lucien!$G18="EX",3,IF(Lucien!$G18="BN",1,"0")) -> 0 | AF19: =IF(Mickael!$G18="EX",3,IF(Mickael!$G18="BN",1,"0")) -> 0 | AG19: =IF(Nazrin!$G18="EX",3,IF(Nazrin!$G18="BN",1,"0")) -> 0 | AH19: =IF('Patrick F'!$G18="EX",3,IF('Patrick F'!$G18="BN",1,"0")) -> 0 | AI19: =IF('Pierre S'!$G18="EX",3,IF('Pierre S'!$G18="BN",1,"0")) -> 0 | AJ19: =IF(Reda!$G18="EX",3,IF(Reda!$G18="BN",1,"0")) -> 0 | AK19: =IF(Renaud!$G18="EX",3,IF(Renaud!$G18="BN",1,"0")) -> 0 | AL19: =IF(Romaric!$G18="EX",3,IF(Romaric!$G18="BN",1,"0")) -> 0 | AM19: =IF(Soline!$G18="EX",3,IF(Soline!$G18="BN",1,"0")) -> 0 | AN19: =IF(Timo!$G18="EX",3,IF(Timo!$G18="BN",1,"0")) -> 0 | AO19: =IF(Vanessa!$G18="EX",3,IF(Vanessa!$G18="BN",1,"0")) -> 0 | AP19: =IF(Samy!G18="EX",3,IF(Samy!G18="BN",1,"0")) -> 0 | AQ19: =IF(Hypo!G18="EX",3,IF(Hypo!G18="BN",1,"0")) -> 0 | AR19: =IF(Bastien!G18="EX",3,IF(Bastien!G18="BN",1,"0")) -> 0 | AS19: =IF(Guillaume!G18="EX",3,IF(Guillaume!G18="BN",1,"0")) -> 0 | AT19: =IF(Arthur!G18="EX",3,IF(Arthur!G18="BN",1,"0")) -> 0 | AU19: =IF(Andrea!G18="EX",3,IF(Andrea!G18="BN",1,"0")) -> 0
A20: 44887 | B20: 0.45833333 | C20: Argentine | D20: 1 | E20: 2 | F20: Arabie Saoudite | I20: =IF(Adrien!G19="EX",3,IF(Adrien!G19="BN",1,"0")) -> 0 | J20: =IF(Amine!G19="EX",3,IF(Amine!G19="BN",1,"0")) -> 0 | K20: =IF(Anas!G19="EX",3,IF(Anas!G19="BN",1,"0")) -> 0 | L20: =IF(Antoine!G19="EX",3,IF(Antoine!G19="BN",1,"0")) -> 0 | M20: =IF(Arezou!G19="EX",3,IF(Arezou!G19="BN",1,"0")) -> 0 | N20: =IF(Arnaud!$G19="EX",3,IF(Arnaud!$G19="BN",1,"0")) -> 0 | O20: =IF(Chloe!$G19="EX",3,IF(Chloe!$G19="BN",1,"0")) -> 0 | P20: =IF(Dan!$G19="EX",3,IF(Dan!$G19="BN",1,"0")) -> 0 | Q20: =IF(David!$G19="EX",3,IF(David!$G19="BN",1,"0")) -> 0 | R20: =IF(Dom!$G19="EX",3,IF(Dom!$G19="BN",1,"0")) -> 0 | S20: =IF(Dusan!$G19="EX",3,IF(Dusan!$G19="BN",1,"0")) -> 0 | T20: =IF(Dylan!$G19="EX",3,IF(Dylan!$G19="BN",1,"0")) -> 0 | U20: =IF(Fred!$G19="EX",3,IF(Fred!$G19="BN",1,"0")) -> 0 | V20: =IF(Hamama!$G19="EX",3,IF(Hamama!$G19="BN",1,"0")) -> 0 | W20: =IF('Jean Marie'!G19="EX",3,IF('Jean Marie'!G19="BN",1,"0")) -> 0 | X20: =IF('Jonathan B'!G19="EX",3,IF('Jonathan B'!$G19="BN",1,"0")) -> 0 | Y20: =IF('Jonathan M'!G19="EX",3,IF('Jonathan M'!$G19="BN",1,"0")) -> 0 | Z20: =IF(José!$G19="EX",3,IF(José!$G19="BN",1,"0")) -> 0 | AA20: =IF(Julie!$G19="EX",3,IF(Julie!$G19="BN",1,"0")) -> 0 | AB20: =IF(Julien!$G19="EX",3,IF(Julien!$G19="BN",1,"0")) -> 0 | AC20: =IF(Killian!$G19="EX",3,IF(Killian!$G19="BN",1,"0")) -> 0 | AD20: =IF(Lahcen!$G19="EX",3,IF(Lahcen!$G19="BN",1,"0")) -> 0 | AE20: =IF(Lucien!$G19="EX",3,IF(Lucien!$G19="BN",1,"0")) -> 0 | AF20: =IF(Mickael!$G19="EX",3,IF(Mickael!$G19="BN",1,"0")) -> 0 | AG20: =IF(Nazrin!$G19="EX",3,IF(Nazrin!$G19="BN",1,"0")) -> 0 | AH20: =IF('Patrick F'!$G19="EX",3,IF('Patrick F'!$G19="BN",1,"0")) -> 0 | AI20: =IF('Pierre S'!$G19="EX",3,IF('Pierre S'!$G19="BN",1,"0")) -> 0 | AJ20: =IF(Reda!$G19="EX",3,IF(Reda!$G19="BN",1,"0")) -> 0 | AK20: =IF(Renaud!$G19="EX",3,IF(Renaud!$G19="BN",1,"0")) -> 0 | AL20: =IF(Romaric!$G19="EX",3,IF(Romaric!$G19="BN",1,"0")) -> 0 | AM20: =IF(Soline!$G19="EX",3,IF(Soline!$G19="BN",1,"0")) -> 0 | AN20: =IF(Timo!$G19="EX",3,IF(Timo!$G19="BN",1,"0")) -> 0 | AO20: =IF(Vanessa!$G19="EX",3,IF(Vanessa!$G19="BN",1,"0")) -> 0 | AP20: =IF(Samy!G19="EX",3,IF(Samy!G19="BN",1,"0")) -> 0 | AQ20: =IF(Hypo!G19="EX",3,IF(Hypo!G19="BN",1,"0")) -> 0 | AR20: =IF(Bastien!G19="EX",3,IF(Bastien!G19="BN",1,"0")) -> 0 | AS20: =IF(Guillaume!G19="EX",3,IF(Guillaume!G19="BN",1,"0")) -> 0 | AT20: =IF(Arthur!G19="EX",3,IF(Arthur!G19="BN",1,"0")) -> 0 | AU20: =IF(Andrea!G19="EX",3,IF(Andrea!G19="BN",1,"0")) -> 0
A21: 44891 | B21: 0.58333333 | C21: =F20 -> Arabie Saoudite | F21: =F19 -> Pologne | I21: =IF(Adrien!G20="EX",3,IF(Adrien!G20="BN",1,"0")) -> 0 | J21: =IF(Amine!G20="EX",3,IF(Amine!G20="BN",1,"0")) -> 0 | K21: =IF(Anas!G20="EX",3,IF(Anas!G20="BN",1,"0")) -> 0 | L21: =IF(Antoine!G20="EX",3,IF(Antoine!G20="BN",1,"0")) -> 0 | M21: =IF(Arezou!G20="EX",3,IF(Arezou!G20="BN",1,"0")) -> 0 | N21: =IF(Arnaud!$G20="EX",3,IF(Arnaud!$G20="BN",1,"0")) -> 0 | O21: =IF(Chloe!$G20="EX",3,IF(Chloe!$G20="BN",1,"0")) -> 0 | P21: =IF(Dan!$G20="EX",3,IF(Dan!$G20="BN",1,"0")) -> 0 | Q21: =IF(David!$G20="EX",3,IF(David!$G20="BN",1,"0")) -> 0 | R21: =IF(Dom!$G20="EX",3,IF(Dom!$G20="BN",1,"0")) -> 0 | S21: =IF(Dusan!$G20="EX",3,IF(Dusan!$G20="BN",1,"0")) -> 0 | T21: =IF(Dylan!$G20="EX",3,IF(Dylan!$G20="BN",1,"0")) -> 0 | U21: =IF(Fred!$G20="EX",3,IF(Fred!$G20="BN",1,"0")) -> 0 | V21: =IF(Hamama!$G20="EX",3,IF(Hamama!$G20="BN",1,"0")) -> 0 | W21: =IF('Jean Marie'!G20="EX",3,IF('Jean Marie'!G20="BN",1,"0")) -> 0 | X21: =IF('Jonathan B'!G20="EX",3,IF('Jonathan B'!$G20="BN",1,"0")) -> 0 | Y21: =IF('Jonathan M'!G20="EX",3,IF('Jonathan M'!$G20="BN",1,"0")) -> 0 | Z21: =IF(José!$G20="EX",3,IF(José!$G20="BN",1,"0")) -> 0 | AA21: =IF(Julie!$G20="EX",3,IF(Julie!$G20="BN",1,"0")) -> 0 | AB21: =IF(Julien!$G20="EX",3,IF(Julien!$G20="BN",1,"0")) -> 0 | AC21: =IF(Killian!$G20="EX",3,IF(Killian!$G20="BN",1,"0")) -> 0 | AD21: =IF(Lahcen!$G20="EX",3,IF(Lahcen!$G20="BN",1,"0")) -> 0 | AE21: =IF(Lucien!$G20="EX",3,IF(Lucien!$G20="BN",1,"0")) -> 0 | AF21: =IF(Mickael!$G20="EX",3,IF(Mickael!$G20="BN",1,"0")) -> 0 | AG21: =IF(Nazrin!$G20="EX",3,IF(Nazrin!$G20="BN",1,"0")) -> 0 | AH21: =IF('Patrick F'!$G20="EX",3,IF('Patrick F'!$G20="BN",1,"0")) -> 0 | AI21: =IF('Pierre S'!$G20="EX",3,IF('Pierre S'!$G20="BN",1,"0")) -> 0 | AJ21: =IF(Reda!$G20="EX",3,IF(Reda!$G20="BN",1,"0")) -> 0 | AK21: =IF(Renaud!$G20="EX",3,IF(Renaud!$G20="BN",1,"0")) -> 0 | AL21: =IF(Romaric!$G20="EX",3,IF(Romaric!$G20="BN",1,"0")) -> 0 | AM21: =IF(Soline!$G20="EX",3,IF(Soline!$G20="BN",1,"0")) -> 0 | AN21: =IF(Timo!$G20="EX",3,IF(Timo!$G20="BN",1,"0")) -> 0 | AO21: =IF(Vanessa!$G20="EX",3,IF(Vanessa!$G20="BN",1,"0")) -> 0 | AP21: =IF(Samy!G20="EX",3,IF(Samy!G20="BN",1,"0")) -> 0 | AQ21: =IF(Hypo!G20="EX",3,IF(Hypo!G20="BN",1,"0")) -> 0 | AR21: =IF(Bastien!G20="EX",3,IF(Bastien!G20="BN",1,"0")) -> 0 | AS21: =IF(Guillaume!G20="EX",3,IF(Guillaume!G20="BN",1,"0")) -> 0 | AT21: =IF(Arthur!G20="EX",3,IF(Arthur!G20="BN",1,"0")) -> 0 | AU21: =IF(Andrea!G20="EX",3,IF(Andrea!G20="BN",1,"0")) -> 0
A22: 44891 | B22: 0.83333333 | C22: =C19 -> Mexique | F22: =C20 -> Argentine | I22: =IF(Adrien!G21="EX",3,IF(Adrien!G21="BN",1,"0")) -> 0 | J22: =IF(Amine!G21="EX",3,IF(Amine!G21="BN",1,"0")) -> 0 | K22: =IF(Anas!G21="EX",3,IF(Anas!G21="BN",1,"0")) -> 0 | L22: =IF(Antoine!G21="EX",3,IF(Antoine!G21="BN",1,"0")) -> 0 | M22: =IF(Arezou!G21="EX",3,IF(Arezou!G21="BN",1,"0")) -> 0 | N22: =IF(Arnaud!$G21="EX",3,IF(Arnaud!$G21="BN",1,"0")) -> 0 | O22: =IF(Chloe!$G21="EX",3,IF(Chloe!$G21="BN",1,"0")) -> 0 | P22: =IF(Dan!$G21="EX",3,IF(Dan!$G21="BN",1,"0")) -> 0 | Q22: =IF(David!$G21="EX",3,IF(David!$G21="BN",1,"0")) -> 0 | R22: =IF(Dom!$G21="EX",3,IF(Dom!$G21="BN",1,"0")) -> 0 | S22: =IF(Dusan!$G21="EX",3,IF(Dusan!$G21="BN",1,"0")) -> 0 | T22: =IF(Dylan!$G21="EX",3,IF(Dylan!$G21="BN",1,"0")) -> 0 | U22: =IF(Fred!$G21="EX",3,IF(Fred!$G21="BN",1,"0")) -> 0 | V22: =IF(Hamama!$G21="EX",3,IF(Hamama!$G21="BN",1,"0")) -> 0 | W22: =IF('Jean Marie'!G21="EX",3,IF('Jean Marie'!G21="BN",1,"0")) -> 0 | X22: =IF('Jonathan B'!G21="EX",3,IF('Jonathan B'!$G21="BN",1,"0")) -> 0 | Y22: =IF('Jonathan M'!G21="EX",3,IF('Jonathan M'!$G21="BN",1,"0")) -> 0 | Z22: =IF(José!$G21="EX",3,IF(José!$G21="BN",1,"0")) -> 0 | AA22: =IF(Julie!$G21="EX",3,IF(Julie!$G21="BN",1,"0")) -> 0 | AB22: =IF(Julien!$G21="EX",3,IF(Julien!$G21="BN",1,"0")) -> 0 | AC22: =IF(Killian!$G21="EX",3,IF(Killian!$G21="BN",1,"0")) -> 0 | AD22: =IF(Lahcen!$G21="EX",3,IF(Lahcen!$G21="BN",1,"0")) -> 0 | AE22: =IF(Lucien!$G21="EX",3,IF(Lucien!$G21="BN",1,"0")) -> 0 | AF22: =IF(Mickael!$G21="EX",3,IF(Mickael!$G21="BN",1,"0")) -> 0 | AG22: =IF(Nazrin!$G21="EX",3,IF(Nazrin!$G21="BN",1,"0")) -> 0 | AH22: =IF('Patrick F'!$G21="EX",3,IF('Patrick F'!$G21="BN",1,"0")) -> 0 | AI22: =IF('Pierre S'!$G21="EX",3,IF('Pierre S'!$G21="BN",1,"0")) -> 0 | AJ22: =IF(Reda!$G21="EX",3,IF(Reda!$G21="BN",1,"0")) -> 0 | AK22: =IF(Renaud!$G21="EX",3,IF(Renaud!$G21="BN",1,"0")) -> 0 | AL22: =IF(Romaric!$G21="EX",3,IF(Romaric!$G21="BN",1,"0")) -> 0 | AM22: =IF(Soline!$G21="EX",3,IF(Soline!$G21="BN",1,"0")) -> 0 | AN22: =IF(Timo!$G21="EX",3,IF(Timo!$G21="BN",1,"0")) -> 0 | AO22: =IF(Vanessa!$G21="EX",3,IF(Vanessa!$G21="BN",1,"0")) -> 0 | AP22: =IF(Samy!G21="EX",3,IF(Samy!G21="BN",1,"0")) -> 0 | AQ22: =IF(Hypo!G21="EX",3,IF(Hypo!G21="BN",1,"0")) -> 0 | AR22: =IF(Bastien!G21="EX",3,IF(Bastien!G21="BN",1,"0")) -> 0 | AS22: =IF(Guillaume!G21="EX",3,IF(Guillaume!G21="BN",1,"0")) -> 0 | AT22: =IF(Arthur!G21="EX",3,IF(Arthur!G21="BN",1,"0")) -> 0 | AU22: =IF(Andrea!G21="EX",3,IF(Andrea!G21="BN",1,"0")) -> 0
A23: 44895 | B23: 0.83333333 | C23: =F20 -> Arabie Saoudite | F23: =C19 -> Mexique | I23: =IF(Adrien!G22="EX",3,IF(Adrien!G22="BN",1,"0")) -> 0 | J23: =IF(Amine!G22="EX",3,IF(Amine!G22="BN",1,"0")) -> 0 | K23: =IF(Anas!G22="EX",3,IF(Anas!G22="BN",1,"0")) -> 0 | L23: =IF(Antoine!G22="EX",3,IF(Antoine!G22="BN",1,"0")) -> 0 | M23: =IF(Arezou!G22="EX",3,IF(Arezou!G22="BN",1,"0")) -> 0 | N23: =IF(Arnaud!$G22="EX",3,IF(Arnaud!$G22="BN",1,"0")) -> 0 | O23: =IF(Chloe!$G22="EX",3,IF(Chloe!$G22="BN",1,"0")) -> 0 | P23: =IF(Dan!$G22="EX",3,IF(Dan!$G22="BN",1,"0")) -> 0 | Q23: =IF(David!$G22="EX",3,IF(David!$G22="BN",1,"0")) -> 0 | R23: =IF(Dom!$G22="EX",3,IF(Dom!$G22="BN",1,"0")) -> 0 | S23: =IF(Dusan!$G22="EX",3,IF(Dusan!$G22="BN",1,"0")) -> 0 | T23: =IF(Dylan!$G22="EX",3,IF(Dylan!$G22="BN",1,"0")) -> 0 | U23: =IF(Fred!$G22="EX",3,IF(Fred!$G22="BN",1,"0")) -> 0 | V23: =IF(Hamama!$G22="EX",3,IF(Hamama!$G22="BN",1,"0")) -> 0 | W23: =IF('Jean Marie'!G22="EX",3,IF('Jean Marie'!G22="BN",1,"0")) -> 0 | X23: =IF('Jonathan B'!G22="EX",3,IF('Jonathan B'!$G22="BN",1,"0")) -> 0 | Y23: =IF('Jonathan M'!G22="EX",3,IF('Jonathan M'!$G22="BN",1,"0")) -> 0 | Z23: =IF(José!$G22="EX",3,IF(José!$G22="BN",1,"0")) -> 0 | AA23: =IF(Julie!$G22="EX",3,IF(Julie!$G22="BN",1,"0")) -> 0 | AB23: =IF(Julien!$G22="EX",3,IF(Julien!$G22="BN",1,"0")) -> 0 | AC23: =IF(Killian!$G22="EX",3,IF(Killian!$G22="BN",1,"0")) -> 0 | AD23: =IF(Lahcen!$G22="EX",3,IF(Lahcen!$G22="BN",1,"0")) -> 0 | AE23: =IF(Lucien!$G22="EX",3,IF(Lucien!$G22="BN",1,"0")) -> 0 | AF23: =IF(Mickael!$G22="EX",3,IF(Mickael!$G22="BN",1,"0")) -> 0 | AG23: =IF(Nazrin!$G22="EX",3,IF(Nazrin!$G22="BN",1,"0")) -> 0 | AH23: =IF('Patrick F'!$G22="EX",3,IF('Patrick F'!$G22="BN",1,"0")) -> 0 | AI23: =IF('Pierre S'!$G22="EX",3,IF('Pierre S'!$G22="BN",1,"0")) -> 0 | AJ23: =IF(Reda!$G22="EX",3,IF(Reda!$G22="BN",1,"0")) -> 0 | AK23: =IF(Renaud!$G22="EX",3,IF(Renaud!$G22="BN",1,"0")) -> 0 | AL23: =IF(Romaric!$G22="EX",3,IF(Romaric!$G22="BN",1,"0")) -> 0 | AM23: =IF(Soline!$G22="EX",3,IF(Soline!$G22="BN",1,"0")) -> 0 | AN23: =IF(Timo!$G22="EX",3,IF(Timo!$G22="BN",1,"0")) -> 0 | AO23: =IF(Vanessa!$G22="EX",3,IF(Vanessa!$G22="BN",1,"0")) -> 0 | AP23: =IF(Samy!G22="EX",3,IF(Samy!G22="BN",1,"0")) -> 0 | AQ23: =IF(Hypo!G22="EX",3,IF(Hypo!G22="BN",1,"0")) -> 0 | AR23: =IF(Bastien!G22="EX",3,IF(Bastien!G22="BN",1,"0")) -> 0 | AS23: =IF(Guillaume!G22="EX",3,IF(Guillaume!G22="BN",1,"0")) -> 0 | AT23: =IF(Arthur!G22="EX",3,IF(Arthur!G22="BN",1,"0")) -> 0 | AU23: =IF(Andrea!G22="EX",3,IF(Andrea!G22="BN",1,"0")) -> 0
A24: 44895 | B24: 0.83333333 | C24: =F19 -> Pologne | F24: =C20 -> Argentine | I24: =IF(Adrien!G23="EX",3,IF(Adrien!G23="BN",1,"0")) -> 0 | J24: =IF(Amine!G23="EX",3,IF(Amine!G23="BN",1,"0")) -> 0 | K24: =IF(Anas!G23="EX",3,IF(Anas!G23="BN",1,"0")) -> 0 | L24: =IF(Antoine!G23="EX",3,IF(Antoine!G23="BN",1,"0")) -> 0 | M24: =IF(Arezou!G23="EX",3,IF(Arezou!G23="BN",1,"0")) -> 0 | N24: =IF(Arnaud!$G23="EX",3,IF(Arnaud!$G23="BN",1,"0")) -> 0 | O24: =IF(Chloe!$G23="EX",3,IF(Chloe!$G23="BN",1,"0")) -> 0 | P24: =IF(Dan!$G23="EX",3,IF(Dan!$G23="BN",1,"0")) -> 0 | Q24: =IF(David!$G23="EX",3,IF(David!$G23="BN",1,"0")) -> 0 | R24: =IF(Dom!$G23="EX",3,IF(Dom!$G23="BN",1,"0")) -> 0 | S24: =IF(Dusan!$G23="EX",3,IF(Dusan!$G23="BN",1,"0")) -> 0 | T24: =IF(Dylan!$G23="EX",3,IF(Dylan!$G23="BN",1,"0")) -> 0 | U24: =IF(Fred!$G23="EX",3,IF(Fred!$G23="BN",1,"0")) -> 0 | V24: =IF(Hamama!$G23="EX",3,IF(Hamama!$G23="BN",1,"0")) -> 0 | W24: =IF('Jean Marie'!G23="EX",3,IF('Jean Marie'!G23="BN",1,"0")) -> 0 | X24: =IF('Jonathan B'!G23="EX",3,IF('Jonathan B'!$G23="BN",1,"0")) -> 0 | Y24: =IF('Jonathan M'!G23="EX",3,IF('Jonathan M'!$G23="BN",1,"0")) -> 0 | Z24: =IF(José!$G23="EX",3,IF(José!$G23="BN",1,"0")) -> 0 | AA24: =IF(Julie!$G23="EX",3,IF(Julie!$G23="BN",1,"0")) -> 0 | AB24: =IF(Julien!$G23="EX",3,IF(Julien!$G23="BN",1,"0")) -> 0 | AC24: =IF(Killian!$G23="EX",3,IF(Killian!$G23="BN",1,"0")) -> 0 | AD24: =IF(Lahcen!$G23="EX",3,IF(Lahcen!$G23="BN",1,"0")) -> 0 | AE24: =IF(Lucien!$G23="EX",3,IF(Lucien!$G23="BN",1,"0")) -> 0 | AF24: =IF(Mickael!$G23="EX",3,IF(Mickael!$G23="BN",1,"0")) -> 0 | AG24: =IF(Nazrin!$G23="EX",3,IF(Nazrin!$G23="BN",1,"0")) -> 0 | AH24: =IF('Patrick F'!$G23="EX",3,IF('Patrick F'!$G23="BN",1,"0")) -> 0 | AI24: =IF('Pierre S'!$G23="EX",3,IF('Pierre S'!$G23="BN",1,"0")) -> 0 | AJ24: =IF(Reda!$G23="EX",3,IF(Reda!$G23="BN",1,"0")) -> 0 | AK24: =IF(Renaud!$G23="EX",3,IF(Renaud!$G23="BN",1,"0")) -> 0 | AL24: =IF(Romaric!$G23="EX",3,IF(Romaric!$G23="BN",1,"0")) -> 0 | AM24: =IF(Soline!$G23="EX",3,IF(Soline!$G23="BN",1,"0")) -> 0 | AN24: =IF(Timo!$G23="EX",3,IF(Timo!$G23="BN",1,"0")) -> 0 | AO24: =IF(Vanessa!$G23="EX",3,IF(Vanessa!$G23="BN",1,"0")) -> 0 | AP24: =IF(Samy!G23="EX",3,IF(Samy!G23="BN",1,"0")) -> 0 | AQ24: =IF(Hypo!G23="EX",3,IF(Hypo!G23="BN",1,"0")) -> 0 | AR24: =IF(Bastien!G23="EX",3,IF(Bastien!G23="BN",1,"0")) -> 0 | AS24: =IF(Guillaume!G23="EX",3,IF(Guillaume!G23="BN",1,"0")) -> 0 | AT24: =IF(Arthur!G23="EX",3,IF(Arthur!G23="BN",1,"0")) -> 0 | AU24: =IF(Andrea!G23="EX",3,IF(Andrea!G23="BN",1,"0")) -> 0
I25: =IF(Adrien!G24="EX",3,IF(Adrien!G24="BN",1,"0")) -> 0 | J25: =IF(Amine!G24="EX",3,IF(Amine!G24="BN",1,"0")) -> 0 | K25: =IF(Anas!G24="EX",3,IF(Anas!G24="BN",1,"0")) -> 0 | L25: =IF(Antoine!G24="EX",3,IF(Antoine!G24="BN",1,"0")) -> 0 | M25: =IF(Arezou!G24="EX",3,IF(Arezou!G24="BN",1,"0")) -> 0 | N25: =IF(Arnaud!$G24="EX",3,IF(Arnaud!$G24="BN",1,"0")) -> 0 | O25: =IF(Chloe!$G24="EX",3,IF(Chloe!$G24="BN",1,"0")) -> 0 | P25: =IF(Dan!$G24="EX",3,IF(Dan!$G24="BN",1,"0")) -> 0 | Q25: =IF(David!$G24="EX",3,IF(David!$G24="BN",1,"0")) -> 0 | R25: =IF(Dom!$G24="EX",3,IF(Dom!$G24="BN",1,"0")) -> 0 | S25: =IF(Dusan!$G24="EX",3,IF(Dusan!$G24="BN",1,"0")) -> 0 | T25: =IF(Dylan!$G24="EX",3,IF(Dylan!$G24="BN",1,"0")) -> 0 | U25: =IF(Fred!$G24="EX",3,IF(Fred!$G24="BN",1,"0")) -> 0 | V25: =IF(Hamama!$G24="EX",3,IF(Hamama!$G24="BN",1,"0")) -> 0 | W25: =IF('Jean Marie'!G24="EX",3,IF('Jean Marie'!G24="BN",1,"0")) -> 0 | X25: =IF('Jonathan B'!G24="EX",3,IF('Jonathan B'!$G24="BN",1,"0")) -> 0 | Y25: =IF('Jonathan M'!G24="EX",3,IF('Jonathan M'!$G24="BN",1,"0")) -> 0 | Z25: =IF(José!$G24="EX",3,IF(José!$G24="BN",1,"0")) -> 0 | AA25: =IF(Julie!$G24="EX",3,IF(Julie!$G24="BN",1,"0")) -> 0 | AB25: =IF(Julien!$G24="EX",3,IF(Julien!$G24="BN",1,"0")) -> 0 | AC25: =IF(Killian!$G24="EX",3,IF(Killian!$G24="BN",1,"0")) -> 0 | AD25: =IF(Lahcen!$G24="EX",3,IF(Lahcen!$G24="BN",1,"0")) -> 0 | AE25: =IF(Lucien!$G24="EX",3,IF(Lucien!$G24="BN",1,"0")) -> 0 | AF25: =IF(Mickael!$G24="EX",3,IF(Mickael!$G24="BN",1,"0")) -> 0 | AG25: =IF(Nazrin!$G24="EX",3,IF(Nazrin!$G24="BN",1,"0")) -> 0 | AH25: =IF('Patrick F'!$G24="EX",3,IF('Patrick F'!$G24="BN",1,"0")) -> 0 | AI25: =IF('Pierre S'!$G24="EX",3,IF('Pierre S'!$G24="BN",1,"0")) -> 0 | AJ25: =IF(Reda!$G24="EX",3,IF(Reda!$G24="BN",1,"0")) -> 0 | AK25: =IF(Renaud!$G24="EX",3,IF(Renaud!$G24="BN",1,"0")) -> 0 | AL25: =IF(Romaric!$G24="EX",3,IF(Romaric!$G24="BN",1,"0")) -> 0 | AM25: =IF(Soline!$G24="EX",3,IF(Soline!$G24="BN",1,"0")) -> 0 | AN25: =IF(Timo!$G24="EX",3,IF(Timo!$G24="BN",1,"0")) -> 0 | AO25: =IF(Vanessa!$G24="EX",3,IF(Vanessa!$G24="BN",1,"0")) -> 0 | AP25: =IF(Samy!G24="EX",3,IF(Samy!G24="BN",1,"0")) -> 0 | AQ25: =IF(Hypo!G24="EX",3,IF(Hypo!G24="BN",1,"0")) -> 0 | AR25: =IF(Bastien!G24="EX",3,IF(Bastien!G24="BN",1,"0")) -> 0 | AS25: =IF(Guillaume!G24="EX",3,IF(Guillaume!G24="BN",1,"0")) -> 0 | AT25: =IF(Arthur!G24="EX",3,IF(Arthur!G24="BN",1,"0")) -> 0 | AU25: =IF(Andrea!G24="EX",3,IF(Andrea!G24="BN",1,"0")) -> 0
