Workbook

Sheet Classement
A1: 1 | B1: ='Ajout de points'!B2 -> Les Insubmersibles | C1: ='Ajout de points'!B17 -> 10
A2: 2 | B2: ='Ajout de points'!C2 -> Les Pures | C2: ='Ajout de points'!C17 -> 6
A3: 3 | B3: ='Ajout de points'!D2 -> Les Pink Ladies | C3: ='Ajout de points'!D17 -> 7
A4: 4 | B4: ='Ajout de points'!E2 -> Les Milk-shake | C4: ='Ajout de points'!E17 -> 3
A5: 5 | B5: ='Ajout de points'!F2 -> Les Zappés | C5: ='Ajout de points'!F17 -> 4
A6: 6 | B6: ='Ajout de points'!G2 -> Les BCGB | C6: ='Ajout de points'!G17 -> 5
A7: 7 | B7: ='Ajout de points'!H2 -> Les RoukiRock | C7: ='Ajout de points'!H17 -> 8
A8: 8 | B8: ='Ajout de points'!I2 -> Les Bras Cassés | C8: ='Ajout de points'!I17 -> 7
A9: 9 | B9: ='Ajout de points'!J2 -> Les Vinyls | C9: ='Ajout de points'!J17 -> 8
A10: 10 | B10: ='Ajout de points'!K2 -> Les PopAdos | C10: ='Ajout de points'!K17 -> 9
A11: 11 | B11: ='Ajout de points'!L2 -> La Sagrada Família | C11: ='Ajout de points'!L17 -> 7
A12: 12 | B12: ='Ajout de points'!M2 -> Les Dragibus | C12: ='Ajout de points'!M17 -> 8
A13: 13 | B13: ='Ajout de points'!N2 -> Les Fous de la Zique | C13: ='Ajout de points'!N17 -> 8
A14: 14 | B14: ='Ajout de points'!O2 -> Les Chicken Dales | C14: ='Ajout de points'!O17 -> 8
A15: 15 | B15: ='Ajout de points'!P2 -> Les Canaris | C15: ='Ajout de points'!P17 -> 8
A16: 16 | B16: ='Ajout de points'!Q2 -> Les Ontrouverabienunnom | C16: ='Ajout de points'!Q17 -> 8
A17: 17 | B17: ='Ajout de points'!R2 -> Les Fasila | C17: ='Ajout de points'!R17 -> 8
A18: 18 | B18: ='Ajout de points'!S2 -> La Bangla Team | C18: ='Ajout de points'!S17 -> 8
A19: 19 | B19: ='Ajout de points'!T2 -> La Brouxhon Team | C19: ='Ajout de points'!T17 -> 8
A20: 20 | B20: ='Ajout de points'!U2 -> Les intrus | C20: ='Ajout de points'!U17 -> 8
A21: 21 | B21: ='Ajout de points'!V2 -> Le Bois Pourri | C21: ='Ajout de points'!V17 -> 8
A22: 22 | B22: ='Ajout de points'!W2 -> Les Gang of Zizousais | C22: ='Ajout de points'!W17 -> 8

Sheet Ajout de points
B1: 1 | C1: 2 | D1: 3 | E1: 4 | F1: 5 | G1: 6 | H1: 7 | I1: 8 | J1: 9 | K1: 10 | L1: 11 | M1: 12 | N1: 13 | O1: 14 | P1: 15 | Q1: 16 | R1: 17 | S1: 18 | T1: 19 | U1: 20 | V1: 21 | W1: 22
A2: Equipes | B2: Les Insubmersibles | C2: Les Pures | D2: Les Pink Ladies | E2: Les Milk-shake | F2: Les Zappés | G2: Les BCGB | H2: Les RoukiRock | I2: Les Bras Cassés | J2: Les Vinyls | K2: Les PopAdos | L2: La Sagrada Família | M2: Les Dragibus | N2: Les Fous de la Zique | O2: Les Chicken Dales | P2: Les Canaris | Q2: Les Ontrouverabienunnom | R2: Les Fasila | S2: La Bangla Team | T2: La Brouxhon Team | U2: Les intrus | V2: Le Bois Pourri | W2: Les Gang of Zizousais
B3: 1 | C3: 2 | D3: 3 | E3: 4 | F3: 5 | G3: 6 | H3: 7 | I3: 8 | J3: 9 | K3: 10 | L3: 11 | M3: 12 | N3: 13 | O3: 14 | P3: 15 | Q3: 16 | R3: 17 | S3: 18 | T3: 19 | U3: 20 | V3: 21 | W3: 22
A4: Séquence 1 | B4: 5 | C4: 6 | D4: 7
A5: Séquence 2 | B5: 5
A6: Séquence 3
A7: Séquence 4 | E7: 3 | F7: 4 | G7: 5 | H7: 8 | I7: 7 | J7: 8 | K7: 9 | L7: 7 | M7: 8 | N7: 8 | O7: 8 | P7: 8 | Q7: 8 | R7: 8 | S7: 8 | T7: 8 | U7: 8 | V7: 8 | W7: 8
A8: Séquence 5
A9: Séquence 6
A10: Séquence 7
A11: Séquence 8
A12: Séquence 9
A13: Séquence 10
A14: Fil Rouge
A17: Total | B17: =SUM(B4:B16) -> 10 | C17: =SUM(C4:C16) -> 6 | D17: =SUM(D4:D16) -> 7 | E17: =SUM(E4:E16) -> 3 | F17: =SUM(F4:F16) -> 4 | G17: =SUM(G4:G16) -> 5 | H17: =SUM(H4:H16) -> 8 | I17: =SUM(I4:I16) -> 7 | ... W17: =SUM(W4:W16) -> 8
