Workbook

Sheet Feuil6
A3: Étiquettes de lignes
A4: produit 1
A5: 1
A6: 18
A7: 16.555184
A8: 19.8
A9: 1
A10: 58757
A11: 37
A12: 74
A13: produit 10
A14: 30
A15: 27.5
A16: 25.292642
A17: 30.25
A18: 25
A19: 1
A20: 58757
A21: 78
A22: produit 11
A23: (vide)
A24: 28
A25: 25.752508
A26: 30.8
A27: 258
A28: 257
A29: 5278
A30: 3
A31: produit 12
A32: (vide)
A33: 28
A34: 25.752508
A35: 30.8
A36: 58757
A37: 6387
A38: 87
A39: 45
A40: produit 13
A41: (vide)
A42: 29.309091
...

Sheet produits
A1: produits | B1: qté | C1: prix Fourni ttc | D1: prix public ht | E1: prix public ttc | F1: 2099 | G1: 2010 | H1: 2011 | I1: 2012
F2: qté | G2: qté | H2: qté
A3: produit 1 | B3: 1 | C3: 18 | D3: =E3/1.196 -> 16.555184 | E3: =C3+C3*0.1 -> 19.8 | F3: 1 | G3: 58757 | H3: 37 | I3: 74 | J3: =COUNTIF($B$3:B3,">0") -> 1
A4: produit 2 | C4: 19.5 | D4: =E4/1.196 -> 17.934783 | E4: =C4+C4*0.1 -> 21.45 | F4: 2 | G4: 5278 | H4: 278 | I4: 1 | J4: =COUNTIF($B$3:B4,">0") -> 1
A5: produit 3 | C5: 20 | D5: =E5/1.196 -> 18.394649 | E5: =C5+C5*0.1 -> 22 | F5: 5 | G5: 255 | H5: 78 | I5: 257 | J5: =COUNTIF($B$3:B5,">0") -> 1
A6: produit 4 | C6: 21 | D6: =E6/1.196 -> 19.314381 | E6: =C6+C6*0.1 -> 23.1 | F6: 47 | G6: 287 | H6: 3 | I6: 6387 | J6: =COUNTIF($B$3:B6,">0") -> 1
A7: produit 5 | C7: 22.5 | D7: =E7/1.196 -> 20.69398 | E7: =C7+C7*0.1 -> 24.75 | F7: 57 | G7: 87 | H7: 45 | I7: 6578 | J7: =COUNTIF($B$3:B7,">0") -> 1
A8: produit 6 | B8: 12 | C8: 23 | D8: =E8/1.196 -> 21.153846 | E8: =C8+C8*0.1 -> 25.3 | F8: 20375 | G8: 87 | H8: 758 | I8: 587 | J8: =COUNTIF($B$3:B8,">0") -> 2
A9: produit 7 | C9: 24.5 | D9: =E9/1.196 -> 22.533445 | E9: =C9+C9*0.1 -> 26.95 | F9: 725 | G9: 87 | H9: 857 | I9: 973 | J9: =COUNTIF($B$3:B9,">0") -> 2
A10: produit 8 | C10: 25 | D10: =E10/1.196 -> 22.993311 | E10: =C10+C10*0.1 -> 27.5 | F10: 758 | G10: 587 | H10: 25 | I10: 37 | J10: =COUNTIF($B$3:B10,">0") -> 2
A11: produit 9 | C11: 26.5 | D11: =E11/1.196 -> 24.37291 | E11: =C11+C11*0.1 -> 29.15 | F11: 857 | G11: 74 | H11: 258 | I11: 278 | J11: =COUNTIF($B$3:B11,">0") -> 2
A12: produit 10 | B12: 30 | C12: 27.5 | D12: =E12/1.196 -> 25.292642 | E12: =C12+C12*0.1 -> 30.25 | F12: 25 | G12: 1 | H12: 58757 | I12: 78 | J12: =COUNTIF($B$3:B12,">0") -> 3
A13: produit 11 | C13: 28 | D13: =E13/1.196 -> 25.752508 | E13: =C13+C13*0.1 -> 30.8 | F13: 258 | G13: 257 | H13: 5278 | I13: 3 | J13: =COUNTIF($B$3:B13,">0") -> 3
A14: produit 12 | C14: 28 | D14: =E14/1.196 -> 25.752508 | E14: =C14+C14*0.1 -> 30.8 | F14: 58757 | G14: 6387 | H14: 87 | I14: 45 | J14: =COUNTIF($B$3:B14,">0") -> 3
A15: produit 13 | C15: 29.309091 | D15: =E15/1.196 -> 26.956522 | E15: =C15+C15*0.1 -> 32.24 | F15: 5278 | G15: 6578 | H15: 587 | I15: 37 | J15: =COUNTIF($B$3:B15,">0") -> 3
A16: produit 14 | C16: 30.322727 | D16: =E16/1.196 -> 27.888796 | E16: =C16+C16*0.1 -> 33.355 | F16: 255 | G16: 74 | H16: 74 | I16: 278 | J16: =COUNTIF($B$3:B16,">0") -> 3
A17: produit 15 | C17: 31.336364 | D17: =E17/1.196 -> 28.82107 | E17: =C17+C17*0.1 -> 34.47 | F17: 287 | G17: 1 | H17: 1 | I17: 78 | J17: =COUNTIF($B$3:B17,">0") -> 3
A18: produit 16 | C18: 32.35 | D18: =E18/1.196 -> 29.753344 | E18: =C18+C18*0.1 -> 35.585 | F18: 87 | G18: 257 | H18: 257 | I18: 3 | J18: =COUNTIF($B$3:B18,">0") -> 3
A19: produit 17 | C19: 33.363636 | D19: =E19/1.196 -> 30.685619 | E19: =C19+C19*0.1 -> 36.7 | F19: 87 | G19: 6387 | H19: 6387 | I19: 45 | J19: =COUNTIF($B$3:B19,">0") -> 3
A20: produit 18 | C20: 34.377273 | D20: =E20/1.196 -> 31.617893 | E20: =C20+C20*0.1 -> 37.815 | F20: 87 | G20: 6578 | H20: 6578 | I20: 758 | J20: =COUNTIF($B$3:B20,">0") -> 3
A21: produit 19 | C21: 35.390909 | D21: =E21/1.196 -> 32.550167 | E21: =C21+C21*0.1 -> 38.93 | F21: 587 | G21: 587 | H21: 587 | I21: 857 | J21: =COUNTIF($B$3:B21,">0") -> 3
A22: produit 20 | C22: 36.404545 | D22: =E22/1.196 -> 33.482441 | E22: =C22+C22*0.1 -> 40.045 | F22: 74 | G22: 973 | I22: 25 | J22: =COUNTIF($B$3:B22,">0") -> 3
A23: produit 21 | C23: 37.418182 | D23: =E23/1.196 -> 34.414716 | E23: =C23+C23*0.1 -> 41.16 | F23: 1 | G23: 37 | H23: 58757 | I23: 258 | J23: =COUNTIF($B$3:B23,">0") -> 3
A24: produit 22 | C24: 38.431818 | D24: =E24/1.196 -> 35.34699 | E24: =C24+C24*0.1 -> 42.275 | F24: 257 | G24: 278 | H24: 5278 | I24: 58757 | J24: =COUNTIF($B$3:B24,">0") -> 3
A25: produit 23 | C25: 39.445455 | D25: =E25/1.196 -> 36.279264 | E25: =C25+C25*0.1 -> 43.39 | F25: 6387 | G25: 78 | H25: 255 | I25: 5278 | J25: =COUNTIF($B$3:B25,">0") -> 3
A26: produit 24 | B26: 6 | C26: 50 | D26: =E26/1.196 -> 45.986622 | E26: =C26+C26*0.1 -> 55 | F26: 6578 | G26: 3 | H26: 287 | I26: 57 | J26: =COUNTIF($B$3:B26,">0") -> 4
A27: produit 25 | C27: 40.459091 | D27: =E27/1.196 -> 37.211538 | E27: =C27+C27*0.1 -> 44.505 | F27: 587 | G27: 45 | H27: 87 | I27: 20375 | J27: =COUNTIF($B$3:B27,">0") -> 4
A28: produit 26 | C28: 41.472727 | D28: =E28/1.196 -> 38.143813 | E28: =C28+C28*0.1 -> 45.62 | F28: 973 | G28: 758 | H28: 87 | I28: 725 | J28: =COUNTIF($B$3:B28,">0") -> 4
A29: produit 27 | C29: 42.486364 | D29: =E29/1.196 -> 39.076087 | E29: =C29+C29*0.1 -> 46.735 | F29: 37 | G29: 857 | H29: 87 | I29: 758 | J29: =COUNTIF($B$3:B29,">0") -> 4
A30: produit 28 | C30: 43.5 | D30: =E30/1.196 -> 40.008361 | E30: =C30+C30*0.1 -> 47.85 | F30: 278 | G30: 25 | H30: 587 | I30: 857 | J30: =COUNTIF($B$3:B30,">0") -> 4
A31: produit 29 | C31: 44.513636 | D31: =E31/1.196 -> 40.940635 | E31: =C31+C31*0.1 -> 48.965 | F31: 78 | G31: 258 | H31: 74 | I31: 25 | J31: =COUNTIF($B$3:B31,">0") -> 4
A32: produit 30 | C32: 45.527273 | D32: =E32/1.196 -> 41.87291 | E32: =C32+C32*0.1 -> 50.08 | F32: 3 | G32: 58757 | H32: 1 | I32: 258 | J32: =COUNTIF($B$3:B32,">0") -> 4
A33: produit 31 | C33: 46.540909 | D33: =E33/1.196 -> 42.805184 | E33: =C33+C33*0.1 -> 51.195 | F33: 45 | G33: 5278 | H33: 257 | I33: 58757 | J33: =COUNTIF($B$3:B33,">0") -> 4
A34: produit 32 | C34: 47.554545 | D34: =E34/1.196 -> 43.737458 | E34: =C34+C34*0.1 -> 52.31 | F34: 782 | G34: 255 | H34: 6387 | I34: 5278 | J34: =COUNTIF($B$3:B34,">0") -> 4
A35: produit 33 | B35: 16 | C35: 48.568182 | D35: =E35/1.196 -> 44.669732 | E35: =C35+C35*0.1 -> 53.425 | F35: 2755 | G35: 287 | H35: 6578 | I35: 255 | J35: =COUNTIF($B$3:B35,">0") -> 5
A36: produit 34 | B36: 2 | C36: 49.581818 | D36: =E36/1.196 -> 45.602007 | E36: =C36+C36*0.1 -> 54.54 | F36: 36789 | G36: 87 | H36: 587 | I36: 287 | J36: =COUNTIF($B$3:B36,">0") -> 6
A37: produit 35 | B37: 25 | C37: 50.595455 | D37: =E37/1.196 -> 46.534281 | E37: =C37+C37*0.1 -> 55.655 | F37: 45 | G37: 87 | H37: 58 | I37: 87 | J37: =COUNTIF($B$3:B37,">0") -> 7
A38: produit 36 | C38: 29 | D38: =E38/1.196 -> 26.672241 | E38: =C38+C38*0.1 -> 31.9 | F38: 87 | G38: 87 | H38: 5872 | I38: 87 | J38: =COUNTIF($B$3:B38,">0") -> 7

Sheet commande
A2: =SI(NB.SI(Num;LIGNES($1:1));INDEX(Produits;EQUIV(LIGNES($1:1);Num;0));"")
A11: Client | B11: 8 | G11: =VLOOKUP(B11,adresses!A1:F17,2,0) -> ytr
G12: =VLOOKUP(B11,adresses!A1:F17,3,0) -> 72 impasse jj
G13: =VLOOKUP(B11,adresses!A1:F17,4,0) -> 95000 aaaaaa
G14: =VLOOKUP(B11,adresses!A1:F17,5,0) -> 16 00 00 00 00
G15: =VLOOKUP(B11,adresses!A1:F17,6,0) -> 16 11 22 33 44
B18: FACTURE
A20: désignation | B20: qté | C20: prix unit, ht | D20: prix total HT | E20: prix Total ttc
A21: =IF(produits!B3>=1,produits!A3,"") -> produit 1 | B21: =IF(produits!A3=commande!A21,produits!B3,"") -> 1 | C21: =IF(produits!A3=commande!A21,produits!D3,"") -> 16.555184 | D21: =IF(OR(B21>0,B21=""),C21*B21,"") -> 16.555184 | E21: =D21*1.196 -> 19.8
A22: =IF(produits!B4>=1,produits!A4,"") | C22: =IF(produits!A4=commande!A22,produits!D4,"") | D22: =IF(OR(B22>0,B22=""),C22*B22,"") -> #VALUE! | E22: =D22*1.196 -> #VALUE!
A23: =IF(produits!B5>=1,produits!A5,"") | B23: =IF(produits!A5=commande!A23,produits!B5,"") | C23: =IF(produits!A5=commande!A23,produits!D5,"") | D23: =IF(OR(B23>0,B23=""),C23*B23,"") -> #VALUE! | E23: =D23*1.196 -> #VALUE!
A24: =IF(produits!B6>=1,produits!A6,"") | B24: =IF(produits!A6=commande!A24,produits!B6,"") | C24: =IF(produits!A6=commande!A24,produits!D6,"") | D24: =IF(OR(B24>0,B24=""),C24*B24,"") -> #VALUE! | E24: =D24*1.196 -> #VALUE!
A25: =IF(produits!B7>=1,produits!A7,"") | B25: =IF(produits!A7=commande!A25,produits!B7,"") | C25: =IF(produits!A7=commande!A25,produits!D7,"") | D25: =IF(OR(B25>0,B25=""),C25*B25,"") -> #VALUE! | E25: =D25*1.196 -> #VALUE!
A26: =IF(produits!B8>=1,produits!A8,"") -> produit 6 | B26: =IF(produits!A8=commande!A26,produits!B8,"") -> 12 | C26: =IF(produits!A8=commande!A26,produits!D8,"") -> 21.153846 | D26: =IF(OR(B26>0,B26=""),C26*B26,"") -> 253.84615 | E26: =D26*1.196 -> 303.6
A27: =IF(produits!B9>=1,produits!A9,"") | B27: =IF(produits!A9=commande!A27,produits!B9,"") | C27: =IF(produits!A9=commande!A27,produits!D9,"") | D27: =IF(OR(B27>0,B27=""),C27*B27,"") -> #VALUE! | E27: =D27*1.196 -> #VALUE!
A28: =IF(produits!B10>=1,produits!A10,"") | B28: =IF(produits!A10=commande!A28,produits!B10,"") | C28: =IF(produits!A10=commande!A28,produits!D10,"") | D28: =IF(OR(B28>0,B28=""),C28*B28,"") -> #VALUE! | E28: =D28*1.196 -> #VALUE!
A29: =IF(produits!B11>=1,produits!A11,"") | B29: =IF(produits!A11=commande!A29,produits!B11,"") | C29: =IF(produits!A11=commande!A29,produits!D11,"") | D29: =IF(OR(B29>0,B29=""),C29*B29,"") -> #VALUE! | E29: =D29*1.196 -> #VALUE!
A30: =IF(produits!B12>=1,produits!A12,"") -> produit 10 | B30: =IF(produits!A12=commande!A30,produits!B12,"") -> 30 | C30: =IF(produits!A12=commande!A30,produits!D12,"") -> 25.292642 | D30: =IF(OR(B30>0,B30=""),C30*B30,"") -> 758.77926 | E30: =D30*1.196 -> 907.5
A31: =IF(produits!B13>=1,produits!A13,"") | B31: =IF(produits!A13=commande!A31,produits!B13,"") | C31: =IF(produits!A13=commande!A31,produits!D13,"") | D31: =IF(OR(B31>0,B31=""),C31*B31,"") -> #VALUE! | E31: =D31*1.196 -> #VALUE!
A32: =IF(produits!B14>=1,produits!A14,"") | B32: =IF(produits!A14=commande!A32,produits!B14,"") | C32: =IF(produits!A14=commande!A32,produits!D14,"") | D32: =IF(OR(B32>0,B32=""),C32*B32,"") -> #VALUE! | E32: =D32*1.196 -> #VALUE!
A33: =IF(produits!B15>=1,produits!A15,"") | B33: =IF(produits!A15=commande!A33,produits!B15,"") | C33: =IF(produits!A15=commande!A33,produits!D15,"") | D33: =IF(OR(B33>0,B33=""),C33*B33,"") -> #VALUE! | E33: =D33*1.196 -> #VALUE!
A34: =IF(produits!B16>=1,produits!A16,"") | B34: =IF(produits!A16=commande!A34,produits!B16,"") | C34: =IF(produits!A16=commande!A34,produits!D16,"") | D34: =IF(OR(B34>0,B34=""),C34*B34,"") -> #VALUE! | E34: =D34*1.196 -> #VALUE!
... A55: =IF(produits!B37>=1,produits!A37,"") -> produit 35 | B55: =IF(produits!A37=commande!A55,produits!B37,"") -> 25 | C55: =IF(produits!A37=commande!A55,produits!D37,"") -> 46.534281 | D55: =IF(OR(B55>0,B55=""),C55*B55,"") -> 1163.357 | E55: =D55*1.196 -> 1391.375
D56: =IF(OR(B56>0,B56=""),C56*B56,"") -> 0 | E56: =D56*1.196 -> 0

Sheet adresses
A1: 1 | B1: toto | C1: 2 impasse jj | D1: 95000 aaaaaa | E1: 09 00 00 00 00 | F1: 09 11 22 33 44
A2: 2 | B2: Marie | C2: 3 impasse jj | D2: 95000 aaaaaa | E2: 10 00 00 00 00 | F2: 10 11 22 33 44
A3: 3 | B3: fggsg | C3: 4 impasse jj | D3: 95000 aaaaaa | E3: 11 00 00 00 00 | F3: 11 11 22 33 44
A4: 4 | B4: xvryeqg | C4: 5 impasse jj | D4: 95000 aaaaaa | E4: 12 00 00 00 00 | F4: 12 11 22 33 44
A5: 5 | B5: bgjhrjsr | C5: 6 impasse jj | D5: 95000 aaaaaa | E5: 13 00 00 00 00 | F5: 13 11 22 33 44
A6: 6 | B6: wbvvhqe | C6: 7 impasse jj | D6: 95000 aaaaaa | E6: 14 00 00 00 00 | F6: 14 11 22 33 44
A7: 7 | B7: trez | C7: 8 impasse jj | D7: 95000 aaaaaa | E7: 15 00 00 00 00 | F7: 15 11 22 33 44
A8: 8 | B8: ytr | C8: 72 impasse jj | D8: 95000 aaaaaa | E8: 16 00 00 00 00 | F8: 16 11 22 33 44
A9: 9 | B9: qzrtgq | C9: 10 impasse jj | D9: 95000 aaaaaa | E9: 17 00 00 00 00 | F9: 17 11 22 33 44
A10: 10 | B10: hgseq | C10: 11 impasse jj | D10: 95000 aaaaaa | E10: 18 00 00 00 00 | F10: 18 11 22 33 44
A11: 11 | B11: gfhtr | C11: 12 impasse jj | D11: 95000 aaaaaa | E11: 19 00 00 00 00 | F11: 19 11 22 33 44
A12: 12 | B12: retgfdb | C12: 13 impasse jj | D12: 95000 aaaaaa | E12: 20 00 00 00 00 | F12: 20 11 22 33 44
... A17: 17 | B17: grbd | C17: 18 impasse jj | D17: 95000 aaaaaa | E17: 25 00 00 00 00 | F17: 25 11 22 33 44
