Workbook
Name A1A1: '1,1'!$A$1:$E$25
Name A1A11: '[1]1.1Industrial Flow Chart Manuf.'!$A$1:$E$24
Name A1A12: '[1]1.2 Industrial Flow Chart SC'!$A$1:$E$29
Name A1A13: '[1]1.3 Manufacturing Plan'!$A$1:$E$31
Name A1A2: '1,2'!$A$1:$E$49
Name A1A3: '1,3'!$A$1:$E$49
Name A1A4: '1,4'!$A$1:$E$41
Name A1A5: '1,5'!$A$1:$E$44
Name A2A1: '2,1'!$A$1:$E$40
Name A2A2: '2,2'!$A$1:$E$49
Name A2A3: '2,3'!$A$1:$E$49
Name A3A1: '3,1'!$A$1:$E$49
Name A3A2: '3,2'!$A$1:$E$49
Name A3A3: '3,3'!$A$1:$E$49
Name A4A1: '4,1'!$A$1:$E$49
Name A4A2: '4,2'!$A$1:$E$42
Name A5A1: '5,1'!$A$1:$E$18
Name A5A2: '5,2'!$A$1:$E$49
Name A5A3: '5,3'!$A$1:$E$43
Name A5A4: '5,4'!$A$1:$E$35
Name A5A5: '5,5'!$A$1:$E$49
Name A5A6: '5,6'!$A$1:$E$49
Name A5A7: '5,7'!$A$1:$E$49
Name A5A8: '5,8'!$A$1:$E$49
Name A6A1: '6,1'!$A$1:$E$12
Name A6A2: '6,2'!$A$1:$E$12
Name A6A3: '6,3'!$A$1:$E$49
Name A7A1: '7,1'!$A$1:$E$12
Name A7A2: '7,2'!$A$1:$E$27
Name A7A3: '7,3'!$A$1:$E$49
Name A8A1: '8,1'!$A$1:$E$49
Name A8A2: '8,2'!$A$1:$E$49
Name A8A3: '8,3'!$A$1:$E$49
Name A8A4: '8,4'!$A$1:$E$49
Name A8A5: '8,5'!$A$1:$E$49
Name A8A6: '8,6'!$A$1:$E$49
Name A8A7: '8,7'!$A$1:$E$49
Name bricks: [1]Datas!$H$2:$H$36
Name days1: datas!$J$5
Name days2: datas!$J$4
Name days3: datas!$J$3
Name days4: datas!$J$2
Name Location: [1]Datas!$G$2:$G$4
Name Phase: [2]Picklist!$E$23:$E$26
Name Programme: [2]Picklist!$H$24:$H$35

Sheet datas
A1: Life Cycle Phase | C1: Assessment Type | E1: Assessment Type selection | G1: Location | H1: Bricks
A2: FALSE | B2: Sélection | C2: Full | E2: ='[1]Preparation toolbox'!B4 -> Full | G2: Meeting Room | H2: Others | J2: FALSE | K2: 4 days
A3: TRUE | B3: développement | C3: Basic | G3: Shop Floor | H3: 1.1 | I3: =A1A11 -> #VALUE! | J3: FALSE | K3: 3 days
A4: FALSE | B4: série | G4: Meeting Room & Shop Floor | H4: 1.2 | I4: =A1A12 -> #VALUE! | J4: TRUE | K4: 2 days
H5: 1.3 | I5: =A1A13 -> #VALUE! | J5: TRUE | K5: 1 day
H6: 1.4
A7: FALSE | C7: 1 | H7: 1.5
A8: TRUE | C8: 2 | H8: 2.1
C9: 3 | H9: 2.2
C10: 4 | H10: 2.3
B11: RESET MA | H11: 3.1
B12: =IF(AND([1]Datas!$A$2=[1]Datas!$A$8,[1]Datas!$A$3=[1]Datas!$A$7,[1]Datas!$A$4=[1]Datas!$A$7),#REF!,IF(AND([1]Datas!$A$2=[1]Datas!$A$7,[1]Datas!$A$3=[1]Datas!$A$8,[1]Datas!$A$4=[1]Datas!$A$7),#REF!,IF(AND([1]Datas!$A$2=[1]Datas!$A$7,[1]Datas!$A$3=[1]Datas!$A$7,[1]Datas!$A$4=[1]Datas!$A$8),#REF!,"ERROR"))) -> #REF! | H12: 3.2
B13: =IF(AND([1]Datas!$A$2=[1]Datas!$A$8,[1]Datas!$A$3=[1]Datas!$A$7,[1]Datas!$A$4=[1]Datas!$A$7),#REF!,IF(AND([1]Datas!$A$2=[1]Datas!$A$7,[1]Datas!$A$3=[1]Datas!$A$8,[1]Datas!$A$4=[1]Datas!$A$7),#REF!,IF(AND([1]Datas!$A$2=[1]Datas!$A$7,[1]Datas!$A$3=[1]Datas!$A$7,[1]Datas!$A$4=[1]Datas!$A$8),#REF!,"ERROR"))) -> #REF! | H13: 3.3
B14: =IF(AND([1]Datas!$A$2=[1]Datas!$A$8,[1]Datas!$A$3=[1]Datas!$A$7,[1]Datas!$A$4=[1]Datas!$A$7),#REF!,IF(AND([1]Datas!$A$2=[1]Datas!$A$7,[1]Datas!$A$3=[1]Datas!$A$8,[1]Datas!$A$4=[1]Datas!$A$7),#REF!,IF(AND([1]Datas!$A$2=[1]Datas!$A$7,[1]Datas!$A$3=[1]Datas!$A$7,[1]Datas!$A$4=[1]Datas!$A$8),#REF!,"ERROR"))) -> #REF! | H14: 4.1
B15: =IF(AND([1]Datas!$A$2=[1]Datas!$A$8,[1]Datas!$A$3=[1]Datas!$A$7,[1]Datas!$A$4=[1]Datas!$A$7),#REF!,IF(AND([1]Datas!$A$2=[1]Datas!$A$7,[1]Datas!$A$3=[1]Datas!$A$8,[1]Datas!$A$4=[1]Datas!$A$7),#REF!,IF(AND([1]Datas!$A$2=[1]Datas!$A$7,[1]Datas!$A$3=[1]Datas!$A$7,[1]Datas!$A$4=[1]Datas!$A$8),#REF!,"ERROR"))) -> #REF! | H15: 4.2
B16: =IF(AND([1]Datas!$A$2=[1]Datas!$A$8,[1]Datas!$A$3=[1]Datas!$A$7,[1]Datas!$A$4=[1]Datas!$A$7),#REF!,IF(AND([1]Datas!$A$2=[1]Datas!$A$7,[1]Datas!$A$3=[1]Datas!$A$8,[1]Datas!$A$4=[1]Datas!$A$7),#REF!,IF(AND([1]Datas!$A$2=[1]Datas!$A$7,[1]Datas!$A$3=[1]Datas!$A$7,[1]Datas!$A$4=[1]Datas!$A$8),#REF!,"ERROR"))) -> #REF! | H16: 4.3
H17: 5.1
B18: =IF(AND([1]Datas!$A$2=[1]Datas!$A$8,[1]Datas!$A$3=[1]Datas!$A$7,[1]Datas!$A$4=[1]Datas!$A$7),#REF!,IF(AND([1]Datas!$A$2=[1]Datas!$A$7,[1]Datas!$A$3=[1]Datas!$A$8,[1]Datas!$A$4=[1]Datas!$A$7),#REF!,IF(AND([1]Datas!$A$2=[1]Datas!$A$7,[1]Datas!$A$3=[1]Datas!$A$7,[1]Datas!$A$4=[1]Datas!$A$8),#REF!,"ERROR"))) -> #REF! | H18: 5.2
B19: =IF(AND([1]Datas!$A$2=[1]Datas!$A$8,[1]Datas!$A$3=[1]Datas!$A$7,[1]Datas!$A$4=[1]Datas!$A$7),#REF!,IF(AND([1]Datas!$A$2=[1]Datas!$A$7,[1]Datas!$A$3=[1]Datas!$A$8,[1]Datas!$A$4=[1]Datas!$A$7),#REF!,IF(AND([1]Datas!$A$2=[1]Datas!$A$7,[1]Datas!$A$3=[1]Datas!$A$7,[1]Datas!$A$4=[1]Datas!$A$8),#REF!,"ERROR"))) -> #REF! | H19: 5.3
B20: =IF(AND([1]Datas!$A$2=[1]Datas!$A$8,[1]Datas!$A$3=[1]Datas!$A$7,[1]Datas!$A$4=[1]Datas!$A$7),#REF!,IF(AND([1]Datas!$A$2=[1]Datas!$A$7,[1]Datas!$A$3=[1]Datas!$A$8,[1]Datas!$A$4=[1]Datas!$A$7),#REF!,IF(AND([1]Datas!$A$2=[1]Datas!$A$7,[1]Datas!$A$3=[1]Datas!$A$7,[1]Datas!$A$4=[1]Datas!$A$8),#REF!,"ERROR"))) -> #REF! | H20: 5.4
H21: 5.5
B22: =IF(AND([1]Datas!$A$2=[1]Datas!$A$8,[1]Datas!$A$3=[1]Datas!$A$7,[1]Datas!$A$4=[1]Datas!$A$7),#REF!,IF(AND([1]Datas!$A$2=[1]Datas!$A$7,[1]Datas!$A$3=[1]Datas!$A$8,[1]Datas!$A$4=[1]Datas!$A$7),#REF!,IF(AND([1]Datas!$A$2=[1]Datas!$A$7,[1]Datas!$A$3=[1]Datas!$A$7,[1]Datas!$A$4=[1]Datas!$A$8),#REF!,"ERROR"))) -> #REF! | H22: 5.6
B23: =IF(AND([1]Datas!$A$2=[1]Datas!$A$8,[1]Datas!$A$3=[1]Datas!$A$7,[1]Datas!$A$4=[1]Datas!$A$7),#REF!,IF(AND([1]Datas!$A$2=[1]Datas!$A$7,[1]Datas!$A$3=[1]Datas!$A$8,[1]Datas!$A$4=[1]Datas!$A$7),#REF!,IF(AND([1]Datas!$A$2=[1]Datas!$A$7,[1]Datas!$A$3=[1]Datas!$A$7,[1]Datas!$A$4=[1]Datas!$A$8),#REF!,"ERROR"))) -> #REF! | H23: 5.7
B24: =IF(AND([1]Datas!$A$2=[1]Datas!$A$8,[1]Datas!$A$3=[1]Datas!$A$7,[1]Datas!$A$4=[1]Datas!$A$7),#REF!,IF(AND([1]Datas!$A$2=[1]Datas!$A$7,[1]Datas!$A$3=[1]Datas!$A$8,[1]Datas!$A$4=[1]Datas!$A$7),#REF!,IF(AND([1]Datas!$A$2=[1]Datas!$A$7,[1]Datas!$A$3=[1]Datas!$A$7,[1]Datas!$A$4=[1]Datas!$A$8),#REF!,"ERROR"))) -> #REF! | H24: 6.1
H25: 6.2
B26: =IF(AND([1]Datas!$A$2=[1]Datas!$A$8,[1]Datas!$A$3=[1]Datas!$A$7,[1]Datas!$A$4=[1]Datas!$A$7),#REF!,IF(AND([1]Datas!$A$2=[1]Datas!$A$7,[1]Datas!$A$3=[1]Datas!$A$8,[1]Datas!$A$4=[1]Datas!$A$7),#REF!,IF(AND([1]Datas!$A$2=[1]Datas!$A$7,[1]Datas!$A$3=[1]Datas!$A$7,[1]Datas!$A$4=[1]Datas!$A$8),#REF!,"ERROR"))) -> #REF! | H26: 7.1
B27: =IF(AND([1]Datas!$A$2=[1]Datas!$A$8,[1]Datas!$A$3=[1]Datas!$A$7,[1]Datas!$A$4=[1]Datas!$A$7),#REF!,IF(AND([1]Datas!$A$2=[1]Datas!$A$7,[1]Datas!$A$3=[1]Datas!$A$8,[1]Datas!$A$4=[1]Datas!$A$7),#REF!,IF(AND([1]Datas!$A$2=[1]Datas!$A$7,[1]Datas!$A$3=[1]Datas!$A$7,[1]Datas!$A$4=[1]Datas!$A$8),#REF!,"ERROR"))) -> #REF! | H27: 7.2
H28: 7.3
B29: =IF(AND([1]Datas!$A$2=[1]Datas!$A$8,[1]Datas!$A$3=[1]Datas!$A$7,[1]Datas!$A$4=[1]Datas!$A$7),#REF!,IF(AND([1]Datas!$A$2=[1]Datas!$A$7,[1]Datas!$A$3=[1]Datas!$A$8,[1]Datas!$A$4=[1]Datas!$A$7),#REF!,IF(AND([1]Datas!$A$2=[1]Datas!$A$7,[1]Datas!$A$3=[1]Datas!$A$7,[1]Datas!$A$4=[1]Datas!$A$8),#REF!,"ERROR"))) -> #REF! | H29: 7.4
B30: =IF(AND([1]Datas!$A$2=[1]Datas!$A$8,[1]Datas!$A$3=[1]Datas!$A$7,[1]Datas!$A$4=[1]Datas!$A$7),#REF!,IF(AND([1]Datas!$A$2=[1]Datas!$A$7,[1]Datas!$A$3=[1]Datas!$A$8,[1]Datas!$A$4=[1]Datas!$A$7),#REF!,IF(AND([1]Datas!$A$2=[1]Datas!$A$7,[1]Datas!$A$3=[1]Datas!$A$7,[1]Datas!$A$4=[1]Datas!$A$8),#REF!,"ERROR"))) -> #REF! | H30: 8.1
B31: =IF(AND([1]Datas!$A$2=[1]Datas!$A$8,[1]Datas!$A$3=[1]Datas!$A$7,[1]Datas!$A$4=[1]Datas!$A$7),#REF!,IF(AND([1]Datas!$A$2=[1]Datas!$A$7,[1]Datas!$A$3=[1]Datas!$A$8,[1]Datas!$A$4=[1]Datas!$A$7),#REF!,IF(AND([1]Datas!$A$2=[1]Datas!$A$7,[1]Datas!$A$3=[1]Datas!$A$7,[1]Datas!$A$4=[1]Datas!$A$8),#REF!,"ERROR"))) -> #REF! | H31: 8.2
B32: =IF(AND([1]Datas!$A$2=[1]Datas!$A$8,[1]Datas!$A$3=[1]Datas!$A$7,[1]Datas!$A$4=[1]Datas!$A$7),#REF!,IF(AND([1]Datas!$A$2=[1]Datas!$A$7,[1]Datas!$A$3=[1]Datas!$A$8,[1]Datas!$A$4=[1]Datas!$A$7),#REF!,IF(AND([1]Datas!$A$2=[1]Datas!$A$7,[1]Datas!$A$3=[1]Datas!$A$7,[1]Datas!$A$4=[1]Datas!$A$8),#REF!,"ERROR"))) -> #REF! | H32: 8.3
B33: =IF(AND([1]Datas!$A$2=[1]Datas!$A$8,[1]Datas!$A$3=[1]Datas!$A$7,[1]Datas!$A$4=[1]Datas!$A$7),#REF!,IF(AND([1]Datas!$A$2=[1]Datas!$A$7,[1]Datas!$A$3=[1]Datas!$A$8,[1]Datas!$A$4=[1]Datas!$A$7),#REF!,IF(AND([1]Datas!$A$2=[1]Datas!$A$7,[1]Datas!$A$3=[1]Datas!$A$7,[1]Datas!$A$4=[1]Datas!$A$8),#REF!,"ERROR"))) -> #REF! | H33: 8.4
B34: =IF(AND([1]Datas!$A$2=[1]Datas!$A$8,[1]Datas!$A$3=[1]Datas!$A$7,[1]Datas!$A$4=[1]Datas!$A$7),#REF!,IF(AND([1]Datas!$A$2=[1]Datas!$A$7,[1]Datas!$A$3=[1]Datas!$A$8,[1]Datas!$A$4=[1]Datas!$A$7),#REF!,IF(AND([1]Datas!$A$2=[1]Datas!$A$7,[1]Datas!$A$3=[1]Datas!$A$7,[1]Datas!$A$4=[1]Datas!$A$8),#REF!,"ERROR"))) -> #REF! | H34: 8.5
B35: =IF(AND([1]Datas!$A$2=[1]Datas!$A$8,[1]Datas!$A$3=[1]Datas!$A$7,[1]Datas!$A$4=[1]Datas!$A$7),#REF!,IF(AND([1]Datas!$A$2=[1]Datas!$A$7,[1]Datas!$A$3=[1]Datas!$A$8,[1]Datas!$A$4=[1]Datas!$A$7),#REF!,IF(AND([1]Datas!$A$2=[1]Datas!$A$7,[1]Datas!$A$3=[1]Datas!$A$7,[1]Datas!$A$4=[1]Datas!$A$8),#REF!,"ERROR"))) -> #REF! | H35: 8.6
B36: =IF(AND([1]Datas!$A$2=[1]Datas!$A$8,[1]Datas!$A$3=[1]Datas!$A$7,[1]Datas!$A$4=[1]Datas!$A$7),#REF!,IF(AND([1]Datas!$A$2=[1]Datas!$A$7,[1]Datas!$A$3=[1]Datas!$A$8,[1]Datas!$A$4=[1]Datas!$A$7),#REF!,IF(AND([1]Datas!$A$2=[1]Datas!$A$7,[1]Datas!$A$3=[1]Datas!$A$7,[1]Datas!$A$4=[1]Datas!$A$8),#REF!,"ERROR"))) -> #REF! | H36: 8.7
B38: =IF(AND([1]Datas!$A$2=[1]Datas!$A$8,[1]Datas!$A$3=[1]Datas!$A$7,[1]Datas!$A$4=[1]Datas!$A$7),#REF!,IF(AND([1]Datas!$A$2=[1]Datas!$A$7,[1]Datas!$A$3=[1]Datas!$A$8,[1]Datas!$A$4=[1]Datas!$A$7),#REF!,IF(AND([1]Datas!$A$2=[1]Datas!$A$7,[1]Datas!$A$3=[1]Datas!$A$7,[1]Datas!$A$4=[1]Datas!$A$8),#REF!,"ERROR"))) -> #REF!
B39: =IF(AND([1]Datas!$A$2=[1]Datas!$A$8,[1]Datas!$A$3=[1]Datas!$A$7,[1]Datas!$A$4=[1]Datas!$A$7),#REF!,IF(AND([1]Datas!$A$2=[1]Datas!$A$7,[1]Datas!$A$3=[1]Datas!$A$8,[1]Datas!$A$4=[1]Datas!$A$7),#REF!,IF(AND([1]Datas!$A$2=[1]Datas!$A$7,[1]Datas!$A$3=[1]Datas!$A$7,[1]Datas!$A$4=[1]Datas!$A$8),#REF!,"ERROR"))) -> #REF!
B40: =IF(AND([1]Datas!$A$2=[1]Datas!$A$8,[1]Datas!$A$3=[1]Datas!$A$7,[1]Datas!$A$4=[1]Datas!$A$7),#REF!,IF(AND([1]Datas!$A$2=[1]Datas!$A$7,[1]Datas!$A$3=[1]Datas!$A$8,[1]Datas!$A$4=[1]Datas!$A$7),#REF!,IF(AND([1]Datas!$A$2=[1]Datas!$A$7,[1]Datas!$A$3=[1]Datas!$A$7,[1]Datas!$A$4=[1]Datas!$A$8),#REF!,"ERROR"))) -> #REF!
B42: =IF(AND([1]Datas!$A$2=[1]Datas!$A$8,[1]Datas!$A$3=[1]Datas!$A$7,[1]Datas!$A$4=[1]Datas!$A$7),#REF!,IF(AND([1]Datas!$A$2=[1]Datas!$A$7,[1]Datas!$A$3=[1]Datas!$A$8,[1]Datas!$A$4=[1]Datas!$A$7),#REF!,IF(AND([1]Datas!$A$2=[1]Datas!$A$7,[1]Datas!$A$3=[1]Datas!$A$7,[1]Datas!$A$4=[1]Datas!$A$8),#REF!,"ERROR"))) -> #REF!
B43: =IF(AND([1]Datas!$A$2=[1]Datas!$A$8,[1]Datas!$A$3=[1]Datas!$A$7,[1]Datas!$A$4=[1]Datas!$A$7),#REF!,IF(AND([1]Datas!$A$2=[1]Datas!$A$7,[1]Datas!$A$3=[1]Datas!$A$8,[1]Datas!$A$4=[1]Datas!$A$7),#REF!,IF(AND([1]Datas!$A$2=[1]Datas!$A$7,[1]Datas!$A$3=[1]Datas!$A$7,[1]Datas!$A$4=[1]Datas!$A$8),#REF!,"ERROR"))) -> #REF!
B44: =IF(AND([1]Datas!$A$2=[1]Datas!$A$8,[1]Datas!$A$3=[1]Datas!$A$7,[1]Datas!$A$4=[1]Datas!$A$7),#REF!,IF(AND([1]Datas!$A$2=[1]Datas!$A$7,[1]Datas!$A$3=[1]Datas!$A$8,[1]Datas!$A$4=[1]Datas!$A$7),#REF!,IF(AND([1]Datas!$A$2=[1]Datas!$A$7,[1]Datas!$A$3=[1]Datas!$A$7,[1]Datas!$A$4=[1]Datas!$A$8),#REF!,"ERROR"))) -> #REF!
B47: =IF(AND([1]Datas!$A$2=[1]Datas!$A$8,[1]Datas!$A$3=[1]Datas!$A$7,[1]Datas!$A$4=[1]Datas!$A$7),#REF!,IF(AND([1]Datas!$A$2=[1]Datas!$A$7,[1]Datas!$A$3=[1]Datas!$A$8,[1]Datas!$A$4=[1]Datas!$A$7),#REF!,IF(AND([1]Datas!$A$2=[1]Datas!$A$7,[1]Datas!$A$3=[1]Datas!$A$7,[1]Datas!$A$4=[1]Datas!$A$8),#REF!,"ERROR"))) -> #REF!
B48: =IF(AND([1]Datas!$A$2=[1]Datas!$A$8,[1]Datas!$A$3=[1]Datas!$A$7,[1]Datas!$A$4=[1]Datas!$A$7),#REF!,IF(AND([1]Datas!$A$2=[1]Datas!$A$7,[1]Datas!$A$3=[1]Datas!$A$8,[1]Datas!$A$4=[1]Datas!$A$7),#REF!,IF(AND([1]Datas!$A$2=[1]Datas!$A$7,[1]Datas!$A$3=[1]Datas!$A$7,[1]Datas!$A$4=[1]Datas!$A$8),#REF!,"ERROR"))) -> #REF!
B49: =IF(AND([1]Datas!$A$2=[1]Datas!$A$8,[1]Datas!$A$3=[1]Datas!$A$7,[1]Datas!$A$4=[1]Datas!$A$7),#REF!,IF(AND([1]Datas!$A$2=[1]Datas!$A$7,[1]Datas!$A$3=[1]Datas!$A$8,[1]Datas!$A$4=[1]Datas!$A$7),#REF!,IF(AND([1]Datas!$A$2=[1]Datas!$A$7,[1]Datas!$A$3=[1]Datas!$A$7,[1]Datas!$A$4=[1]Datas!$A$8),#REF!,"ERROR"))) -> #REF!
B50: =IF(AND([1]Datas!$A$2=[1]Datas!$A$8,[1]Datas!$A$3=[1]Datas!$A$7,[1]Datas!$A$4=[1]Datas!$A$7),#REF!,IF(AND([1]Datas!$A$2=[1]Datas!$A$7,[1]Datas!$A$3=[1]Datas!$A$8,[1]Datas!$A$4=[1]Datas!$A$7),#REF!,IF(AND([1]Datas!$A$2=[1]Datas!$A$7,[1]Datas!$A$3=[1]Datas!$A$7,[1]Datas!$A$4=[1]Datas!$A$8),#REF!,"ERROR"))) -> #REF!
B51: =IF(AND([1]Datas!$A$2=[1]Datas!$A$8,[1]Datas!$A$3=[1]Datas!$A$7,[1]Datas!$A$4=[1]Datas!$A$7),#REF!,IF(AND([1]Datas!$A$2=[1]Datas!$A$7,[1]Datas!$A$3=[1]Datas!$A$8,[1]Datas!$A$4=[1]Datas!$A$7),#REF!,IF(AND([1]Datas!$A$2=[1]Datas!$A$7,[1]Datas!$A$3=[1]Datas!$A$7,[1]Datas!$A$4=[1]Datas!$A$8),#REF!,"ERROR"))) -> #REF!
B52: =IF(AND([1]Datas!$A$2=[1]Datas!$A$8,[1]Datas!$A$3=[1]Datas!$A$7,[1]Datas!$A$4=[1]Datas!$A$7),#REF!,IF(AND([1]Datas!$A$2=[1]Datas!$A$7,[1]Datas!$A$3=[1]Datas!$A$8,[1]Datas!$A$4=[1]Datas!$A$7),#REF!,IF(AND([1]Datas!$A$2=[1]Datas!$A$7,[1]Datas!$A$3=[1]Datas!$A$7,[1]Datas!$A$4=[1]Datas!$A$8),#REF!,"ERROR"))) -> #REF!
B53: =IF(AND([1]Datas!$A$2=[1]Datas!$A$8,[1]Datas!$A$3=[1]Datas!$A$7,[1]Datas!$A$4=[1]Datas!$A$7),#REF!,IF(AND([1]Datas!$A$2=[1]Datas!$A$7,[1]Datas!$A$3=[1]Datas!$A$8,[1]Datas!$A$4=[1]Datas!$A$7),#REF!,IF(AND([1]Datas!$A$2=[1]Datas!$A$7,[1]Datas!$A$3=[1]Datas!$A$7,[1]Datas!$A$4=[1]Datas!$A$8),#REF!,"ERROR"))) -> #REF!

Sheet Printable questionnaire
B7: DAY 1 | D7: DAY 2 | F7: DAY 3 | H7: DAY 4
B8: Morning
B9: =Agenda!F26 -> 1.1 | C9: =VLOOKUP(B9,datas!$H$3:$I$36,2,FALSE) -> #VALUE! | D9: =Agenda!F58 -> - | E9: =VLOOKUP(D9,datas!$H$3:$I$36,2,FALSE) -> #N/A | F9: =Agenda!F91 -> - | G9: =VLOOKUP(F9,datas!$H$3:$I$36,2,FALSE) -> #N/A | H9: =Agenda!F124 -> 0 | I9: =VLOOKUP(H9,datas!$H$3:$I$36,2,FALSE) -> #N/A
B10: =Agenda!F27 -> 3.2 | C10: =VLOOKUP(B10,datas!$H$3:$I$36,2,FALSE) -> 0 | D10: =Agenda!F59 -> 0 | E10: =VLOOKUP(D10,datas!$H$3:$I$36,2,FALSE) -> #N/A | F10: =Agenda!F92 -> 0 | G10: =VLOOKUP(F10,datas!$H$3:$I$36,2,FALSE) -> #N/A | H10: =Agenda!F125 -> 0 | I10: =VLOOKUP(H10,datas!$H$3:$I$36,2,FALSE) -> #N/A
B11: =Agenda!F28 -> 6.1 | C11: =VLOOKUP(B11,datas!$H$3:$I$36,2,FALSE) -> 0 | D11: =Agenda!F60 -> 0 | E11: =VLOOKUP(D11,datas!$H$3:$I$36,2,FALSE) -> #N/A | F11: =Agenda!F93 -> 0 | G11: =VLOOKUP(F11,datas!$H$3:$I$36,2,FALSE) -> #N/A | H11: =Agenda!F126 -> 0 | I11: =VLOOKUP(H11,datas!$H$3:$I$36,2,FALSE) -> #N/A
B12: =Agenda!F29 -> 0 | C12: =VLOOKUP(B12,datas!$H$3:$I$36,2,FALSE) -> #N/A | D12: =Agenda!F61 -> 0 | E12: =VLOOKUP(D12,datas!$H$3:$I$36,2,FALSE) -> #N/A | F12: =Agenda!F94 -> 0 | G12: =VLOOKUP(F12,datas!$H$3:$I$36,2,FALSE) -> #N/A | H12: =Agenda!F127 -> 0 | I12: =VLOOKUP(H12,datas!$H$3:$I$36,2,FALSE) -> #N/A
B13: =Agenda!F30 -> 0 | C13: =VLOOKUP(B13,datas!$H$3:$I$36,2,FALSE) -> #N/A | D13: =Agenda!F62 -> 0 | E13: =VLOOKUP(D13,datas!$H$3:$I$36,2,FALSE) -> #N/A | F13: =Agenda!F95 -> 0 | G13: =VLOOKUP(F13,datas!$H$3:$I$36,2,FALSE) -> #N/A | H13: =Agenda!F128 -> 0 | I13: =VLOOKUP(H13,datas!$H$3:$I$36,2,FALSE) -> #N/A
B14: =Agenda!F31 -> 0 | C14: =VLOOKUP(B14,datas!$H$3:$I$36,2,FALSE) -> #N/A | D14: =Agenda!F63 -> 0 | E14: =VLOOKUP(D14,datas!$H$3:$I$36,2,FALSE) -> #N/A | F14: =Agenda!F96 -> 0 | G14: =VLOOKUP(F14,datas!$H$3:$I$36,2,FALSE) -> #N/A | H14: =Agenda!F129 -> 0 | I14: =VLOOKUP(H14,datas!$H$3:$I$36,2,FALSE) -> #N/A
B15: =Agenda!F32 -> 0 | C15: =VLOOKUP(B15,datas!$H$3:$I$36,2,FALSE) -> #N/A | D15: =Agenda!F64 -> 0 | E15: =VLOOKUP(D15,datas!$H$3:$I$36,2,FALSE) -> #N/A | F15: =Agenda!F97 -> 0 | G15: =VLOOKUP(F15,datas!$H$3:$I$36,2,FALSE) -> #N/A | H15: =Agenda!F130 -> 0 | I15: =VLOOKUP(H15,datas!$H$3:$I$36,2,FALSE) -> #N/A
B16: =Agenda!F33 -> 0 | C16: =VLOOKUP(B16,datas!$H$3:$I$36,2,FALSE) -> #N/A | D16: =Agenda!F65 -> 0 | E16: =VLOOKUP(D16,datas!$H$3:$I$36,2,FALSE) -> #N/A | F16: =Agenda!F98 -> 0 | G16: =VLOOKUP(F16,datas!$H$3:$I$36,2,FALSE) -> #N/A | H16: =Agenda!F131 -> 0 | I16: =VLOOKUP(H16,datas!$H$3:$I$36,2,FALSE) -> #N/A
B17: =Agenda!F34 -> 0 | C17: =VLOOKUP(B17,datas!$H$3:$I$36,2,FALSE) -> #N/A | D17: =Agenda!F66 -> 0 | E17: =VLOOKUP(D17,datas!$H$3:$I$36,2,FALSE) -> #N/A | F17: =Agenda!F99 -> 0 | G17: =VLOOKUP(F17,datas!$H$3:$I$36,2,FALSE) -> #N/A | H17: =Agenda!F132 -> 0 | I17: =VLOOKUP(H17,datas!$H$3:$I$36,2,FALSE) -> #N/A
B18: =Agenda!F35 -> 0 | C18: =VLOOKUP(B18,datas!$H$3:$I$36,2,FALSE) -> #N/A | D18: =Agenda!F67 -> 0 | E18: =VLOOKUP(D18,datas!$H$3:$I$36,2,FALSE) -> #N/A | F18: =Agenda!F100 -> 0 | G18: =VLOOKUP(F18,datas!$H$3:$I$36,2,FALSE) -> #N/A | H18: =Agenda!F133 -> 0 | I18: =VLOOKUP(H18,datas!$H$3:$I$36,2,FALSE) -> #N/A
B19: =Agenda!F36 -> 0 | C19: =VLOOKUP(B19,datas!$H$3:$I$36,2,FALSE) -> #N/A | D19: =Agenda!F68 -> 0 | E19: =VLOOKUP(D19,datas!$H$3:$I$36,2,FALSE) -> #N/A | F19: =Agenda!F101 -> 0 | G19: =VLOOKUP(F19,datas!$H$3:$I$36,2,FALSE) -> #N/A | H19: =Agenda!F134 -> 0 | I19: =VLOOKUP(H19,datas!$H$3:$I$36,2,FALSE) -> #N/A
B20: =Agenda!F37 -> 0 | C20: =VLOOKUP(B20,datas!$H$3:$I$36,2,FALSE) -> #N/A | D20: =Agenda!F69 -> 0 | E20: =VLOOKUP(D20,datas!$H$3:$I$36,2,FALSE) -> #N/A | F20: =Agenda!F102 -> 0 | G20: =VLOOKUP(F20,datas!$H$3:$I$36,2,FALSE) -> #N/A | H20: =Agenda!F135 -> 0 | I20: =VLOOKUP(H20,datas!$H$3:$I$36,2,FALSE) -> #N/A
B21: Afternoon
B22: =Agenda!F41 -> 0 | C22: =VLOOKUP(B22,datas!$H$3:$I$36,2,FALSE) -> #N/A | D22: =Agenda!F73 -> 0 | E22: =VLOOKUP(D22,datas!$H$3:$I$36,2,FALSE) -> #N/A | F22: =Agenda!F106 -> 0 | G22: =VLOOKUP(F22,datas!$H$3:$I$36,2,FALSE) -> #N/A | H22: =Agenda!F139 -> 0 | I22: =VLOOKUP(H22,datas!$H$3:$I$36,2,FALSE) -> #N/A
B23: =Agenda!F42 -> 0 | C23: =VLOOKUP(B23,datas!$H$3:$I$36,2,FALSE) -> #N/A | D23: =Agenda!F74 -> 0 | E23: =VLOOKUP(D23,datas!$H$3:$I$36,2,FALSE) -> #N/A | F23: =Agenda!F107 -> 0 | G23: =VLOOKUP(F23,datas!$H$3:$I$36,2,FALSE) -> #N/A | H23: =Agenda!F140 -> 0 | I23: =VLOOKUP(H23,datas!$H$3:$I$36,2,FALSE) -> #N/A
B24: =Agenda!F43 -> 0 | C24: =VLOOKUP(B24,datas!$H$3:$I$36,2,FALSE) -> #N/A | D24: =Agenda!F75 -> 0 | E24: =VLOOKUP(D24,datas!$H$3:$I$36,2,FALSE) -> #N/A | F24: =Agenda!F108 -> 0 | G24: =VLOOKUP(F24,datas!$H$3:$I$36,2,FALSE) -> #N/A | H24: =Agenda!F141 -> 0 | I24: =VLOOKUP(H24,datas!$H$3:$I$36,2,FALSE) -> #N/A
B25: =Agenda!F44 -> 0 | C25: =VLOOKUP(B25,datas!$H$3:$I$36,2,FALSE) -> #N/A | D25: =Agenda!F76 -> 0 | E25: =VLOOKUP(D25,datas!$H$3:$I$36,2,FALSE) -> #N/A | F25: =Agenda!F109 -> 0 | G25: =VLOOKUP(F25,datas!$H$3:$I$36,2,FALSE) -> #N/A | H25: =Agenda!F142 -> 0 | I25: =VLOOKUP(H25,datas!$H$3:$I$36,2,FALSE) -> #N/A
B26: =Agenda!F45 -> 0 | C26: =VLOOKUP(B26,datas!$H$3:$I$36,2,FALSE) -> #N/A | D26: =Agenda!F77 -> 0 | E26: =VLOOKUP(D26,datas!$H$3:$I$36,2,FALSE) -> #N/A | F26: =Agenda!F110 -> 0 | G26: =VLOOKUP(F26,datas!$H$3:$I$36,2,FALSE) -> #N/A | H26: =Agenda!F143 -> 0 | I26: =VLOOKUP(H26,datas!$H$3:$I$36,2,FALSE) -> #N/A
B27: =Agenda!F46 -> 0 | C27: =VLOOKUP(B27,datas!$H$3:$I$36,2,FALSE) -> #N/A | D27: =Agenda!F78 -> 0 | E27: =VLOOKUP(D27,datas!$H$3:$I$36,2,FALSE) -> #N/A | F27: =Agenda!F111 -> 0 | G27: =VLOOKUP(F27,datas!$H$3:$I$36,2,FALSE) -> #N/A | H27: =Agenda!F144 -> 0 | I27: =VLOOKUP(H27,datas!$H$3:$I$36,2,FALSE) -> #N/A
B28: =Agenda!F47 -> 0 | C28: =VLOOKUP(B28,datas!$H$3:$I$36,2,FALSE) -> #N/A | D28: =Agenda!F79 -> 0 | E28: =VLOOKUP(D28,datas!$H$3:$I$36,2,FALSE) -> #N/A | F28: =Agenda!F112 -> 0 | G28: =VLOOKUP(F28,datas!$H$3:$I$36,2,FALSE) -> #N/A | H28: =Agenda!F145 -> 0 | I28: =VLOOKUP(H28,datas!$H$3:$I$36,2,FALSE) -> #N/A
B29: =Agenda!F48 -> 0 | C29: =VLOOKUP(B29,datas!$H$3:$I$36,2,FALSE) -> #N/A | D29: =Agenda!F80 -> 0 | E29: =VLOOKUP(D29,datas!$H$3:$I$36,2,FALSE) -> #N/A | F29: =Agenda!F113 -> 0 | G29: =VLOOKUP(F29,datas!$H$3:$I$36,2,FALSE) -> #N/A | H29: =Agenda!F146 -> 0 | I29: =VLOOKUP(H29,datas!$H$3:$I$36,2,FALSE) -> #N/A
B30: =Agenda!F49 -> 0 | C30: =VLOOKUP(B30,datas!$H$3:$I$36,2,FALSE) -> #N/A | D30: =Agenda!F81 -> 0 | E30: =VLOOKUP(D30,datas!$H$3:$I$36,2,FALSE) -> #N/A | F30: =Agenda!F114 -> 0 | G30: =VLOOKUP(F30,datas!$H$3:$I$36,2,FALSE) -> #N/A | H30: =Agenda!F147 -> 0 | I30: =VLOOKUP(H30,datas!$H$3:$I$36,2,FALSE) -> #N/A
B31: =Agenda!F50 -> 0 | C31: =VLOOKUP(B31,datas!$H$3:$I$36,2,FALSE) -> #N/A | D31: =Agenda!F82 -> 0 | E31: =VLOOKUP(D31,datas!$H$3:$I$36,2,FALSE) -> #N/A | F31: =Agenda!F115 -> 0 | G31: =VLOOKUP(F31,datas!$H$3:$I$36,2,FALSE) -> #N/A | H31: =Agenda!F148 -> 0 | I31: =VLOOKUP(H31,datas!$H$3:$I$36,2,FALSE) -> #N/A
B32: =Agenda!F51 -> 0 | C32: =VLOOKUP(B32,datas!$H$3:$I$36,2,FALSE) -> #N/A | D32: =Agenda!F83 -> 0 | E32: =VLOOKUP(D32,datas!$H$3:$I$36,2,FALSE) -> #N/A | F32: =Agenda!F116 -> 0 | G32: =VLOOKUP(F32,datas!$H$3:$I$36,2,FALSE) -> #N/A | H32: =Agenda!F149 -> 0 | I32: =VLOOKUP(H32,datas!$H$3:$I$36,2,FALSE) -> #N/A
B33: =Agenda!F52 -> 0 | C33: =VLOOKUP(B33,datas!$H$3:$I$36,2,FALSE) -> #N/A | D33: =Agenda!F84 -> 0 | E33: =VLOOKUP(D33,datas!$H$3:$I$36,2,FALSE) -> #N/A | F33: =Agenda!F117 -> 0 | G33: =VLOOKUP(F33,datas!$H$3:$I$36,2,FALSE) -> #N/A | H33: =Agenda!F150 -> 0 | I33: =VLOOKUP(H33,datas!$H$3:$I$36,2,FALSE) -> #N/A

Sheet Agenda
B12: PARTICIPANTS : | G12: ROLE / FUNCTION
B13: Here | L13: Agenda
B17: There
B24: DAY 1 | N24: 41640
B25: Schedule | D25: Duration | E25: For information only | F25: Bricks | G25: Description
B26: 0.39583333 | C26: =B26+D26 -> 0.42708333 | D26: 0.03125 | E26: Meeting Room | F26: 1.1
B27: =C26 -> 0.42708333 | C27: =B27+D27 -> 0.4375 | D27: 0.010416667 | E27: Shop Floor | F27: 3.2
B28: =C27 -> 0.4375 | C28: =B28+D28 -> 0.46875 | D28: 0.03125 | E28: Meeting Room | F28: 6.1
B29: =C28 -> 0.46875 | C29: =B29+D29 -> 0.48958333 | D29: 0.020833333 | E29: Meeting Room
B31: =C29 -> 0.48958333 | C31: =B31+D31 -> 0.52083333 | D31: 0.03125 | E31: Meeting Room
B32: =C31 -> 0.52083333 | C32: =B32+D32 -> 0.55208333 | D32: 0.03125 | E32: Meeting Room
C33: =B33+D33 -> 0
C35: =B35+D35 -> 0
B37: 0.51736111 | C37: =B37+D37 -> 0.53819444 | D37: 0.020833333
B39: =C32 -> 0.55208333 | C39: =B39+D39 -> 0.57291667 | D39: 0.020833333 | F39: - | G39: LUNCH TIME | N39: TBD
B41: =C39 -> 0.57291667 | C41: =B41+D41 -> 0.59375 | D41: 0.020833333 | E41: Meeting Room
B42: =C40 -> 0 | C42: =B42+D42 -> 0.020833333 | D42: 0.020833333
B43: =C41 -> 0.59375 | C43: =B43+D43 -> 0.61458333 | D43: 0.020833333
B44: =C43 -> 0.61458333 | C44: 0.76041667 | D44: 0.14583333
B54: CLOSURE DAY 1
B56: DAY 2 | N56: 41641
B57: Schedule | D57: Duration | E57: For information only | F57: Bricks
B58: 0.33333333 | C58: =B58+D58 -> 0.36458333 | D58: 0.03125 | E58: Meeting Room | F58: -
B71: =C69 -> 0 | C71: =B71+D71 -> 0.03125 | D71: 0.03125 | F71: - | G71: LUNCH TIME | N71: TBD
B86: CLOSURE DAY 2
B89: DAY 3 | N89: 41642
B90: Schedule | D90: Duration | E90: For information only | F90: Bricks
B91: 0.35416667 | C91: =B91+D91 -> 0.38541667 | D91: 0.03125 | E91: Meeting Room | F91: -
B104: =C102 -> 0 | C104: =B104+D104 -> 0.03125 | D104: 0.03125 | F104: - | G104: LUNCH TIME | N104: TBD
B119: CLOSURE DAY 3
B122: DAY 4 | N122: 41643
B123: Schedule | D123: Duration | E123: For information only | F123: Bricks
B124: 0.35416667 | C124: =B124+D124 -> 0.38541667 | D124: 0.03125 | E124: Meeting Room & Shop Floor
B137: =C135 -> 0 | C137: =B137+D137 -> 0.03125 | D137: 0.03125 | F137: - | G137: LUNCH TIME | N137: TBD
B152: CLOSURE DAY 4

Sheet 1,1
A1: 1.1 - Process 1
A3: Objective & Questions | D3: Requirements | E3: Comments
A4: 1 | B4: Overall objective of the brick is to verify that the Supplier has a: 1. Section 4.2.2 talks about the scope of the quality management system and the contents of the quality manual including the documented procedures and descriptions of the interaction between the processes of the quality management system. | C4: C = Critical | D4: EN 9100 : 2009 ER070 06-01 E2 Annexe I
A5: 1 | B5: Quality manual, 9115 suggests a project include content that addresses quality management system requirements for software via inclusion in the manual or in some supporting reference material. | D5: 11
A6: 1 | B6: Product providers vary in size and capability just as the products they produce. For this reason, the quality requirements for software activities may be defined in project level plans,
A7: 1 | B7: - Main manufacturing, inspection and test phases of subassemblies and the Product?
A8: 1 | B8: - Procurement (related to the Key contributing parties)?
A9: 1 | B9: - Internal & external manufacturing, inspection and test activities?
A10: 1 | B10: - Processes requiring specific skills or competencies (e.g. certified/authorized operators, etc)?
A11: 1 | B11: - Special Process ?
A12: 1 | B12: - Name of Quality metrics (e.g. R1, % of scrap, % of rework, etc) and their position within the manufacturing process (visible on the flow chart or in appendix)?
A13: 1 | B13: - Major/ key characteristics and their position within the manufacturing process (visible on the flow chart or in appendix)?
A14: 1 | B14: - Means & tools used (visible on the flow chart or in appendix)?
A15: 1 | B15: - Associated documentation (drawing, procedure, etc)?
A16: 1 | B16: Does the flow chart or equivalent documentation reflect the current manufacturing process (i.e. as described in routing sheet)?
A17: 1 | B17: Is the flow chart or equivalent documentation managed with date, issue etc? | C17: C
B19: Rowa | E19: Ref. to Reqts:
A20: 8 | B20: approach is selected, an implementation map should be produced to allow employees as well as external auditors understand how and where the requirements are identified and covered. | E20: 1.23
A21: 9 | B21: Regular training should be provided
A22: 7 | B22: approach is selected, an implementation map should be produced to allow employees as well as external auditors understand how and where the requirements are identified and covered.
A23: 8 | B23: Regular training should be provided
A24: 6 | B24: approach is selected, an implementation map should be produced to allow employees as well as external auditors understand how and where the requirements are identified and covered.
B25: Regular training should be provided

Sheet 1,2
A1: 1.2 - Waves plans
A3: Objective & Questions | D3: Requirements | E3: Comments
A4: Objective is to: | C4: C = Critical | D4: 8
B6: Verify the capability of the Supplier:
A7: 1 | B7: 1. Section 7.1.4 on control of work transfers expects the organization establish and maintain a process to plan and control the temporary or permanent transfer of work. 9115: In
A8: 2 | B8: 2.Work transfers for software tasks (outsourcing) between business units, facilities and/or suppliers can pose risks during later stages of integration.
B9: Ensure that the Supplier:
A10: 3 | B10: 3.Following the start of a transferred activity, evidence of test results and formal delivery of reports may be required.
A11: 4 | B11: 4. Another very important part of shared work or work transfers is the management of changes and problem reports.
A12: 1 | B12: 9100 section 7.3.7 on control of design and development changes expects a change control system exists and changes are identified and records maintained. The changes are reviewed, verified and validated, as appropriate, and approved before implementation. | D12: 8
A13: 1 | B13: Does the evaluation take into account: Section 7.5.1 on control of production process changes talks about the importance of personnel who are authorized to approve changes to production processes need to be identified.
A14: 1 | B14: The complexity of modern aviation, space and defense systems is very high. Due to this level of complexity,
A16: 2 | B16: Typically a Software Quality Engineer who works with the development team on a regular basis and attends change board meetings would be a person that could also support a production area and understand what software is intended to go with what hardware. | D16: 8
A17: 2 | B17: Typically a Software Quality Engineer who works with the development team on a regular basis and attends change board meetings would be a person that could also support a production area and understand what software is intended to go with what hardware.
A18: 2 | B18: Typically a Software Quality Engineer who works with the development team on a regular basis and attends change board meetings would be a person that could also support a production area and understand what software is intended to go with what hardware.
A19: 2 | B19: Typically a Software Quality Engineer who works with the development team on a regular basis and attends change board meetings would be a person that could also support a production area and understand what software is intended to go with what hardware.
A21: 3 | B21: Factory and engineering test equipment should be qualified to meet the intended use. | D21: 8
A22: 3 | B22: Factory and engineering test equipment should be qualified to meet the intended use.
A23: 3 | B23: Factory and engineering test equipment should be qualified to meet the intended use.
A24: 3 | B24: Factory and engineering test equipment should be qualified to meet the intended use.
A25: 3 | B25: Factory and engineering test equipment should be qualified to meet the intended use. | D25: 8
A26: 3 | B26: Factory and engineering test equipment should be qualified to meet the intended use.
A27: 3 | B27: Factory and engineering test equipment should be qualified to meet the intended use. | C27: C | D27: 8
A28: 3 | B28: Factory and engineering test equipment should be qualified to meet the intended use. | C28: C | D28: 8
A29: 3 | B29: Factory and engineering test equipment should be qualified to meet the intended use.
A30: 3 | B30: Factory and engineering test equipment should be qualified to meet the intended use. | C30: C
D31: 8
A32: 4 | B32: Factory and engineering test equipment should be qualified to meet the intended use. | D32: 8
A33: 4 | B33: Factory and engineering test equipment should be qualified to meet the intended use. | C33: C | D33: 9
A34: 4 | B34: Factory and engineering test equipment should be qualified to meet the intended use. | C34: C
A35: 4 | B35: Factory and engineering test equipment should be qualified to meet the intended use. | D35: 8
A36: 4 | B36: Factory and engineering test equipment should be qualified to meet the intended use.
A37: 4 | B37: Factory and engineering test equipment should be qualified to meet the intended use.
A38: 4 | B38: Factory and engineering test equipment should be qualified to meet the intended use.
A39: 4 | B39: Factory and engineering test equipment should be qualified to meet the intended use.
A40: 4 | B40: Factory and engineering test equipment should be qualified to meet the intended use.
A41: 4 | B41: Factory and engineering test equipment should be qualified to meet the intended use. | C41: C
A42: 4 | B42: Factory and engineering test equipment should be qualified to meet the intended use.
B44: Rowa | E44: Ref. to Reqts:
A45: 8 | B45: approach is selected, an implementation map should be produced to allow employees as well as external auditors understand how and where the requirements are identified and covered. | E45: 1.1
A46: 9 | B46: Regular training should be provided
A47: 7 | B47: approach is selected, an implementation map should be produced to allow employees as well as external auditors understand how and where the requirements are identified and covered.
A48: 8 | B48: Regular training should be provided
A49: 6 | B49: approach is selected, an implementation map should be produced to allow employees as well as external auditors understand how and where the requirements are identified and covered.

Sheet 1,3
A1: 1.3 - Waves plans
A3: Objective & Questions | D3: Requirements | E3: Comments
A4: Objective is to: | C4: C = Critical | D4: 8
B6: Verify the capability of the Supplier:
A7: 1 | B7: 1. Section 7.1.4 on control of work transfers expects the organization establish and maintain a process to plan and control the temporary or permanent transfer of work. 9115: In
A8: 2 | B8: 2.Work transfers for software tasks (outsourcing) between business units, facilities and/or suppliers can pose risks during later stages of integration.
B9: Ensure that the Supplier:
A10: 3 | B10: 3.Following the start of a transferred activity, evidence of test results and formal delivery of reports may be required.
A11: 4 | B11: 4. Another very important part of shared work or work transfers is the management of changes and problem reports.
A12: 1 | B12: 9100 section 7.3.7 on control of design and development changes expects a change control system exists and changes are identified and records maintained. The changes are reviewed, verified and validated, as appropriate, and approved before implementation. | D12: 8
A13: 1 | B13: Does the evaluation take into account: Section 7.5.1 on control of production process changes talks about the importance of personnel who are authorized to approve changes to production processes need to be identified.
A14: 1 | B14: The complexity of modern aviation, space and defense systems is very high. Due to this level of complexity,
A16: 2 | B16: Typically a Software Quality Engineer who works with the development team on a regular basis and attends change board meetings would be a person that could also support a production area and understand what software is intended to go with what hardware. | D16: 8
A17: 2 | B17: Typically a Software Quality Engineer who works with the development team on a regular basis and attends change board meetings would be a person that could also support a production area and understand what software is intended to go with what hardware.
A18: 2 | B18: Typically a Software Quality Engineer who works with the development team on a regular basis and attends change board meetings would be a person that could also support a production area and understand what software is intended to go with what hardware.
A19: 2 | B19: Typically a Software Quality Engineer who works with the development team on a regular basis and attends change board meetings would be a person that could also support a production area and understand what software is intended to go with what hardware.
A21: 3 | B21: Factory and engineering test equipment should be qualified to meet the intended use. | D21: 8
A22: 3 | B22: Factory and engineering test equipment should be qualified to meet the intended use.
A23: 3 | B23: Factory and engineering test equipment should be qualified to meet the intended use.
A24: 3 | B24: Factory and engineering test equipment should be qualified to meet the intended use.
A25: 3 | B25: Factory and engineering test equipment should be qualified to meet the intended use. | D25: 8
A26: 3 | B26: Factory and engineering test equipment should be qualified to meet the intended use.
A27: 3 | B27: Factory and engineering test equipment should be qualified to meet the intended use. | C27: C | D27: 8
A28: 3 | B28: Factory and engineering test equipment should be qualified to meet the intended use. | C28: C | D28: 8
A29: 3 | B29: Factory and engineering test equipment should be qualified to meet the intended use.
A30: 3 | B30: Factory and engineering test equipment should be qualified to meet the intended use. | C30: C
D31: 8
A32: 4 | B32: Factory and engineering test equipment should be qualified to meet the intended use. | D32: 8
A33: 4 | B33: Factory and engineering test equipment should be qualified to meet the intended use. | C33: C | D33: 9
A34: 4 | B34: Factory and engineering test equipment should be qualified to meet the intended use. | C34: C
A35: 4 | B35: Factory and engineering test equipment should be qualified to meet the intended use. | D35: 8
A36: 4 | B36: Factory and engineering test equipment should be qualified to meet the intended use.
A37: 4 | B37: Factory and engineering test equipment should be qualified to meet the intended use.
A38: 4 | B38: Factory and engineering test equipment should be qualified to meet the intended use.
A39: 4 | B39: Factory and engineering test equipment should be qualified to meet the intended use.
A40: 4 | B40: Factory and engineering test equipment should be qualified to meet the intended use.
A41: 4 | B41: Factory and engineering test equipment should be qualified to meet the intended use. | C41: C
A42: 4 | B42: Factory and engineering test equipment should be qualified to meet the intended use.
B44: Rowa | E44: Ref. to Reqts:
A45: 8 | B45: approach is selected, an implementation map should be produced to allow employees as well as external auditors understand how and where the requirements are identified and covered. | E45: 1.1
A46: 9 | B46: Regular training should be provided
A47: 7 | B47: approach is selected, an implementation map should be produced to allow employees as well as external auditors understand how and where the requirements are identified and covered.
A48: 8 | B48: Regular training should be provided
A49: 6 | B49: approach is selected, an implementation map should be produced to allow employees as well as external auditors understand how and where the requirements are identified and covered.

Sheet 1,4
A1: 1.4 - Waves plans
A3: Objective & Questions | D3: Requirements | E3: Comments
A4: Objective is to: | C4: C = Critical | D4: 8
B6: Verify the capability of the Supplier:
A7: 1 | B7: 1. Section 7.1.4 on control of work transfers expects the organization establish and maintain a process to plan and control the temporary or permanent transfer of work. 9115: In
A8: 2 | B8: 2.Work transfers for software tasks (outsourcing) between business units, facilities and/or suppliers can pose risks during later stages of integration.
B9: Ensure that the Supplier:
A10: 3 | B10: 3.Following the start of a transferred activity, evidence of test results and formal delivery of reports may be required.
A11: 4 | B11: 4. Another very important part of shared work or work transfers is the management of changes and problem reports.
A12: 1 | B12: 9100 section 7.3.7 on control of design and development changes expects a change control system exists and changes are identified and records maintained. The changes are reviewed, verified and validated, as appropriate, and approved before implementation. | D12: 8
A13: 1 | B13: Does the evaluation take into account: Section 7.5.1 on control of production process changes talks about the importance of personnel who are authorized to approve changes to production processes need to be identified.
A14: 1 | B14: The complexity of modern aviation, space and defense systems is very high. Due to this level of complexity,
A16: 2 | B16: Typically a Software Quality Engineer who works with the development team on a regular basis and attends change board meetings would be a person that could also support a production area and understand what software is intended to go with what hardware. | D16: 8
A17: 2 | B17: Typically a Software Quality Engineer who works with the development team on a regular basis and attends change board meetings would be a person that could also support a production area and understand what software is intended to go with what hardware.
A19: 3 | B19: Factory and engineering test equipment should be qualified to meet the intended use. | D19: 8
A20: 3 | B20: Factory and engineering test equipment should be qualified to meet the intended use.
A21: 3 | B21: Factory and engineering test equipment should be qualified to meet the intended use.
A22: 3 | B22: Factory and engineering test equipment should be qualified to meet the intended use.
A23: 3 | B23: Factory and engineering test equipment should be qualified to meet the intended use. | C23: C | D23: 8
A24: 3 | B24: Factory and engineering test equipment should be qualified to meet the intended use.
A25: 3 | B25: Factory and engineering test equipment should be qualified to meet the intended use. | C25: C
D26: 8
A27: 4 | B27: Factory and engineering test equipment should be qualified to meet the intended use. | D27: 8
A28: 4 | B28: Factory and engineering test equipment should be qualified to meet the intended use. | C28: C | D28: 9
A29: 4 | B29: Factory and engineering test equipment should be qualified to meet the intended use. | C29: C
A30: 4 | B30: Factory and engineering test equipment should be qualified to meet the intended use. | D30: 8
A31: 4 | B31: Factory and engineering test equipment should be qualified to meet the intended use.
A32: 4 | B32: Factory and engineering test equipment should be qualified to meet the intended use.
A33: 4 | B33: Factory and engineering test equipment should be qualified to meet the intended use. | C33: C
A34: 4 | B34: Factory and engineering test equipment should be qualified to meet the intended use.
B36: Rowa | E36: Ref. to Reqts:
A37: 8 | B37: approach is selected, an implementation map should be produced to allow employees as well as external auditors understand how and where the requirements are identified and covered. | E37: 1.1
A38: 9 | B38: Regular training should be provided
A39: 7 | B39: approach is selected, an implementation map should be produced to allow employees as well as external auditors understand how and where the requirements are identified and covered.
A40: 8 | B40: Regular training should be provided
A41: 6 | B41: approach is selected, an implementation map should be produced to allow employees as well as external auditors understand how and where the requirements are identified and covered.

Sheet 1,5
A1: 1.5 - Waves plans
A3: Objective & Questions | D3: Requirements | E3: Comments
A4: Objective is to: | C4: C = Critical | D4: 8
B6: Verify the capability of the Supplier:
A7: 1 | B7: 1. Section 7.1.4 on control of work transfers expects the organization establish and maintain a process to plan and control the temporary or permanent transfer of work. 9115: In
A8: 2 | B8: 2.Work transfers for software tasks (outsourcing) between business units, facilities and/or suppliers can pose risks during later stages of integration.
B9: Ensure that the Supplier:
A10: 3 | B10: 3.Following the start of a transferred activity, evidence of test results and formal delivery of reports may be required.
A11: 4 | B11: 4. Another very important part of shared work or work transfers is the management of changes and problem reports.
A12: 2 | B12: Typically a Software Quality Engineer who works with the development team on a regular basis and attends change board meetings would be a person that could also support a production area and understand what software is intended to go with what hardware.
A13: 2 | B13: Typically a Software Quality Engineer who works with the development team on a regular basis and attends change board meetings would be a person that could also support a production area and understand what software is intended to go with what hardware.
A14: 2 | B14: Typically a Software Quality Engineer who works with the development team on a regular basis and attends change board meetings would be a person that could also support a production area and understand what software is intended to go with what hardware.
A16: 3 | B16: Factory and engineering test equipment should be qualified to meet the intended use. | D16: 8
A17: 3 | B17: Factory and engineering test equipment should be qualified to meet the intended use.
A18: 3 | B18: Factory and engineering test equipment should be qualified to meet the intended use.
A19: 3 | B19: Factory and engineering test equipment should be qualified to meet the intended use.
A20: 3 | B20: Factory and engineering test equipment should be qualified to meet the intended use. | D20: 8
A21: 3 | B21: Factory and engineering test equipment should be qualified to meet the intended use.
A22: 3 | B22: Factory and engineering test equipment should be qualified to meet the intended use. | C22: C | D22: 8
A23: 3 | B23: Factory and engineering test equipment should be qualified to meet the intended use. | C23: C | D23: 8
A24: 3 | B24: Factory and engineering test equipment should be qualified to meet the intended use.
A25: 3 | B25: Factory and engineering test equipment should be qualified to meet the intended use. | C25: C
D26: 8
A27: 4 | B27: Factory and engineering test equipment should be qualified to meet the intended use. | D27: 8
A28: 4 | B28: Factory and engineering test equipment should be qualified to meet the intended use. | C28: C | D28: 9
A29: 4 | B29: Factory and engineering test equipment should be qualified to meet the intended use. | C29: C
A30: 4 | B30: Factory and engineering test equipment should be qualified to meet the intended use. | D30: 8
A31: 4 | B31: Factory and engineering test equipment should be qualified to meet the intended use.
A32: 4 | B32: Factory and engineering test equipment should be qualified to meet the intended use.
A33: 4 | B33: Factory and engineering test equipment should be qualified to meet the intended use.
A34: 4 | B34: Factory and engineering test equipment should be qualified to meet the intended use.
A35: 4 | B35: Factory and engineering test equipment should be qualified to meet the intended use.
A36: 4 | B36: Factory and engineering test equipment should be qualified to meet the intended use. | C36: C
A37: 4 | B37: Factory and engineering test equipment should be qualified to meet the intended use.
B39: Rowa | E39: Ref. to Reqts:
A40: 8 | B40: approach is selected, an implementation map should be produced to allow employees as well as external auditors understand how and where the requirements are identified and covered. | E40: 1.1
A41: 9 | B41: Regular training should be provided
A42: 7 | B42: approach is selected, an implementation map should be produced to allow employees as well as external auditors understand how and where the requirements are identified and covered.
A43: 8 | B43: Regular training should be provided
A44: 6 | B44: approach is selected, an implementation map should be produced to allow employees as well as external auditors understand how and where the requirements are identified and covered.

Sheet 2,1
A1: 2.1 - Waves plans
A3: Objective & Questions | D3: Requirements | E3: Comments
A4: Objective is to: | C4: C = Critical | D4: 8
B6: Verify the capability of the Supplier:
A7: 1 | B7: 1. Section 7.1.4 on control of work transfers expects the organization establish and maintain a process to plan and control the temporary or permanent transfer of work. 9115: In
A8: 2 | B8: 2.Work transfers for software tasks (outsourcing) between business units, facilities and/or suppliers can pose risks during later stages of integration.
B9: Ensure that the Supplier:
A10: 3 | B10: 3.Following the start of a transferred activity, evidence of test results and formal delivery of reports may be required.
A11: 4 | B11: 4. Another very important part of shared work or work transfers is the management of changes and problem reports.
A12: 1 | B12: 9100 section 7.3.7 on control of design and development changes expects a change control system exists and changes are identified and records maintained. The changes are reviewed, verified and validated, as appropriate, and approved before implementation. | D12: 8
A13: 1 | B13: Does the evaluation take into account: Section 7.5.1 on control of production process changes talks about the importance of personnel who are authorized to approve changes to production processes need to be identified.
A14: 1 | B14: The complexity of modern aviation, space and defense systems is very high. Due to this level of complexity,
A16: 2 | B16: Typically a Software Quality Engineer who works with the development team on a regular basis and attends change board meetings would be a person that could also support a production area and understand what software is intended to go with what hardware. | D16: 8
A17: 3 | B17: Factory and engineering test equipment should be qualified to meet the intended use.
A18: 3 | B18: Factory and engineering test equipment should be qualified to meet the intended use. | C18: C | D18: 8
A19: 3 | B19: Factory and engineering test equipment should be qualified to meet the intended use. | C19: C | D19: 8
A20: 3 | B20: Factory and engineering test equipment should be qualified to meet the intended use.
A21: 3 | B21: Factory and engineering test equipment should be qualified to meet the intended use. | C21: C
D22: 8
A23: 4 | B23: Factory and engineering test equipment should be qualified to meet the intended use. | D23: 8
A24: 4 | B24: Factory and engineering test equipment should be qualified to meet the intended use. | C24: C | D24: 9
A25: 4 | B25: Factory and engineering test equipment should be qualified to meet the intended use. | C25: C
A26: 4 | B26: Factory and engineering test equipment should be qualified to meet the intended use. | D26: 8
A27: 4 | B27: Factory and engineering test equipment should be qualified to meet the intended use.
A28: 4 | B28: Factory and engineering test equipment should be qualified to meet the intended use.
A29: 4 | B29: Factory and engineering test equipment should be qualified to meet the intended use.
A30: 4 | B30: Factory and engineering test equipment should be qualified to meet the intended use.
A31: 4 | B31: Factory and engineering test equipment should be qualified to meet the intended use.
A32: 4 | B32: Factory and engineering test equipment should be qualified to meet the intended use. | C32: C
A33: 4 | B33: Factory and engineering test equipment should be qualified to meet the intended use.
B35: Rowa | E35: Ref. to Reqts:
A36: 8 | B36: approach is selected, an implementation map should be produced to allow employees as well as external auditors understand how and where the requirements are identified and covered. | E36: 1.1
A37: 9 | B37: Regular training should be provided
A38: 7 | B38: approach is selected, an implementation map should be produced to allow employees as well as external auditors understand how and where the requirements are identified and covered.
A39: 8 | B39: Regular training should be provided
A40: 6 | B40: approach is selected, an implementation map should be produced to allow employees as well as external auditors understand how and where the requirements are identified and covered.

Sheet 2,2
A1: 2.2 - Waves plans
A3: Objective & Questions | D3: Requirements | E3: Comments
A4: Objective is to: | C4: C = Critical | D4: 8
B6: Verify the capability of the Supplier:
A7: 1 | B7: 1. Section 7.1.4 on control of work transfers expects the organization establish and maintain a process to plan and control the temporary or permanent transfer of work. 9115: In
A8: 2 | B8: 2.Work transfers for software tasks (outsourcing) between business units, facilities and/or suppliers can pose risks during later stages of integration.
B9: Ensure that the Supplier:
A10: 3 | B10: 3.Following the start of a transferred activity, evidence of test results and formal delivery of reports may be required.
A11: 4 | B11: 4. Another very important part of shared work or work transfers is the management of changes and problem reports.
A12: 1 | B12: 9100 section 7.3.7 on control of design and development changes expects a change control system exists and changes are identified and records maintained. The changes are reviewed, verified and validated, as appropriate, and approved before implementation. | D12: 8
A13: 1 | B13: Does the evaluation take into account: Section 7.5.1 on control of production process changes talks about the importance of personnel who are authorized to approve changes to production processes need to be identified.
A14: 1 | B14: The complexity of modern aviation, space and defense systems is very high. Due to this level of complexity,
A16: 2 | B16: Typically a Software Quality Engineer who works with the development team on a regular basis and attends change board meetings would be a person that could also support a production area and understand what software is intended to go with what hardware. | D16: 8
A17: 2 | B17: Typically a Software Quality Engineer who works with the development team on a regular basis and attends change board meetings would be a person that could also support a production area and understand what software is intended to go with what hardware.
A18: 2 | B18: Typically a Software Quality Engineer who works with the development team on a regular basis and attends change board meetings would be a person that could also support a production area and understand what software is intended to go with what hardware.
A19: 2 | B19: Typically a Software Quality Engineer who works with the development team on a regular basis and attends change board meetings would be a person that could also support a production area and understand what software is intended to go with what hardware.
A21: 3 | B21: Factory and engineering test equipment should be qualified to meet the intended use. | D21: 8
A22: 3 | B22: Factory and engineering test equipment should be qualified to meet the intended use.
A23: 3 | B23: Factory and engineering test equipment should be qualified to meet the intended use.
A24: 3 | B24: Factory and engineering test equipment should be qualified to meet the intended use.
A25: 3 | B25: Factory and engineering test equipment should be qualified to meet the intended use. | D25: 8
A26: 3 | B26: Factory and engineering test equipment should be qualified to meet the intended use.
A27: 3 | B27: Factory and engineering test equipment should be qualified to meet the intended use. | C27: C | D27: 8
A28: 3 | B28: Factory and engineering test equipment should be qualified to meet the intended use. | C28: C | D28: 8
A29: 3 | B29: Factory and engineering test equipment should be qualified to meet the intended use.
A30: 3 | B30: Factory and engineering test equipment should be qualified to meet the intended use. | C30: C
D31: 8
A32: 4 | B32: Factory and engineering test equipment should be qualified to meet the intended use. | D32: 8
A33: 4 | B33: Factory and engineering test equipment should be qualified to meet the intended use. | C33: C | D33: 9
A34: 4 | B34: Factory and engineering test equipment should be qualified to meet the intended use. | C34: C
A35: 4 | B35: Factory and engineering test equipment should be qualified to meet the intended use. | D35: 8
A36: 4 | B36: Factory and engineering test equipment should be qualified to meet the intended use.
A37: 4 | B37: Factory and engineering test equipment should be qualified to meet the intended use.
A38: 4 | B38: Factory and engineering test equipment should be qualified to meet the intended use.
A39: 4 | B39: Factory and engineering test equipment should be qualified to meet the intended use.
A40: 4 | B40: Factory and engineering test equipment should be qualified to meet the intended use.
A41: 4 | B41: Factory and engineering test equipment should be qualified to meet the intended use. | C41: C
A42: 4 | B42: Factory and engineering test equipment should be qualified to meet the intended use.
B44: Rowa | E44: Ref. to Reqts:
A45: 8 | B45: approach is selected, an implementation map should be produced to allow employees as well as external auditors understand how and where the requirements are identified and covered. | E45: 1.1
A46: 9 | B46: Regular training should be provided
A47: 7 | B47: approach is selected, an implementation map should be produced to allow employees as well as external auditors understand how and where the requirements are identified and covered.
A48: 8 | B48: Regular training should be provided
A49: 6 | B49: approach is selected, an implementation map should be produced to allow employees as well as external auditors understand how and where the requirements are identified and covered.

Sheet 2,3
A1: 2.3 - Waves plans
A3: Objective & Questions | D3: Requirements | E3: Comments
A4: Objective is to: | C4: C = Critical | D4: 8
B6: Verify the capability of the Supplier:
A7: 1 | B7: 1. Section 7.1.4 on control of work transfers expects the organization establish and maintain a process to plan and control the temporary or permanent transfer of work. 9115: In
A8: 2 | B8: 2.Work transfers for software tasks (outsourcing) between business units, facilities and/or suppliers can pose risks during later stages of integration.
B9: Ensure that the Supplier:
A10: 3 | B10: 3.Following the start of a transferred activity, evidence of test results and formal delivery of reports may be required.
A11: 4 | B11: 4. Another very important part of shared work or work transfers is the management of changes and problem reports.
A12: 1 | B12: 9100 section 7.3.7 on control of design and development changes expects a change control system exists and changes are identified and records maintained. The changes are reviewed, verified and validated, as appropriate, and approved before implementation. | D12: 8
A13: 1 | B13: Does the evaluation take into account: Section 7.5.1 on control of production process changes talks about the importance of personnel who are authorized to approve changes to production processes need to be identified.
A14: 1 | B14: The complexity of modern aviation, space and defense systems is very high. Due to this level of complexity,
A16: 2 | B16: Typically a Software Quality Engineer who works with the development team on a regular basis and attends change board meetings would be a person that could also support a production area and understand what software is intended to go with what hardware. | D16: 8
A17: 2 | B17: Typically a Software Quality Engineer who works with the development team on a regular basis and attends change board meetings would be a person that could also support a production area and understand what software is intended to go with what hardware.
A18: 2 | B18: Typically a Software Quality Engineer who works with the development team on a regular basis and attends change board meetings would be a person that could also support a production area and understand what software is intended to go with what hardware.
A19: 2 | B19: Typically a Software Quality Engineer who works with the development team on a regular basis and attends change board meetings would be a person that could also support a production area and understand what software is intended to go with what hardware.
A21: 3 | B21: Factory and engineering test equipment should be qualified to meet the intended use. | D21: 8
A22: 3 | B22: Factory and engineering test equipment should be qualified to meet the intended use.
A23: 3 | B23: Factory and engineering test equipment should be qualified to meet the intended use.
A24: 3 | B24: Factory and engineering test equipment should be qualified to meet the intended use.
A25: 3 | B25: Factory and engineering test equipment should be qualified to meet the intended use. | D25: 8
A26: 3 | B26: Factory and engineering test equipment should be qualified to meet the intended use.
A27: 3 | B27: Factory and engineering test equipment should be qualified to meet the intended use. | C27: C | D27: 8
A28: 3 | B28: Factory and engineering test equipment should be qualified to meet the intended use. | C28: C | D28: 8
A29: 3 | B29: Factory and engineering test equipment should be qualified to meet the intended use.
A30: 3 | B30: Factory and engineering test equipment should be qualified to meet the intended use. | C30: C
D31: 8
A32: 4 | B32: Factory and engineering test equipment should be qualified to meet the intended use. | D32: 8
A33: 4 | B33: Factory and engineering test equipment should be qualified to meet the intended use. | C33: C | D33: 9
A34: 4 | B34: Factory and engineering test equipment should be qualified to meet the intended use. | C34: C
A35: 4 | B35: Factory and engineering test equipment should be qualified to meet the intended use. | D35: 8
A36: 4 | B36: Factory and engineering test equipment should be qualified to meet the intended use.
A37: 4 | B37: Factory and engineering test equipment should be qualified to meet the intended use.
A38: 4 | B38: Factory and engineering test equipment should be qualified to meet the intended use.
A39: 4 | B39: Factory and engineering test equipment should be qualified to meet the intended use.
A40: 4 | B40: Factory and engineering test equipment should be qualified to meet the intended use.
A41: 4 | B41: Factory and engineering test equipment should be qualified to meet the intended use. | C41: C
A42: 4 | B42: Factory and engineering test equipment should be qualified to meet the intended use.
B44: Rowa | E44: Ref. to Reqts:
A45: 8 | B45: approach is selected, an implementation map should be produced to allow employees as well as external auditors understand how and where the requirements are identified and covered. | E45: 1.1
A46: 9 | B46: Regular training should be provided
A47: 7 | B47: approach is selected, an implementation map should be produced to allow employees as well as external auditors understand how and where the requirements are identified and covered.
A48: 8 | B48: Regular training should be provided
A49: 6 | B49: approach is selected, an implementation map should be produced to allow employees as well as external auditors understand how and where the requirements are identified and covered.

Sheet 3,1
A1: 3.1 - Waves plans
A3: Objective & Questions | D3: Requirements | E3: Comments
A4: Objective is to: | C4: C = Critical | D4: 8
B6: Verify the capability of the Supplier:
A7: 1 | B7: 1. Section 7.1.4 on control of work transfers expects the organization establish and maintain a process to plan and control the temporary or permanent transfer of work. 9115: In
A8: 2 | B8: 2.Work transfers for software tasks (outsourcing) between business units, facilities and/or suppliers can pose risks during later stages of integration.
B9: Ensure that the Supplier:
A10: 3 | B10: 3.Following the start of a transferred activity, evidence of test results and formal delivery of reports may be required.
A11: 4 | B11: 4. Another very important part of shared work or work transfers is the management of changes and problem reports.
A12: 1 | B12: 9100 section 7.3.7 on control of design and development changes expects a change control system exists and changes are identified and records maintained. The changes are reviewed, verified and validated, as appropriate, and approved before implementation. | D12: 8
A13: 1 | B13: Does the evaluation take into account: Section 7.5.1 on control of production process changes talks about the importance of personnel who are authorized to approve changes to production processes need to be identified.
A14: 1 | B14: The complexity of modern aviation, space and defense systems is very high. Due to this level of complexity,
A16: 2 | B16: Typically a Software Quality Engineer who works with the development team on a regular basis and attends change board meetings would be a person that could also support a production area and understand what software is intended to go with what hardware. | D16: 8
A17: 2 | B17: Typically a Software Quality Engineer who works with the development team on a regular basis and attends change board meetings would be a person that could also support a production area and understand what software is intended to go with what hardware.
A18: 2 | B18: Typically a Software Quality Engineer who works with the development team on a regular basis and attends change board meetings would be a person that could also support a production area and understand what software is intended to go with what hardware.
A19: 2 | B19: Typically a Software Quality Engineer who works with the development team on a regular basis and attends change board meetings would be a person that could also support a production area and understand what software is intended to go with what hardware.
A21: 3 | B21: Factory and engineering test equipment should be qualified to meet the intended use. | D21: 8
A22: 3 | B22: Factory and engineering test equipment should be qualified to meet the intended use.
A23: 3 | B23: Factory and engineering test equipment should be qualified to meet the intended use.
A24: 3 | B24: Factory and engineering test equipment should be qualified to meet the intended use.
A25: 3 | B25: Factory and engineering test equipment should be qualified to meet the intended use. | D25: 8
A26: 3 | B26: Factory and engineering test equipment should be qualified to meet the intended use.
A27: 3 | B27: Factory and engineering test equipment should be qualified to meet the intended use. | C27: C | D27: 8
A28: 3 | B28: Factory and engineering test equipment should be qualified to meet the intended use. | C28: C | D28: 8
A29: 3 | B29: Factory and engineering test equipment should be qualified to meet the intended use.
A30: 3 | B30: Factory and engineering test equipment should be qualified to meet the intended use. | C30: C
D31: 8
A32: 4 | B32: Factory and engineering test equipment should be qualified to meet the intended use. | D32: 8
A33: 4 | B33: Factory and engineering test equipment should be qualified to meet the intended use. | C33: C | D33: 9
A34: 4 | B34: Factory and engineering test equipment should be qualified to meet the intended use. | C34: C
A35: 4 | B35: Factory and engineering test equipment should be qualified to meet the intended use. | D35: 8
A36: 4 | B36: Factory and engineering test equipment should be qualified to meet the intended use.
A37: 4 | B37: Factory and engineering test equipment should be qualified to meet the intended use.
A38: 4 | B38: Factory and engineering test equipment should be qualified to meet the intended use.
A39: 4 | B39: Factory and engineering test equipment should be qualified to meet the intended use.
A40: 4 | B40: Factory and engineering test equipment should be qualified to meet the intended use.
A41: 4 | B41: Factory and engineering test equipment should be qualified to meet the intended use. | C41: C
A42: 4 | B42: Factory and engineering test equipment should be qualified to meet the intended use.
B44: Rowa | E44: Ref. to Reqts:
A45: 8 | B45: approach is selected, an implementation map should be produced to allow employees as well as external auditors understand how and where the requirements are identified and covered. | E45: 1.1
A46: 9 | B46: Regular training should be provided
A47: 7 | B47: approach is selected, an implementation map should be produced to allow employees as well as external auditors understand how and where the requirements are identified and covered.
A48: 8 | B48: Regular training should be provided
A49: 6 | B49: approach is selected, an implementation map should be produced to allow employees as well as external auditors understand how and where the requirements are identified and covered.

Sheet 3,2
A1: 3.2 - Waves plans
A3: Objective & Questions | D3: Requirements | E3: Comments
A4: Objective is to: | C4: C = Critical | D4: 8
B6: Verify the capability of the Supplier:
A7: 1 | B7: 1. Section 7.1.4 on control of work transfers expects the organization establish and maintain a process to plan and control the temporary or permanent transfer of work. 9115: In
A8: 2 | B8: 2.Work transfers for software tasks (outsourcing) between business units, facilities and/or suppliers can pose risks during later stages of integration.
B9: Ensure that the Supplier:
A10: 3 | B10: 3.Following the start of a transferred activity, evidence of test results and formal delivery of reports may be required.
A11: 4 | B11: 4. Another very important part of shared work or work transfers is the management of changes and problem reports.
A12: 1 | B12: 9100 section 7.3.7 on control of design and development changes expects a change control system exists and changes are identified and records maintained. The changes are reviewed, verified and validated, as appropriate, and approved before implementation. | D12: 8
A13: 1 | B13: Does the evaluation take into account: Section 7.5.1 on control of production process changes talks about the importance of personnel who are authorized to approve changes to production processes need to be identified.
A14: 1 | B14: The complexity of modern aviation, space and defense systems is very high. Due to this level of complexity,
A16: 2 | B16: Typically a Software Quality Engineer who works with the development team on a regular basis and attends change board meetings would be a person that could also support a production area and understand what software is intended to go with what hardware. | D16: 8
A17: 2 | B17: Typically a Software Quality Engineer who works with the development team on a regular basis and attends change board meetings would be a person that could also support a production area and understand what software is intended to go with what hardware.
A18: 2 | B18: Typically a Software Quality Engineer who works with the development team on a regular basis and attends change board meetings would be a person that could also support a production area and understand what software is intended to go with what hardware.
A19: 2 | B19: Typically a Software Quality Engineer who works with the development team on a regular basis and attends change board meetings would be a person that could also support a production area and understand what software is intended to go with what hardware.
A21: 3 | B21: Factory and engineering test equipment should be qualified to meet the intended use. | D21: 8
A22: 3 | B22: Factory and engineering test equipment should be qualified to meet the intended use.
A23: 3 | B23: Factory and engineering test equipment should be qualified to meet the intended use.
A24: 3 | B24: Factory and engineering test equipment should be qualified to meet the intended use.
A25: 3 | B25: Factory and engineering test equipment should be qualified to meet the intended use. | D25: 8
A26: 3 | B26: Factory and engineering test equipment should be qualified to meet the intended use.
A27: 3 | B27: Factory and engineering test equipment should be qualified to meet the intended use. | C27: C | D27: 8
A28: 3 | B28: Factory and engineering test equipment should be qualified to meet the intended use. | C28: C | D28: 8
A29: 3 | B29: Factory and engineering test equipment should be qualified to meet the intended use.
A30: 3 | B30: Factory and engineering test equipment should be qualified to meet the intended use. | C30: C
D31: 8
A32: 4 | B32: Factory and engineering test equipment should be qualified to meet the intended use. | D32: 8
A33: 4 | B33: Factory and engineering test equipment should be qualified to meet the intended use. | C33: C | D33: 9
A34: 4 | B34: Factory and engineering test equipment should be qualified to meet the intended use. | C34: C
A35: 4 | B35: Factory and engineering test equipment should be qualified to meet the intended use. | D35: 8
A36: 4 | B36: Factory and engineering test equipment should be qualified to meet the intended use.
A37: 4 | B37: Factory and engineering test equipment should be qualified to meet the intended use.
A38: 4 | B38: Factory and engineering test equipment should be qualified to meet the intended use.
A39: 4 | B39: Factory and engineering test equipment should be qualified to meet the intended use.
A40: 4 | B40: Factory and engineering test equipment should be qualified to meet the intended use.
A41: 4 | B41: Factory and engineering test equipment should be qualified to meet the intended use. | C41: C
A42: 4 | B42: Factory and engineering test equipment should be qualified to meet the intended use.
B44: Rowa | E44: Ref. to Reqts:
A45: 8 | B45: approach is selected, an implementation map should be produced to allow employees as well as external auditors understand how and where the requirements are identified and covered. | E45: 1.1
A46: 9 | B46: Regular training should be provided
A47: 7 | B47: approach is selected, an implementation map should be produced to allow employees as well as external auditors understand how and where the requirements are identified and covered.
A48: 8 | B48: Regular training should be provided
A49: 6 | B49: approach is selected, an implementation map should be produced to allow employees as well as external auditors understand how and where the requirements are identified and covered.

Sheet 3,3
A1: 3.3 - Waves plans
A3: Objective & Questions | D3: Requirements | E3: Comments
A4: Objective is to: | C4: C = Critical | D4: 8
B6: Verify the capability of the Supplier:
A7: 1 | B7: 1. Section 7.1.4 on control of work transfers expects the organization establish and maintain a process to plan and control the temporary or permanent transfer of work. 9115: In
A8: 2 | B8: 2.Work transfers for software tasks (outsourcing) between business units, facilities and/or suppliers can pose risks during later stages of integration.
B9: Ensure that the Supplier:
A10: 3 | B10: 3.Following the start of a transferred activity, evidence of test results and formal delivery of reports may be required.
A11: 4 | B11: 4. Another very important part of shared work or work transfers is the management of changes and problem reports.
A12: 1 | B12: 9100 section 7.3.7 on control of design and development changes expects a change control system exists and changes are identified and records maintained. The changes are reviewed, verified and validated, as appropriate, and approved before implementation. | D12: 8
A13: 1 | B13: Does the evaluation take into account: Section 7.5.1 on control of production process changes talks about the importance of personnel who are authorized to approve changes to production processes need to be identified.
A14: 1 | B14: The complexity of modern aviation, space and defense systems is very high. Due to this level of complexity,
A16: 2 | B16: Typically a Software Quality Engineer who works with the development team on a regular basis and attends change board meetings would be a person that could also support a production area and understand what software is intended to go with what hardware. | D16: 8
A17: 2 | B17: Typically a Software Quality Engineer who works with the development team on a regular basis and attends change board meetings would be a person that could also support a production area and understand what software is intended to go with what hardware.
A18: 2 | B18: Typically a Software Quality Engineer who works with the development team on a regular basis and attends change board meetings would be a person that could also support a production area and understand what software is intended to go with what hardware.
A19: 2 | B19: Typically a Software Quality Engineer who works with the development team on a regular basis and attends change board meetings would be a person that could also support a production area and understand what software is intended to go with what hardware.
A21: 3 | B21: Factory and engineering test equipment should be qualified to meet the intended use. | D21: 8
A22: 3 | B22: Factory and engineering test equipment should be qualified to meet the intended use.
A23: 3 | B23: Factory and engineering test equipment should be qualified to meet the intended use.
A24: 3 | B24: Factory and engineering test equipment should be qualified to meet the intended use.
A25: 3 | B25: Factory and engineering test equipment should be qualified to meet the intended use. | D25: 8
A26: 3 | B26: Factory and engineering test equipment should be qualified to meet the intended use.
A27: 3 | B27: Factory and engineering test equipment should be qualified to meet the intended use. | C27: C | D27: 8
A28: 3 | B28: Factory and engineering test equipment should be qualified to meet the intended use. | C28: C | D28: 8
A29: 3 | B29: Factory and engineering test equipment should be qualified to meet the intended use.
A30: 3 | B30: Factory and engineering test equipment should be qualified to meet the intended use. | C30: C
D31: 8
A32: 4 | B32: Factory and engineering test equipment should be qualified to meet the intended use. | D32: 8
A33: 4 | B33: Factory and engineering test equipment should be qualified to meet the intended use. | C33: C | D33: 9
A34: 4 | B34: Factory and engineering test equipment should be qualified to meet the intended use. | C34: C
A35: 4 | B35: Factory and engineering test equipment should be qualified to meet the intended use. | D35: 8
A36: 4 | B36: Factory and engineering test equipment should be qualified to meet the intended use.
A37: 4 | B37: Factory and engineering test equipment should be qualified to meet the intended use.
A38: 4 | B38: Factory and engineering test equipment should be qualified to meet the intended use.
A39: 4 | B39: Factory and engineering test equipment should be qualified to meet the intended use.
A40: 4 | B40: Factory and engineering test equipment should be qualified to meet the intended use.
A41: 4 | B41: Factory and engineering test equipment should be qualified to meet the intended use. | C41: C
A42: 4 | B42: Factory and engineering test equipment should be qualified to meet the intended use.
B44: Rowa | E44: Ref. to Reqts:
A45: 8 | B45: approach is selected, an implementation map should be produced to allow employees as well as external auditors understand how and where the requirements are identified and covered. | E45: 1.1
A46: 9 | B46: Regular training should be provided
A47: 7 | B47: approach is selected, an implementation map should be produced to allow employees as well as external auditors understand how and where the requirements are identified and covered.
A48: 8 | B48: Regular training should be provided
A49: 6 | B49: approach is selected, an implementation map should be produced to allow employees as well as external auditors understand how and where the requirements are identified and covered.

Sheet 4,1
A1: 4.1 - Waves plans
A3: Objective & Questions | D3: Requirements | E3: Comments
A4: Objective is to: | C4: C = Critical | D4: 8
B6: Verify the capability of the Supplier:
A7: 1 | B7: 1. Section 7.1.4 on control of work transfers expects the organization establish and maintain a process to plan and control the temporary or permanent transfer of work. 9115: In
A8: 2 | B8: 2.Work transfers for software tasks (outsourcing) between business units, facilities and/or suppliers can pose risks during later stages of integration.
B9: Ensure that the Supplier:
A10: 3 | B10: 3.Following the start of a transferred activity, evidence of test results and formal delivery of reports may be required.
A11: 4 | B11: 4. Another very important part of shared work or work transfers is the management of changes and problem reports.
A12: 1 | B12: 9100 section 7.3.7 on control of design and development changes expects a change control system exists and changes are identified and records maintained. The changes are reviewed, verified and validated, as appropriate, and approved before implementation. | D12: 8
A13: 1 | B13: Does the evaluation take into account: Section 7.5.1 on control of production process changes talks about the importance of personnel who are authorized to approve changes to production processes need to be identified.
A14: 1 | B14: The complexity of modern aviation, space and defense systems is very high. Due to this level of complexity,
A16: 2 | B16: Typically a Software Quality Engineer who works with the development team on a regular basis and attends change board meetings would be a person that could also support a production area and understand what software is intended to go with what hardware. | D16: 8
A17: 2 | B17: Typically a Software Quality Engineer who works with the development team on a regular basis and attends change board meetings would be a person that could also support a production area and understand what software is intended to go with what hardware.
A18: 2 | B18: Typically a Software Quality Engineer who works with the development team on a regular basis and attends change board meetings would be a person that could also support a production area and understand what software is intended to go with what hardware.
A19: 2 | B19: Typically a Software Quality Engineer who works with the development team on a regular basis and attends change board meetings would be a person that could also support a production area and understand what software is intended to go with what hardware.
A21: 3 | B21: Factory and engineering test equipment should be qualified to meet the intended use. | D21: 8
A22: 3 | B22: Factory and engineering test equipment should be qualified to meet the intended use.
A23: 3 | B23: Factory and engineering test equipment should be qualified to meet the intended use.
A24: 3 | B24: Factory and engineering test equipment should be qualified to meet the intended use.
A25: 3 | B25: Factory and engineering test equipment should be qualified to meet the intended use. | D25: 8
A26: 3 | B26: Factory and engineering test equipment should be qualified to meet the intended use.
A27: 3 | B27: Factory and engineering test equipment should be qualified to meet the intended use. | C27: C | D27: 8
A28: 3 | B28: Factory and engineering test equipment should be qualified to meet the intended use. | C28: C | D28: 8
A29: 3 | B29: Factory and engineering test equipment should be qualified to meet the intended use.
A30: 3 | B30: Factory and engineering test equipment should be qualified to meet the intended use. | C30: C
D31: 8
A32: 4 | B32: Factory and engineering test equipment should be qualified to meet the intended use. | D32: 8
A33: 4 | B33: Factory and engineering test equipment should be qualified to meet the intended use. | C33: C | D33: 9
A34: 4 | B34: Factory and engineering test equipment should be qualified to meet the intended use. | C34: C
A35: 4 | B35: Factory and engineering test equipment should be qualified to meet the intended use. | D35: 8
A36: 4 | B36: Factory and engineering test equipment should be qualified to meet the intended use.
A37: 4 | B37: Factory and engineering test equipment should be qualified to meet the intended use.
A38: 4 | B38: Factory and engineering test equipment should be qualified to meet the intended use.
A39: 4 | B39: Factory and engineering test equipment should be qualified to meet the intended use.
A40: 4 | B40: Factory and engineering test equipment should be qualified to meet the intended use.
A41: 4 | B41: Factory and engineering test equipment should be qualified to meet the intended use. | C41: C
A42: 4 | B42: Factory and engineering test equipment should be qualified to meet the intended use.
B44: Rowa | E44: Ref. to Reqts:
A45: 8 | B45: approach is selected, an implementation map should be produced to allow employees as well as external auditors understand how and where the requirements are identified and covered. | E45: 1.1
A46: 9 | B46: Regular training should be provided
A47: 7 | B47: approach is selected, an implementation map should be produced to allow employees as well as external auditors understand how and where the requirements are identified and covered.
A48: 8 | B48: Regular training should be provided
A49: 6 | B49: approach is selected, an implementation map should be produced to allow employees as well as external auditors understand how and where the requirements are identified and covered.

Sheet 4,2
A1: 4.2 - Waves plans
A3: Objective & Questions | D3: Requirements | E3: Comments
A4: Objective is to: | C4: C = Critical | D4: 8
B6: Verify the capability of the Supplier:
A7: 1 | B7: The complexity of modern aviation, space and defense systems is very high. Due to this level of complexity,
A9: 2 | B9: Typically a Software Quality Engineer who works with the development team on a regular basis and attends change board meetings would be a person that could also support a production area and understand what software is intended to go with what hardware. | D9: 8
A10: 2 | B10: Typically a Software Quality Engineer who works with the development team on a regular basis and attends change board meetings would be a person that could also support a production area and understand what software is intended to go with what hardware.
A11: 2 | B11: Typically a Software Quality Engineer who works with the development team on a regular basis and attends change board meetings would be a person that could also support a production area and understand what software is intended to go with what hardware.
A12: 2 | B12: Typically a Software Quality Engineer who works with the development team on a regular basis and attends change board meetings would be a person that could also support a production area and understand what software is intended to go with what hardware.
A14: 3 | B14: Factory and engineering test equipment should be qualified to meet the intended use. | D14: 8
A15: 3 | B15: Factory and engineering test equipment should be qualified to meet the intended use.
A16: 3 | B16: Factory and engineering test equipment should be qualified to meet the intended use.
A17: 3 | B17: Factory and engineering test equipment should be qualified to meet the intended use.
A18: 3 | B18: Factory and engineering test equipment should be qualified to meet the intended use. | D18: 8
A19: 3 | B19: Factory and engineering test equipment should be qualified to meet the intended use.
A20: 3 | B20: Factory and engineering test equipment should be qualified to meet the intended use. | C20: C | D20: 8
A21: 3 | B21: Factory and engineering test equipment should be qualified to meet the intended use. | C21: C | D21: 8
A22: 3 | B22: Factory and engineering test equipment should be qualified to meet the intended use.
A23: 3 | B23: Factory and engineering test equipment should be qualified to meet the intended use. | C23: C
D24: 8
A25: 4 | B25: Factory and engineering test equipment should be qualified to meet the intended use. | D25: 8
A26: 4 | B26: Factory and engineering test equipment should be qualified to meet the intended use. | C26: C | D26: 9
A27: 4 | B27: Factory and engineering test equipment should be qualified to meet the intended use. | C27: C
A28: 4 | B28: Factory and engineering test equipment should be qualified to meet the intended use. | D28: 8
A29: 4 | B29: Factory and engineering test equipment should be qualified to meet the intended use.
A30: 4 | B30: Factory and engineering test equipment should be qualified to meet the intended use.
A31: 4 | B31: Factory and engineering test equipment should be qualified to meet the intended use.
A32: 4 | B32: Factory and engineering test equipment should be qualified to meet the intended use.
A33: 4 | B33: Factory and engineering test equipment should be qualified to meet the intended use.
A34: 4 | B34: Factory and engineering test equipment should be qualified to meet the intended use. | C34: C
A35: 4 | B35: Factory and engineering test equipment should be qualified to meet the intended use.
B37: Rowa | E37: Ref. to Reqts:
A38: 8 | B38: approach is selected, an implementation map should be produced to allow employees as well as external auditors understand how and where the requirements are identified and covered. | E38: 1.1
A39: 9 | B39: Regular training should be provided
A40: 7 | B40: approach is selected, an implementation map should be produced to allow employees as well as external auditors understand how and where the requirements are identified and covered.
A41: 8 | B41: Regular training should be provided
A42: 6 | B42: approach is selected, an implementation map should be produced to allow employees as well as external auditors understand how and where the requirements are identified and covered.

Sheet 5,1
A1: 5.1 - Waves plans
A3: Objective & Questions | D3: Requirements | E3: Comments
A4: Objective is to: | C4: C = Critical | D4: 8
B6: Verify the capability of the Supplier:
A7: 4 | B7: 4. Another very important part of shared work or work transfers is the management of changes and problem reports.
A8: 1 | B8: 9100 section 7.3.7 on control of design and development changes expects a change control system exists and changes are identified and records maintained. The changes are reviewed, verified and validated, as appropriate, and approved before implementation. | D8: 8
A9: 4 | B9: Factory and engineering test equipment should be qualified to meet the intended use.
A10: 4 | B10: Factory and engineering test equipment should be qualified to meet the intended use. | C10: C
A11: 4 | B11: Factory and engineering test equipment should be qualified to meet the intended use.
B13: Rowa | E13: Ref. to Reqts:
A14: 8 | B14: approach is selected, an implementation map should be produced to allow employees as well as external auditors understand how and where the requirements are identified and covered. | E14: 1.1
A15: 9 | B15: Regular training should be provided
A16: 7 | B16: approach is selected, an implementation map should be produced to allow employees as well as external auditors understand how and where the requirements are identified and covered.
A17: 8 | B17: Regular training should be provided
A18: 6 | B18: approach is selected, an implementation map should be produced to allow employees as well as external auditors understand how and where the requirements are identified and covered.

Sheet 5,2
A1: 5.2 - Waves plans
A3: Objective & Questions | D3: Requirements | E3: Comments
A4: Objective is to: | C4: C = Critical | D4: 8
B6: Verify the capability of the Supplier:
A7: 1 | B7: 1. Section 7.1.4 on control of work transfers expects the organization establish and maintain a process to plan and control the temporary or permanent transfer of work. 9115: In
A8: 2 | B8: 2.Work transfers for software tasks (outsourcing) between business units, facilities and/or suppliers can pose risks during later stages of integration.
B9: Ensure that the Supplier:
A10: 3 | B10: 3.Following the start of a transferred activity, evidence of test results and formal delivery of reports may be required.
A11: 4 | B11: 4. Another very important part of shared work or work transfers is the management of changes and problem reports.
A12: 1 | B12: 9100 section 7.3.7 on control of design and development changes expects a change control system exists and changes are identified and records maintained. The changes are reviewed, verified and validated, as appropriate, and approved before implementation. | D12: 8
A13: 1 | B13: Does the evaluation take into account: Section 7.5.1 on control of production process changes talks about the importance of personnel who are authorized to approve changes to production processes need to be identified.
A14: 1 | B14: The complexity of modern aviation, space and defense systems is very high. Due to this level of complexity,
A16: 2 | B16: Typically a Software Quality Engineer who works with the development team on a regular basis and attends change board meetings would be a person that could also support a production area and understand what software is intended to go with what hardware. | D16: 8
A17: 2 | B17: Typically a Software Quality Engineer who works with the development team on a regular basis and attends change board meetings would be a person that could also support a production area and understand what software is intended to go with what hardware.
A18: 2 | B18: Typically a Software Quality Engineer who works with the development team on a regular basis and attends change board meetings would be a person that could also support a production area and understand what software is intended to go with what hardware.
A19: 2 | B19: Typically a Software Quality Engineer who works with the development team on a regular basis and attends change board meetings would be a person that could also support a production area and understand what software is intended to go with what hardware.
A21: 3 | B21: Factory and engineering test equipment should be qualified to meet the intended use. | D21: 8
A22: 3 | B22: Factory and engineering test equipment should be qualified to meet the intended use.
A23: 3 | B23: Factory and engineering test equipment should be qualified to meet the intended use.
A24: 3 | B24: Factory and engineering test equipment should be qualified to meet the intended use.
A25: 3 | B25: Factory and engineering test equipment should be qualified to meet the intended use. | D25: 8
A26: 3 | B26: Factory and engineering test equipment should be qualified to meet the intended use.
A27: 3 | B27: Factory and engineering test equipment should be qualified to meet the intended use. | C27: C | D27: 8
A28: 3 | B28: Factory and engineering test equipment should be qualified to meet the intended use. | C28: C | D28: 8
A29: 3 | B29: Factory and engineering test equipment should be qualified to meet the intended use.
A30: 3 | B30: Factory and engineering test equipment should be qualified to meet the intended use. | C30: C
D31: 8
A32: 4 | B32: Factory and engineering test equipment should be qualified to meet the intended use. | D32: 8
A33: 4 | B33: Factory and engineering test equipment should be qualified to meet the intended use. | C33: C | D33: 9
A34: 4 | B34: Factory and engineering test equipment should be qualified to meet the intended use. | C34: C
A35: 4 | B35: Factory and engineering test equipment should be qualified to meet the intended use. | D35: 8
A36: 4 | B36: Factory and engineering test equipment should be qualified to meet the intended use.
A37: 4 | B37: Factory and engineering test equipment should be qualified to meet the intended use.
A38: 4 | B38: Factory and engineering test equipment should be qualified to meet the intended use.
A39: 4 | B39: Factory and engineering test equipment should be qualified to meet the intended use.
A40: 4 | B40: Factory and engineering test equipment should be qualified to meet the intended use.
A41: 4 | B41: Factory and engineering test equipment should be qualified to meet the intended use. | C41: C
A42: 4 | B42: Factory and engineering test equipment should be qualified to meet the intended use.
B44: Rowa | E44: Ref. to Reqts:
A45: 8 | B45: approach is selected, an implementation map should be produced to allow employees as well as external auditors understand how and where the requirements are identified and covered. | E45: 1.1
A46: 9 | B46: Regular training should be provided
A47: 7 | B47: approach is selected, an implementation map should be produced to allow employees as well as external auditors understand how and where the requirements are identified and covered.
A48: 8 | B48: Regular training should be provided
A49: 6 | B49: approach is selected, an implementation map should be produced to allow employees as well as external auditors understand how and where the requirements are identified and covered.

Sheet 5,3
A1: 5.3 - Waves plans
A3: Objective & Questions | D3: Requirements | E3: Comments
A4: Objective is to: | C4: C = Critical | D4: 8
B6: Verify the capability of the Supplier:
A7: 1 | B7: 1. Section 7.1.4 on control of work transfers expects the organization establish and maintain a process to plan and control the temporary or permanent transfer of work. 9115: In
A8: 1 | B8: The complexity of modern aviation, space and defense systems is very high. Due to this level of complexity,
A10: 2 | B10: Typically a Software Quality Engineer who works with the development team on a regular basis and attends change board meetings would be a person that could also support a production area and understand what software is intended to go with what hardware. | D10: 8
A11: 2 | B11: Typically a Software Quality Engineer who works with the development team on a regular basis and attends change board meetings would be a person that could also support a production area and understand what software is intended to go with what hardware.
A12: 2 | B12: Typically a Software Quality Engineer who works with the development team on a regular basis and attends change board meetings would be a person that could also support a production area and understand what software is intended to go with what hardware.
A13: 2 | B13: Typically a Software Quality Engineer who works with the development team on a regular basis and attends change board meetings would be a person that could also support a production area and understand what software is intended to go with what hardware.
A15: 3 | B15: Factory and engineering test equipment should be qualified to meet the intended use. | D15: 8
A16: 3 | B16: Factory and engineering test equipment should be qualified to meet the intended use.
A17: 3 | B17: Factory and engineering test equipment should be qualified to meet the intended use.
A18: 3 | B18: Factory and engineering test equipment should be qualified to meet the intended use.
A19: 3 | B19: Factory and engineering test equipment should be qualified to meet the intended use. | D19: 8
A20: 3 | B20: Factory and engineering test equipment should be qualified to meet the intended use.
A21: 3 | B21: Factory and engineering test equipment should be qualified to meet the intended use. | C21: C | D21: 8
A22: 3 | B22: Factory and engineering test equipment should be qualified to meet the intended use. | C22: C | D22: 8
A23: 3 | B23: Factory and engineering test equipment should be qualified to meet the intended use.
A24: 3 | B24: Factory and engineering test equipment should be qualified to meet the intended use. | C24: C
D25: 8
A26: 4 | B26: Factory and engineering test equipment should be qualified to meet the intended use. | D26: 8
A27: 4 | B27: Factory and engineering test equipment should be qualified to meet the intended use. | C27: C | D27: 9
A28: 4 | B28: Factory and engineering test equipment should be qualified to meet the intended use. | C28: C
A29: 4 | B29: Factory and engineering test equipment should be qualified to meet the intended use. | D29: 8
A30: 4 | B30: Factory and engineering test equipment should be qualified to meet the intended use.
A31: 4 | B31: Factory and engineering test equipment should be qualified to meet the intended use.
A32: 4 | B32: Factory and engineering test equipment should be qualified to meet the intended use.
A33: 4 | B33: Factory and engineering test equipment should be qualified to meet the intended use.
A34: 4 | B34: Factory and engineering test equipment should be qualified to meet the intended use.
A35: 4 | B35: Factory and engineering test equipment should be qualified to meet the intended use. | C35: C
A36: 4 | B36: Factory and engineering test equipment should be qualified to meet the intended use.
B38: Rowa | E38: Ref. to Reqts:
A39: 8 | B39: approach is selected, an implementation map should be produced to allow employees as well as external auditors understand how and where the requirements are identified and covered. | E39: 1.1
A40: 9 | B40: Regular training should be provided
A41: 7 | B41: approach is selected, an implementation map should be produced to allow employees as well as external auditors understand how and where the requirements are identified and covered.
A42: 8 | B42: Regular training should be provided
A43: 6 | B43: approach is selected, an implementation map should be produced to allow employees as well as external auditors understand how and where the requirements are identified and covered.

Sheet 5,4
A1: 5.4 - Waves plans
A3: Objective & Questions | D3: Requirements | E3: Comments
A4: Objective is to: | C4: C = Critical | D4: 8
B6: Verify the capability of the Supplier:
A7: 1 | B7: 1. Section 7.1.4 on control of work transfers expects the organization establish and maintain a process to plan and control the temporary or permanent transfer of work. 9115: In
A8: 2 | B8: 2.Work transfers for software tasks (outsourcing) between business units, facilities and/or suppliers can pose risks during later stages of integration.
B9: Ensure that the Supplier:
A10: 3 | B10: 3.Following the start of a transferred activity, evidence of test results and formal delivery of reports may be required.
A11: 4 | B11: 4. Another very important part of shared work or work transfers is the management of changes and problem reports.
A12: 1 | B12: 9100 section 7.3.7 on control of design and development changes expects a change control system exists and changes are identified and records maintained. The changes are reviewed, verified and validated, as appropriate, and approved before implementation. | D12: 8
A13: 1 | B13: Does the evaluation take into account: Section 7.5.1 on control of production process changes talks about the importance of personnel who are authorized to approve changes to production processes need to be identified.
A14: 1 | B14: The complexity of modern aviation, space and defense systems is very high. Due to this level of complexity,
A16: 2 | B16: Typically a Software Quality Engineer who works with the development team on a regular basis and attends change board meetings would be a person that could also support a production area and understand what software is intended to go with what hardware. | D16: 8
A17: 2 | B17: Typically a Software Quality Engineer who works with the development team on a regular basis and attends change board meetings would be a person that could also support a production area and understand what software is intended to go with what hardware.
A18: 2 | B18: Typically a Software Quality Engineer who works with the development team on a regular basis and attends change board meetings would be a person that could also support a production area and understand what software is intended to go with what hardware.
A19: 2 | B19: Typically a Software Quality Engineer who works with the development team on a regular basis and attends change board meetings would be a person that could also support a production area and understand what software is intended to go with what hardware.
A21: 3 | B21: Factory and engineering test equipment should be qualified to meet the intended use. | D21: 8
A22: 3 | B22: Factory and engineering test equipment should be qualified to meet the intended use.
A23: 3 | B23: Factory and engineering test equipment should be qualified to meet the intended use.
A24: 3 | B24: Factory and engineering test equipment should be qualified to meet the intended use.
A25: 3 | B25: Factory and engineering test equipment should be qualified to meet the intended use. | D25: 8
A26: 3 | B26: Factory and engineering test equipment should be qualified to meet the intended use.
A27: 3 | B27: Factory and engineering test equipment should be qualified to meet the intended use. | C27: C | D27: 8
A28: 3 | B28: Factory and engineering test equipment should be qualified to meet the intended use. | C28: C | D28: 8
B30: Rowa | E30: Ref. to Reqts:
A31: 8 | B31: approach is selected, an implementation map should be produced to allow employees as well as external auditors understand how and where the requirements are identified and covered. | E31: 1.1
A32: 9 | B32: Regular training should be provided
A33: 7 | B33: approach is selected, an implementation map should be produced to allow employees as well as external auditors understand how and where the requirements are identified and covered.
A34: 8 | B34: Regular training should be provided
A35: 6 | B35: approach is selected, an implementation map should be produced to allow employees as well as external auditors understand how and where the requirements are identified and covered.

Sheet 5,5
A1: 5.5 - Waves plans
A3: Objective & Questions | D3: Requirements | E3: Comments
A4: Objective is to: | C4: C = Critical | D4: 8
B6: Verify the capability of the Supplier:
A7: 1 | B7: 1. Section 7.1.4 on control of work transfers expects the organization establish and maintain a process to plan and control the temporary or permanent transfer of work. 9115: In
A8: 2 | B8: 2.Work transfers for software tasks (outsourcing) between business units, facilities and/or suppliers can pose risks during later stages of integration.
B9: Ensure that the Supplier:
A10: 3 | B10: 3.Following the start of a transferred activity, evidence of test results and formal delivery of reports may be required.
A11: 4 | B11: 4. Another very important part of shared work or work transfers is the management of changes and problem reports.
A12: 1 | B12: 9100 section 7.3.7 on control of design and development changes expects a change control system exists and changes are identified and records maintained. The changes are reviewed, verified and validated, as appropriate, and approved before implementation. | D12: 8
A13: 1 | B13: Does the evaluation take into account: Section 7.5.1 on control of production process changes talks about the importance of personnel who are authorized to approve changes to production processes need to be identified.
A14: 1 | B14: The complexity of modern aviation, space and defense systems is very high. Due to this level of complexity,
A16: 2 | B16: Typically a Software Quality Engineer who works with the development team on a regular basis and attends change board meetings would be a person that could also support a production area and understand what software is intended to go with what hardware. | D16: 8
A17: 2 | B17: Typically a Software Quality Engineer who works with the development team on a regular basis and attends change board meetings would be a person that could also support a production area and understand what software is intended to go with what hardware.
A18: 2 | B18: Typically a Software Quality Engineer who works with the development team on a regular basis and attends change board meetings would be a person that could also support a production area and understand what software is intended to go with what hardware.
A19: 2 | B19: Typically a Software Quality Engineer who works with the development team on a regular basis and attends change board meetings would be a person that could also support a production area and understand what software is intended to go with what hardware.
A21: 3 | B21: Factory and engineering test equipment should be qualified to meet the intended use. | D21: 8
A22: 3 | B22: Factory and engineering test equipment should be qualified to meet the intended use.
A23: 3 | B23: Factory and engineering test equipment should be qualified to meet the intended use.
A24: 3 | B24: Factory and engineering test equipment should be qualified to meet the intended use.
A25: 3 | B25: Factory and engineering test equipment should be qualified to meet the intended use. | D25: 8
A26: 3 | B26: Factory and engineering test equipment should be qualified to meet the intended use.
A27: 3 | B27: Factory and engineering test equipment should be qualified to meet the intended use. | C27: C | D27: 8
A28: 3 | B28: Factory and engineering test equipment should be qualified to meet the intended use. | C28: C | D28: 8
A29: 3 | B29: Factory and engineering test equipment should be qualified to meet the intended use.
A30: 3 | B30: Factory and engineering test equipment should be qualified to meet the intended use. | C30: C
D31: 8
A32: 4 | B32: Factory and engineering test equipment should be qualified to meet the intended use. | D32: 8
A33: 4 | B33: Factory and engineering test equipment should be qualified to meet the intended use. | C33: C | D33: 9
A34: 4 | B34: Factory and engineering test equipment should be qualified to meet the intended use. | C34: C
A35: 4 | B35: Factory and engineering test equipment should be qualified to meet the intended use. | D35: 8
A36: 4 | B36: Factory and engineering test equipment should be qualified to meet the intended use.
A37: 4 | B37: Factory and engineering test equipment should be qualified to meet the intended use.
A38: 4 | B38: Factory and engineering test equipment should be qualified to meet the intended use.
A39: 4 | B39: Factory and engineering test equipment should be qualified to meet the intended use.
A40: 4 | B40: Factory and engineering test equipment should be qualified to meet the intended use.
A41: 4 | B41: Factory and engineering test equipment should be qualified to meet the intended use. | C41: C
A42: 4 | B42: Factory and engineering test equipment should be qualified to meet the intended use.
B44: Rowa | E44: Ref. to Reqts:
A45: 8 | B45: approach is selected, an implementation map should be produced to allow employees as well as external auditors understand how and where the requirements are identified and covered. | E45: 1.1
A46: 9 | B46: Regular training should be provided
A47: 7 | B47: approach is selected, an implementation map should be produced to allow employees as well as external auditors understand how and where the requirements are identified and covered.
A48: 8 | B48: Regular training should be provided
A49: 6 | B49: approach is selected, an implementation map should be produced to allow employees as well as external auditors understand how and where the requirements are identified and covered.

Sheet 5,6
A1: 5.6 - Waves plans
A3: Objective & Questions | D3: Requirements | E3: Comments
A4: Objective is to: | C4: C = Critical | D4: 8
B6: Verify the capability of the Supplier:
A7: 1 | B7: 1. Section 7.1.4 on control of work transfers expects the organization establish and maintain a process to plan and control the temporary or permanent transfer of work. 9115: In
A8: 2 | B8: 2.Work transfers for software tasks (outsourcing) between business units, facilities and/or suppliers can pose risks during later stages of integration.
B9: Ensure that the Supplier:
A10: 3 | B10: 3.Following the start of a transferred activity, evidence of test results and formal delivery of reports may be required.
A11: 4 | B11: 4. Another very important part of shared work or work transfers is the management of changes and problem reports.
A12: 1 | B12: 9100 section 7.3.7 on control of design and development changes expects a change control system exists and changes are identified and records maintained. The changes are reviewed, verified and validated, as appropriate, and approved before implementation. | D12: 8
A13: 1 | B13: Does the evaluation take into account: Section 7.5.1 on control of production process changes talks about the importance of personnel who are authorized to approve changes to production processes need to be identified.
A14: 1 | B14: The complexity of modern aviation, space and defense systems is very high. Due to this level of complexity,
A16: 2 | B16: Typically a Software Quality Engineer who works with the development team on a regular basis and attends change board meetings would be a person that could also support a production area and understand what software is intended to go with what hardware. | D16: 8
A17: 2 | B17: Typically a Software Quality Engineer who works with the development team on a regular basis and attends change board meetings would be a person that could also support a production area and understand what software is intended to go with what hardware.
A18: 2 | B18: Typically a Software Quality Engineer who works with the development team on a regular basis and attends change board meetings would be a person that could also support a production area and understand what software is intended to go with what hardware.
A19: 2 | B19: Typically a Software Quality Engineer who works with the development team on a regular basis and attends change board meetings would be a person that could also support a production area and understand what software is intended to go with what hardware.
A21: 3 | B21: Factory and engineering test equipment should be qualified to meet the intended use. | D21: 8
A22: 3 | B22: Factory and engineering test equipment should be qualified to meet the intended use.
A23: 3 | B23: Factory and engineering test equipment should be qualified to meet the intended use.
A24: 3 | B24: Factory and engineering test equipment should be qualified to meet the intended use.
A25: 3 | B25: Factory and engineering test equipment should be qualified to meet the intended use. | D25: 8
A26: 3 | B26: Factory and engineering test equipment should be qualified to meet the intended use.
A27: 3 | B27: Factory and engineering test equipment should be qualified to meet the intended use. | C27: C | D27: 8
A28: 3 | B28: Factory and engineering test equipment should be qualified to meet the intended use. | C28: C | D28: 8
A29: 3 | B29: Factory and engineering test equipment should be qualified to meet the intended use.
A30: 3 | B30: Factory and engineering test equipment should be qualified to meet the intended use. | C30: C
D31: 8
A32: 4 | B32: Factory and engineering test equipment should be qualified to meet the intended use. | D32: 8
A33: 4 | B33: Factory and engineering test equipment should be qualified to meet the intended use. | C33: C | D33: 9
A34: 4 | B34: Factory and engineering test equipment should be qualified to meet the intended use. | C34: C
A35: 4 | B35: Factory and engineering test equipment should be qualified to meet the intended use. | D35: 8
A36: 4 | B36: Factory and engineering test equipment should be qualified to meet the intended use.
A37: 4 | B37: Factory and engineering test equipment should be qualified to meet the intended use.
A38: 4 | B38: Factory and engineering test equipment should be qualified to meet the intended use.
A39: 4 | B39: Factory and engineering test equipment should be qualified to meet the intended use.
A40: 4 | B40: Factory and engineering test equipment should be qualified to meet the intended use.
A41: 4 | B41: Factory and engineering test equipment should be qualified to meet the intended use. | C41: C
A42: 4 | B42: Factory and engineering test equipment should be qualified to meet the intended use.
B44: Rowa | E44: Ref. to Reqts:
A45: 8 | B45: approach is selected, an implementation map should be produced to allow employees as well as external auditors understand how and where the requirements are identified and covered. | E45: 1.1
A46: 9 | B46: Regular training should be provided
A47: 7 | B47: approach is selected, an implementation map should be produced to allow employees as well as external auditors understand how and where the requirements are identified and covered.
A48: 8 | B48: Regular training should be provided
A49: 6 | B49: approach is selected, an implementation map should be produced to allow employees as well as external auditors understand how and where the requirements are identified and covered.

Sheet 5,7
A1: 5.7 - Waves plans
A3: Objective & Questions | D3: Requirements | E3: Comments
A4: Objective is to: | C4: C = Critical | D4: 8
B6: Verify the capability of the Supplier:
A7: 1 | B7: 1. Section 7.1.4 on control of work transfers expects the organization establish and maintain a process to plan and control the temporary or permanent transfer of work. 9115: In
A8: 2 | B8: 2.Work transfers for software tasks (outsourcing) between business units, facilities and/or suppliers can pose risks during later stages of integration.
B9: Ensure that the Supplier:
A10: 3 | B10: 3.Following the start of a transferred activity, evidence of test results and formal delivery of reports may be required.
A11: 4 | B11: 4. Another very important part of shared work or work transfers is the management of changes and problem reports.
A12: 1 | B12: 9100 section 7.3.7 on control of design and development changes expects a change control system exists and changes are identified and records maintained. The changes are reviewed, verified and validated, as appropriate, and approved before implementation. | D12: 8
A13: 1 | B13: Does the evaluation take into account: Section 7.5.1 on control of production process changes talks about the importance of personnel who are authorized to approve changes to production processes need to be identified.
A14: 1 | B14: The complexity of modern aviation, space and defense systems is very high. Due to this level of complexity,
A16: 2 | B16: Typically a Software Quality Engineer who works with the development team on a regular basis and attends change board meetings would be a person that could also support a production area and understand what software is intended to go with what hardware. | D16: 8
A17: 2 | B17: Typically a Software Quality Engineer who works with the development team on a regular basis and attends change board meetings would be a person that could also support a production area and understand what software is intended to go with what hardware.
A18: 2 | B18: Typically a Software Quality Engineer who works with the development team on a regular basis and attends change board meetings would be a person that could also support a production area and understand what software is intended to go with what hardware.
A19: 2 | B19: Typically a Software Quality Engineer who works with the development team on a regular basis and attends change board meetings would be a person that could also support a production area and understand what software is intended to go with what hardware.
A21: 3 | B21: Factory and engineering test equipment should be qualified to meet the intended use. | D21: 8
A22: 3 | B22: Factory and engineering test equipment should be qualified to meet the intended use.
A23: 3 | B23: Factory and engineering test equipment should be qualified to meet the intended use.
A24: 3 | B24: Factory and engineering test equipment should be qualified to meet the intended use.
A25: 3 | B25: Factory and engineering test equipment should be qualified to meet the intended use. | D25: 8
A26: 3 | B26: Factory and engineering test equipment should be qualified to meet the intended use.
A27: 3 | B27: Factory and engineering test equipment should be qualified to meet the intended use. | C27: C | D27: 8
A28: 3 | B28: Factory and engineering test equipment should be qualified to meet the intended use. | C28: C | D28: 8
A29: 3 | B29: Factory and engineering test equipment should be qualified to meet the intended use.
A30: 3 | B30: Factory and engineering test equipment should be qualified to meet the intended use. | C30: C
D31: 8
A32: 4 | B32: Factory and engineering test equipment should be qualified to meet the intended use. | D32: 8
A33: 4 | B33: Factory and engineering test equipment should be qualified to meet the intended use. | C33: C | D33: 9
A34: 4 | B34: Factory and engineering test equipment should be qualified to meet the intended use. | C34: C
A35: 4 | B35: Factory and engineering test equipment should be qualified to meet the intended use. | D35: 8
A36: 4 | B36: Factory and engineering test equipment should be qualified to meet the intended use.
A37: 4 | B37: Factory and engineering test equipment should be qualified to meet the intended use.
A38: 4 | B38: Factory and engineering test equipment should be qualified to meet the intended use.
A39: 4 | B39: Factory and engineering test equipment should be qualified to meet the intended use.
A40: 4 | B40: Factory and engineering test equipment should be qualified to meet the intended use.
A41: 4 | B41: Factory and engineering test equipment should be qualified to meet the intended use. | C41: C
A42: 4 | B42: Factory and engineering test equipment should be qualified to meet the intended use.
B44: Rowa | E44: Ref. to Reqts:
A45: 8 | B45: approach is selected, an implementation map should be produced to allow employees as well as external auditors understand how and where the requirements are identified and covered. | E45: 1.1
A46: 9 | B46: Regular training should be provided
A47: 7 | B47: approach is selected, an implementation map should be produced to allow employees as well as external auditors understand how and where the requirements are identified and covered.
A48: 8 | B48: Regular training should be provided
A49: 6 | B49: approach is selected, an implementation map should be produced to allow employees as well as external auditors understand how and where the requirements are identified and covered.

Sheet 5,8
A1: 5.8 - Waves plans
A3: Objective & Questions | D3: Requirements | E3: Comments
A4: Objective is to: | C4: C = Critical | D4: 8
B6: Verify the capability of the Supplier:
A7: 1 | B7: 1. Section 7.1.4 on control of work transfers expects the organization establish and maintain a process to plan and control the temporary or permanent transfer of work. 9115: In
A8: 2 | B8: 2.Work transfers for software tasks (outsourcing) between business units, facilities and/or suppliers can pose risks during later stages of integration.
B9: Ensure that the Supplier:
A10: 3 | B10: 3.Following the start of a transferred activity, evidence of test results and formal delivery of reports may be required.
A11: 4 | B11: 4. Another very important part of shared work or work transfers is the management of changes and problem reports.
A12: 1 | B12: 9100 section 7.3.7 on control of design and development changes expects a change control system exists and changes are identified and records maintained. The changes are reviewed, verified and validated, as appropriate, and approved before implementation. | D12: 8
A13: 1 | B13: Does the evaluation take into account: Section 7.5.1 on control of production process changes talks about the importance of personnel who are authorized to approve changes to production processes need to be identified.
A14: 1 | B14: The complexity of modern aviation, space and defense systems is very high. Due to this level of complexity,
A16: 2 | B16: Typically a Software Quality Engineer who works with the development team on a regular basis and attends change board meetings would be a person that could also support a production area and understand what software is intended to go with what hardware. | D16: 8
A17: 2 | B17: Typically a Software Quality Engineer who works with the development team on a regular basis and attends change board meetings would be a person that could also support a production area and understand what software is intended to go with what hardware.
A18: 2 | B18: Typically a Software Quality Engineer who works with the development team on a regular basis and attends change board meetings would be a person that could also support a production area and understand what software is intended to go with what hardware.
A19: 2 | B19: Typically a Software Quality Engineer who works with the development team on a regular basis and attends change board meetings would be a person that could also support a production area and understand what software is intended to go with what hardware.
A21: 3 | B21: Factory and engineering test equipment should be qualified to meet the intended use. | D21: 8
A22: 3 | B22: Factory and engineering test equipment should be qualified to meet the intended use.
A23: 3 | B23: Factory and engineering test equipment should be qualified to meet the intended use.
A24: 3 | B24: Factory and engineering test equipment should be qualified to meet the intended use.
A25: 3 | B25: Factory and engineering test equipment should be qualified to meet the intended use. | D25: 8
A26: 3 | B26: Factory and engineering test equipment should be qualified to meet the intended use.
A27: 3 | B27: Factory and engineering test equipment should be qualified to meet the intended use. | C27: C | D27: 8
A28: 3 | B28: Factory and engineering test equipment should be qualified to meet the intended use. | C28: C | D28: 8
A29: 3 | B29: Factory and engineering test equipment should be qualified to meet the intended use.
A30: 3 | B30: Factory and engineering test equipment should be qualified to meet the intended use. | C30: C
D31: 8
A32: 4 | B32: Factory and engineering test equipment should be qualified to meet the intended use. | D32: 8
A33: 4 | B33: Factory and engineering test equipment should be qualified to meet the intended use. | C33: C | D33: 9
A34: 4 | B34: Factory and engineering test equipment should be qualified to meet the intended use. | C34: C
A35: 4 | B35: Factory and engineering test equipment should be qualified to meet the intended use. | D35: 8
A36: 4 | B36: Factory and engineering test equipment should be qualified to meet the intended use.
A37: 4 | B37: Factory and engineering test equipment should be qualified to meet the intended use.
A38: 4 | B38: Factory and engineering test equipment should be qualified to meet the intended use.
A39: 4 | B39: Factory and engineering test equipment should be qualified to meet the intended use.
A40: 4 | B40: Factory and engineering test equipment should be qualified to meet the intended use.
A41: 4 | B41: Factory and engineering test equipment should be qualified to meet the intended use. | C41: C
A42: 4 | B42: Factory and engineering test equipment should be qualified to meet the intended use.
B44: Rowa | E44: Ref. to Reqts:
A45: 8 | B45: approach is selected, an implementation map should be produced to allow employees as well as external auditors understand how and where the requirements are identified and covered. | E45: 1.1
A46: 9 | B46: Regular training should be provided
A47: 7 | B47: approach is selected, an implementation map should be produced to allow employees as well as external auditors understand how and where the requirements are identified and covered.
A48: 8 | B48: Regular training should be provided
A49: 6 | B49: approach is selected, an implementation map should be produced to allow employees as well as external auditors understand how and where the requirements are identified and covered.

Sheet 6,1
A1: 6.1 - Waves plans
A3: Objective & Questions | D3: Requirements | E3: Comments
A4: Objective is to: | C4: C = Critical | D4: 8
B6: Verify the capability of the Supplier:
A7: 1 | B7: 1. Section 7.1.4 on control of work transfers expects the organization establish and maintain a process to plan and control the temporary or permanent transfer of work. 9115: In
A8: 2 | B8: 2.Work transfers for software tasks (outsourcing) between business units, facilities and/or suppliers can pose risks during later stages of integration.
B9: Ensure that the Supplier:
A10: 3 | B10: 3.Following the start of a transferred activity, evidence of test results and formal delivery of reports may be required.
A11: 4 | B11: 4. Another very important part of shared work or work transfers is the management of changes and problem reports.
A12: 1 | B12: 9100 section 7.3.7 on control of design and development changes expects a change control system exists and changes are identified and records maintained. The changes are reviewed, verified and validated, as appropriate, and approved before implementation. | D12: 8

Sheet 6,2
A1: 6.2 - Waves plans
A3: Objective & Questions | D3: Requirements | E3: Comments
A4: Objective is to: | C4: C = Critical | D4: 8
B6: Verify the capability of the Supplier:
A7: 1 | B7: 1. Section 7.1.4 on control of work transfers expects the organization establish and maintain a process to plan and control the temporary or permanent transfer of work. 9115: In
A8: 2 | B8: 2.Work transfers for software tasks (outsourcing) between business units, facilities and/or suppliers can pose risks during later stages of integration.
B9: Ensure that the Supplier:
A10: 3 | B10: 3.Following the start of a transferred activity, evidence of test results and formal delivery of reports may be required.
A11: 4 | B11: 4. Another very important part of shared work or work transfers is the management of changes and problem reports.
A12: 1 | B12: 9100 section 7.3.7 on control of design and development changes expects a change control system exists and changes are identified and records maintained. The changes are reviewed, verified and validated, as appropriate, and approved before implementation. | D12: 8

Sheet 6,3
A1: 6.3 - Waves plans
A3: Objective & Questions | D3: Requirements | E3: Comments
A4: Objective is to: | C4: C = Critical | D4: 8
B6: Verify the capability of the Supplier:
A7: 1 | B7: 1. Section 7.1.4 on control of work transfers expects the organization establish and maintain a process to plan and control the temporary or permanent transfer of work. 9115: In
A8: 2 | B8: 2.Work transfers for software tasks (outsourcing) between business units, facilities and/or suppliers can pose risks during later stages of integration.
B9: Ensure that the Supplier:
A10: 3 | B10: 3.Following the start of a transferred activity, evidence of test results and formal delivery of reports may be required.
A11: 4 | B11: 4. Another very important part of shared work or work transfers is the management of changes and problem reports.
A12: 1 | B12: 9100 section 7.3.7 on control of design and development changes expects a change control system exists and changes are identified and records maintained. The changes are reviewed, verified and validated, as appropriate, and approved before implementation. | D12: 8
A13: 1 | B13: Does the evaluation take into account: Section 7.5.1 on control of production process changes talks about the importance of personnel who are authorized to approve changes to production processes need to be identified.
A14: 1 | B14: The complexity of modern aviation, space and defense systems is very high. Due to this level of complexity,
A16: 2 | B16: Typically a Software Quality Engineer who works with the development team on a regular basis and attends change board meetings would be a person that could also support a production area and understand what software is intended to go with what hardware. | D16: 8
A17: 2 | B17: Typically a Software Quality Engineer who works with the development team on a regular basis and attends change board meetings would be a person that could also support a production area and understand what software is intended to go with what hardware.
A18: 2 | B18: Typically a Software Quality Engineer who works with the development team on a regular basis and attends change board meetings would be a person that could also support a production area and understand what software is intended to go with what hardware.
A19: 2 | B19: Typically a Software Quality Engineer who works with the development team on a regular basis and attends change board meetings would be a person that could also support a production area and understand what software is intended to go with what hardware.
A21: 3 | B21: Factory and engineering test equipment should be qualified to meet the intended use. | D21: 8
A22: 3 | B22: Factory and engineering test equipment should be qualified to meet the intended use.
A23: 3 | B23: Factory and engineering test equipment should be qualified to meet the intended use.
A24: 3 | B24: Factory and engineering test equipment should be qualified to meet the intended use.
A25: 3 | B25: Factory and engineering test equipment should be qualified to meet the intended use. | D25: 8
A26: 3 | B26: Factory and engineering test equipment should be qualified to meet the intended use.
A27: 3 | B27: Factory and engineering test equipment should be qualified to meet the intended use. | C27: C | D27: 8
A28: 3 | B28: Factory and engineering test equipment should be qualified to meet the intended use. | C28: C | D28: 8
A29: 3 | B29: Factory and engineering test equipment should be qualified to meet the intended use.
A30: 3 | B30: Factory and engineering test equipment should be qualified to meet the intended use. | C30: C
D31: 8
A32: 4 | B32: Factory and engineering test equipment should be qualified to meet the intended use. | D32: 8
A33: 4 | B33: Factory and engineering test equipment should be qualified to meet the intended use. | C33: C | D33: 9
A34: 4 | B34: Factory and engineering test equipment should be qualified to meet the intended use. | C34: C
A35: 4 | B35: Factory and engineering test equipment should be qualified to meet the intended use. | D35: 8
A36: 4 | B36: Factory and engineering test equipment should be qualified to meet the intended use.
A37: 4 | B37: Factory and engineering test equipment should be qualified to meet the intended use.
A38: 4 | B38: Factory and engineering test equipment should be qualified to meet the intended use.
A39: 4 | B39: Factory and engineering test equipment should be qualified to meet the intended use.
A40: 4 | B40: Factory and engineering test equipment should be qualified to meet the intended use.
A41: 4 | B41: Factory and engineering test equipment should be qualified to meet the intended use. | C41: C
A42: 4 | B42: Factory and engineering test equipment should be qualified to meet the intended use.
B44: Rowa | E44: Ref. to Reqts:
A45: 8 | B45: approach is selected, an implementation map should be produced to allow employees as well as external auditors understand how and where the requirements are identified and covered. | E45: 1.1
A46: 9 | B46: Regular training should be provided
A47: 7 | B47: approach is selected, an implementation map should be produced to allow employees as well as external auditors understand how and where the requirements are identified and covered.
A48: 8 | B48: Regular training should be provided
A49: 6 | B49: approach is selected, an implementation map should be produced to allow employees as well as external auditors understand how and where the requirements are identified and covered.

Sheet 7,1
A1: 7.1 - Waves plans
A3: Objective & Questions | D3: Requirements | E3: Comments
A4: Objective is to: | C4: C = Critical | D4: 8
B6: Verify the capability of the Supplier:
A7: 1 | B7: 1. Section 7.1.4 on control of work transfers expects the organization establish and maintain a process to plan and control the temporary or permanent transfer of work. 9115: In
A8: 2 | B8: 2.Work transfers for software tasks (outsourcing) between business units, facilities and/or suppliers can pose risks during later stages of integration.
B9: Ensure that the Supplier:
A10: 3 | B10: 3.Following the start of a transferred activity, evidence of test results and formal delivery of reports may be required.
A11: 4 | B11: 4. Another very important part of shared work or work transfers is the management of changes and problem reports.
A12: 1 | B12: 9100 section 7.3.7 on control of design and development changes expects a change control system exists and changes are identified and records maintained. The changes are reviewed, verified and validated, as appropriate, and approved before implementation. | D12: 8

Sheet 7,2
A1: 7.2 - Waves plans
A3: Objective & Questions | D3: Requirements | E3: Comments
A4: Objective is to: | C4: C = Critical | D4: 8
B6: Verify the capability of the Supplier:
A7: 4 | B7: 4. Another very important part of shared work or work transfers is the management of changes and problem reports.
A8: 1 | B8: 9100 section 7.3.7 on control of design and development changes expects a change control system exists and changes are identified and records maintained. The changes are reviewed, verified and validated, as appropriate, and approved before implementation. | D8: 8
A9: 2 | B9: Typically a Software Quality Engineer who works with the development team on a regular basis and attends change board meetings would be a person that could also support a production area and understand what software is intended to go with what hardware.
A11: 3 | B11: Factory and engineering test equipment should be qualified to meet the intended use. | D11: 8
A12: 3 | B12: Factory and engineering test equipment should be qualified to meet the intended use.
A13: 3 | B13: Factory and engineering test equipment should be qualified to meet the intended use.
A14: 3 | B14: Factory and engineering test equipment should be qualified to meet the intended use.
A15: 3 | B15: Factory and engineering test equipment should be qualified to meet the intended use. | D15: 8
A16: 3 | B16: Factory and engineering test equipment should be qualified to meet the intended use.
A17: 3 | B17: Factory and engineering test equipment should be qualified to meet the intended use. | C17: C | D17: 8
A18: 4 | B18: Factory and engineering test equipment should be qualified to meet the intended use.
A19: 4 | B19: Factory and engineering test equipment should be qualified to meet the intended use. | C19: C
A20: 4 | B20: Factory and engineering test equipment should be qualified to meet the intended use.
B22: Rowa | E22: Ref. to Reqts:
A23: 8 | B23: approach is selected, an implementation map should be produced to allow employees as well as external auditors understand how and where the requirements are identified and covered. | E23: 1.1
A24: 9 | B24: Regular training should be provided
A25: 7 | B25: approach is selected, an implementation map should be produced to allow employees as well as external auditors understand how and where the requirements are identified and covered.
A26: 8 | B26: Regular training should be provided
A27: 6 | B27: approach is selected, an implementation map should be produced to allow employees as well as external auditors understand how and where the requirements are identified and covered.

Sheet 7,3
A1: 7.3 - Waves plans
A3: Objective & Questions | D3: Requirements | E3: Comments
A4: Objective is to: | C4: C = Critical | D4: 8
B6: Verify the capability of the Supplier:
A7: 1 | B7: 1. Section 7.1.4 on control of work transfers expects the organization establish and maintain a process to plan and control the temporary or permanent transfer of work. 9115: In
A8: 2 | B8: 2.Work transfers for software tasks (outsourcing) between business units, facilities and/or suppliers can pose risks during later stages of integration.
B9: Ensure that the Supplier:
A10: 3 | B10: 3.Following the start of a transferred activity, evidence of test results and formal delivery of reports may be required.
A11: 4 | B11: 4. Another very important part of shared work or work transfers is the management of changes and problem reports.
A12: 1 | B12: 9100 section 7.3.7 on control of design and development changes expects a change control system exists and changes are identified and records maintained. The changes are reviewed, verified and validated, as appropriate, and approved before implementation. | D12: 8
A13: 1 | B13: Does the evaluation take into account: Section 7.5.1 on control of production process changes talks about the importance of personnel who are authorized to approve changes to production processes need to be identified.
A14: 1 | B14: The complexity of modern aviation, space and defense systems is very high. Due to this level of complexity,
A16: 2 | B16: Typically a Software Quality Engineer who works with the development team on a regular basis and attends change board meetings would be a person that could also support a production area and understand what software is intended to go with what hardware. | D16: 8
A17: 2 | B17: Typically a Software Quality Engineer who works with the development team on a regular basis and attends change board meetings would be a person that could also support a production area and understand what software is intended to go with what hardware.
A18: 2 | B18: Typically a Software Quality Engineer who works with the development team on a regular basis and attends change board meetings would be a person that could also support a production area and understand what software is intended to go with what hardware.
A19: 2 | B19: Typically a Software Quality Engineer who works with the development team on a regular basis and attends change board meetings would be a person that could also support a production area and understand what software is intended to go with what hardware.
A21: 3 | B21: Factory and engineering test equipment should be qualified to meet the intended use. | D21: 8
A22: 3 | B22: Factory and engineering test equipment should be qualified to meet the intended use.
A23: 3 | B23: Factory and engineering test equipment should be qualified to meet the intended use.
A24: 3 | B24: Factory and engineering test equipment should be qualified to meet the intended use.
A25: 3 | B25: Factory and engineering test equipment should be qualified to meet the intended use. | D25: 8
A26: 3 | B26: Factory and engineering test equipment should be qualified to meet the intended use.
A27: 3 | B27: Factory and engineering test equipment should be qualified to meet the intended use. | C27: C | D27: 8
A28: 3 | B28: Factory and engineering test equipment should be qualified to meet the intended use. | C28: C | D28: 8
A29: 3 | B29: Factory and engineering test equipment should be qualified to meet the intended use.
A30: 3 | B30: Factory and engineering test equipment should be qualified to meet the intended use. | C30: C
D31: 8
A32: 4 | B32: Factory and engineering test equipment should be qualified to meet the intended use. | D32: 8
A33: 4 | B33: Factory and engineering test equipment should be qualified to meet the intended use. | C33: C | D33: 9
A34: 4 | B34: Factory and engineering test equipment should be qualified to meet the intended use. | C34: C
A35: 4 | B35: Factory and engineering test equipment should be qualified to meet the intended use. | D35: 8
A36: 4 | B36: Factory and engineering test equipment should be qualified to meet the intended use.
A37: 4 | B37: Factory and engineering test equipment should be qualified to meet the intended use.
A38: 4 | B38: Factory and engineering test equipment should be qualified to meet the intended use.
A39: 4 | B39: Factory and engineering test equipment should be qualified to meet the intended use.
A40: 4 | B40: Factory and engineering test equipment should be qualified to meet the intended use.
A41: 4 | B41: Factory and engineering test equipment should be qualified to meet the intended use. | C41: C
A42: 4 | B42: Factory and engineering test equipment should be qualified to meet the intended use.
B44: Rowa | E44: Ref. to Reqts:
A45: 8 | B45: approach is selected, an implementation map should be produced to allow employees as well as external auditors understand how and where the requirements are identified and covered. | E45: 1.1
A46: 9 | B46: Regular training should be provided
A47: 7 | B47: approach is selected, an implementation map should be produced to allow employees as well as external auditors understand how and where the requirements are identified and covered.
A48: 8 | B48: Regular training should be provided
A49: 6 | B49: approach is selected, an implementation map should be produced to allow employees as well as external auditors understand how and where the requirements are identified and covered.

Sheet 8,1
A1: 8.1 - Waves plans
A3: Objective & Questions | D3: Requirements | E3: Comments
A4: Objective is to: | C4: C = Critical | D4: 8
B6: Verify the capability of the Supplier:
A7: 1 | B7: 1. Section 7.1.4 on control of work transfers expects the organization establish and maintain a process to plan and control the temporary or permanent transfer of work. 9115: In
A8: 2 | B8: 2.Work transfers for software tasks (outsourcing) between business units, facilities and/or suppliers can pose risks during later stages of integration.
B9: Ensure that the Supplier:
A10: 3 | B10: 3.Following the start of a transferred activity, evidence of test results and formal delivery of reports may be required.
A11: 4 | B11: 4. Another very important part of shared work or work transfers is the management of changes and problem reports.
A12: 1 | B12: 9100 section 7.3.7 on control of design and development changes expects a change control system exists and changes are identified and records maintained. The changes are reviewed, verified and validated, as appropriate, and approved before implementation. | D12: 8
A13: 1 | B13: Does the evaluation take into account: Section 7.5.1 on control of production process changes talks about the importance of personnel who are authorized to approve changes to production processes need to be identified.
A14: 1 | B14: The complexity of modern aviation, space and defense systems is very high. Due to this level of complexity,
A16: 2 | B16: Typically a Software Quality Engineer who works with the development team on a regular basis and attends change board meetings would be a person that could also support a production area and understand what software is intended to go with what hardware. | D16: 8
A17: 2 | B17: Typically a Software Quality Engineer who works with the development team on a regular basis and attends change board meetings would be a person that could also support a production area and understand what software is intended to go with what hardware.
A18: 2 | B18: Typically a Software Quality Engineer who works with the development team on a regular basis and attends change board meetings would be a person that could also support a production area and understand what software is intended to go with what hardware.
A19: 2 | B19: Typically a Software Quality Engineer who works with the development team on a regular basis and attends change board meetings would be a person that could also support a production area and understand what software is intended to go with what hardware.
A21: 3 | B21: Factory and engineering test equipment should be qualified to meet the intended use. | D21: 8
A22: 3 | B22: Factory and engineering test equipment should be qualified to meet the intended use.
A23: 3 | B23: Factory and engineering test equipment should be qualified to meet the intended use.
A24: 3 | B24: Factory and engineering test equipment should be qualified to meet the intended use.
A25: 3 | B25: Factory and engineering test equipment should be qualified to meet the intended use. | D25: 8
A26: 3 | B26: Factory and engineering test equipment should be qualified to meet the intended use.
A27: 3 | B27: Factory and engineering test equipment should be qualified to meet the intended use. | C27: C | D27: 8
A28: 3 | B28: Factory and engineering test equipment should be qualified to meet the intended use. | C28: C | D28: 8
A29: 3 | B29: Factory and engineering test equipment should be qualified to meet the intended use.
A30: 3 | B30: Factory and engineering test equipment should be qualified to meet the intended use. | C30: C
D31: 8
A32: 4 | B32: Factory and engineering test equipment should be qualified to meet the intended use. | D32: 8
A33: 4 | B33: Factory and engineering test equipment should be qualified to meet the intended use. | C33: C | D33: 9
A34: 4 | B34: Factory and engineering test equipment should be qualified to meet the intended use. | C34: C
A35: 4 | B35: Factory and engineering test equipment should be qualified to meet the intended use. | D35: 8
A36: 4 | B36: Factory and engineering test equipment should be qualified to meet the intended use.
A37: 4 | B37: Factory and engineering test equipment should be qualified to meet the intended use.
A38: 4 | B38: Factory and engineering test equipment should be qualified to meet the intended use.
A39: 4 | B39: Factory and engineering test equipment should be qualified to meet the intended use.
A40: 4 | B40: Factory and engineering test equipment should be qualified to meet the intended use.
A41: 4 | B41: Factory and engineering test equipment should be qualified to meet the intended use. | C41: C
A42: 4 | B42: Factory and engineering test equipment should be qualified to meet the intended use.
B44: Rowa | E44: Ref. to Reqts:
A45: 8 | B45: approach is selected, an implementation map should be produced to allow employees as well as external auditors understand how and where the requirements are identified and covered. | E45: 1.1
A46: 9 | B46: Regular training should be provided
A47: 7 | B47: approach is selected, an implementation map should be produced to allow employees as well as external auditors understand how and where the requirements are identified and covered.
A48: 8 | B48: Regular training should be provided
A49: 6 | B49: approach is selected, an implementation map should be produced to allow employees as well as external auditors understand how and where the requirements are identified and covered.

Sheet 8,2
A1: 8.2 - Waves plans
A3: Objective & Questions | D3: Requirements | E3: Comments
A4: Objective is to: | C4: C = Critical | D4: 8
B6: Verify the capability of the Supplier:
A7: 1 | B7: 1. Section 7.1.4 on control of work transfers expects the organization establish and maintain a process to plan and control the temporary or permanent transfer of work. 9115: In
A8: 2 | B8: 2.Work transfers for software tasks (outsourcing) between business units, facilities and/or suppliers can pose risks during later stages of integration.
B9: Ensure that the Supplier:
A10: 3 | B10: 3.Following the start of a transferred activity, evidence of test results and formal delivery of reports may be required.
A11: 4 | B11: 4. Another very important part of shared work or work transfers is the management of changes and problem reports.
A12: 1 | B12: 9100 section 7.3.7 on control of design and development changes expects a change control system exists and changes are identified and records maintained. The changes are reviewed, verified and validated, as appropriate, and approved before implementation. | D12: 8
A13: 1 | B13: Does the evaluation take into account: Section 7.5.1 on control of production process changes talks about the importance of personnel who are authorized to approve changes to production processes need to be identified.
A14: 1 | B14: The complexity of modern aviation, space and defense systems is very high. Due to this level of complexity,
A16: 2 | B16: Typically a Software Quality Engineer who works with the development team on a regular basis and attends change board meetings would be a person that could also support a production area and understand what software is intended to go with what hardware. | D16: 8
A17: 2 | B17: Typically a Software Quality Engineer who works with the development team on a regular basis and attends change board meetings would be a person that could also support a production area and understand what software is intended to go with what hardware.
A18: 2 | B18: Typically a Software Quality Engineer who works with the development team on a regular basis and attends change board meetings would be a person that could also support a production area and understand what software is intended to go with what hardware.
A19: 2 | B19: Typically a Software Quality Engineer who works with the development team on a regular basis and attends change board meetings would be a person that could also support a production area and understand what software is intended to go with what hardware.
A21: 3 | B21: Factory and engineering test equipment should be qualified to meet the intended use. | D21: 8
A22: 3 | B22: Factory and engineering test equipment should be qualified to meet the intended use.
A23: 3 | B23: Factory and engineering test equipment should be qualified to meet the intended use.
A24: 3 | B24: Factory and engineering test equipment should be qualified to meet the intended use.
A25: 3 | B25: Factory and engineering test equipment should be qualified to meet the intended use. | D25: 8
A26: 3 | B26: Factory and engineering test equipment should be qualified to meet the intended use.
A27: 3 | B27: Factory and engineering test equipment should be qualified to meet the intended use. | C27: C | D27: 8
A28: 3 | B28: Factory and engineering test equipment should be qualified to meet the intended use. | C28: C | D28: 8
A29: 3 | B29: Factory and engineering test equipment should be qualified to meet the intended use.
A30: 3 | B30: Factory and engineering test equipment should be qualified to meet the intended use. | C30: C
D31: 8
A32: 4 | B32: Factory and engineering test equipment should be qualified to meet the intended use. | D32: 8
A33: 4 | B33: Factory and engineering test equipment should be qualified to meet the intended use. | C33: C | D33: 9
A34: 4 | B34: Factory and engineering test equipment should be qualified to meet the intended use. | C34: C
A35: 4 | B35: Factory and engineering test equipment should be qualified to meet the intended use. | D35: 8
A36: 4 | B36: Factory and engineering test equipment should be qualified to meet the intended use.
A37: 4 | B37: Factory and engineering test equipment should be qualified to meet the intended use.
A38: 4 | B38: Factory and engineering test equipment should be qualified to meet the intended use.
A39: 4 | B39: Factory and engineering test equipment should be qualified to meet the intended use.
A40: 4 | B40: Factory and engineering test equipment should be qualified to meet the intended use.
A41: 4 | B41: Factory and engineering test equipment should be qualified to meet the intended use. | C41: C
A42: 4 | B42: Factory and engineering test equipment should be qualified to meet the intended use.
B44: Rowa | E44: Ref. to Reqts:
A45: 8 | B45: approach is selected, an implementation map should be produced to allow employees as well as external auditors understand how and where the requirements are identified and covered. | E45: 1.1
A46: 9 | B46: Regular training should be provided
A47: 7 | B47: approach is selected, an implementation map should be produced to allow employees as well as external auditors understand how and where the requirements are identified and covered.
A48: 8 | B48: Regular training should be provided
A49: 6 | B49: approach is selected, an implementation map should be produced to allow employees as well as external auditors understand how and where the requirements are identified and covered.

Sheet 8,3
A1: 8.3 - Waves plans
A3: Objective & Questions | D3: Requirements | E3: Comments
A4: Objective is to: | C4: C = Critical | D4: 8
B6: Verify the capability of the Supplier:
A7: 1 | B7: 1. Section 7.1.4 on control of work transfers expects the organization establish and maintain a process to plan and control the temporary or permanent transfer of work. 9115: In
A8: 2 | B8: 2.Work transfers for software tasks (outsourcing) between business units, facilities and/or suppliers can pose risks during later stages of integration.
B9: Ensure that the Supplier:
A10: 3 | B10: 3.Following the start of a transferred activity, evidence of test results and formal delivery of reports may be required.
A11: 4 | B11: 4. Another very important part of shared work or work transfers is the management of changes and problem reports.
A12: 1 | B12: 9100 section 7.3.7 on control of design and development changes expects a change control system exists and changes are identified and records maintained. The changes are reviewed, verified and validated, as appropriate, and approved before implementation. | D12: 8
A13: 1 | B13: Does the evaluation take into account: Section 7.5.1 on control of production process changes talks about the importance of personnel who are authorized to approve changes to production processes need to be identified.
A14: 1 | B14: The complexity of modern aviation, space and defense systems is very high. Due to this level of complexity,
A16: 2 | B16: Typically a Software Quality Engineer who works with the development team on a regular basis and attends change board meetings would be a person that could also support a production area and understand what software is intended to go with what hardware. | D16: 8
A17: 2 | B17: Typically a Software Quality Engineer who works with the development team on a regular basis and attends change board meetings would be a person that could also support a production area and understand what software is intended to go with what hardware.
A18: 2 | B18: Typically a Software Quality Engineer who works with the development team on a regular basis and attends change board meetings would be a person that could also support a production area and understand what software is intended to go with what hardware.
A19: 2 | B19: Typically a Software Quality Engineer who works with the development team on a regular basis and attends change board meetings would be a person that could also support a production area and understand what software is intended to go with what hardware.
A21: 3 | B21: Factory and engineering test equipment should be qualified to meet the intended use. | D21: 8
A22: 3 | B22: Factory and engineering test equipment should be qualified to meet the intended use.
A23: 3 | B23: Factory and engineering test equipment should be qualified to meet the intended use.
A24: 3 | B24: Factory and engineering test equipment should be qualified to meet the intended use.
A25: 3 | B25: Factory and engineering test equipment should be qualified to meet the intended use. | D25: 8
A26: 3 | B26: Factory and engineering test equipment should be qualified to meet the intended use.
A27: 3 | B27: Factory and engineering test equipment should be qualified to meet the intended use. | C27: C | D27: 8
A28: 3 | B28: Factory and engineering test equipment should be qualified to meet the intended use. | C28: C | D28: 8
A29: 3 | B29: Factory and engineering test equipment should be qualified to meet the intended use.
A30: 3 | B30: Factory and engineering test equipment should be qualified to meet the intended use. | C30: C
D31: 8
A32: 4 | B32: Factory and engineering test equipment should be qualified to meet the intended use. | D32: 8
A33: 4 | B33: Factory and engineering test equipment should be qualified to meet the intended use. | C33: C | D33: 9
A34: 4 | B34: Factory and engineering test equipment should be qualified to meet the intended use. | C34: C
A35: 4 | B35: Factory and engineering test equipment should be qualified to meet the intended use. | D35: 8
A36: 4 | B36: Factory and engineering test equipment should be qualified to meet the intended use.
A37: 4 | B37: Factory and engineering test equipment should be qualified to meet the intended use.
A38: 4 | B38: Factory and engineering test equipment should be qualified to meet the intended use.
A39: 4 | B39: Factory and engineering test equipment should be qualified to meet the intended use.
A40: 4 | B40: Factory and engineering test equipment should be qualified to meet the intended use.
A41: 4 | B41: Factory and engineering test equipment should be qualified to meet the intended use. | C41: C
A42: 4 | B42: Factory and engineering test equipment should be qualified to meet the intended use.
B44: Rowa | E44: Ref. to Reqts:
A45: 8 | B45: approach is selected, an implementation map should be produced to allow employees as well as external auditors understand how and where the requirements are identified and covered. | E45: 1.1
A46: 9 | B46: Regular training should be provided
A47: 7 | B47: approach is selected, an implementation map should be produced to allow employees as well as external auditors understand how and where the requirements are identified and covered.
A48: 8 | B48: Regular training should be provided
A49: 6 | B49: approach is selected, an implementation map should be produced to allow employees as well as external auditors understand how and where the requirements are identified and covered.

Sheet 8,4
A1: 8.4 - Waves plans
A3: Objective & Questions | D3: Requirements | E3: Comments
A4: Objective is to: | C4: C = Critical | D4: 8
B6: Verify the capability of the Supplier:
A7: 1 | B7: 1. Section 7.1.4 on control of work transfers expects the organization establish and maintain a process to plan and control the temporary or permanent transfer of work. 9115: In
A8: 2 | B8: 2.Work transfers for software tasks (outsourcing) between business units, facilities and/or suppliers can pose risks during later stages of integration.
B9: Ensure that the Supplier:
A10: 3 | B10: 3.Following the start of a transferred activity, evidence of test results and formal delivery of reports may be required.
A11: 4 | B11: 4. Another very important part of shared work or work transfers is the management of changes and problem reports.
A12: 1 | B12: 9100 section 7.3.7 on control of design and development changes expects a change control system exists and changes are identified and records maintained. The changes are reviewed, verified and validated, as appropriate, and approved before implementation. | D12: 8
A13: 1 | B13: Does the evaluation take into account: Section 7.5.1 on control of production process changes talks about the importance of personnel who are authorized to approve changes to production processes need to be identified.
A14: 1 | B14: The complexity of modern aviation, space and defense systems is very high. Due to this level of complexity,
A16: 2 | B16: Typically a Software Quality Engineer who works with the development team on a regular basis and attends change board meetings would be a person that could also support a production area and understand what software is intended to go with what hardware. | D16: 8
A17: 2 | B17: Typically a Software Quality Engineer who works with the development team on a regular basis and attends change board meetings would be a person that could also support a production area and understand what software is intended to go with what hardware.
A18: 2 | B18: Typically a Software Quality Engineer who works with the development team on a regular basis and attends change board meetings would be a person that could also support a production area and understand what software is intended to go with what hardware.
A19: 2 | B19: Typically a Software Quality Engineer who works with the development team on a regular basis and attends change board meetings would be a person that could also support a production area and understand what software is intended to go with what hardware.
A21: 3 | B21: Factory and engineering test equipment should be qualified to meet the intended use. | D21: 8
A22: 3 | B22: Factory and engineering test equipment should be qualified to meet the intended use.
A23: 3 | B23: Factory and engineering test equipment should be qualified to meet the intended use.
A24: 3 | B24: Factory and engineering test equipment should be qualified to meet the intended use.
A25: 3 | B25: Factory and engineering test equipment should be qualified to meet the intended use. | D25: 8
A26: 3 | B26: Factory and engineering test equipment should be qualified to meet the intended use.
A27: 3 | B27: Factory and engineering test equipment should be qualified to meet the intended use. | C27: C | D27: 8
A28: 3 | B28: Factory and engineering test equipment should be qualified to meet the intended use. | C28: C | D28: 8
A29: 3 | B29: Factory and engineering test equipment should be qualified to meet the intended use.
A30: 3 | B30: Factory and engineering test equipment should be qualified to meet the intended use. | C30: C
D31: 8
A32: 4 | B32: Factory and engineering test equipment should be qualified to meet the intended use. | D32: 8
A33: 4 | B33: Factory and engineering test equipment should be qualified to meet the intended use. | C33: C | D33: 9
A34: 4 | B34: Factory and engineering test equipment should be qualified to meet the intended use. | C34: C
A35: 4 | B35: Factory and engineering test equipment should be qualified to meet the intended use. | D35: 8
A36: 4 | B36: Factory and engineering test equipment should be qualified to meet the intended use.
A37: 4 | B37: Factory and engineering test equipment should be qualified to meet the intended use.
A38: 4 | B38: Factory and engineering test equipment should be qualified to meet the intended use.
A39: 4 | B39: Factory and engineering test equipment should be qualified to meet the intended use.
A40: 4 | B40: Factory and engineering test equipment should be qualified to meet the intended use.
A41: 4 | B41: Factory and engineering test equipment should be qualified to meet the intended use. | C41: C
A42: 4 | B42: Factory and engineering test equipment should be qualified to meet the intended use.
B44: Rowa | E44: Ref. to Reqts:
A45: 8 | B45: approach is selected, an implementation map should be produced to allow employees as well as external auditors understand how and where the requirements are identified and covered. | E45: 1.1
A46: 9 | B46: Regular training should be provided
A47: 7 | B47: approach is selected, an implementation map should be produced to allow employees as well as external auditors understand how and where the requirements are identified and covered.
A48: 8 | B48: Regular training should be provided
A49: 6 | B49: approach is selected, an implementation map should be produced to allow employees as well as external auditors understand how and where the requirements are identified and covered.

Sheet 8,5
A1: 8.5 - Waves plans
A3: Objective & Questions | D3: Requirements | E3: Comments
A4: Objective is to: | C4: C = Critical | D4: 8
B6: Verify the capability of the Supplier:
A7: 1 | B7: 1. Section 7.1.4 on control of work transfers expects the organization establish and maintain a process to plan and control the temporary or permanent transfer of work. 9115: In
A8: 2 | B8: 2.Work transfers for software tasks (outsourcing) between business units, facilities and/or suppliers can pose risks during later stages of integration.
B9: Ensure that the Supplier:
A10: 3 | B10: 3.Following the start of a transferred activity, evidence of test results and formal delivery of reports may be required.
A11: 4 | B11: 4. Another very important part of shared work or work transfers is the management of changes and problem reports.
A12: 1 | B12: 9100 section 7.3.7 on control of design and development changes expects a change control system exists and changes are identified and records maintained. The changes are reviewed, verified and validated, as appropriate, and approved before implementation. | D12: 8
A13: 1 | B13: Does the evaluation take into account: Section 7.5.1 on control of production process changes talks about the importance of personnel who are authorized to approve changes to production processes need to be identified.
A14: 1 | B14: The complexity of modern aviation, space and defense systems is very high. Due to this level of complexity,
A16: 2 | B16: Typically a Software Quality Engineer who works with the development team on a regular basis and attends change board meetings would be a person that could also support a production area and understand what software is intended to go with what hardware. | D16: 8
A17: 2 | B17: Typically a Software Quality Engineer who works with the development team on a regular basis and attends change board meetings would be a person that could also support a production area and understand what software is intended to go with what hardware.
A18: 2 | B18: Typically a Software Quality Engineer who works with the development team on a regular basis and attends change board meetings would be a person that could also support a production area and understand what software is intended to go with what hardware.
A19: 2 | B19: Typically a Software Quality Engineer who works with the development team on a regular basis and attends change board meetings would be a person that could also support a production area and understand what software is intended to go with what hardware.
A21: 3 | B21: Factory and engineering test equipment should be qualified to meet the intended use. | D21: 8
A22: 3 | B22: Factory and engineering test equipment should be qualified to meet the intended use.
A23: 3 | B23: Factory and engineering test equipment should be qualified to meet the intended use.
A24: 3 | B24: Factory and engineering test equipment should be qualified to meet the intended use.
A25: 3 | B25: Factory and engineering test equipment should be qualified to meet the intended use. | D25: 8
A26: 3 | B26: Factory and engineering test equipment should be qualified to meet the intended use.
A27: 3 | B27: Factory and engineering test equipment should be qualified to meet the intended use. | C27: C | D27: 8
A28: 3 | B28: Factory and engineering test equipment should be qualified to meet the intended use. | C28: C | D28: 8
A29: 3 | B29: Factory and engineering test equipment should be qualified to meet the intended use.
A30: 3 | B30: Factory and engineering test equipment should be qualified to meet the intended use. | C30: C
D31: 8
A32: 4 | B32: Factory and engineering test equipment should be qualified to meet the intended use. | D32: 8
A33: 4 | B33: Factory and engineering test equipment should be qualified to meet the intended use. | C33: C | D33: 9
A34: 4 | B34: Factory and engineering test equipment should be qualified to meet the intended use. | C34: C
A35: 4 | B35: Factory and engineering test equipment should be qualified to meet the intended use. | D35: 8
A36: 4 | B36: Factory and engineering test equipment should be qualified to meet the intended use.
A37: 4 | B37: Factory and engineering test equipment should be qualified to meet the intended use.
A38: 4 | B38: Factory and engineering test equipment should be qualified to meet the intended use.
A39: 4 | B39: Factory and engineering test equipment should be qualified to meet the intended use.
A40: 4 | B40: Factory and engineering test equipment should be qualified to meet the intended use.
A41: 4 | B41: Factory and engineering test equipment should be qualified to meet the intended use. | C41: C
A42: 4 | B42: Factory and engineering test equipment should be qualified to meet the intended use.
B44: Rowa | E44: Ref. to Reqts:
A45: 8 | B45: approach is selected, an implementation map should be produced to allow employees as well as external auditors understand how and where the requirements are identified and covered. | E45: 1.1
A46: 9 | B46: Regular training should be provided
A47: 7 | B47: approach is selected, an implementation map should be produced to allow employees as well as external auditors understand how and where the requirements are identified and covered.
A48: 8 | B48: Regular training should be provided
A49: 6 | B49: approach is selected, an implementation map should be produced to allow employees as well as external auditors understand how and where the requirements are identified and covered.

Sheet 8,6
A1: 8.6 - Waves plans
A3: Objective & Questions | D3: Requirements | E3: Comments
A4: Objective is to: | C4: C = Critical | D4: 8
B6: Verify the capability of the Supplier:
A7: 1 | B7: 1. Section 7.1.4 on control of work transfers expects the organization establish and maintain a process to plan and control the temporary or permanent transfer of work. 9115: In
A8: 2 | B8: 2.Work transfers for software tasks (outsourcing) between business units, facilities and/or suppliers can pose risks during later stages of integration.
B9: Ensure that the Supplier:
A10: 3 | B10: 3.Following the start of a transferred activity, evidence of test results and formal delivery of reports may be required.
A11: 4 | B11: 4. Another very important part of shared work or work transfers is the management of changes and problem reports.
A12: 1 | B12: 9100 section 7.3.7 on control of design and development changes expects a change control system exists and changes are identified and records maintained. The changes are reviewed, verified and validated, as appropriate, and approved before implementation. | D12: 8
A13: 1 | B13: Does the evaluation take into account: Section 7.5.1 on control of production process changes talks about the importance of personnel who are authorized to approve changes to production processes need to be identified.
A14: 1 | B14: The complexity of modern aviation, space and defense systems is very high. Due to this level of complexity,
A16: 2 | B16: Typically a Software Quality Engineer who works with the development team on a regular basis and attends change board meetings would be a person that could also support a production area and understand what software is intended to go with what hardware. | D16: 8
A17: 2 | B17: Typically a Software Quality Engineer who works with the development team on a regular basis and attends change board meetings would be a person that could also support a production area and understand what software is intended to go with what hardware.
A18: 2 | B18: Typically a Software Quality Engineer who works with the development team on a regular basis and attends change board meetings would be a person that could also support a production area and understand what software is intended to go with what hardware.
A19: 2 | B19: Typically a Software Quality Engineer who works with the development team on a regular basis and attends change board meetings would be a person that could also support a production area and understand what software is intended to go with what hardware.
A21: 3 | B21: Factory and engineering test equipment should be qualified to meet the intended use. | D21: 8
A22: 3 | B22: Factory and engineering test equipment should be qualified to meet the intended use.
A23: 3 | B23: Factory and engineering test equipment should be qualified to meet the intended use.
A24: 3 | B24: Factory and engineering test equipment should be qualified to meet the intended use.
A25: 3 | B25: Factory and engineering test equipment should be qualified to meet the intended use. | D25: 8
A26: 3 | B26: Factory and engineering test equipment should be qualified to meet the intended use.
A27: 3 | B27: Factory and engineering test equipment should be qualified to meet the intended use. | C27: C | D27: 8
A28: 3 | B28: Factory and engineering test equipment should be qualified to meet the intended use. | C28: C | D28: 8
A29: 3 | B29: Factory and engineering test equipment should be qualified to meet the intended use.
A30: 3 | B30: Factory and engineering test equipment should be qualified to meet the intended use. | C30: C
D31: 8
A32: 4 | B32: Factory and engineering test equipment should be qualified to meet the intended use. | D32: 8
A33: 4 | B33: Factory and engineering test equipment should be qualified to meet the intended use. | C33: C | D33: 9
A34: 4 | B34: Factory and engineering test equipment should be qualified to meet the intended use. | C34: C
A35: 4 | B35: Factory and engineering test equipment should be qualified to meet the intended use. | D35: 8
A36: 4 | B36: Factory and engineering test equipment should be qualified to meet the intended use.
A37: 4 | B37: Factory and engineering test equipment should be qualified to meet the intended use.
A38: 4 | B38: Factory and engineering test equipment should be qualified to meet the intended use.
A39: 4 | B39: Factory and engineering test equipment should be qualified to meet the intended use.
A40: 4 | B40: Factory and engineering test equipment should be qualified to meet the intended use.
A41: 4 | B41: Factory and engineering test equipment should be qualified to meet the intended use. | C41: C
A42: 4 | B42: Factory and engineering test equipment should be qualified to meet the intended use.
B44: Rowa | E44: Ref. to Reqts:
A45: 8 | B45: approach is selected, an implementation map should be produced to allow employees as well as external auditors understand how and where the requirements are identified and covered. | E45: 1.1
A46: 9 | B46: Regular training should be provided
A47: 7 | B47: approach is selected, an implementation map should be produced to allow employees as well as external auditors understand how and where the requirements are identified and covered.
A48: 8 | B48: Regular training should be provided
A49: 6 | B49: approach is selected, an implementation map should be produced to allow employees as well as external auditors understand how and where the requirements are identified and covered.

Sheet 8,7
A1: 8.7 - Waves plans
A3: Objective & Questions | D3: Requirements | E3: Comments
A4: Objective is to: | C4: C = Critical | D4: 8
B6: Verify the capability of the Supplier:
A7: 1 | B7: 1. Section 7.1.4 on control of work transfers expects the organization establish and maintain a process to plan and control the temporary or permanent transfer of work. 9115: In
A8: 2 | B8: 2.Work transfers for software tasks (outsourcing) between business units, facilities and/or suppliers can pose risks during later stages of integration.
B9: Ensure that the Supplier:
A10: 3 | B10: 3.Following the start of a transferred activity, evidence of test results and formal delivery of reports may be required.
A11: 4 | B11: 4. Another very important part of shared work or work transfers is the management of changes and problem reports.
A12: 1 | B12: 9100 section 7.3.7 on control of design and development changes expects a change control system exists and changes are identified and records maintained. The changes are reviewed, verified and validated, as appropriate, and approved before implementation. | D12: 8
A13: 1 | B13: Does the evaluation take into account: Section 7.5.1 on control of production process changes talks about the importance of personnel who are authorized to approve changes to production processes need to be identified.
A14: 1 | B14: The complexity of modern aviation, space and defense systems is very high. Due to this level of complexity,
A16: 2 | B16: Typically a Software Quality Engineer who works with the development team on a regular basis and attends change board meetings would be a person that could also support a production area and understand what software is intended to go with what hardware. | D16: 8
A17: 2 | B17: Typically a Software Quality Engineer who works with the development team on a regular basis and attends change board meetings would be a person that could also support a production area and understand what software is intended to go with what hardware.
A18: 2 | B18: Typically a Software Quality Engineer who works with the development team on a regular basis and attends change board meetings would be a person that could also support a production area and understand what software is intended to go with what hardware.
A19: 2 | B19: Typically a Software Quality Engineer who works with the development team on a regular basis and attends change board meetings would be a person that could also support a production area and understand what software is intended to go with what hardware.
A21: 3 | B21: Factory and engineering test equipment should be qualified to meet the intended use. | D21: 8
A22: 3 | B22: Factory and engineering test equipment should be qualified to meet the intended use.
A23: 3 | B23: Factory and engineering test equipment should be qualified to meet the intended use.
A24: 3 | B24: Factory and engineering test equipment should be qualified to meet the intended use.
A25: 3 | B25: Factory and engineering test equipment should be qualified to meet the intended use. | D25: 8
A26: 3 | B26: Factory and engineering test equipment should be qualified to meet the intended use.
A27: 3 | B27: Factory and engineering test equipment should be qualified to meet the intended use. | C27: C | D27: 8
A28: 3 | B28: Factory and engineering test equipment should be qualified to meet the intended use. | C28: C | D28: 8
A29: 3 | B29: Factory and engineering test equipment should be qualified to meet the intended use.
A30: 3 | B30: Factory and engineering test equipment should be qualified to meet the intended use. | C30: C
D31: 8
A32: 4 | B32: Factory and engineering test equipment should be qualified to meet the intended use. | D32: 8
A33: 4 | B33: Factory and engineering test equipment should be qualified to meet the intended use. | C33: C | D33: 9
A34: 4 | B34: Factory and engineering test equipment should be qualified to meet the intended use. | C34: C
A35: 4 | B35: Factory and engineering test equipment should be qualified to meet the intended use. | D35: 8
A36: 4 | B36: Factory and engineering test equipment should be qualified to meet the intended use.
A37: 4 | B37: Factory and engineering test equipment should be qualified to meet the intended use.
A38: 4 | B38: Factory and engineering test equipment should be qualified to meet the intended use.
A39: 4 | B39: Factory and engineering test equipment should be qualified to meet the intended use.
A40: 4 | B40: Factory and engineering test equipment should be qualified to meet the intended use.
A41: 4 | B41: Factory and engineering test equipment should be qualified to meet the intended use. | C41: C
A42: 4 | B42: Factory and engineering test equipment should be qualified to meet the intended use.
B44: Rowa | E44: Ref. to Reqts:
A45: 8 | B45: approach is selected, an implementation map should be produced to allow employees as well as external auditors understand how and where the requirements are identified and covered. | E45: 1.1
A46: 9 | B46: Regular training should be provided
A47: 7 | B47: approach is selected, an implementation map should be produced to allow employees as well as external auditors understand how and where the requirements are identified and covered.
A48: 8 | B48: Regular training should be provided
A49: 6 | B49: approach is selected, an implementation map should be produced to allow employees as well as external auditors understand how and where the requirements are identified and covered.
