Workbook

Sheet 0101 2901
B1: AURELIEN | F1: 01 janv / 29 janv 2012 | I1: Tps d'appro ou trajet | J1: Voyage | L1: Voyage | M1: Horaires prestation fin= prestation ou voyage | O1: Pause | P1: Repas | Q1: Prestation | R1: Dispo | S1: Total voyage si isolé | T1: Total travail effectuif | U1: Major.dim | V1: Récup. Acquises pour dispo | W1: Récup Acquises pour H.Nuit | X1: Récup. Acquises dim ou Jf | Y1: H normales | Z1: Hs semaine | AA1: Hs à 25% | AB1: Hs a 50% | AC1: Récup HS semaine 25% | AD1: Récup HS semaine 50% | AE1: Tota H récup semaine acquise | AF1: Récup. prises | AG1: Solde récup h | AI1: Solde récup jour | AJ1: Total Congés heure pris | AK1: Solde congés en heures N-1 | AL1: Solde congés jour N-1 | AM1: Solde congés en heures N | AN1: Solde congés jour N
D2: LIEU | E2: INTITULE | F2: DETAILS | G2: Tps A 1,00 | H2: Tps T -1,00 | J2: H deb | K2: H Fin | M2: H deb | N2: H Fin | U2: 0.25 | AG2: =-30:31 -> #VALUE! | AM2: =AN2*6.5 -> 52 | AN2: 8
B3: dim | C3: 40909 | D3: ARABIE | E3: Belgique | F3: FOOT JADDAH | I3: 0 | L3: 0 | M3: 0.45833333 | N3: 0.79166667 | O3: 0 | P3: 0.020833333 | Q3: 0.3125 | R3: 0 | S3: 0 | T3: 0.3125 | U3: =IF(N3="","",IF(AND(OR(B3="dim",A3="F")),(T3*$U$2),"")) -> 0.078125 | V3: =IF(R3="","",R3*1.75) -> 0 | W3: =IF(N3>1,(N3-1)*0.25,"") | AF3: =IF(E3="RECUP",LISTE!$B$22,"") | AJ3: =IF(E3=LISTE!$A$17,LISTE!$B$17,"")
B4: lun | C4: 40910 | D4: ARABIE | E4: Belgique | F4: FOOT JADDAH | I4: 0 | L4: 0 | M4: 0.45833333 | N4: 0.79166667 | O4: 0 | P4: 0.020833333 | Q4: 0.3125 | R4: 0 | S4: 0 | T4: 0.3125 | U4: =IF(N4="","",IF(AND(OR(B4="dim",A4="F")),(T4*$U$2),"")) | V4: =IF(R4="","",R4*1.75) -> 0 | W4: =IF(N4>1,(N4-1)*0.25,"") | AF4: =IF(E4="RECUP",LISTE!$B$22,"") | AJ4: =IF(E4=LISTE!$A$17,LISTE!$B$17,"")
B5: mar | C5: 40911 | D5: ARABIE | E5: Belgique | F5: Jaddah/Riyad | I5: 0 | J5: 0.4375 | K5: 0.66666667 | L5: 0.22916667 | M5: 0 | N5: 0 | O5: 0 | P5: 0 | Q5: 0 | R5: 0 | S5: 0.22916667 | T5: 0.22916667 | U5: =IF(N5="","",IF(AND(OR(B5="dim",A5="F")),(T5*$U$2),"")) | V5: =IF(R5="","",R5*1.75) -> 0 | W5: =IF(N5>1,(N5-1)*0.25,"") | X5: =U5 | AF5: =IF(E5="RECUP",LISTE!$B$22,"") | AJ5: =IF(E5=LISTE!$A$17,LISTE!$B$17,"")
B6: mer | C6: 40912 | D6: ARABIE | E6: Belgique | F6: FOOT MAJMAAH | I6: 0 | J6: 0.33333333 | K6: 0.41666667 | L6: 0.083333333 | M6: 0.41666667 | N6: 1.0416667 | O6: 0 | P6: 0.020833333 | Q6: 0.6875 | R6: 0.1875 | S6: 0 | T6: 0.5 | U6: =IF(N7="","",IF(AND(OR(B6="dim",A6="F")),(T6*$U$2),"")) | V6: =IF(R6="","",R6*1.75) -> 0.328125 | W6: =IF(N7>1,(N7-1)*0.25,"") | X6: =U6 | AF6: =IF(E6="RECUP",LISTE!$B$22,"") | AJ6: =IF(E6=LISTE!$A$17,LISTE!$B$17,"")
B7: jeu | C7: 40913 | D7: ARABIE | E7: Belgique | F7: FOOT RIYAD | I7: 0 | L7: 0 | M7: 0.4375 | N7: 0.97916667 | O7: 0 | P7: 0.020833333 | Q7: 0.52083333 | R7: 0.020833333 | S7: 0 | T7: 0.5 | V7: =IF(R7="","",R7*1.75) -> 0.036458333 | AF7: =IF(E7="RECUP",LISTE!$B$22,"") | AJ7: =IF(E7=LISTE!$A$17,LISTE!$B$17,"")
B8: ven | C8: 40914 | D8: ARABIE | E8: Belgique | F8: Retour France | I8: 0 | J8: 0.083333333 | K8: 0.64583333 | L8: 0.5625 | M8: 0 | N8: 0 | O8: 0 | P8: 0 | Q8: 0 | R8: 0 | S8: 0.5625 | T8: 0.5625 | U8: =IF(N8="","",IF(AND(OR(B8="dim",A8="F")),(T8*$U$2),"")) | V8: =IF(R8="","",R8*1.75) -> 0 | W8: =IF(N8>1,(N8-1)*0.25,"") | X8: =U8 | AF8: =IF(E8="RECUP",LISTE!$B$22,"") | AJ8: =IF(E8=LISTE!$A$17,LISTE!$B$17,"")
B9: sam | C9: 40946 | L9: 0 | M9: 0 | N9: 0 | O9: 0 | P9: 0 | Q9: 0 | R9: 0 | S9: 0 | T9: 0 | U9: =IF(N9="","",IF(AND(OR(B9="dim",A9="F")),(T9*$U$2),"")) | V9: =IF(R9="","",R9*1.75) -> 0 | X9: =U9 | AF9: =IF(E9="RECUP",LISTE!$B$22,"") | AJ9: =IF(E9=LISTE!$A$17,LISTE!$B$17,"")
B10: dim | C10: 40916 | L10: 0 | M10: 0 | N10: 0 | O10: 0 | P10: 0 | Q10: 0 | R10: 0 | S10: 0 | T10: 0 | U10: =IF(N10="","",IF(AND(OR(B10="dim",A10="F")),(T10*$U$2),"")) -> 0 | V10: =IF(R10="","",R10*1.75) -> 0 | W10: =IF(N10>1,(N10-1)*0.25,"") | AF10: =IF(E10="RECUP",LISTE!$B$22,"") | AJ10: =IF(E10=LISTE!$A$17,LISTE!$B$17,"")
B11: TOTAL SEMAINE 1 | T11: =SUM(T3:T9) -> 2.4166667 | U11: =SUM(U3:U9) -> 0.078125 | V11: =SUM(V3:V9) -> 0.36458333 | W11: =SUM(W3:W9) -> 0 | X11: =SUM(X3:X9) -> 0 | Y11: ="39:00" -> 39:00 | Z11: =IF(T11<Y11,"0:00",T11-Y11) -> 0:00 | AB11: =IF(Z11>=TIMEVALUE("5:00"),Z11-AA11,"") -> 0 | AC11: =$AA11*1.25 -> 0 | AD11: =$AB11*1.5 -> 0 | AE11: =$V11+$X11+$AC11+$AD11+$W11 -> 0.36458333 | AF11: =SUM(AF3:AF9) -> 0 | AG11: =AG2-AE11 -> #VALUE! | AI11: =AG11/6.5 -> #VALUE! | AJ11: =SUM(AJ3:AJ9) -> 0 | AK11: =$AK2+AJ11 -> 0 | AL11: =AK11/6.5 -> 0
B12: lun | C12: 40917 | D12: 1 | E12: RECUP | L12: 0 | M12: 0 | N12: 0 | O12: 0 | P12: 0 | Q12: 0 | R12: 0 | S12: 0 | T12: 0 | U12: =IF(N12="","",IF(AND(OR(B12="dim",A12="F")),(T12*$U$2),"")) | V12: =IF(R12="","",R12*1.75) -> 0 | W12: =IF(N12>1,(N12-1)*0.25,"") | AF12: =IF(E12="RECUP",LISTE!$B$22,"") -> 0.27083333 | AJ12: =IF(E12=LISTE!$A$17,LISTE!$B$17,"")
B13: mar | C13: 40918 | E13: RECUP | L13: 0 | M13: 0 | N13: 0 | O13: 0 | P13: 0 | Q13: 0 | R13: 0 | S13: 0 | T13: 0 | U13: =IF(N13="","",IF(AND(OR(B13="dim",A13="F")),(T13*$U$2),"")) | V13: =IF(R13="","",R13*1.75) -> 0 | W13: =IF(N13>1,(N13-1)*0.25,"") | AF13: =IF(E13="RECUP",LISTE!$B$22,"") -> 0.27083333 | AJ13: =IF(E13=LISTE!$A$17,LISTE!$B$17,"")
B14: mer | C14: 40919 | E14: RECUP | L14: 0 | M14: 0 | N14: 0 | O14: 0 | P14: 0 | Q14: 0 | R14: 0 | S14: 0 | T14: 0 | U14: =IF(N14="","",IF(AND(OR(B14="dim",A14="F")),(T14*$U$2),"")) | V14: =IF(R14="","",R14*1.75) -> 0 | W14: =IF(N14>1,(N14-1)*0.25,"") | AF14: =IF(E14="RECUP",LISTE!$B$22,"") -> 0.27083333 | AJ14: =IF(E14=LISTE!$A$17,LISTE!$B$17,"")
B15: jeu | C15: 40920 | E15: RECUP | L15: 0 | M15: 0 | N15: 0 | O15: 0 | P15: 0 | Q15: 0 | R15: 0 | S15: 0 | T15: 0 | U15: =IF(N15="","",IF(AND(OR(B15="dim",A15="F")),(T15*$U$2),"")) | V15: =IF(R15="","",R15*1.75) -> 0 | W15: =IF(N15>1,(N15-1)*0.25,"") | AF15: =IF(E15="RECUP",LISTE!$B$22,"") -> 0.27083333 | AJ15: =IF(E15=LISTE!$A$17,LISTE!$B$17,"")
B16: ven | C16: 40921 | E16: RECUP | L16: 0 | M16: 0 | N16: 0 | O16: 0 | P16: 0 | Q16: 0 | R16: 0 | S16: 0 | T16: 0 | U16: =IF(N16="","",IF(AND(OR(B16="dim",A16="F")),(T16*$U$2),"")) | V16: =IF(R16="","",R16*1.75) -> 0 | W16: =IF(N16>1,(N16-1)*0.25,"") | AF16: =IF(E16="RECUP",LISTE!$B$22,"") -> 0.27083333 | AJ16: =IF(E16=LISTE!$A$17,LISTE!$B$17,"")
B17: sam | C17: 40922 | F17: ACCIDENT DU TRAVAIL | L17: 0 | M17: 0.33333333 | N17: 0.60416667 | O17: 0 | P17: 0 | Q17: 0.27083333 | R17: 0 | S17: 0 | T17: 0.27083333 | U17: =IF(N17="","",IF(AND(OR(B17="dim",A17="F")),(T17*$U$2),"")) | V17: =IF(R17="","",R17*1.75) -> 0 | W17: =IF(N17>1,(N17-1)*0.25,"") | AF17: =IF(E17="RECUP",LISTE!$B$22,"") | AJ17: =IF(E17=LISTE!$A$17,LISTE!$B$17,"")
B18: dim | C18: 40923 | L18: 0 | M18: 0 | N18: 0 | O18: 0 | P18: 0 | Q18: 0 | R18: 0 | S18: 0 | T18: 0 | U18: =IF(N18="","",IF(AND(OR(B18="dim",A18="F")),(T18*$U$2),"")) -> 0 | V18: =IF(R18="","",R18*1.75) -> 0 | W18: =IF(N18>1,(N18-1)*0.25,"") | AF18: =IF(E18="RECUP",LISTE!$B$22,"") | AJ18: =IF(E18=LISTE!$A$17,LISTE!$B$17,"")
B19: TOTAL SEMAINE 2 | T19: =SUM(T10:T17) -> 2.6875 | U19: =SUM(U10:U17) -> 0.078125 | V19: =SUM(V10:V17) -> 0.36458333 | W19: =SUM(W10:W17) -> 0 | X19: =SUM(X10:X17) -> 0 | Y19: ="39:00" -> 39:00 | Z19: =IF(T19<Y19,"0:00",T19-Y19) -> 0:00 | AB19: =IF(Z19>=TIMEVALUE("5:00"),Z19-AA19,"") -> 0 | AC19: =$AA19*1.25 -> 0 | AD19: =$AB19*1.5 -> 0 | AE19: =$V19+$X19+$AC19+$AD19+$W19 -> 0.36458333 | AF19: =SUM(AF10:AF17) -> 1.3541667 | AI19: =AG19/6.5 -> 0 | AJ19: =SUM(AJ10:AJ17) -> 0 | AK19: =$AK11+AJ19 -> 0 | AL19: =AK19/6.5 -> 0
B20: lun | C20: 40924 | F20: ACCIDENT DU TRAVAIL | L20: 0 | M20: 0.33333333 | N20: 0.60416667 | O20: 0 | P20: 0 | Q20: 0.27083333 | R20: 0 | S20: 0 | T20: 0.27083333 | U20: =IF(N20="","",IF(AND(OR(B20="dim",A20="F")),(T20*$U$2),"")) | V20: =IF(R20="","",R20*1.75) -> 0 | W20: =IF(N20>1,(N20-1)*0.25,"") | AF20: =IF(E20="RECUP",LISTE!$B$22,"") | AJ20: =IF(E20=LISTE!$A$17,LISTE!$B$17,"")
B21: mar | C21: 40925 | F21: ACCIDENT DU TRAVAIL | L21: 0 | M21: 0.33333333 | N21: 0.60416667 | O21: 0 | P21: 0 | Q21: 0.27083333 | R21: 0 | S21: 0 | T21: 0.27083333 | U21: =IF(N21="","",IF(AND(OR(B21="dim",A21="F")),(T21*$U$2),"")) | V21: =IF(R21="","",R21*1.75) -> 0 | W21: =IF(N21>1,(N21-1)*0.25,"") | AF21: =IF(E21="RECUP",LISTE!$B$22,"") | AJ21: =IF(E21=LISTE!$A$17,LISTE!$B$17,"")
B22: mer | C22: 40926 | F22: ACCIDENT DU TRAVAIL | L22: 0 | M22: 0.33333333 | N22: 0.60416667 | O22: 0 | P22: 0 | Q22: 0.27083333 | R22: 0 | S22: 0 | T22: 0.27083333 | U22: =IF(N22="","",IF(AND(OR(B22="dim",A22="F")),(T22*$U$2),"")) | V22: =IF(R22="","",R22*1.75) -> 0 | W22: =IF(N22>1,(N22-1)*0.25,"") | AF22: =IF(E22="RECUP",LISTE!$B$22,"") | AJ22: =IF(E22=LISTE!$A$17,LISTE!$B$17,"")
B23: jeu | C23: 40927 | F23: ACCIDENT DU TRAVAIL | L23: 0 | M23: 0.33333333 | N23: 0.60416667 | O23: 0 | P23: 0 | Q23: 0.27083333 | R23: 0 | S23: 0 | T23: 0.27083333 | U23: =IF(N23="","",IF(AND(OR(B23="dim",A23="F")),(T23*$U$2),"")) | V23: =IF(R23="","",R23*1.75) -> 0 | W23: =IF(N23>1,(N23-1)*0.25,"") | AF23: =IF(E23="RECUP",LISTE!$B$22,"") | AJ23: =IF(E23=LISTE!$A$17,LISTE!$B$17,"")
B24: ven | C24: 40928 | F24: ACCIDENT DU TRAVAIL | L24: 0 | M24: 0.33333333 | N24: 0.60416667 | O24: 0 | P24: 0 | Q24: 0.27083333 | R24: 0 | S24: 0 | T24: 0.27083333 | U24: =IF(N24="","",IF(AND(OR(B24="dim",A24="F")),(T24*$U$2),"")) | V24: =IF(R24="","",R24*1.75) -> 0 | W24: =IF(N24>1,(N24-1)*0.25,"") | AF24: =IF(E24="RECUP",LISTE!$B$22,"") | AJ24: =IF(E24=LISTE!$A$17,LISTE!$B$17,"")
B25: sam | C25: 40929 | F25: ACCIDENT DU TRAVAIL | L25: 0 | M25: 0.33333333 | N25: 0.60416667 | O25: 0 | P25: 0 | Q25: 0.27083333 | R25: 0 | S25: 0 | T25: 0.27083333 | U25: =IF(N25="","",IF(AND(OR(B25="dim",A25="F")),(T25*$U$2),"")) | V25: =IF(R25="","",R25*1.75) -> 0 | W25: =IF(N25>1,(N25-1)*0.25,"") | AF25: =IF(E25="RECUP",LISTE!$B$22,"") | AJ25: =IF(E25=LISTE!$A$17,LISTE!$B$17,"")
B26: dim | C26: 40930 | L26: 0 | M26: 0 | N26: 0 | O26: 0 | P26: 0 | Q26: 0 | R26: 0 | S26: 0 | T26: 0 | U26: =IF(N26="","",IF(AND(OR(B26="dim",A26="F")),(T26*$U$2),"")) -> 0 | V26: =IF(R26="","",R26*1.75) -> 0 | W26: =IF(N26>1,(N26-1)*0.25,"") | AF26: =IF(E26="RECUP",LISTE!$B$22,"") | AJ26: =IF(E26=LISTE!$A$17,LISTE!$B$17,"")
B27: TOTAL SEMAINE 3 | T27: =SUM(T18:T25) -> 4.3125 | U27: =SUM(U18:U25) -> 0.078125 | V27: =SUM(V18:V25) -> 0.36458333 | W27: =SUM(W18:W23) -> 0 | X27: =SUM(X18:X25) -> 0 | Y27: ="39:00" -> 39:00 | Z27: =IF(T27<Y27,"0:00",T27-Y27) -> 0:00 | AB27: =IF(Z27>=5,Z27-AA27,0) -> 0 | AC27: =$AA27*1.25 -> 0 | AD27: =$AB27*1.5 -> 0 | AE27: =$V27+$X27+$AC27+$AD27+$W27 -> 0.36458333 | AF27: =SUM(AF18:AF25) -> 1.3541667 | AI27: =AG27/6.5 -> 0 | AJ27: =SUM(AJ18:AJ25) -> 0 | AK27: =$AK19+AJ27 -> 0 | AL27: =AK27/6.5 -> 0
B28: lun | C28: 40931 | D28: LINT | E28: PREPA LINT | F28: VOYAGE | I28: -1 | J28: 0.75 | K28: 0.89583333 | L28: 0.10416667 | M28: 0 | O28: 0 | P28: 0 | Q28: 0 | R28: 0 | S28: 0.10416667 | T28: 0.10416667 | U28: =IF(N28="","",IF(AND(OR(B28="dim",A28="F")),(T28*$U$2),"")) | V28: =IF(R28="","",R28*1.75) -> 0 | W28: =IF(N28>1,(N28-1)*0.25,"") | AF28: =IF(E28="RECUP",LISTE!$B$22,"") | AJ28: =IF(E28=LISTE!$A$17,LISTE!$B$17,"")
B29: mar | C29: 40932 | D29: LINT | E29: PREPA LINT | F29: PREPA RUGBY | I29: 0 | J29: 0.375 | K29: 0.79166667 | L29: 0.41666667 | M29: 0 | N29: 0 | O29: 0 | P29: 0.020833333 | Q29: 0 | R29: 0 | S29: 0.41666667 | T29: 0.41666667 | U29: =IF(N29="","",IF(AND(OR(B29="dim",A29="F")),(T29*$U$2),"")) | V29: =IF(R29="","",R29*1.75) -> 0 | W29: =IF(N29>1,(N29-1)*0.25,"") | AF29: =IF(E29="RECUP",LISTE!$B$22,"") | AJ29: =IF(E29=LISTE!$A$17,LISTE!$B$17,"")
B30: mer | C30: 40933 | D30: LINT | E30: PREPA LINT | F30: PREPA RUGBY ET RETOUR | I30: 0 | L30: 0 | M30: 0.375 | N30: 0.77083333 | O30: 0 | P30: 0.020833333 | Q30: 0.375 | R30: 0 | S30: 0 | T30: 0.375 | U30: =IF(N30="","",IF(AND(OR(B30="dim",A30="F")),(T30*$U$2),"")) | V30: =IF(R30="","",R30*1.75) -> 0 | W30: =IF(N30>1,(N30-1)*0.25,"") | AF30: =IF(E30="RECUP",LISTE!$B$22,"") | AJ30: =IF(E30=LISTE!$A$17,LISTE!$B$17,"")
B31: jeu | C31: 40934 | E31: RECUP | L31: 0 | N31: 0 | O31: 0 | P31: 0 | Q31: 0 | R31: 0 | S31: 0 | T31: 0 | U31: =IF(N31="","",IF(AND(OR(B31="dim",A31="F")),(T31*$U$2),"")) | V31: =IF(R31="","",R31*1.75) -> 0 | W31: =IF(N31>1,(N31-1)*0.25,"") | AF31: =IF(E31="RECUP",LISTE!$B$22,"") -> 0.27083333 | AJ31: =IF(E31=LISTE!$A$17,LISTE!$B$17,"")
B32: ven | C32: 40935 | D32: VITROLLES | E32: PREPA VITROLLES | F32: TG-PREPA-VOY TOU | G32: 0.041666667 | I32: 0.041666667 | J32: 0.3125 | K32: 0.47916667 | L32: 0.20833333 | M32: 0.47916667 | N32: 0.8125 | O32: 0 | P32: 0.041666667 | Q32: 0.5 | R32: 0 | S32: 0 | T32: 0.70833333 | U32: =IF(N32="","",IF(AND(OR(B32="dim",A32="F")),(T32*$U$2),"")) | V32: =IF(R32="","",R32*1.75) -> 0 | W32: =IF(N32>1,(N32-1)*0.25,"") | AF32: =IF(E32="RECUP",LISTE!$B$22,"") | AJ32: =IF(E32=LISTE!$A$17,LISTE!$B$17,"")
B33: sam | C33: 40936 | D33: TOULON | E33: RUGBY | F33: MATCH+RET hotel vitrolles | I33: 0 | L33: 0 | M33: 0.29166667 | N33: 0.95833333 | O33: 0 | P33: 0.041666667 | Q33: 0.625 | R33: 0.125 | S33: 0 | T33: 0.5 | U33: =IF(N33="","",IF(AND(OR(B33="dim",A33="F")),(T33*$U$2),"")) | V33: =IF(R33="","",R33*1.75) -> 0.21875 | W33: =IF(N33>1,(N33-1)*0.25,"") | AF33: =IF(E33="RECUP",LISTE!$B$22,"") | AJ33: =IF(E33=LISTE!$A$17,LISTE!$B$17,"")
B34: dim | C34: 40937 | D34: MONTP | E34: AUTRES | F34: Voy Montp-Instal Tennis | I34: 0 | L34: 0 | M34: 0.60416667 | N34: 0.97916667 | O34: 0 | P34: 0.041666667 | Q34: 0.33333333 | R34: 0 | S34: 0 | T34: 0.33333333 | U34: =IF(N34="","",IF(AND(OR(B34="dim",A34="F")),(T34*$U$2),"")) -> 0.083333333 | W34: =IF(N34>1,(N34-1)*0.25,"")
B35: TOTAL SEMAINE 4 | T35: =SUM(T26:T33) -> 6.4166667 | U35: =SUM(U26:U33) -> 0.078125 | V35: =SUM(V26:V33) -> 0.58333333 | W35: =SUM(W26:W31) -> 0 | X35: =SUM(X26:X33) -> 0 | Y35: ="39:00" -> 39:00 | Z35: =IF(T35<Y35,"0:00",T35-Y35) -> 0:00 | AB35: =IF(Z35>=5,Z35-AA35,0) -> 0 | AC35: =$AA35*1.25 -> 0 | AD35: =$AB35*1.5 -> 0 | AE35: =$V35+$X35+$AC35+$AD35+$W35 -> 0.58333333 | AF35: =SUM(AF26:AF33) -> 1.625 | AG35: =$AG27+AE35-AF35 -> -1.0416667 | AI35: =AG35/6.5 -> -0.16025641 | AJ35: =SUM(AJ26:AJ33) -> 0 | AK35: =$AK27+AJ35 -> 0 | AL35: =AK35/6.5 -> 0
D38: Signature du salarié précédée de la mention "lu et approuvé"

Sheet 3001 2602
B1: AURELIEN | F1: 30 janv / 26 fév 2012 | I1: Tps d'appro ou trajet | J1: Voyage | L1: Voyage | M1: Horaires prestation fin= prestation ou voyage | O1: Pause | P1: Repas | Q1: Prestation | R1: Dispo | S1: Total voyage si isolé | T1: Total travail effectuif | U1: Major.dim | V1: Récup. Acquises pour dispo | W1: Récup Acquises pour H.Nuit | X1: Récup. Acquises dim ou Jf | Y1: H normales | Z1: Hs semaine | AA1: Hs à 25% | AB1: Hs a 50% | AC1: Récup HS semaine 25% | AD1: Récup HS semaine 50% | AE1: Tota H récup semaine acquise | AF1: Récup. prises | AG1: Solde récup h | AH1: Solde récup jour | AI1: Total Congés heure pris | AJ1: Solde congés en heures N-1 | AK1: Solde congés jour N-1 | AL1: Solde congés en heures N | AM1: Solde congés jour N
D2: LIEU | E2: INTITULE | F2: DETAILS | G2: Tps A 1,00 | H2: Tps T -1,00 | J2: H deb | K2: H Fin | M2: H deb | N2: H Fin | U2: 0.25 | AL2: =AM2*6.5 -> 52 | AM2: 8
B3: lun | C3: 40938 | D3: Montepellier | E3: TENNIS | F3: TENNIS C+ | I3: 0 | L3: 0 | M3: 0.375 | N3: 0.79166667 | O3: 0 | P3: 0.041666667 | Q3: 0.375 | R3: 0 | S3: 0 | T3: 0.375 | U3: =IF(N3="","",IF(AND(OR(B3="dim",A3="F")),(T3*$U$2),"")) | V3: =IF(R3="","",R3*1.75) -> 0 | W3: =IF(N3>1,(N3-1)*0.25,"") | AF3: =IF(E3="RECUP",LISTE!$B$22,"") | AI3: =IF(E3=LISTE!$A$17,LISTE!$B$17,"")
B4: mar | C4: 40939 | D4: Montepellier | E4: TENNIS | F4: TENNIS C+ | I4: 0 | L4: 0 | M4: 0.41666667 | N4: 0.89583333 | O4: 0 | P4: 0.041666667 | Q4: 0.4375 | R4: 0 | S4: 0 | T4: 0.4375 | U4: =IF(N4="","",IF(AND(OR(B4="dim",A4="F")),(T4*$U$2),"")) | V4: =IF(R4="","",R4*1.75) -> 0 | W4: =IF(N4>1,(N4-1)*0.25,"") | AF4: =IF(E4="RECUP",LISTE!$B$22,"") | AI4: =IF(E4=LISTE!$A$17,LISTE!$B$17,"")
B5: mer | C5: 40940 | D5: Montepellier | E5: TENNIS | F5: TENNIS C+ | I5: 0 | L5: 0 | M5: 0.5 | N5: 0.89583333 | O5: 0 | P5: 0.041666667 | Q5: 0.35416667 | R5: 0 | S5: 0 | T5: 0.35416667 | U5: =IF(N5="","",IF(AND(OR(B5="dim",A5="F")),(T5*$U$2),"")) | V5: =IF(R5="","",R5*1.75) -> 0 | W5: =IF(N5>1,(N5-1)*0.25,"") | X5: =U5 | AF5: =IF(E5="RECUP",LISTE!$B$22,"") | AI5: =IF(E5=LISTE!$A$17,LISTE!$B$17,"")
B6: jeu | C6: 40941 | D6: Montepellier | E6: TENNIS | F6: TENNIS C+ | I6: 0 | L6: 0 | M6: 0.58333333 | N6: 0.95833333 | O6: 0 | P6: 0.0625 | Q6: 0.3125 | R6: 0 | S6: 0 | T6: 0.3125 | U6: =IF(N7="","",IF(AND(OR(B6="dim",A6="F")),(T6*$U$2),"")) | V6: =IF(R6="","",R6*1.75) -> 0 | W6: =IF(N7>1,(N7-1)*0.25,"") | X6: =U6 | AF6: =IF(E6="RECUP",LISTE!$B$22,"") | AI6: =IF(E6=LISTE!$A$17,LISTE!$B$17,"")
B7: ven | C7: 40942 | D7: Montepellier | E7: TENNIS | F7: TENNIS C+ | I7: 0 | L7: 0 | M7: 0.54166667 | N7: 0.89583333 | O7: 0 | P7: 0.041666667 | Q7: 0.3125 | R7: 0 | S7: 0 | T7: 0.3125 | V7: =IF(R7="","",R7*1.75) -> 0 | AF7: =IF(E7="RECUP",LISTE!$B$22,"") | AI7: =IF(E7=LISTE!$A$17,LISTE!$B$17,"")
B8: sam | C8: 40943 | D8: Montepellier | E8: TENNIS | F8: TENNIS C+ | I8: 0 | L8: 0 | M8: 0.45833333 | N8: 0.79166667 | O8: 0 | P8: 0.041666667 | Q8: 0.29166667 | R8: 0 | S8: 0 | T8: 0.29166667 | U8: =IF(N8="","",IF(AND(OR(B8="dim",A8="F")),(T8*$U$2),"")) | V8: =IF(R8="","",R8*1.75) -> 0 | W8: =IF(N8>1,(N8-1)*0.25,"") | X8: =U8 | AF8: =IF(E8="RECUP",LISTE!$B$22,"") | AI8: =IF(E8=LISTE!$A$17,LISTE!$B$17,"")
B9: dim | C9: 40944 | D9: Montepellier | E9: TENNIS | F9: TENNIS C+ | I9: 0 | L9: 0 | M9: 0.5 | N9: 0.83333333 | O9: 0 | P9: 0.041666667 | Q9: 0.29166667 | R9: 0 | S9: 0 | T9: 0.29166667 | U9: =IF(N9="","",IF(AND(OR(B9="dim",A9="F")),(T9*$U$2),"")) -> 0.072916667 | V9: =IF(R9="","",R9*1.75) -> 0 | X9: =U9 -> 0.072916667 | AF9: =IF(E9="RECUP",LISTE!$B$22,"") | AI9: =IF(E9=LISTE!$A$17,LISTE!$B$17,"")
B10: TOTAL SEMAINE 5 | T10: =SUM(T3:T9) -> 2.375 | U10: =SUM(U3:U9) -> 0.072916667 | V10: =SUM(V3:V9) -> 0 | W10: =SUM(W3:W9) -> 0 | X10: =SUM(X3:X9) -> 0.072916667 | Y10: ="39:00" -> 39:00 | Z10: =IF(T10<Y10,"0:00",T10-Y10) -> 0:00 | AB10: =IF(Z10>=TIMEVALUE("5:00"),Z10-AA10,"") -> 0 | AC10: =$AA10*1.25 -> 0 | AD10: =$AB10*1.5 -> 0 | AE10: =$V10+$X10+$AC10+$AD10+$W10 -> 0.072916667 | AF10: =SUM(AF3:AF9) -> 0 | AG10: =($AG2+AE10-AF10) -> 0.072916667 | AH10: =AG10/6.5 -> 0.011217949 | AI10: =SUM(AI3:AI9) -> 0 | AJ10: =$AJ2+AI10 -> 0 | AK10: =AJ10/6.5 -> 0
B11: lun | C11: 40945 | D11: Montepellier | E11: TENNIS | F11: TENNIS C+ | G11: 0.041666667 | I11: 0.041666667 | J11: 0.39583333 | K11: 0.5625 | L11: 0.20833333 | M11: 0 | N11: 0 | O11: 0 | P11: 0 | Q11: 0 | R11: 0 | S11: 0.20833333 | T11: 0.20833333 | U11: =IF(N11="","",IF(AND(OR(B11="dim",A11="F")),(T11*$U$2),"")) | V11: =IF(R11="","",R11*1.75) -> 0 | W11: =IF(N11>1,(N11-1)*0.25,"") | AF11: =IF(E11="RECUP",LISTE!$B$22,"") | AI11: =IF(E11=LISTE!$A$17,LISTE!$B$17,"")
B12: mar | C12: 40946 | E12: RECUP | L12: 0 | M12: 0 | N12: 0 | O12: 0 | P12: 0 | Q12: 0 | R12: 0 | S12: 0 | T12: 0 | U12: =IF(N12="","",IF(AND(OR(B12="dim",A12="F")),(T12*$U$2),"")) | V12: =IF(R12="","",R12*1.75) -> 0 | W12: =IF(N12>1,(N12-1)*0.25,"") | AF12: =IF(E12="RECUP",LISTE!$B$22,"") -> 0.27083333 | AI12: =IF(E12=LISTE!$A$17,LISTE!$B$17,"")
B13: mer | C13: 40947 | E13: RECUP | L13: 0 | M13: 0 | N13: 0 | O13: 0 | P13: 0 | Q13: 0 | R13: 0 | S13: 0 | T13: 0 | U13: =IF(N13="","",IF(AND(OR(B13="dim",A13="F")),(T13*$U$2),"")) | V13: =IF(R13="","",R13*1.75) -> 0 | W13: =IF(N13>1,(N13-1)*0.25,"") | AF13: =IF(E13="RECUP",LISTE!$B$22,"") -> 0.27083333 | AI13: =IF(E13=LISTE!$A$17,LISTE!$B$17,"")
B14: jeu | C14: 40948 | E14: CONGES | L14: 0 | M14: 0 | N14: 0 | O14: 0 | P14: 0 | Q14: 0 | R14: 0 | S14: 0 | T14: 0 | U14: =IF(N14="","",IF(AND(OR(B14="dim",A14="F")),(T14*$U$2),"")) | V14: =IF(R14="","",R14*1.75) -> 0 | W14: =IF(N14>1,(N14-1)*0.25,"") | AF14: =IF(E14="RECUP",LISTE!$B$22,"") | AI14: =IF(E14=LISTE!$A$17,LISTE!$B$17,"") -> 0.27083333
B15: ven | C15: 40949 | E15: CONGES | L15: 0 | M15: 0 | N15: 0 | O15: 0 | P15: 0 | Q15: 0 | R15: 0 | S15: 0 | T15: 0 | U15: =IF(N15="","",IF(AND(OR(B15="dim",A15="F")),(T15*$U$2),"")) | V15: =IF(R15="","",R15*1.75) -> 0 | W15: =IF(N15>1,(N15-1)*0.25,"") | AF15: =IF(E15="RECUP",LISTE!$B$22,"") | AI15: =IF(E15=LISTE!$A$17,LISTE!$B$17,"") -> 0.27083333
B16: sam | C16: 40950 | E16: CONGES | L16: 0 | M16: 0 | N16: 0 | O16: 0 | P16: 0 | Q16: 0 | R16: 0 | S16: 0 | T16: 0 | U16: =IF(N16="","",IF(AND(OR(B16="dim",A16="F")),(T16*$U$2),"")) | V16: =IF(R16="","",R16*1.75) -> 0 | W16: =IF(N16>1,(N16-1)*0.25,"") | AF16: =IF(E16="RECUP",LISTE!$B$22,"") | AI16: =IF(E16=LISTE!$A$17,LISTE!$B$17,"") -> 0.27083333
B17: dim | C17: 40951 | L17: 0 | M17: 0 | N17: 0 | O17: 0 | P17: 0 | Q17: 0 | R17: 0 | S17: 0 | T17: 0 | U17: =IF(N17="","",IF(AND(OR(B17="dim",A17="F")),(T17*$U$2),"")) -> 0 | V17: =IF(R17="","",R17*1.75) -> 0 | W17: =IF(N17>1,(N17-1)*0.25,"") | AF17: =IF(E17="RECUP",LISTE!$B$22,"") | AI17: =IF(E17=LISTE!$A$17,LISTE!$B$17,"")
B18: TOTAL SEMAINE 6 | T18: =SUM(T10:T16) -> 2.5833333 | U18: =SUM(U10:U16) -> 0.072916667 | V18: =SUM(V10:V16) -> 0 | W18: =SUM(W10:W16) -> 0 | X18: =SUM(X10:X16) -> 0.072916667 | Y18: ="39:00" -> 39:00 | Z18: =IF(T18<Y18,"0:00",T18-Y18) -> 0:00 | AB18: =IF(Z18>=TIMEVALUE("5:00"),Z18-AA18,"") -> 0 | AC18: =$AA18*1.25 -> 0 | AD18: =$AB18*1.5 -> 0 | AE18: =$V18+$X18+$AC18+$AD18+$W18 -> 0.072916667 | AF18: =SUM(AF10:AF16) -> 0.54166667 | AG18: =$AG10+AE18-AF18 -> -0.39583333 | AH18: =AG18/6.5 -> -0.060897436 | AI18: =SUM(AI10:AI16) -> 0.8125 | AJ18: =$AJ10+AI18 -> 0.8125 | AK18: =AJ18/6.5 -> 0.125
B19: lun | C19: 40952 | E19: CONGES | L19: 0 | M19: 0 | N19: 0 | O19: 0 | P19: 0 | Q19: 0 | R19: 0 | S19: 0 | T19: 0 | U19: =IF(N19="","",IF(AND(OR(B19="dim",A19="F")),(T19*$U$2),"")) | V19: =IF(R19="","",R19*1.75) -> 0 | W19: =IF(N19>1,(N19-1)*0.25,"") | AF19: =IF(E19="RECUP",LISTE!$B$22,"") | AI19: =IF(E19=LISTE!$A$17,LISTE!$B$17,"") -> 0.27083333
B20: mar | C20: 40953 | E20: CONGES | L20: 0 | M20: 0 | N20: 0 | O20: 0 | P20: 0 | Q20: 0 | R20: 0 | S20: 0 | T20: 0 | U20: =IF(N20="","",IF(AND(OR(B20="dim",A20="F")),(T20*$U$2),"")) | V20: =IF(R20="","",R20*1.75) -> 0 | W20: =IF(N20>1,(N20-1)*0.25,"") | AF20: =IF(E20="RECUP",LISTE!$B$22,"") | AI20: =IF(E20=LISTE!$A$17,LISTE!$B$17,"") -> 0.27083333
B21: mer | C21: 40954 | E21: CONGES | L21: 0 | M21: 0 | N21: 0 | O21: 0 | P21: 0 | Q21: 0 | R21: 0 | S21: 0 | T21: 0 | U21: =IF(N21="","",IF(AND(OR(B21="dim",A21="F")),(T21*$U$2),"")) | V21: =IF(R21="","",R21*1.75) -> 0 | W21: =IF(N21>1,(N21-1)*0.25,"") | AF21: =IF(E21="RECUP",LISTE!$B$22,"") | AI21: =IF(E21=LISTE!$A$17,LISTE!$B$17,"") -> 0.27083333
B22: jeu | C22: 40955 | E22: CONGES | L22: 0 | M22: 0 | N22: 0 | O22: 0 | P22: 0 | Q22: 0 | R22: 0 | S22: 0 | T22: 0 | U22: =IF(N22="","",IF(AND(OR(B22="dim",A22="F")),(T22*$U$2),"")) | V22: =IF(R22="","",R22*1.75) -> 0 | W22: =IF(N22>1,(N22-1)*0.25,"") | AF22: =IF(E22="RECUP",LISTE!$B$22,"") | AI22: =IF(E22=LISTE!$A$17,LISTE!$B$17,"") -> 0.27083333
B23: ven | C23: 40956 | E23: CONGES | L23: 0 | M23: 0 | N23: 0 | O23: 0 | P23: 0 | Q23: 0 | R23: 0 | S23: 0 | T23: 0 | U23: =IF(N23="","",IF(AND(OR(B23="dim",A23="F")),(T23*$U$2),"")) | V23: =IF(R23="","",R23*1.75) -> 0 | W23: =IF(N23>1,(N23-1)*0.25,"") | AF23: =IF(E23="RECUP",LISTE!$B$22,"") | AI23: =IF(E23=LISTE!$A$17,LISTE!$B$17,"") -> 0.27083333
B24: sam | C24: 40957 | E24: CONGES | L24: 0 | M24: 0 | N24: 0 | O24: 0 | P24: 0 | Q24: 0 | R24: 0 | S24: 0 | T24: 0 | U24: =IF(N24="","",IF(AND(OR(B24="dim",A24="F")),(T24*$U$2),"")) | V24: =IF(R24="","",R24*1.75) -> 0 | W24: =IF(N24>1,(N24-1)*0.25,"") | AF24: =IF(E24="RECUP",LISTE!$B$22,"") | AI24: =IF(E24=LISTE!$A$17,LISTE!$B$17,"") -> 0.27083333
B25: dim | C25: 40958 | L25: 0 | M25: 0 | N25: 0 | O25: 0 | P25: 0 | Q25: 0 | R25: 0 | S25: 0 | T25: 0 | U25: =IF(N25="","",IF(AND(OR(B25="dim",A25="F")),(T25*$U$2),"")) -> 0 | V25: =IF(R25="","",R25*1.75) -> 0 | W25: =IF(N25>1,(N25-1)*0.25,"") | AF25: =IF(E25="RECUP",LISTE!$B$22,"") | AI25: =IF(E25=LISTE!$A$17,LISTE!$B$17,"")
B26: TOTAL SEMAINE 7 | T26: =SUM(T17:T24) -> 2.5833333 | U26: =SUM(U17:U24) -> 0.072916667 | V26: =SUM(V17:V24) -> 0 | W26: =SUM(W17:W22) -> 0 | X26: =SUM(X17:X24) -> 0.072916667 | Y26: ="39:00" -> 39:00 | Z26: =IF(T26<Y26,"0:00",T26-Y26) -> 0:00 | AB26: =IF(Z26>=5,Z26-AA26,0) -> 0 | AC26: =$AA26*1.25 -> 0 | AD26: =$AB26*1.5 -> 0 | AE26: =$V26+$X26+$AC26+$AD26+$W26 -> 0.072916667 | AF26: =SUM(AF17:AF24) -> 0.54166667 | AG26: =$AG18+AE26-AF26 -> -0.86458333 | AH26: =AG26/6.5 -> -0.13301282 | AI26: =SUM(AI17:AI24) -> 2.4375 | AJ26: =$AJ18+AI26 -> 3.25 | AK26: =AJ26/6.5 -> 0.5
B27: lun | C27: 40959 | E27: CONGES | L27: 0 | M27: 0 | N27: 0 | O27: 0 | P27: 0 | Q27: 0 | R27: 0 | S27: 0 | T27: 0 | U27: =IF(N27="","",IF(AND(OR(B27="dim",A27="F")),(T27*$U$2),"")) | V27: =IF(R27="","",R27*1.75) -> 0 | W27: =IF(N27>1,(N27-1)*0.25,"") | AF27: =IF(E27="RECUP",LISTE!$B$22,"") | AI27: =IF(E27=LISTE!$A$17,LISTE!$B$17,"") -> 0.27083333
B28: mar | C28: 40960 | E28: CONGES | L28: 0 | M28: 0 | N28: 0 | O28: 0 | P28: 0 | Q28: 0 | R28: 0 | S28: 0 | T28: 0 | U28: =IF(N28="","",IF(AND(OR(B28="dim",A28="F")),(T28*$U$2),"")) | V28: =IF(R28="","",R28*1.75) -> 0 | W28: =IF(N28>1,(N28-1)*0.25,"") | AF28: =IF(E28="RECUP",LISTE!$B$22,"") | AI28: =IF(E28=LISTE!$A$17,LISTE!$B$17,"") -> 0.27083333
B29: mer | C29: 40961 | E29: CONGES | L29: 0 | M29: 0 | N29: 0 | O29: 0 | P29: 0 | Q29: 0 | R29: 0 | S29: 0 | T29: 0 | U29: =IF(N29="","",IF(AND(OR(B29="dim",A29="F")),(T29*$U$2),"")) | V29: =IF(R29="","",R29*1.75) -> 0 | W29: =IF(N29>1,(N29-1)*0.25,"") | AF29: =IF(E29="RECUP",LISTE!$B$22,"") | AI29: =IF(E29=LISTE!$A$17,LISTE!$B$17,"") -> 0.27083333
B30: jeu | C30: 40962 | E30: CONGES | L30: 0 | M30: 0 | N30: 0 | O30: 0 | P30: 0 | Q30: 0 | R30: 0 | S30: 0 | T30: 0 | U30: =IF(N30="","",IF(AND(OR(B30="dim",A30="F")),(T30*$U$2),"")) | V30: =IF(R30="","",R30*1.75) -> 0 | W30: =IF(N30>1,(N30-1)*0.25,"") | AF30: =IF(E30="RECUP",LISTE!$B$22,"") | AI30: =IF(E30=LISTE!$A$17,LISTE!$B$17,"") -> 0.27083333
B31: ven | C31: 40963 | E31: CONGES | L31: 0 | M31: 0 | N31: 0 | O31: 0 | P31: 0 | Q31: 0 | R31: 0 | S31: 0 | T31: 0 | U31: =IF(N31="","",IF(AND(OR(B31="dim",A31="F")),(T31*$U$2),"")) | V31: =IF(R31="","",R31*1.75) -> 0 | W31: =IF(N31>1,(N31-1)*0.25,"") | AF31: =IF(E31="RECUP",LISTE!$B$22,"") | AI31: =IF(E31=LISTE!$A$17,LISTE!$B$17,"") -> 0.27083333
B32: sam | C32: 40964 | E32: CONGES | L32: 0 | M32: 0 | N32: 0 | O32: 0 | P32: 0 | Q32: 0 | R32: 0 | S32: 0 | T32: 0 | U32: =IF(N32="","",IF(AND(OR(B32="dim",A32="F")),(T32*$U$2),"")) | V32: =IF(R32="","",R32*1.75) -> 0 | W32: =IF(N32>1,(N32-1)*0.25,"") | AF32: =IF(E32="RECUP",LISTE!$B$22,"") | AI32: =IF(E32=LISTE!$A$17,LISTE!$B$17,"") -> 0.27083333
B33: dim | C33: 40965 | L33: 0 | M33: 0 | N33: 0 | O33: 0 | P33: 0 | Q33: 0 | R33: 0 | S33: 0 | T33: 0 | U33: =IF(N33="","",IF(AND(OR(B33="dim",A33="F")),(T33*$U$2),"")) -> 0 | W33: =IF(N33>1,(N33-1)*0.25,"")
B34: TOTAL SEMAINE 8 | T34: =SUM(T25:T32) -> 2.5833333 | U34: =SUM(U25:U32) -> 0.072916667 | V34: =SUM(V25:V32) -> 0 | W34: =SUM(W25:W30) -> 0 | X34: =SUM(X25:X32) -> 0.072916667 | Y34: ="39:00" -> 39:00 | Z34: =IF(T34<Y34,"0:00",T34-Y34) -> 0:00 | AB34: =IF(Z34>=5,Z34-AA34,0) -> 0 | AC34: =$AA34*1.25 -> 0 | AD34: =$AB34*1.5 -> 0 | AE34: =$V34+$X34+$AC34+$AD34+$W34 -> 0.072916667 | AF34: =SUM(AF25:AF32) -> 0.54166667 | AG34: =$AG26+AE34-AF34 -> -1.3333333 | AH34: =AG34/6.5 -> -0.20512821 | AI34: =SUM(AI25:AI32) -> 4.0625 | AJ34: =$AJ26+AI34 -> 7.3125 | AK34: =AJ34/6.5 -> 1.125
D37: Signature du salarié précédée de la mention "lu et approuvé"

Sheet 2702 2503
B1: AURELIEN | F1: 27 fev / 25 mars 2012 | I1: Tps d'appro ou trajet | J1: Voyage | L1: Voyage | M1: Horaires prestation fin= prestation ou voyage | O1: Pause | P1: Repas | Q1: Prestation | R1: Dispo | S1: Total voyage si isolé | T1: Total travail effectuif | U1: Major.dim | V1: Récup. Acquises pour dispo | W1: Récup Acquises pour H.Nuit | X1: Récup. Acquises dim ou Jf | Y1: H normales | Z1: Hs semaine | AA1: Hs à 25% | AB1: Hs a 50% | AC1: Récup HS semaine 25% | AD1: Récup HS semaine 50% | AE1: Tota H récup semaine acquise | AF1: Récup. prises | AG1: Solde récup h | AH1: Solde récup jour | AI1: Total Congés heure pris | AJ1: Solde congés en heures N-1 | AK1: Solde congés jour N-1 | AL1: Solde congés en heures N | AM1: Solde congés jour N
D2: LIEU | E2: INTITULE | F2: DETAILS | G2: Tps A 1,00 | H2: Tps T -1,00 | J2: H deb | K2: H Fin | M2: H deb | N2: H Fin | U2: 0.25 | AL2: =AM2*6.5 -> 52 | AM2: 8
B3: lun | C3: 40966 | E3: CONGES | L3: =IF(K3-J3="00:00","",(K3-J3+I3)) -> 0 | M3: 0 | N3: 0 | P3: 0 | Q3: 0 | R3: =IF(Q3>TIMEVALUE("12:00"),Q3-"12:00","") | S3: =IF(AND(Q3=0,L3>=2),L3,0) -> 0 | T3: =IF(Q3=0,S3,IF(Q3>12,Q3-R3,L3+Q3)) -> 0 | U3: =IF(N3="","",IF(AND(OR(B3="dim",A3="F")),(T3*$U$2),"")) | V3: =IF(R3="","",R3*1.75) | W3: =IF(N3>1,(N3-1)*0.25,"") | AF3: =IF(E3="RECUP",LISTE!$B$22,"") | AI3: =IF(E3=LISTE!$A$17,LISTE!$B$17,"") -> 0.27083333
B4: mar | C4: 40967 | E4: CONGES | L4: =IF(K4-J4="00:00","",(K4-J4+I4)) -> 0 | M4: 0 | N4: 0 | P4: 0 | Q4: 0 | R4: =IF(Q4>TIMEVALUE("12:00"),Q4-"12:00","") | S4: =IF(AND(Q4=0,L4>=2),L4,0) -> 0 | T4: =IF(Q4=0,S4,IF(Q4>12,Q4-R4,L4+Q4)) -> 0 | U4: =IF(N4="","",IF(AND(OR(B4="dim",A4="F")),(T4*$U$2),"")) | V4: =IF(R4="","",R4*1.75) | W4: =IF(N4>1,(N4-1)*0.25,"") | AF4: =IF(E4="RECUP",LISTE!$B$22,"") | AI4: =IF(E4=LISTE!$A$17,LISTE!$B$17,"") -> 0.27083333
B5: mer | C5: 40968 | E5: CONGES | L5: =IF(K5-J5="00:00","",(K5-J5+I5)) -> 0 | M5: 0 | N5: 0 | P5: 0 | Q5: 0 | R5: =IF(Q5>TIMEVALUE("12:00"),Q5-"12:00","") | S5: =IF(AND(Q5=0,L5>=2),L5,0) -> 0 | T5: =IF(Q5=0,S5,IF(Q5>12,Q5-R5,L5+Q5)) -> 0 | U5: =IF(N5="","",IF(AND(OR(B5="dim",A5="F")),(T5*$U$2),"")) | V5: =IF(R5="","",R5*1.75) | W5: =IF(N5>1,(N5-1)*0.25,"") | X5: =U5 | AF5: =IF(E5="RECUP",LISTE!$B$22,"") | AI5: =IF(E5=LISTE!$A$17,LISTE!$B$17,"") -> 0.27083333
B6: jeu | C6: 40969 | L6: =IF(K6-J6="00:00","",(K6-J6+I6)) -> 0 | M6: 0 | N6: 0 | P6: 0 | Q6: 0 | R6: =IF(Q6>TIMEVALUE("12:00"),Q6-"12:00","") | S6: =IF(AND(Q6=0,L6>=2),L6,0) -> 0 | T6: =IF(Q6=0,S6,IF(Q6>12,Q6-R6,L6+Q6)) -> 0 | U6: =IF(N7="","",IF(AND(OR(B6="dim",A6="F")),(T6*$U$2),"")) | V6: =IF(R6="","",R6*1.75) | W6: =IF(N7>1,(N7-1)*0.25,"") | X6: =U6 | AF6: =IF(E6="RECUP",LISTE!$B$22,"") | AI6: =IF(E6=LISTE!$A$17,LISTE!$B$17,"")
B7: ven | C7: 40970 | L7: =IF(K7-J7="00:00","",(K7-J7+I7)) -> 0 | M7: 0 | N7: 0 | P7: 0 | Q7: 0 | R7: =IF(Q7>TIMEVALUE("12:00"),Q7-"12:00","") | S7: =IF(AND(Q7=0,L7>=2),L7,0) -> 0 | T7: =IF(Q7=0,S7,IF(Q7>12,Q7-R7,L7+Q7)) -> 0 | V7: =IF(R7="","",R7*1.75) | AF7: =IF(E7="RECUP",LISTE!$B$22,"") | AI7: =IF(E7=LISTE!$A$17,LISTE!$B$17,"")
B8: sam | C8: 40971 | L8: =IF(K8-J8="00:00","",(K8-J8+I8)) -> 0 | M8: 0 | N8: 0 | P8: 0 | Q8: 0 | R8: =IF(Q8>TIMEVALUE("12:00"),Q8-"12:00","") | S8: =IF(AND(Q8=0,L8>=2),L8,0) -> 0 | T8: =IF(Q8=0,S8,IF(Q8>12,Q8-R8,L8+Q8)) -> 0 | U8: =IF(N8="","",IF(AND(OR(B8="dim",A8="F")),(T8*$U$2),"")) | V8: =IF(R8="","",R8*1.75) | W8: =IF(N8>1,(N8-1)*0.25,"") | X8: =U8 | AF8: =IF(E8="RECUP",LISTE!$B$22,"") | AI8: =IF(E8=LISTE!$A$17,LISTE!$B$17,"")
B9: dim | C9: 40972 | L9: 0.0625 | M9: 0 | N9: 0 | P9: 0 | Q9: 0 | R9: =IF(Q9>TIMEVALUE("12:00"),Q9-"12:00","") | S9: =IF(AND(Q9=0,L9>=2),L9,0) -> 0 | T9: 0 | U9: =IF(N9="","",IF(AND(OR(B9="dim",A9="F")),(T9*$U$2),"")) -> 0 | V9: =IF(R9="","",R9*1.75) | W9: 0.010416667 | X9: =U9 -> 0 | AF9: =IF(E9="RECUP",LISTE!$B$22,"") | AI9: =IF(E9=LISTE!$A$17,LISTE!$B$17,"")
B10: TOTAL SEMAINE 9 | T10: =SUM(T3:T9) -> 0 | U10: =SUM(U3:U9) -> 0 | V10: =SUM(V3:V9) -> 0 | W10: =SUM(W3:W9) -> 0.010416667 | X10: =SUM(X3:X9) -> 0 | Y10: ="39:00" -> 39:00 | Z10: =IF(T10<Y10,"0:00",T10-Y10) -> 0:00 | AB10: =IF(Z10>=TIMEVALUE("5:00"),Z10-AA10,"") -> 0 | AC10: =$AA10*1.25 -> 0 | AD10: =$AB10*1.5 -> 0 | AE10: =$V10+$X10+$AC10+$AD10+$W10 -> 0.010416667 | AF10: =SUM(AF3:AF9) -> 0 | AG10: =($AG2+AE10-AF10) -> 0.010416667 | AH10: =AG10/6.5 -> 0.0016025641 | AI10: =SUM(AI3:AI9) -> 0.8125 | AJ10: =$AJ2+AI10 -> 0.8125 | AK10: =AJ10/6.5 -> 0.125
B11: lun | C11: 40973 | L11: =IF(K11-J11="00:00","",(K11-J11+I11)) -> 0 | M11: 0 | N11: 0 | P11: 0 | Q11: 0 | R11: =IF(Q11>TIMEVALUE("12:00"),Q11-"12:00","") | S11: 0 | T11: 0 | U11: =IF(N11="","",IF(AND(OR(B11="dim",A11="F")),(T11*$U$2),"")) | V11: =IF(R11="","",R11*1.75) | W11: =IF(N11>1,(N11-1)*0.25,"") | AF11: =IF(E11="RECUP",LISTE!$B$22,"") | AI11: =IF(E11=LISTE!$A$17,LISTE!$B$17,"")
B12: mar | C12: 40974 | L12: =IF(K12-J12="00:00","",(K12-J12+I12)) -> 0 | M12: 0 | N12: 0 | P12: 0 | Q12: 0 | R12: =IF(Q12>TIMEVALUE("12:00"),Q12-"12:00","") | S12: 0 | T12: 0 | U12: =IF(N12="","",IF(AND(OR(B12="dim",A12="F")),(T12*$U$2),"")) | V12: =IF(R12="","",R12*1.75) | W12: =IF(N12>1,(N12-1)*0.25,"") | AF12: =IF(E12="RECUP",LISTE!$B$22,"") | AI12: =IF(E12=LISTE!$A$17,LISTE!$B$17,"")
B13: mer | C13: 40975 | L13: =IF(K13-J13="00:00","",(K13-J13+I13)) -> 0 | M13: 0 | N13: 0 | P13: 0 | Q13: 0 | R13: =IF(Q13>TIMEVALUE("12:00"),Q13-"12:00","") | S13: 0 | T13: 0 | U13: =IF(N13="","",IF(AND(OR(B13="dim",A13="F")),(T13*$U$2),"")) | V13: =IF(R13="","",R13*1.75) | W13: =IF(N13>1,(N13-1)*0.25,"") | AF13: =IF(E13="RECUP",LISTE!$B$22,"") | AI13: =IF(E13=LISTE!$A$17,LISTE!$B$17,"")
B14: jeu | C14: 40976 | L14: =IF(K14-J14="00:00","",(K14-J14+I14)) -> 0 | M14: 0 | N14: 0 | P14: 0 | Q14: 0 | R14: =IF(Q14>TIMEVALUE("12:00"),Q14-"12:00","") | S14: 0 | T14: 0 | U14: =IF(N14="","",IF(AND(OR(B14="dim",A14="F")),(T14*$U$2),"")) | V14: =IF(R14="","",R14*1.75) | W14: =IF(N14>1,(N14-1)*0.25,"") | AF14: =IF(E14="RECUP",LISTE!$B$22,"") | AI14: =IF(E14=LISTE!$A$17,LISTE!$B$17,"")
B15: ven | C15: 40977 | L15: =IF(K15-J15="00:00","",(K15-J15+I15)) -> 0 | M15: 0 | N15: 0 | P15: 0 | Q15: 0 | R15: =IF(Q15>TIMEVALUE("12:00"),Q15-"12:00","") | S15: 0 | T15: 0 | U15: =IF(N15="","",IF(AND(OR(B15="dim",A15="F")),(T15*$U$2),"")) | V15: =IF(R15="","",R15*1.75) | W15: =IF(N15>1,(N15-1)*0.25,"") | AF15: =IF(E15="RECUP",LISTE!$B$22,"") | AI15: =IF(E15=LISTE!$A$17,LISTE!$B$17,"")
B16: sam | C16: 40978 | L16: =IF(K16-J16="00:00","",(K16-J16+I16)) -> 0 | M16: 0 | N16: 0 | P16: 0 | Q16: 0 | R16: =IF(Q16>TIMEVALUE("12:00"),Q16-"12:00","") | S16: 0 | T16: 0 | U16: =IF(N16="","",IF(AND(OR(B16="dim",A16="F")),(T16*$U$2),"")) | V16: =IF(R16="","",R16*1.75) | W16: =IF(N16>1,(N16-1)*0.25,"") | AF16: =IF(E16="RECUP",LISTE!$B$22,"") | AI16: =IF(E16=LISTE!$A$17,LISTE!$B$17,"")
B17: dim | C17: 40979 | L17: =IF(K17-J17="00:00","",(K17-J17+I17)) -> 0 | M17: 0 | N17: 0 | P17: 0 | Q17: 0 | R17: =IF(Q17>TIMEVALUE("12:00"),Q17-"12:00","") | S17: 0 | T17: 0 | U17: =IF(N17="","",IF(AND(OR(B17="dim",A17="F")),(T17*$U$2),"")) -> 0 | V17: =IF(R17="","",R17*1.75) | W17: =IF(N17>1,(N17-1)*0.25,"") | AF17: =IF(E17="RECUP",LISTE!$B$22,"") | AI17: =IF(E17=LISTE!$A$17,LISTE!$B$17,"")
B18: TOTAL SEMAINE 10 | T18: =SUM(T10:T16) -> 0 | U18: =SUM(U10:U16) -> 0 | V18: =SUM(V10:V16) -> 0 | W18: =SUM(W10:W16) -> 0.010416667 | X18: =SUM(X10:X16) -> 0 | Y18: ="39:00" -> 39:00 | Z18: =IF(T18<Y18,"0:00",T18-Y18) -> 0:00 | AB18: =IF(Z18>=TIMEVALUE("5:00"),Z18-AA18,"") -> 0 | AC18: =$AA18*1.25 -> 0 | AD18: =$AB18*1.5 -> 0 | AE18: =$V18+$X18+$AC18+$AD18+$W18 -> 0.010416667 | AF18: =SUM(AF10:AF16) -> 0 | AG18: =$AG10+AE18-AF18 -> 0.020833333 | AH18: =AG18/6.5 -> 0.0032051282 | AI18: =SUM(AI10:AI16) -> 0.8125 | AJ18: =$AJ10+AI18 -> 1.625 | AK18: =AJ18/6.5 -> 0.25
B19: lun | C19: 40980 | L19: =IF(K19-J19="00:00","",(K19-J19+I19)) -> 0 | M19: 0 | N19: 0 | P19: 0 | Q19: 0 | R19: 0 | S19: 0 | T19: 0 | U19: =IF(N19="","",IF(AND(OR(B19="dim",A19="F")),(T19*$U$2),"")) | V19: =IF(R19="","",R19*1.75) -> 0 | W19: =IF(N19>1,(N19-1)*0.25,"") | AF19: =IF(E19="RECUP",LISTE!$B$22,"") | AI19: =IF(E19=LISTE!$A$17,LISTE!$B$17,"")
B20: mar | C20: 40981 | L20: =IF(K20-J20="00:00","",(K20-J20+I20)) -> 0 | M20: 0 | N20: 0 | P20: 0 | Q20: 0 | R20: 0 | S20: 0 | T20: 0 | U20: =IF(N20="","",IF(AND(OR(B20="dim",A20="F")),(T20*$U$2),"")) | V20: =IF(R20="","",R20*1.75) -> 0 | W20: =IF(N20>1,(N20-1)*0.25,"") | AF20: =IF(E20="RECUP",LISTE!$B$22,"") | AI20: =IF(E20=LISTE!$A$17,LISTE!$B$17,"")
B21: mer | C21: 40982 | L21: =IF(K21-J21="00:00","",(K21-J21+I21)) -> 0 | M21: 0 | N21: 0 | P21: 0 | Q21: 0 | R21: 0 | S21: 0 | T21: 0 | U21: =IF(N21="","",IF(AND(OR(B21="dim",A21="F")),(T21*$U$2),"")) | V21: =IF(R21="","",R21*1.75) -> 0 | W21: =IF(N21>1,(N21-1)*0.25,"") | AF21: =IF(E21="RECUP",LISTE!$B$22,"") | AI21: =IF(E21=LISTE!$A$17,LISTE!$B$17,"")
B22: jeu | C22: 40983 | L22: =IF(K22-J22="00:00","",(K22-J22+I22)) -> 0 | M22: 0 | N22: 0 | P22: 0 | Q22: 0 | R22: 0 | S22: 0 | T22: 0 | U22: =IF(N22="","",IF(AND(OR(B22="dim",A22="F")),(T22*$U$2),"")) | V22: =IF(R22="","",R22*1.75) -> 0 | W22: =IF(N22>1,(N22-1)*0.25,"") | AF22: =IF(E22="RECUP",LISTE!$B$22,"") | AI22: =IF(E22=LISTE!$A$17,LISTE!$B$17,"")
B23: ven | C23: 40984 | L23: =IF(K23-J23="00:00","",(K23-J23+I23)) -> 0 | M23: 0 | N23: 0 | P23: 0 | Q23: 0 | R23: 0 | S23: 0 | T23: 0 | U23: =IF(N23="","",IF(AND(OR(B23="dim",A23="F")),(T23*$U$2),"")) | V23: =IF(R23="","",R23*1.75) -> 0 | W23: =IF(N23>1,(N23-1)*0.25,"") | AF23: =IF(E23="RECUP",LISTE!$B$22,"") | AI23: =IF(E23=LISTE!$A$17,LISTE!$B$17,"")
B24: sam | C24: 40985 | L24: =IF(K24-J24="00:00","",(K24-J24+I24)) -> 0 | M24: 0 | N24: 0 | P24: 0 | Q24: 0 | R24: 0 | S24: 0 | T24: 0 | U24: =IF(N24="","",IF(AND(OR(B24="dim",A24="F")),(T24*$U$2),"")) | V24: =IF(R24="","",R24*1.75) -> 0 | W24: =IF(N24>1,(N24-1)*0.25,"") | AF24: =IF(E24="RECUP",LISTE!$B$22,"") | AI24: =IF(E24=LISTE!$A$17,LISTE!$B$17,"")
B25: dim | C25: 40986 | L25: =IF(K25-J25="00:00","",(K25-J25+I25)) -> 0 | M25: 0 | N25: 0 | P25: 0 | Q25: 0 | R25: 0 | S25: 0 | T25: 0 | U25: =IF(N25="","",IF(AND(OR(B25="dim",A25="F")),(T25*$U$2),"")) -> 0 | V25: =IF(R25="","",R25*1.75) -> 0 | W25: =IF(N25>1,(N25-1)*0.25,"") | AF25: =IF(E25="RECUP",LISTE!$B$22,"") | AI25: =IF(E25=LISTE!$A$17,LISTE!$B$17,"")
B26: TOTAL SEMAINE 11 | T26: =SUM(T17:T24) -> 0 | U26: =SUM(U17:U24) -> 0 | V26: =SUM(V17:V24) -> 0 | W26: =SUM(W17:W22) -> 0.010416667 | X26: =SUM(X17:X24) -> 0 | Y26: ="39:00" -> 39:00 | Z26: =IF(T26<Y26,"0:00",T26-Y26) -> 0:00 | AB26: =IF(Z26>=5,Z26-AA26,0) -> 0 | AC26: =$AA26*1.25 -> 0 | AD26: =$AB26*1.5 -> 0 | AE26: =$V26+$X26+$AC26+$AD26+$W26 -> 0.010416667 | AF26: =SUM(AF17:AF24) -> 0 | AG26: =$AG18+AE26-AF26 -> 0.03125 | AH26: =AG26/6.5 -> 0.0048076923 | AI26: =SUM(AI17:AI24) -> 0.8125 | AJ26: =$AJ18+AI26 -> 2.4375 | AK26: =AJ26/6.5 -> 0.375
B27: lun | C27: 40987 | L27: =IF(K27-J27="00:00","",(K27-J27+I27)) -> 0 | M27: 0 | N27: 0 | O27: 0 | P27: 0 | Q27: 0 | R27: 0 | S27: 0 | T27: 0 | U27: =IF(N27="","",IF(AND(OR(B27="dim",A27="F")),(T27*$U$2),"")) | V27: =IF(R27="","",R27*1.75) -> 0 | W27: =IF(N27>1,(N27-1)*0.25,"") | AF27: =IF(E27="RECUP",LISTE!$B$22,"") | AI27: =IF(E27=LISTE!$A$17,LISTE!$B$17,"")
B28: mar | C28: 40988 | L28: =IF(K28-J28="00:00","",(K28-J28+I28)) -> 0 | M28: 0 | N28: 0 | O28: 0 | P28: 0 | Q28: 0 | R28: 0 | S28: 0 | T28: 0 | U28: =IF(N28="","",IF(AND(OR(B28="dim",A28="F")),(T28*$U$2),"")) | V28: =IF(R28="","",R28*1.75) -> 0 | W28: =IF(N28>1,(N28-1)*0.25,"") | AF28: =IF(E28="RECUP",LISTE!$B$22,"") | AI28: =IF(E28=LISTE!$A$17,LISTE!$B$17,"")
B29: mer | C29: 40989 | L29: =IF(K29-J29="00:00","",(K29-J29+I29)) -> 0 | M29: 0 | N29: 0 | O29: 0 | P29: 0 | Q29: 0 | R29: 0 | S29: 0 | T29: 0 | U29: =IF(N29="","",IF(AND(OR(B29="dim",A29="F")),(T29*$U$2),"")) | V29: =IF(R29="","",R29*1.75) -> 0 | W29: =IF(N29>1,(N29-1)*0.25,"") | AF29: =IF(E29="RECUP",LISTE!$B$22,"") | AI29: =IF(E29=LISTE!$A$17,LISTE!$B$17,"")
B30: jeu | C30: 40990 | L30: =IF(K30-J30="00:00","",(K30-J30+I30)) -> 0 | M30: 0 | N30: 0 | O30: 0 | P30: 0 | Q30: 0 | R30: 0 | S30: 0 | T30: 0 | U30: =IF(N30="","",IF(AND(OR(B30="dim",A30="F")),(T30*$U$2),"")) | V30: =IF(R30="","",R30*1.75) -> 0 | W30: =IF(N30>1,(N30-1)*0.25,"") | AF30: =IF(E30="RECUP",LISTE!$B$22,"") | AI30: =IF(E30=LISTE!$A$17,LISTE!$B$17,"")
B31: ven | C31: 40991 | L31: =IF(K31-J31="00:00","",(K31-J31+I31)) -> 0 | M31: 0 | N31: 0 | O31: 0 | P31: 0 | Q31: 0 | R31: 0 | S31: 0 | T31: 0 | U31: =IF(N31="","",IF(AND(OR(B31="dim",A31="F")),(T31*$U$2),"")) | V31: =IF(R31="","",R31*1.75) -> 0 | W31: =IF(N31>1,(N31-1)*0.25,"") | AF31: =IF(E31="RECUP",LISTE!$B$22,"") | AI31: =IF(E31=LISTE!$A$17,LISTE!$B$17,"")
B32: sam | C32: 40992 | L32: =IF(K32-J32="00:00","",(K32-J32+I32)) -> 0 | M32: 0 | N32: 0 | O32: 0 | P32: 0 | Q32: 0 | R32: 0 | S32: 0 | T32: 0 | U32: =IF(N32="","",IF(AND(OR(B32="dim",A32="F")),(T32*$U$2),"")) | V32: =IF(R32="","",R32*1.75) -> 0 | W32: =IF(N32>1,(N32-1)*0.25,"") | AF32: =IF(E32="RECUP",LISTE!$B$22,"") | AI32: =IF(E32=LISTE!$A$17,LISTE!$B$17,"")
B33: dim | C33: 40993 | L33: 0.083333333 | M33: 0 | N33: 0 | O33: 0 | P33: 0 | Q33: 0 | R33: 0 | S33: 0 | T33: 0 | U33: =IF(N33="","",IF(AND(OR(B33="dim",A33="F")),(T33*$U$2),"")) -> 0 | W33: =IF(N33>1,(N33-1)*0.25,"")
B34: TOTAL SEMAINE 12 | T34: =SUM(T25:T32) -> 0 | U34: =SUM(U25:U32) -> 0 | V34: =SUM(V25:V32) -> 0 | W34: =SUM(W25:W30) -> 0.010416667 | X34: =SUM(X25:X32) -> 0 | Y34: ="39:00" -> 39:00 | Z34: =IF(T34<Y34,"0:00",T34-Y34) -> 0:00 | AB34: =IF(Z34>=5,Z34-AA34,0) -> 0 | AC34: =$AA34*1.25 -> 0 | AD34: =$AB34*1.5 -> 0 | AE34: =$V34+$X34+$AC34+$AD34+$W34 -> 0.010416667 | AF34: =SUM(AF25:AF32) -> 0 | AG34: =$AG26+AE34-AF34 -> 0.041666667 | AH34: =AG34/6.5 -> 0.0064102564 | AI34: =SUM(AI25:AI32) -> 0.8125 | AJ34: =$AJ26+AI34 -> 3.25 | AK34: =AJ34/6.5 -> 0.5
D37: Signature du salarié précédée de la mention "lu et approuvé"

Sheet 2603 2204
B1: AURELIEN | F1: 26 mars / 22 avril 2012 | I1: Tps d'appro ou trajet | J1: Voyage | L1: Voyage | M1: Horaires prestation fin= prestation ou voyage | O1: Pause | P1: Repas | Q1: Prestation | R1: Dispo | S1: Total voyage si isolé | T1: Total travail effectuif | U1: Major.dim | V1: Récup. Acquises pour dispo | W1: Récup Acquises pour H.Nuit | X1: Récup. Acquises dim ou Jf | Y1: H normales | Z1: Hs semaine | AA1: Hs à 25% | AB1: Hs a 50% | AC1: Récup HS semaine 25% | AD1: Récup HS semaine 50% | AE1: Tota H récup semaine acquise | AF1: Récup. prises | AG1: Solde récup h | AH1: Solde récup jour | AI1: Total Congés heure pris | AJ1: Solde congés en heures N-1 | AK1: Solde congés jour N-1 | AL1: Solde congés en heures N | AM1: Solde congés jour N
D2: LIEU | E2: INTITULE | F2: DETAILS | G2: Tps A 1,00 | H2: Tps T -1,00 | J2: H deb | K2: H Fin | M2: H deb | N2: H Fin | U2: 0.25 | AL2: =AM2*6.5 -> 52 | AM2: 8
B3: lun | C3: 40994 | L3: 0 | M3: 0 | N3: 0 | O3: 0 | P3: 0 | Q3: 0 | R3: 0 | S3: 0 | T3: 0 | U3: 0 | V3: =IF(R3="","",R3*1.75) -> 0 | W3: =IF(N3>1,(N3-1)*0.25,"") | AF3: =IF(E3="RECUP",LISTE!$B$22,"") | AI3: =IF(E3=LISTE!$A$17,LISTE!$B$17,"")
B4: mar | C4: 40995 | L4: 0 | M4: 0 | N4: 0 | O4: 0 | P4: 0 | Q4: 0 | R4: 0 | S4: 0 | T4: 0 | U4: 0 | V4: =IF(R4="","",R4*1.75) -> 0 | W4: =IF(N4>1,(N4-1)*0.25,"") | AF4: =IF(E4="RECUP",LISTE!$B$22,"") | AI4: =IF(E4=LISTE!$A$17,LISTE!$B$17,"")
B5: mer | C5: 40996 | L5: 0 | M5: 0 | N5: 0 | O5: 0 | P5: 0 | Q5: 0 | R5: 0 | S5: 0 | T5: 0 | U5: 0 | V5: =IF(R5="","",R5*1.75) -> 0 | W5: =IF(N5>1,(N5-1)*0.25,"") | X5: =U5 -> 0 | AF5: =IF(E5="RECUP",LISTE!$B$22,"") | AI5: =IF(E5=LISTE!$A$17,LISTE!$B$17,"")
B6: jeu | C6: 40997 | L6: 0 | M6: 0 | N6: 0 | O6: 0 | P6: 0 | Q6: 0 | R6: 0 | S6: 0 | T6: 0 | U6: 0 | V6: =IF(R6="","",R6*1.75) -> 0 | W6: =IF(N7>1,(N7-1)*0.25,"") | X6: =U6 -> 0 | AF6: =IF(E6="RECUP",LISTE!$B$22,"") | AI6: =IF(E6=LISTE!$A$17,LISTE!$B$17,"")
B7: ven | C7: 40998 | L7: 0 | M7: 0 | N7: 0 | O7: 0 | P7: 0 | Q7: 0 | R7: 0 | S7: 0 | T7: 0 | U7: 0 | V7: =IF(R7="","",R7*1.75) -> 0 | AF7: =IF(E7="RECUP",LISTE!$B$22,"") | AI7: =IF(E7=LISTE!$A$17,LISTE!$B$17,"")
B8: sam | C8: 40999 | L8: 0 | M8: 0 | N8: 0 | O8: 0 | P8: 0 | Q8: 0 | R8: 0 | S8: 0 | T8: 0 | U8: 0 | V8: =IF(R8="","",R8*1.75) -> 0 | W8: =IF(N8>1,(N8-1)*0.25,"") | X8: =U8 -> 0 | AF8: =IF(E8="RECUP",LISTE!$B$22,"") | AI8: =IF(E8=LISTE!$A$17,LISTE!$B$17,"")
B9: dim | C9: 41000 | L9: 0 | M9: 0 | N9: 0 | O9: 0 | P9: 0 | Q9: 0 | R9: 0 | S9: 0 | T9: 0 | U9: 0 | V9: =IF(R9="","",R9*1.75) -> 0 | W9: 0.010416667 | X9: =U9 -> 0 | AF9: =IF(E9="RECUP",LISTE!$B$22,"") | AI9: =IF(E9=LISTE!$A$17,LISTE!$B$17,"")
B10: TOTAL SEMAINE 13 | T10: =SUM(T3:T9) -> 0 | U10: =SUM(U3:U9) -> 0 | V10: =SUM(V3:V9) -> 0 | W10: =SUM(W3:W9) -> 0.010416667 | X10: =SUM(X3:X9) -> 0 | Y10: ="39:00" -> 39:00 | Z10: =IF(T10<Y10,"0:00",T10-Y10) -> 0:00 | AB10: =IF(Z10>=TIMEVALUE("5:00"),Z10-AA10,"") -> 0 | AC10: =$AA10*1.25 -> 0 | AD10: =$AB10*1.5 -> 0 | AE10: =$V10+$X10+$AC10+$AD10+$W10 -> 0.010416667 | AF10: =SUM(AF3:AF9) -> 0 | AG10: =($AG2+AE10-AF10) -> 0.010416667 | AH10: =AG10/6.5 -> 0.0016025641 | AI10: =SUM(AI3:AI9) -> 0 | AJ10: =$AJ2+AI10 -> 0 | AK10: =AJ10/6.5 -> 0
B11: lun | C11: 41001 | L11: 0 | M11: 0 | N11: 0 | O11: 0 | P11: 0 | Q11: 0 | R11: 0 | S11: 0 | T11: 0 | U11: 0 | V11: =IF(R11="","",R11*1.75) -> 0 | W11: =IF(N11>1,(N11-1)*0.25,"") | AF11: =IF(E11="RECUP",LISTE!$B$22,"") | AI11: =IF(E11=LISTE!$A$17,LISTE!$B$17,"")
B12: mar | C12: 41002 | L12: 0 | M12: 0 | N12: 0 | O12: 0 | P12: 0 | Q12: 0 | R12: 0 | S12: 0 | T12: 0 | U12: 0 | V12: =IF(R12="","",R12*1.75) -> 0 | W12: =IF(N12>1,(N12-1)*0.25,"") | AF12: =IF(E12="RECUP",LISTE!$B$22,"") | AI12: =IF(E12=LISTE!$A$17,LISTE!$B$17,"")
B13: mer | C13: 41003 | L13: 0 | M13: 0 | N13: 0 | O13: 0 | P13: 0 | Q13: 0 | R13: 0 | S13: 0 | T13: 0 | U13: 0 | V13: =IF(R13="","",R13*1.75) -> 0 | W13: =IF(N13>1,(N13-1)*0.25,"") | AF13: =IF(E13="RECUP",LISTE!$B$22,"") | AI13: =IF(E13=LISTE!$A$17,LISTE!$B$17,"")
B14: jeu | C14: 41004 | L14: 0 | M14: 0 | N14: 0 | O14: 0 | P14: 0 | Q14: 0 | R14: 0 | S14: 0 | T14: 0 | U14: 0 | V14: =IF(R14="","",R14*1.75) -> 0 | W14: =IF(N14>1,(N14-1)*0.25,"") | AF14: =IF(E14="RECUP",LISTE!$B$22,"") | AI14: =IF(E14=LISTE!$A$17,LISTE!$B$17,"")
B15: ven | C15: 41005 | L15: 0 | M15: 0 | N15: 0 | O15: 0 | P15: 0 | Q15: 0 | R15: 0 | S15: 0 | T15: 0 | U15: 0 | V15: =IF(R15="","",R15*1.75) -> 0 | W15: =IF(N15>1,(N15-1)*0.25,"") | AF15: =IF(E15="RECUP",LISTE!$B$22,"") | AI15: =IF(E15=LISTE!$A$17,LISTE!$B$17,"")
B16: sam | C16: 41006 | L16: 0 | M16: 0 | N16: 0 | O16: 0 | P16: 0 | Q16: 0 | R16: 0 | S16: 0 | T16: 0 | U16: 0 | V16: =IF(R16="","",R16*1.75) -> 0 | W16: =IF(N16>1,(N16-1)*0.25,"") | AF16: =IF(E16="RECUP",LISTE!$B$22,"") | AI16: =IF(E16=LISTE!$A$17,LISTE!$B$17,"")
B17: dim | C17: 41007 | L17: 0 | M17: 0 | N17: 0 | O17: 0 | P17: 0 | Q17: 0 | R17: 0 | S17: 0 | T17: 0 | U17: 0 | V17: =IF(R17="","",R17*1.75) -> 0 | W17: =IF(N17>1,(N17-1)*0.25,"") | AF17: =IF(E17="RECUP",LISTE!$B$22,"") | AI17: =IF(E17=LISTE!$A$17,LISTE!$B$17,"")
B18: TOTAL SEMAINE 14 | T18: =SUM(T10:T16) -> 0 | U18: =SUM(U10:U16) -> 0 | V18: =SUM(V10:V16) -> 0 | W18: =SUM(W10:W16) -> 0.010416667 | X18: =SUM(X10:X16) -> 0 | Y18: ="39:00" -> 39:00 | Z18: =IF(T18<Y18,"0:00",T18-Y18) -> 0:00 | AB18: =IF(Z18>=TIMEVALUE("5:00"),Z18-AA18,"") -> 0 | AC18: =$AA18*1.25 -> 0 | AD18: =$AB18*1.5 -> 0 | AE18: =$V18+$X18+$AC18+$AD18+$W18 -> 0.010416667 | AF18: =SUM(AF10:AF16) -> 0 | AG18: =$AG10+AE18-AF18 -> 0.020833333 | AH18: =AG18/6.5 -> 0.0032051282 | AI18: =SUM(AI10:AI16) -> 0 | AJ18: =$AJ10+AI18 -> 0 | AK18: =AJ18/6.5 -> 0
B19: lun | C19: 41008 | L19: =IF(K19-J19="00:00","",(K19-J19+I19)) -> 0 | M19: 0 | N19: 0 | O19: 0 | P19: 0 | Q19: 0 | R19: 0 | S19: 0 | T19: 0 | U19: =IF(N19="","",IF(AND(OR(B19="dim",A19="F")),(T19*$U$2),"")) | V19: =IF(R19="","",R19*1.75) -> 0 | W19: =IF(N19>1,(N19-1)*0.25,"") | AF19: =IF(E19="RECUP",LISTE!$B$22,"") | AI19: =IF(E19=LISTE!$A$17,LISTE!$B$17,"")
B20: mar | C20: 41009 | L20: =IF(K20-J20="00:00","",(K20-J20+I20)) -> 0 | M20: 0 | N20: 0 | O20: 0 | P20: 0 | Q20: 0 | R20: 0 | S20: 0 | T20: 0 | U20: =IF(N20="","",IF(AND(OR(B20="dim",A20="F")),(T20*$U$2),"")) | V20: =IF(R20="","",R20*1.75) -> 0 | W20: =IF(N20>1,(N20-1)*0.25,"") | AF20: =IF(E20="RECUP",LISTE!$B$22,"") | AI20: =IF(E20=LISTE!$A$17,LISTE!$B$17,"")
B21: mer | C21: 41010 | L21: =IF(K21-J21="00:00","",(K21-J21+I21)) -> 0 | M21: 0 | N21: 0 | O21: 0 | P21: 0 | Q21: 0 | R21: 0 | S21: 0 | T21: 0 | U21: =IF(N21="","",IF(AND(OR(B21="dim",A21="F")),(T21*$U$2),"")) | V21: =IF(R21="","",R21*1.75) -> 0 | W21: =IF(N21>1,(N21-1)*0.25,"") | AF21: =IF(E21="RECUP",LISTE!$B$22,"") | AI21: =IF(E21=LISTE!$A$17,LISTE!$B$17,"")
B22: jeu | C22: 41011 | L22: =IF(K22-J22="00:00","",(K22-J22+I22)) -> 0 | M22: 0 | N22: 0 | O22: 0 | P22: 0 | Q22: 0 | R22: 0 | S22: 0 | T22: 0 | U22: =IF(N22="","",IF(AND(OR(B22="dim",A22="F")),(T22*$U$2),"")) | V22: =IF(R22="","",R22*1.75) -> 0 | W22: =IF(N22>1,(N22-1)*0.25,"") | AF22: =IF(E22="RECUP",LISTE!$B$22,"") | AI22: =IF(E22=LISTE!$A$17,LISTE!$B$17,"")
B23: ven | C23: 41012 | L23: =IF(K23-J23="00:00","",(K23-J23+I23)) -> 0 | M23: 0 | N23: 0 | O23: 0 | P23: 0 | Q23: 0 | R23: 0 | S23: 0 | T23: 0 | U23: =IF(N23="","",IF(AND(OR(B23="dim",A23="F")),(T23*$U$2),"")) | V23: =IF(R23="","",R23*1.75) -> 0 | W23: =IF(N23>1,(N23-1)*0.25,"") | AF23: =IF(E23="RECUP",LISTE!$B$22,"") | AI23: =IF(E23=LISTE!$A$17,LISTE!$B$17,"")
B24: sam | C24: 41013 | L24: =IF(K24-J24="00:00","",(K24-J24+I24)) -> 0 | M24: 0 | N24: 0 | O24: 0 | P24: 0 | Q24: 0 | R24: 0 | S24: 0 | T24: 0 | U24: =IF(N24="","",IF(AND(OR(B24="dim",A24="F")),(T24*$U$2),"")) | V24: =IF(R24="","",R24*1.75) -> 0 | W24: =IF(N24>1,(N24-1)*0.25,"") | AF24: =IF(E24="RECUP",LISTE!$B$22,"") | AI24: =IF(E24=LISTE!$A$17,LISTE!$B$17,"")
B25: dim | C25: 41014 | L25: =IF(K25-J25="00:00","",(K25-J25+I25)) -> 0 | M25: 0 | N25: 0 | O25: 0 | P25: 0 | Q25: 0 | R25: 0 | S25: 0 | T25: 0 | U25: =IF(N25="","",IF(AND(OR(B25="dim",A25="F")),(T25*$U$2),"")) -> 0 | V25: =IF(R25="","",R25*1.75) -> 0 | W25: =IF(N25>1,(N25-1)*0.25,"") | AF25: =IF(E25="RECUP",LISTE!$B$22,"") | AI25: =IF(E25=LISTE!$A$17,LISTE!$B$17,"")
B26: TOTAL SEMAINE 15 | T26: =SUM(T17:T24) -> 0 | U26: =SUM(U17:U24) -> 0 | V26: =SUM(V17:V24) -> 0 | W26: =SUM(W17:W22) -> 0.010416667 | X26: =SUM(X17:X24) -> 0 | Y26: ="39:00" -> 39:00 | Z26: =IF(T26<Y26,"0:00",T26-Y26) -> 0:00 | AB26: =IF(Z26>=5,Z26-AA26,0) -> 0 | AC26: =$AA26*1.25 -> 0 | AD26: =$AB26*1.5 -> 0 | AE26: =$V26+$X26+$AC26+$AD26+$W26 -> 0.010416667 | AF26: =SUM(AF17:AF24) -> 0 | AG26: =$AG18+AE26-AF26 -> 0.03125 | AH26: =AG26/6.5 -> 0.0048076923 | AI26: =SUM(AI17:AI24) -> 0 | AJ26: =$AJ18+AI26 -> 0 | AK26: =AJ26/6.5 -> 0
B27: lun | C27: 41015 | L27: =IF(K27-J27="00:00","",(K27-J27+I27)) -> 0 | M27: 0 | N27: 0 | O27: 0 | P27: 0 | Q27: 0 | R27: 0 | S27: 0 | T27: 0 | U27: =IF(N27="","",IF(AND(OR(B27="dim",A27="F")),(T27*$U$2),"")) | V27: =IF(R27="","",R27*1.75) -> 0 | W27: =IF(N27>1,(N27-1)*0.25,"") | AF27: =IF(E27="RECUP",LISTE!$B$22,"") | AI27: =IF(E27=LISTE!$A$17,LISTE!$B$17,"")
B28: mar | C28: 41016 | L28: =IF(K28-J28="00:00","",(K28-J28+I28)) -> 0 | M28: 0 | N28: 0 | O28: 0 | P28: 0 | Q28: 0 | R28: 0 | S28: 0 | T28: 0 | U28: =IF(N28="","",IF(AND(OR(B28="dim",A28="F")),(T28*$U$2),"")) | V28: =IF(R28="","",R28*1.75) -> 0 | W28: =IF(N28>1,(N28-1)*0.25,"") | AF28: =IF(E28="RECUP",LISTE!$B$22,"") | AI28: =IF(E28=LISTE!$A$17,LISTE!$B$17,"")
B29: mer | C29: 41017 | L29: =IF(K29-J29="00:00","",(K29-J29+I29)) -> 0 | M29: 0 | N29: 0 | O29: 0 | P29: 0 | Q29: 0 | R29: 0 | S29: 0 | T29: 0 | U29: =IF(N29="","",IF(AND(OR(B29="dim",A29="F")),(T29*$U$2),"")) | V29: =IF(R29="","",R29*1.75) -> 0 | W29: =IF(N29>1,(N29-1)*0.25,"") | AF29: =IF(E29="RECUP",LISTE!$B$22,"") | AI29: =IF(E29=LISTE!$A$17,LISTE!$B$17,"")
B30: jeu | C30: 41018 | L30: =IF(K30-J30="00:00","",(K30-J30+I30)) -> 0 | M30: 0 | N30: 0 | O30: 0 | P30: 0 | Q30: 0 | R30: 0 | S30: 0 | T30: 0 | U30: =IF(N30="","",IF(AND(OR(B30="dim",A30="F")),(T30*$U$2),"")) | V30: =IF(R30="","",R30*1.75) -> 0 | W30: =IF(N30>1,(N30-1)*0.25,"") | AF30: =IF(E30="RECUP",LISTE!$B$22,"") | AI30: =IF(E30=LISTE!$A$17,LISTE!$B$17,"")
B31: ven | C31: 41019 | L31: =IF(K31-J31="00:00","",(K31-J31+I31)) -> 0 | M31: 0 | N31: 0 | O31: 0 | P31: 0 | Q31: 0 | R31: 0 | S31: 0 | T31: 0 | U31: =IF(N31="","",IF(AND(OR(B31="dim",A31="F")),(T31*$U$2),"")) | V31: =IF(R31="","",R31*1.75) -> 0 | W31: =IF(N31>1,(N31-1)*0.25,"") | AF31: =IF(E31="RECUP",LISTE!$B$22,"") | AI31: =IF(E31=LISTE!$A$17,LISTE!$B$17,"")
B32: sam | C32: 41020 | L32: =IF(K32-J32="00:00","",(K32-J32+I32)) -> 0 | M32: 0 | N32: 0 | O32: 0 | P32: 0 | Q32: 0 | R32: 0 | S32: 0 | T32: 0 | U32: =IF(N32="","",IF(AND(OR(B32="dim",A32="F")),(T32*$U$2),"")) | V32: =IF(R32="","",R32*1.75) -> 0 | W32: =IF(N32>1,(N32-1)*0.25,"") | AF32: =IF(E32="RECUP",LISTE!$B$22,"") | AI32: =IF(E32=LISTE!$A$17,LISTE!$B$17,"")
B33: dim | C33: 41021 | L33: 0.083333333 | M33: 0 | N33: 0 | O33: 0 | P33: 0 | Q33: 0 | R33: 0 | S33: 0 | T33: 0 | U33: =IF(N33="","",IF(AND(OR(B33="dim",A33="F")),(T33*$U$2),"")) -> 0 | W33: =IF(N33>1,(N33-1)*0.25,"")
B34: TOTAL SEMAINE 16 | T34: =SUM(T25:T32) -> 0 | U34: =SUM(U25:U32) -> 0 | V34: =SUM(V25:V32) -> 0 | W34: =SUM(W25:W30) -> 0.010416667 | X34: =SUM(X25:X32) -> 0 | Y34: ="39:00" -> 39:00 | Z34: =IF(T34<Y34,"0:00",T34-Y34) -> 0:00 | AB34: =IF(Z34>=5,Z34-AA34,0) -> 0 | AC34: =$AA34*1.25 -> 0 | AD34: =$AB34*1.5 -> 0 | AE34: =$V34+$X34+$AC34+$AD34+$W34 -> 0.010416667 | AF34: =SUM(AF25:AF32) -> 0 | AG34: =$AG26+AE34-AF34 -> 0.041666667 | AH34: =AG34/6.5 -> 0.0064102564 | AI34: =SUM(AI25:AI32) -> 0 | AJ34: =$AJ26+AI34 -> 0 | AK34: =AJ34/6.5 -> 0
D37: Signature du salarié précédée de la mention "lu et approuvé"

Sheet 2304 2005
B1: AURELIEN | F1: 23 avril / 20 mai 2012 | I1: Tps d'appro ou trajet | J1: Voyage | L1: Voyage | M1: Horaires prestation fin= prestation ou voyage | O1: Pause | P1: Repas | Q1: Prestation | R1: Dispo | S1: Total voyage si isolé | T1: Total travail effectuif | U1: Major.dim | V1: Récup. Acquises pour dispo | W1: Récup Acquises pour H.Nuit | X1: Récup. Acquises dim ou Jf | Y1: H normales | Z1: Hs semaine | AA1: Hs à 25% | AB1: Hs a 50% | AC1: Récup HS semaine 25% | AD1: Récup HS semaine 50% | AE1: Tota H récup semaine acquise | AF1: Récup. prises | AG1: Solde récup h | AH1: Solde récup jour | AI1: Total Congés heure pris | AJ1: Solde congés en heures N-1 | AK1: Solde congés jour N-1 | AL1: Solde congés en heures N | AM1: Solde congés jour N
D2: LIEU | E2: INTITULE | F2: DETAILS | G2: Tps A 1,00 | H2: Tps T -1,00 | J2: H deb | K2: H Fin | M2: H deb | N2: H Fin | U2: 0.25 | AL2: =AM2*6.5 -> 52 | AM2: 8
B3: lun | C3: 41022 | L3: 0 | M3: 0 | N3: 0 | O3: 0 | P3: 0 | Q3: 0 | R3: 0 | S3: 0 | T3: 0 | U3: 0 | V3: =IF(R3="","",R3*1.75) -> 0 | W3: =IF(N3>1,(N3-1)*0.25,"") | AF3: =IF(E3="RECUP",LISTE!$B$22,"") | AI3: =IF(E3=LISTE!$A$17,LISTE!$B$17,"")
B4: mar | C4: 41023 | L4: 0 | M4: 0 | N4: 0 | O4: 0 | P4: 0 | Q4: 0 | R4: 0 | S4: 0 | T4: 0 | U4: 0 | V4: =IF(R4="","",R4*1.75) -> 0 | W4: =IF(N4>1,(N4-1)*0.25,"") | AF4: =IF(E4="RECUP",LISTE!$B$22,"") | AI4: =IF(E4=LISTE!$A$17,LISTE!$B$17,"")
B5: mer | C5: 41024 | L5: 0 | M5: 0 | N5: 0 | O5: 0 | P5: 0 | Q5: 0 | R5: 0 | S5: 0 | T5: 0 | U5: 0 | V5: =IF(R5="","",R5*1.75) -> 0 | W5: =IF(N5>1,(N5-1)*0.25,"") | X5: =U5 -> 0 | AF5: =IF(E5="RECUP",LISTE!$B$22,"") | AI5: =IF(E5=LISTE!$A$17,LISTE!$B$17,"")
B6: jeu | C6: 41025 | L6: 0 | M6: 0 | N6: 0 | O6: 0 | P6: 0 | Q6: 0 | R6: 0 | S6: 0 | T6: 0 | U6: 0 | V6: =IF(R6="","",R6*1.75) -> 0 | W6: =IF(N7>1,(N7-1)*0.25,"") | X6: =U6 -> 0 | AF6: =IF(E6="RECUP",LISTE!$B$22,"") | AI6: =IF(E6=LISTE!$A$17,LISTE!$B$17,"")
B7: ven | C7: 41026 | L7: 0 | M7: 0 | N7: 0 | O7: 0 | P7: 0 | Q7: 0 | R7: 0 | S7: 0 | T7: 0 | U7: 0 | V7: =IF(R7="","",R7*1.75) -> 0 | AF7: =IF(E7="RECUP",LISTE!$B$22,"") | AI7: =IF(E7=LISTE!$A$17,LISTE!$B$17,"")
B8: sam | C8: 41027 | L8: 0 | M8: 0 | N8: 0 | O8: 0 | P8: 0 | Q8: 0 | R8: 0 | S8: 0 | T8: 0 | U8: 0 | V8: =IF(R8="","",R8*1.75) -> 0 | W8: =IF(N8>1,(N8-1)*0.25,"") | X8: =U8 -> 0 | AF8: =IF(E8="RECUP",LISTE!$B$22,"") | AI8: =IF(E8=LISTE!$A$17,LISTE!$B$17,"")
B9: dim | C9: 41028 | L9: 0 | M9: 0 | N9: 0 | O9: 0 | P9: 0 | Q9: 0 | R9: 0 | S9: 0 | T9: 0 | U9: 0 | V9: =IF(R9="","",R9*1.75) -> 0 | W9: 0.010416667 | X9: =U9 -> 0 | AF9: =IF(E9="RECUP",LISTE!$B$22,"") | AI9: =IF(E9=LISTE!$A$17,LISTE!$B$17,"")
B10: TOTAL SEMAINE 17 | T10: =SUM(T3:T9) -> 0 | U10: =SUM(U3:U9) -> 0 | V10: =SUM(V3:V9) -> 0 | W10: =SUM(W3:W9) -> 0.010416667 | X10: =SUM(X3:X9) -> 0 | Y10: ="39:00" -> 39:00 | Z10: =IF(T10<Y10,"0:00",T10-Y10) -> 0:00 | AB10: =IF(Z10>=TIMEVALUE("5:00"),Z10-AA10,"") -> 0 | AC10: =$AA10*1.25 -> 0 | AD10: =$AB10*1.5 -> 0 | AE10: =$V10+$X10+$AC10+$AD10+$W10 -> 0.010416667 | AF10: =SUM(AF3:AF9) -> 0 | AG10: =($AG2+AE10-AF10) -> 0.010416667 | AH10: =AG10/6.5 -> 0.0016025641 | AI10: =SUM(AI3:AI9) -> 0 | AJ10: =$AJ2+AI10 -> 0 | AK10: =AJ10/6.5 -> 0
B11: lun | C11: 41029 | L11: 0 | M11: 0 | N11: 0 | O11: 0 | P11: 0 | Q11: 0 | R11: 0 | S11: 0 | T11: 0 | U11: 0 | V11: =IF(R11="","",R11*1.75) -> 0 | W11: =IF(N11>1,(N11-1)*0.25,"") | AF11: =IF(E11="RECUP",LISTE!$B$22,"") | AI11: =IF(E11=LISTE!$A$17,LISTE!$B$17,"")
B12: mar | C12: 41030 | L12: 0 | M12: 0 | N12: 0 | O12: 0 | P12: 0 | Q12: 0 | R12: 0 | S12: 0 | T12: 0 | U12: 0 | V12: =IF(R12="","",R12*1.75) -> 0 | W12: =IF(N12>1,(N12-1)*0.25,"") | AF12: =IF(E12="RECUP",LISTE!$B$22,"") | AI12: =IF(E12=LISTE!$A$17,LISTE!$B$17,"")
B13: mer | C13: 41031 | L13: 0 | M13: 0 | N13: 0 | O13: 0 | P13: 0 | Q13: 0 | R13: 0 | S13: 0 | T13: 0 | U13: 0 | V13: =IF(R13="","",R13*1.75) -> 0 | W13: =IF(N13>1,(N13-1)*0.25,"") | AF13: =IF(E13="RECUP",LISTE!$B$22,"") | AI13: =IF(E13=LISTE!$A$17,LISTE!$B$17,"")
B14: jeu | C14: 41032 | L14: 0 | M14: 0 | N14: 0 | O14: 0 | P14: 0 | Q14: 0 | R14: 0 | S14: 0 | T14: 0 | U14: 0 | V14: =IF(R14="","",R14*1.75) -> 0 | W14: =IF(N14>1,(N14-1)*0.25,"") | AF14: =IF(E14="RECUP",LISTE!$B$22,"") | AI14: =IF(E14=LISTE!$A$17,LISTE!$B$17,"")
B15: ven | C15: 41033 | L15: 0 | M15: 0 | N15: 0 | O15: 0 | P15: 0 | Q15: 0 | R15: 0 | S15: 0 | T15: 0 | U15: 0 | V15: =IF(R15="","",R15*1.75) -> 0 | W15: =IF(N15>1,(N15-1)*0.25,"") | AF15: =IF(E15="RECUP",LISTE!$B$22,"") | AI15: =IF(E15=LISTE!$A$17,LISTE!$B$17,"")
B16: sam | C16: 41034 | L16: 0 | M16: 0 | N16: 0 | O16: 0 | P16: 0 | Q16: 0 | R16: 0 | S16: 0 | T16: 0 | U16: 0 | V16: =IF(R16="","",R16*1.75) -> 0 | W16: =IF(N16>1,(N16-1)*0.25,"") | AF16: =IF(E16="RECUP",LISTE!$B$22,"") | AI16: =IF(E16=LISTE!$A$17,LISTE!$B$17,"")
B17: dim | C17: 41035 | L17: 0 | M17: 0 | N17: 0 | O17: 0 | P17: 0 | Q17: 0 | R17: 0 | S17: 0 | T17: 0 | U17: 0 | V17: =IF(R17="","",R17*1.75) -> 0 | W17: =IF(N17>1,(N17-1)*0.25,"") | AF17: =IF(E17="RECUP",LISTE!$B$22,"") | AI17: =IF(E17=LISTE!$A$17,LISTE!$B$17,"")
B18: TOTAL SEMAINE 18 | T18: =SUM(T10:T16) -> 0 | U18: =SUM(U10:U16) -> 0 | V18: =SUM(V10:V16) -> 0 | W18: =SUM(W10:W16) -> 0.010416667 | X18: =SUM(X10:X16) -> 0 | Y18: ="39:00" -> 39:00 | Z18: =IF(T18<Y18,"0:00",T18-Y18) -> 0:00 | AB18: =IF(Z18>=TIMEVALUE("5:00"),Z18-AA18,"") -> 0 | AC18: =$AA18*1.25 -> 0 | AD18: =$AB18*1.5 -> 0 | AE18: =$V18+$X18+$AC18+$AD18+$W18 -> 0.010416667 | AF18: =SUM(AF10:AF16) -> 0 | AG18: =$AG10+AE18-AF18 -> 0.020833333 | AH18: =AG18/6.5 -> 0.0032051282 | AI18: =SUM(AI10:AI16) -> 0 | AJ18: =$AJ10+AI18 -> 0 | AK18: =AJ18/6.5 -> 0
B19: lun | C19: 41036 | L19: =IF(K19-J19="00:00","",(K19-J19+I19)) -> 0 | M19: 0 | N19: 0 | O19: 0 | P19: 0 | Q19: 0 | R19: 0 | S19: 0 | T19: 0 | U19: =IF(N19="","",IF(AND(OR(B19="dim",A19="F")),(T19*$U$2),"")) | V19: =IF(R19="","",R19*1.75) -> 0 | W19: =IF(N19>1,(N19-1)*0.25,"") | AF19: =IF(E19="RECUP",LISTE!$B$22,"") | AI19: =IF(E19=LISTE!$A$17,LISTE!$B$17,"")
B20: mar | C20: 41037 | L20: =IF(K20-J20="00:00","",(K20-J20+I20)) -> 0 | M20: 0 | N20: 0 | O20: 0 | P20: 0 | Q20: 0 | R20: 0 | S20: 0 | T20: 0 | U20: =IF(N20="","",IF(AND(OR(B20="dim",A20="F")),(T20*$U$2),"")) | V20: =IF(R20="","",R20*1.75) -> 0 | W20: =IF(N20>1,(N20-1)*0.25,"") | AF20: =IF(E20="RECUP",LISTE!$B$22,"") | AI20: =IF(E20=LISTE!$A$17,LISTE!$B$17,"")
B21: mer | C21: 41038 | L21: =IF(K21-J21="00:00","",(K21-J21+I21)) -> 0 | M21: 0 | N21: 0 | O21: 0 | P21: 0 | Q21: 0 | R21: 0 | S21: 0 | T21: 0 | U21: =IF(N21="","",IF(AND(OR(B21="dim",A21="F")),(T21*$U$2),"")) | V21: =IF(R21="","",R21*1.75) -> 0 | W21: =IF(N21>1,(N21-1)*0.25,"") | AF21: =IF(E21="RECUP",LISTE!$B$22,"") | AI21: =IF(E21=LISTE!$A$17,LISTE!$B$17,"")
B22: jeu | C22: 41039 | L22: =IF(K22-J22="00:00","",(K22-J22+I22)) -> 0 | M22: 0 | N22: 0 | O22: 0 | P22: 0 | Q22: 0 | R22: 0 | S22: 0 | T22: 0 | U22: =IF(N22="","",IF(AND(OR(B22="dim",A22="F")),(T22*$U$2),"")) | V22: =IF(R22="","",R22*1.75) -> 0 | W22: =IF(N22>1,(N22-1)*0.25,"") | AF22: =IF(E22="RECUP",LISTE!$B$22,"") | AI22: =IF(E22=LISTE!$A$17,LISTE!$B$17,"")
B23: ven | C23: 41040 | L23: =IF(K23-J23="00:00","",(K23-J23+I23)) -> 0 | M23: 0 | N23: 0 | O23: 0 | P23: 0 | Q23: 0 | R23: 0 | S23: 0 | T23: 0 | U23: =IF(N23="","",IF(AND(OR(B23="dim",A23="F")),(T23*$U$2),"")) | V23: =IF(R23="","",R23*1.75) -> 0 | W23: =IF(N23>1,(N23-1)*0.25,"") | AF23: =IF(E23="RECUP",LISTE!$B$22,"") | AI23: =IF(E23=LISTE!$A$17,LISTE!$B$17,"")
B24: sam | C24: 41041 | L24: =IF(K24-J24="00:00","",(K24-J24+I24)) -> 0 | M24: 0 | N24: 0 | O24: 0 | P24: 0 | Q24: 0 | R24: 0 | S24: 0 | T24: 0 | U24: =IF(N24="","",IF(AND(OR(B24="dim",A24="F")),(T24*$U$2),"")) | V24: =IF(R24="","",R24*1.75) -> 0 | W24: =IF(N24>1,(N24-1)*0.25,"") | AF24: =IF(E24="RECUP",LISTE!$B$22,"") | AI24: =IF(E24=LISTE!$A$17,LISTE!$B$17,"")
B25: dim | C25: 41042 | L25: =IF(K25-J25="00:00","",(K25-J25+I25)) -> 0 | M25: 0 | N25: 0 | O25: 0 | P25: 0 | Q25: 0 | R25: 0 | S25: 0 | T25: 0 | U25: =IF(N25="","",IF(AND(OR(B25="dim",A25="F")),(T25*$U$2),"")) -> 0 | V25: =IF(R25="","",R25*1.75) -> 0 | W25: =IF(N25>1,(N25-1)*0.25,"") | AF25: =IF(E25="RECUP",LISTE!$B$22,"") | AI25: =IF(E25=LISTE!$A$17,LISTE!$B$17,"")
B26: TOTAL SEMAINE 19 | T26: =SUM(T17:T24) -> 0 | U26: =SUM(U17:U24) -> 0 | V26: =SUM(V17:V24) -> 0 | W26: =SUM(W17:W22) -> 0.010416667 | X26: =SUM(X17:X24) -> 0 | Y26: ="39:00" -> 39:00 | Z26: =IF(T26<Y26,"0:00",T26-Y26) -> 0:00 | AB26: =IF(Z26>=5,Z26-AA26,0) -> 0 | AC26: =$AA26*1.25 -> 0 | AD26: =$AB26*1.5 -> 0 | AE26: =$V26+$X26+$AC26+$AD26+$W26 -> 0.010416667 | AF26: =SUM(AF17:AF24) -> 0 | AG26: =$AG18+AE26-AF26 -> 0.03125 | AH26: =AG26/6.5 -> 0.0048076923 | AI26: =SUM(AI17:AI24) -> 0 | AJ26: =$AJ18+AI26 -> 0 | AK26: =AJ26/6.5 -> 0
B27: lun | C27: 41043 | L27: =IF(K27-J27="00:00","",(K27-J27+I27)) -> 0 | M27: 0 | N27: 0 | O27: 0 | P27: 0 | Q27: 0 | R27: 0 | S27: 0 | T27: 0 | U27: =IF(N27="","",IF(AND(OR(B27="dim",A27="F")),(T27*$U$2),"")) | V27: =IF(R27="","",R27*1.75) -> 0 | W27: =IF(N27>1,(N27-1)*0.25,"") | AF27: =IF(E27="RECUP",LISTE!$B$22,"") | AI27: =IF(E27=LISTE!$A$17,LISTE!$B$17,"")
B28: mar | C28: 41044 | L28: =IF(K28-J28="00:00","",(K28-J28+I28)) -> 0 | M28: 0 | N28: 0 | O28: 0 | P28: 0 | Q28: 0 | R28: 0 | S28: 0 | T28: 0 | U28: =IF(N28="","",IF(AND(OR(B28="dim",A28="F")),(T28*$U$2),"")) | V28: =IF(R28="","",R28*1.75) -> 0 | W28: =IF(N28>1,(N28-1)*0.25,"") | AF28: =IF(E28="RECUP",LISTE!$B$22,"") | AI28: =IF(E28=LISTE!$A$17,LISTE!$B$17,"")
B29: mer | C29: 41045 | L29: =IF(K29-J29="00:00","",(K29-J29+I29)) -> 0 | M29: 0 | N29: 0 | O29: 0 | P29: 0 | Q29: 0 | R29: 0 | S29: 0 | T29: 0 | U29: =IF(N29="","",IF(AND(OR(B29="dim",A29="F")),(T29*$U$2),"")) | V29: =IF(R29="","",R29*1.75) -> 0 | W29: =IF(N29>1,(N29-1)*0.25,"") | AF29: =IF(E29="RECUP",LISTE!$B$22,"") | AI29: =IF(E29=LISTE!$A$17,LISTE!$B$17,"")
B30: jeu | C30: 41046 | L30: =IF(K30-J30="00:00","",(K30-J30+I30)) -> 0 | M30: 0 | N30: 0 | O30: 0 | P30: 0 | Q30: 0 | R30: 0 | S30: 0 | T30: 0 | U30: =IF(N30="","",IF(AND(OR(B30="dim",A30="F")),(T30*$U$2),"")) | V30: =IF(R30="","",R30*1.75) -> 0 | W30: =IF(N30>1,(N30-1)*0.25,"") | AF30: =IF(E30="RECUP",LISTE!$B$22,"") | AI30: =IF(E30=LISTE!$A$17,LISTE!$B$17,"")
B31: ven | C31: 41047 | L31: =IF(K31-J31="00:00","",(K31-J31+I31)) -> 0 | M31: 0 | N31: 0 | O31: 0 | P31: 0 | Q31: 0 | R31: 0 | S31: 0 | T31: 0 | U31: =IF(N31="","",IF(AND(OR(B31="dim",A31="F")),(T31*$U$2),"")) | V31: =IF(R31="","",R31*1.75) -> 0 | W31: =IF(N31>1,(N31-1)*0.25,"") | AF31: =IF(E31="RECUP",LISTE!$B$22,"") | AI31: =IF(E31=LISTE!$A$17,LISTE!$B$17,"")
B32: sam | C32: 41048 | L32: =IF(K32-J32="00:00","",(K32-J32+I32)) -> 0 | M32: 0 | N32: 0 | O32: 0 | P32: 0 | Q32: 0 | R32: 0 | S32: 0 | T32: 0 | U32: =IF(N32="","",IF(AND(OR(B32="dim",A32="F")),(T32*$U$2),"")) | V32: =IF(R32="","",R32*1.75) -> 0 | W32: =IF(N32>1,(N32-1)*0.25,"") | AF32: =IF(E32="RECUP",LISTE!$B$22,"") | AI32: =IF(E32=LISTE!$A$17,LISTE!$B$17,"")
B33: dim | C33: 41049 | L33: 0.083333333 | M33: 0 | N33: 0 | O33: 0 | P33: 0 | Q33: 0 | R33: 0 | S33: 0 | T33: 0 | U33: =IF(N33="","",IF(AND(OR(B33="dim",A33="F")),(T33*$U$2),"")) -> 0 | W33: =IF(N33>1,(N33-1)*0.25,"")
B34: TOTAL SEMAINE 20 | T34: =SUM(T25:T32) -> 0 | U34: =SUM(U25:U32) -> 0 | V34: =SUM(V25:V32) -> 0 | W34: =SUM(W25:W30) -> 0.010416667 | X34: =SUM(X25:X32) -> 0 | Y34: ="39:00" -> 39:00 | Z34: =IF(T34<Y34,"0:00",T34-Y34) -> 0:00 | AB34: =IF(Z34>=5,Z34-AA34,0) -> 0 | AC34: =$AA34*1.25 -> 0 | AD34: =$AB34*1.5 -> 0 | AE34: =$V34+$X34+$AC34+$AD34+$W34 -> 0.010416667 | AF34: =SUM(AF25:AF32) -> 0 | AG34: =$AG26+AE34-AF34 -> 0.041666667 | AH34: =AG34/6.5 -> 0.0064102564 | AI34: =SUM(AI25:AI32) -> 0 | AJ34: =$AJ26+AI34 -> 0 | AK34: =AJ34/6.5 -> 0
D37: Signature du salarié précédée de la mention "lu et approuvé"

Sheet 2105 1706
B1: AURELIEN | F1: 21 mai / 17 juin 2012 | I1: Tps d'appro ou trajet | J1: Voyage | L1: Voyage | M1: Horaires prestation fin= prestation ou voyage | O1: Pause | P1: Repas | Q1: Prestation | R1: Dispo | S1: Total voyage si isolé | T1: Total travail effectuif | U1: Major.dim | V1: Récup. Acquises pour dispo | W1: Récup Acquises pour H.Nuit | X1: Récup. Acquises dim ou Jf | Y1: H normales | Z1: Hs semaine | AA1: Hs à 25% | AB1: Hs a 50% | AC1: Récup HS semaine 25% | AD1: Récup HS semaine 50% | AE1: Tota H récup semaine acquise | AF1: Récup. prises | AG1: Solde récup h | AH1: Solde récup jour | AI1: Total Congés heure pris | AJ1: Solde congés en heures N-1 | AK1: Solde congés jour N-1 | AL1: Solde congés en heures N | AM1: Solde congés jour N
D2: LIEU | E2: INTITULE | F2: DETAILS | G2: Tps A 1,00 | H2: Tps T -1,00 | J2: H deb | K2: H Fin | M2: H deb | N2: H Fin | U2: 0.25 | AL2: =AM2*6.5 -> 52 | AM2: 8
B3: lun | C3: 41050 | L3: 0 | M3: 0 | N3: 0 | O3: 0 | P3: 0 | Q3: 0 | R3: 0 | S3: 0 | T3: 0 | U3: 0 | V3: =IF(R3="","",R3*1.75) -> 0 | W3: =IF(N3>1,(N3-1)*0.25,"") | AF3: =IF(E3="RECUP",LISTE!$B$22,"") | AI3: =IF(E3=LISTE!$A$17,LISTE!$B$17,"")
B4: mar | C4: 41051 | L4: 0 | M4: 0 | N4: 0 | O4: 0 | P4: 0 | Q4: 0 | R4: 0 | S4: 0 | T4: 0 | U4: 0 | V4: =IF(R4="","",R4*1.75) -> 0 | W4: =IF(N4>1,(N4-1)*0.25,"") | AF4: =IF(E4="RECUP",LISTE!$B$22,"") | AI4: =IF(E4=LISTE!$A$17,LISTE!$B$17,"")
B5: mer | C5: 41052 | L5: 0 | M5: 0 | N5: 0 | O5: 0 | P5: 0 | Q5: 0 | R5: 0 | S5: 0 | T5: 0 | U5: 0 | V5: =IF(R5="","",R5*1.75) -> 0 | W5: =IF(N5>1,(N5-1)*0.25,"") | X5: =U5 -> 0 | AF5: =IF(E5="RECUP",LISTE!$B$22,"") | AI5: =IF(E5=LISTE!$A$17,LISTE!$B$17,"")
B6: jeu | C6: 41053 | L6: 0 | M6: 0 | N6: 0 | O6: 0 | P6: 0 | Q6: 0 | R6: 0 | S6: 0 | T6: 0 | U6: 0 | V6: =IF(R6="","",R6*1.75) -> 0 | W6: =IF(N7>1,(N7-1)*0.25,"") | X6: =U6 -> 0 | AF6: =IF(E6="RECUP",LISTE!$B$22,"") | AI6: =IF(E6=LISTE!$A$17,LISTE!$B$17,"")
B7: ven | C7: 41054 | L7: 0 | M7: 0 | N7: 0 | O7: 0 | P7: 0 | Q7: 0 | R7: 0 | S7: 0 | T7: 0 | U7: 0 | V7: =IF(R7="","",R7*1.75) -> 0 | AF7: =IF(E7="RECUP",LISTE!$B$22,"") | AI7: =IF(E7=LISTE!$A$17,LISTE!$B$17,"")
B8: sam | C8: 41055 | L8: 0 | M8: 0 | N8: 0 | O8: 0 | P8: 0 | Q8: 0 | R8: 0 | S8: 0 | T8: 0 | U8: 0 | V8: =IF(R8="","",R8*1.75) -> 0 | W8: =IF(N8>1,(N8-1)*0.25,"") | X8: =U8 -> 0 | AF8: =IF(E8="RECUP",LISTE!$B$22,"") | AI8: =IF(E8=LISTE!$A$17,LISTE!$B$17,"")
B9: dim | C9: 41056 | L9: 0 | M9: 0 | N9: 0 | O9: 0 | P9: 0 | Q9: 0 | R9: 0 | S9: 0 | T9: 0 | U9: 0 | V9: =IF(R9="","",R9*1.75) -> 0 | W9: 0.010416667 | X9: =U9 -> 0 | AF9: =IF(E9="RECUP",LISTE!$B$22,"") | AI9: =IF(E9=LISTE!$A$17,LISTE!$B$17,"")
B10: TOTAL SEMAINE 21 | T10: =SUM(T3:T9) -> 0 | U10: =SUM(U3:U9) -> 0 | V10: =SUM(V3:V9) -> 0 | W10: =SUM(W3:W9) -> 0.010416667 | X10: =SUM(X3:X9) -> 0 | Y10: ="39:00" -> 39:00 | Z10: =IF(T10<Y10,"0:00",T10-Y10) -> 0:00 | AB10: =IF(Z10>=TIMEVALUE("5:00"),Z10-AA10,"") -> 0 | AC10: =$AA10*1.25 -> 0 | AD10: =$AB10*1.5 -> 0 | AE10: =$V10+$X10+$AC10+$AD10+$W10 -> 0.010416667 | AF10: =SUM(AF3:AF9) -> 0 | AG10: =($AG2+AE10-AF10) -> 0.010416667 | AH10: =AG10/6.5 -> 0.0016025641 | AI10: =SUM(AI3:AI9) -> 0 | AJ10: =$AJ2+AI10 -> 0 | AK10: =AJ10/6.5 -> 0
B11: lun | C11: 41057 | L11: 0 | M11: 0 | N11: 0 | O11: 0 | P11: 0 | Q11: 0 | R11: 0 | S11: 0 | T11: 0 | U11: 0 | V11: =IF(R11="","",R11*1.75) -> 0 | W11: =IF(N11>1,(N11-1)*0.25,"") | AF11: =IF(E11="RECUP",LISTE!$B$22,"") | AI11: =IF(E11=LISTE!$A$17,LISTE!$B$17,"")
B12: mar | C12: 41058 | L12: 0 | M12: 0 | N12: 0 | O12: 0 | P12: 0 | Q12: 0 | R12: 0 | S12: 0 | T12: 0 | U12: 0 | V12: =IF(R12="","",R12*1.75) -> 0 | W12: =IF(N12>1,(N12-1)*0.25,"") | AF12: =IF(E12="RECUP",LISTE!$B$22,"") | AI12: =IF(E12=LISTE!$A$17,LISTE!$B$17,"")
B13: mer | C13: 41059 | L13: 0 | M13: 0 | N13: 0 | O13: 0 | P13: 0 | Q13: 0 | R13: 0 | S13: 0 | T13: 0 | U13: 0 | V13: =IF(R13="","",R13*1.75) -> 0 | W13: =IF(N13>1,(N13-1)*0.25,"") | AF13: =IF(E13="RECUP",LISTE!$B$22,"") | AI13: =IF(E13=LISTE!$A$17,LISTE!$B$17,"")
B14: jeu | C14: 41060 | L14: 0 | M14: 0 | N14: 0 | O14: 0 | P14: 0 | Q14: 0 | R14: 0 | S14: 0 | T14: 0 | U14: 0 | V14: =IF(R14="","",R14*1.75) -> 0 | W14: =IF(N14>1,(N14-1)*0.25,"") | AF14: =IF(E14="RECUP",LISTE!$B$22,"") | AI14: =IF(E14=LISTE!$A$17,LISTE!$B$17,"")
B15: ven | C15: 41061 | L15: 0 | M15: 0 | N15: 0 | O15: 0 | P15: 0 | Q15: 0 | R15: 0 | S15: 0 | T15: 0 | U15: 0 | V15: =IF(R15="","",R15*1.75) -> 0 | W15: =IF(N15>1,(N15-1)*0.25,"") | AF15: =IF(E15="RECUP",LISTE!$B$22,"") | AI15: =IF(E15=LISTE!$A$17,LISTE!$B$17,"")
B16: sam | C16: 41062 | L16: 0 | M16: 0 | N16: 0 | O16: 0 | P16: 0 | Q16: 0 | R16: 0 | S16: 0 | T16: 0 | U16: 0 | V16: =IF(R16="","",R16*1.75) -> 0 | W16: =IF(N16>1,(N16-1)*0.25,"") | AF16: =IF(E16="RECUP",LISTE!$B$22,"") | AI16: =IF(E16=LISTE!$A$17,LISTE!$B$17,"")
B17: dim | C17: 41063 | L17: 0 | M17: 0 | N17: 0 | O17: 0 | P17: 0 | Q17: 0 | R17: 0 | S17: 0 | T17: 0 | U17: 0 | V17: =IF(R17="","",R17*1.75) -> 0 | W17: =IF(N17>1,(N17-1)*0.25,"") | AF17: =IF(E17="RECUP",LISTE!$B$22,"") | AI17: =IF(E17=LISTE!$A$17,LISTE!$B$17,"")
B18: TOTAL SEMAINE 22 | T18: =SUM(T10:T16) -> 0 | U18: =SUM(U10:U16) -> 0 | V18: =SUM(V10:V16) -> 0 | W18: =SUM(W10:W16) -> 0.010416667 | X18: =SUM(X10:X16) -> 0 | Y18: ="39:00" -> 39:00 | Z18: =IF(T18<Y18,"0:00",T18-Y18) -> 0:00 | AB18: =IF(Z18>=TIMEVALUE("5:00"),Z18-AA18,"") -> 0 | AC18: =$AA18*1.25 -> 0 | AD18: =$AB18*1.5 -> 0 | AE18: =$V18+$X18+$AC18+$AD18+$W18 -> 0.010416667 | AF18: =SUM(AF10:AF16) -> 0 | AG18: =$AG10+AE18-AF18 -> 0.020833333 | AH18: =AG18/6.5 -> 0.0032051282 | AI18: =SUM(AI10:AI16) -> 0 | AJ18: =$AJ10+AI18 -> 0 | AK18: =AJ18/6.5 -> 0
B19: lun | C19: 41064 | L19: =IF(K19-J19="00:00","",(K19-J19+I19)) -> 0 | M19: 0 | N19: 0 | O19: 0 | P19: 0 | Q19: 0 | R19: 0 | S19: 0 | T19: 0 | U19: =IF(N19="","",IF(AND(OR(B19="dim",A19="F")),(T19*$U$2),"")) | V19: =IF(R19="","",R19*1.75) -> 0 | W19: =IF(N19>1,(N19-1)*0.25,"") | AF19: =IF(E19="RECUP",LISTE!$B$22,"") | AI19: =IF(E19=LISTE!$A$17,LISTE!$B$17,"")
B20: mar | C20: 41065 | L20: =IF(K20-J20="00:00","",(K20-J20+I20)) -> 0 | M20: 0 | N20: 0 | O20: 0 | P20: 0 | Q20: 0 | R20: 0 | S20: 0 | T20: 0 | U20: =IF(N20="","",IF(AND(OR(B20="dim",A20="F")),(T20*$U$2),"")) | V20: =IF(R20="","",R20*1.75) -> 0 | W20: =IF(N20>1,(N20-1)*0.25,"") | AF20: =IF(E20="RECUP",LISTE!$B$22,"") | AI20: =IF(E20=LISTE!$A$17,LISTE!$B$17,"")
B21: mer | C21: 41066 | L21: =IF(K21-J21="00:00","",(K21-J21+I21)) -> 0 | M21: 0 | N21: 0 | O21: 0 | P21: 0 | Q21: 0 | R21: 0 | S21: 0 | T21: 0 | U21: =IF(N21="","",IF(AND(OR(B21="dim",A21="F")),(T21*$U$2),"")) | V21: =IF(R21="","",R21*1.75) -> 0 | W21: =IF(N21>1,(N21-1)*0.25,"") | AF21: =IF(E21="RECUP",LISTE!$B$22,"") | AI21: =IF(E21=LISTE!$A$17,LISTE!$B$17,"")
B22: jeu | C22: 41067 | L22: =IF(K22-J22="00:00","",(K22-J22+I22)) -> 0 | M22: 0 | N22: 0 | O22: 0 | P22: 0 | Q22: 0 | R22: 0 | S22: 0 | T22: 0 | U22: =IF(N22="","",IF(AND(OR(B22="dim",A22="F")),(T22*$U$2),"")) | V22: =IF(R22="","",R22*1.75) -> 0 | W22: =IF(N22>1,(N22-1)*0.25,"") | AF22: =IF(E22="RECUP",LISTE!$B$22,"") | AI22: =IF(E22=LISTE!$A$17,LISTE!$B$17,"")
B23: ven | C23: 41068 | L23: =IF(K23-J23="00:00","",(K23-J23+I23)) -> 0 | M23: 0 | N23: 0 | O23: 0 | P23: 0 | Q23: 0 | R23: 0 | S23: 0 | T23: 0 | U23: =IF(N23="","",IF(AND(OR(B23="dim",A23="F")),(T23*$U$2),"")) | V23: =IF(R23="","",R23*1.75) -> 0 | W23: =IF(N23>1,(N23-1)*0.25,"") | AF23: =IF(E23="RECUP",LISTE!$B$22,"") | AI23: =IF(E23=LISTE!$A$17,LISTE!$B$17,"")
B24: sam | C24: 41069 | L24: =IF(K24-J24="00:00","",(K24-J24+I24)) -> 0 | M24: 0 | N24: 0 | O24: 0 | P24: 0 | Q24: 0 | R24: 0 | S24: 0 | T24: 0 | U24: =IF(N24="","",IF(AND(OR(B24="dim",A24="F")),(T24*$U$2),"")) | V24: =IF(R24="","",R24*1.75) -> 0 | W24: =IF(N24>1,(N24-1)*0.25,"") | AF24: =IF(E24="RECUP",LISTE!$B$22,"") | AI24: =IF(E24=LISTE!$A$17,LISTE!$B$17,"")
B25: dim | C25: 41070 | L25: =IF(K25-J25="00:00","",(K25-J25+I25)) -> 0 | M25: 0 | N25: 0 | O25: 0 | P25: 0 | Q25: 0 | R25: 0 | S25: 0 | T25: 0 | U25: =IF(N25="","",IF(AND(OR(B25="dim",A25="F")),(T25*$U$2),"")) -> 0 | V25: =IF(R25="","",R25*1.75) -> 0 | W25: =IF(N25>1,(N25-1)*0.25,"") | AF25: =IF(E25="RECUP",LISTE!$B$22,"") | AI25: =IF(E25=LISTE!$A$17,LISTE!$B$17,"")
B26: TOTAL SEMAINE 23 | T26: =SUM(T17:T24) -> 0 | U26: =SUM(U17:U24) -> 0 | V26: =SUM(V17:V24) -> 0 | W26: =SUM(W17:W22) -> 0.010416667 | X26: =SUM(X17:X24) -> 0 | Y26: ="39:00" -> 39:00 | Z26: =IF(T26<Y26,"0:00",T26-Y26) -> 0:00 | AB26: =IF(Z26>=5,Z26-AA26,0) -> 0 | AC26: =$AA26*1.25 -> 0 | AD26: =$AB26*1.5 -> 0 | AE26: =$V26+$X26+$AC26+$AD26+$W26 -> 0.010416667 | AF26: =SUM(AF17:AF24) -> 0 | AG26: =$AG18+AE26-AF26 -> 0.03125 | AH26: =AG26/6.5 -> 0.0048076923 | AI26: =SUM(AI17:AI24) -> 0 | AJ26: =$AJ18+AI26 -> 0 | AK26: =AJ26/6.5 -> 0
B27: lun | C27: 41071 | L27: =IF(K27-J27="00:00","",(K27-J27+I27)) -> 0 | M27: 0 | N27: 0 | O27: 0 | P27: 0 | Q27: 0 | R27: 0 | S27: 0 | T27: 0 | U27: =IF(N27="","",IF(AND(OR(B27="dim",A27="F")),(T27*$U$2),"")) | V27: =IF(R27="","",R27*1.75) -> 0 | W27: =IF(N27>1,(N27-1)*0.25,"") | AF27: =IF(E27="RECUP",LISTE!$B$22,"") | AI27: =IF(E27=LISTE!$A$17,LISTE!$B$17,"")
B28: mar | C28: 41072 | L28: =IF(K28-J28="00:00","",(K28-J28+I28)) -> 0 | M28: 0 | N28: 0 | O28: 0 | P28: 0 | Q28: 0 | R28: 0 | S28: 0 | T28: 0 | U28: =IF(N28="","",IF(AND(OR(B28="dim",A28="F")),(T28*$U$2),"")) | V28: =IF(R28="","",R28*1.75) -> 0 | W28: =IF(N28>1,(N28-1)*0.25,"") | AF28: =IF(E28="RECUP",LISTE!$B$22,"") | AI28: =IF(E28=LISTE!$A$17,LISTE!$B$17,"")
B29: mer | C29: 41073 | L29: =IF(K29-J29="00:00","",(K29-J29+I29)) -> 0 | M29: 0 | N29: 0 | O29: 0 | P29: 0 | Q29: 0 | R29: 0 | S29: 0 | T29: 0 | U29: =IF(N29="","",IF(AND(OR(B29="dim",A29="F")),(T29*$U$2),"")) | V29: =IF(R29="","",R29*1.75) -> 0 | W29: =IF(N29>1,(N29-1)*0.25,"") | AF29: =IF(E29="RECUP",LISTE!$B$22,"") | AI29: =IF(E29=LISTE!$A$17,LISTE!$B$17,"")
B30: jeu | C30: 41074 | L30: =IF(K30-J30="00:00","",(K30-J30+I30)) -> 0 | M30: 0 | N30: 0 | O30: 0 | P30: 0 | Q30: 0 | R30: 0 | S30: 0 | T30: 0 | U30: =IF(N30="","",IF(AND(OR(B30="dim",A30="F")),(T30*$U$2),"")) | V30: =IF(R30="","",R30*1.75) -> 0 | W30: =IF(N30>1,(N30-1)*0.25,"") | AF30: =IF(E30="RECUP",LISTE!$B$22,"") | AI30: =IF(E30=LISTE!$A$17,LISTE!$B$17,"")
B31: ven | C31: 41075 | L31: =IF(K31-J31="00:00","",(K31-J31+I31)) -> 0 | M31: 0 | N31: 0 | O31: 0 | P31: 0 | Q31: 0 | R31: 0 | S31: 0 | T31: 0 | U31: =IF(N31="","",IF(AND(OR(B31="dim",A31="F")),(T31*$U$2),"")) | V31: =IF(R31="","",R31*1.75) -> 0 | W31: =IF(N31>1,(N31-1)*0.25,"") | AF31: =IF(E31="RECUP",LISTE!$B$22,"") | AI31: =IF(E31=LISTE!$A$17,LISTE!$B$17,"")
B32: sam | C32: 41076 | L32: =IF(K32-J32="00:00","",(K32-J32+I32)) -> 0 | M32: 0 | N32: 0 | O32: 0 | P32: 0 | Q32: 0 | R32: 0 | S32: 0 | T32: 0 | U32: =IF(N32="","",IF(AND(OR(B32="dim",A32="F")),(T32*$U$2),"")) | V32: =IF(R32="","",R32*1.75) -> 0 | W32: =IF(N32>1,(N32-1)*0.25,"") | AF32: =IF(E32="RECUP",LISTE!$B$22,"") | AI32: =IF(E32=LISTE!$A$17,LISTE!$B$17,"")
B33: dim | C33: 41077 | L33: 0.083333333 | M33: 0 | N33: 0 | O33: 0 | P33: 0 | Q33: 0 | R33: 0 | S33: 0 | T33: 0 | U33: =IF(N33="","",IF(AND(OR(B33="dim",A33="F")),(T33*$U$2),"")) -> 0 | W33: =IF(N33>1,(N33-1)*0.25,"")
B34: TOTAL SEMAINE 24 | T34: =SUM(T25:T32) -> 0 | U34: =SUM(U25:U32) -> 0 | V34: =SUM(V25:V32) -> 0 | W34: =SUM(W25:W30) -> 0.010416667 | X34: =SUM(X25:X32) -> 0 | Y34: ="39:00" -> 39:00 | Z34: =IF(T34<Y34,"0:00",T34-Y34) -> 0:00 | AB34: =IF(Z34>=5,Z34-AA34,0) -> 0 | AC34: =$AA34*1.25 -> 0 | AD34: =$AB34*1.5 -> 0 | AE34: =$V34+$X34+$AC34+$AD34+$W34 -> 0.010416667 | AF34: =SUM(AF25:AF32) -> 0 | AG34: =$AG26+AE34-AF34 -> 0.041666667 | AH34: =AG34/6.5 -> 0.0064102564 | AI34: =SUM(AI25:AI32) -> 0 | AJ34: =$AJ26+AI34 -> 0 | AK34: =AJ34/6.5 -> 0
D37: Signature du salarié précédée de la mention "lu et approuvé"

Sheet LISTE
A1: JOURS FERIES
A2: 40909 | B2: 40909 | D2: dim
A3: 41008 | B3: 41008
A4: 41030 | B4: 41030
A5: 41037 | B5: 41037
A6: 41046 | B6: 41046
A7: 41057 | B7: 41057
A8: 41136 | B8: 41136
A9: 41214 | B9: 41214
A10: 41224 | B10: 41224
A11: 41268 | B11: 41268
A12: 41274 | B12: 41274
A13: INTITULE
A14: AUTRES
A15: Belgique
A16: BUREAU VITROLLES
A17: CONGES | B17: 0.27083333
A18: FOOT
A19: Jours feries
A20: PREPA LINT
A21: PREPA VITROLLES
A22: RECUP | B22: 0.27083333
A23: RUGBY
A24: TENNIS
A25: VOYAGES | B25: 0.5

Sheet BD
