Workbook
Name Libération_du_lot_bloqué?: Notifs!#REF!
Name Qui?: Notifs!#REF!
Name Statut: Notifs!#REF!
Name Type_de_Notification: Notifs!#REF!

Sheet Base performance
A1: Batch | B1: Code article | L1: Nbre Q3 | M1: Nbre Q4 | N1: Nbre Y3 | O1: Nbre Z1 | P1: Nbre Total Notifs concernée | Q1: Lot bloqué?
A2: 64 | B2: 2 | C2: 3 | D2: 0 | E2: 1 | F2: 4 | G2: 38 | H2: 40810 | I2: 40812 | J2: 40812 | K2: 2 | L2: =SUMPRODUCT((Notifs!$A$2:$A$700=RIGHT(L1,1))*(Notifs!$I$2:$I$700=[1]Lots!$A5)*(Notifs!$J$2:$J$700=[1]Lots!$B5)*(Notifs!$L$2:$L$700)) -> #REF! | P2: =SUM(L2:O2) -> #REF!
A3: 91 | B3: 3 | C3: 0 | D3: 0 | E3: 1 | F3: 1 | G3: 38 | H3: 40810 | I3: 40809 | J3: 40809 | K3: -1 | P3: =SUM(L3:O3) -> 0 | Q3: =IF(Notifs!H3=1,1,IF(Notifs!H3=2,3,2)) -> 1
A4: 30 | B4: 1 | C4: 0 | D4: 0 | E4: 1 | F4: 1 | G4: 38 | H4: 40810 | I4: 40806 | J4: 40807 | K4: -3 | P4: =SUM(L4:O4) -> 0 | Q4: =IF(Notifs!H4=1,1,IF(Notifs!H4=2,3,2)) -> 3
A5: 65 | B5: 2 | C5: 0 | D5: 0 | E5: 0 | F5: 0 | G5: 39 | H5: 40811 | I5: 40807 | J5: 40807 | K5: -4 | P5: =SUM(L5:O5) -> 0 | Q5: =IF(Notifs!H5=1,1,IF(Notifs!H5=2,3,2)) -> 2
A6: 91 | B6: 2 | C6: 0 | D6: 0 | E6: 1 | F6: 1 | G6: 39 | H6: 40811 | I6: 40807 | J6: 40807 | K6: -4 | P6: =SUM(L6:O6) -> 0 | Q6: =IF(Notifs!H6=1,1,IF(Notifs!H6=2,3,2)) -> 2
L12: Formule

Sheet Notifs
A1: Type de Notification | I1: Lot | J1: Code article | L1: Données Formule
A2: A | F2: 40920 | G2: 40926 | H2: 1 | I2: 64 | J2: 2 | K2: =IF(H2=1,1,IF(H2=2,3,2)) -> 1 | L2: =IF(A2="","",1) -> 1
A3: A | F3: 40921 | G3: 40921 | H3: 1 | I3: 91 | J3: 3 | K3: =IF(H3=1,1,IF(H3=2,3,2)) -> 1 | L3: =IF(A3="","",1) -> 1
A4: B | F4: 40920 | G4: 40918 | H4: 2 | I4: 30 | J4: 1 | K4: =IF(H4=1,1,IF(H4=2,3,2)) -> 3 | L4: =IF(A4="","",1) -> 1
A5: C | F5: 40920 | I5: 65 | J5: 2 | K5: =IF(H5=1,1,IF(H5=2,3,2)) -> 2 | L5: =IF(A5="","",1) -> 1
A6: D | I6: 91 | J6: 2 | K6: =IF(H6=1,1,IF(H6=2,3,2)) -> 2 | L6: =IF(A6="","",1) -> 1
L7: =IF(A7="","",1)

Sheet Feuil1
