Workbook

Sheet Feuil1
A1: 2015
A2: 42248 | B2: mar | C2: =VLOOKUP(B2,Feuil1!$A$35:$B$41,2,FALSE) -> 7.5
A3: 42249 | B3: mer | C3: =VLOOKUP(B3,Feuil1!$A$35:$B$41,2,FALSE) -> 9.5
A4: 42250 | B4: jeu | C4: =VLOOKUP(B4,Feuil1!$A$35:$B$41,2,FALSE) -> 7.5
A5: 42251 | B5: ven | C5: =VLOOKUP(B5,Feuil1!$A$35:$B$41,2,FALSE) -> 7.5
A6: 42252 | B6: sam | C6: =VLOOKUP(B6,Feuil1!$A$35:$B$41,2,FALSE) -> 0
A7: 42253 | B7: dim | C7: =VLOOKUP(B7,Feuil1!$A$35:$B$41,2,FALSE) -> 0
A8: 42254 | B8: lun | C8: =VLOOKUP(B8,Feuil1!$A$35:$B$41,2,FALSE) -> 0
A9: 42255 | B9: mar | C9: =VLOOKUP(B9,Feuil1!$A$35:$B$41,2,FALSE) -> 7.5
A10: 42256 | B10: 42256 | C10: =VLOOKUP(B10,Feuil1!$A$35:$B$41,2,FALSE) -> #N/A
A11: 42257 | B11: 42257 | C11: =VLOOKUP(B11,Feuil1!$A$35:$B$41,2,FALSE) -> #N/A
A12: 42258 | B12: 42258 | C12: =VLOOKUP(B12,Feuil1!$A$35:$B$41,2) -> #N/A
A13: 42259 | B13: 42259 | C13: =VLOOKUP(B13,Feuil1!$A$35:$B$41,2) -> #N/A
A14: 42260 | B14: 42260 | C14: =VLOOKUP(B14,Feuil1!$A$35:$B$41,2) -> #N/A
A15: 42261 | B15: 42261 | C15: =VLOOKUP(B15,Feuil1!$A$35:$B$41,2) -> #N/A
A16: 42262 | B16: 42262 | C16: =VLOOKUP(B16,Feuil1!$A$35:$B$41,2) -> #N/A
A17: 42263 | B17: 42263 | C17: =VLOOKUP(B17,Feuil1!$A$35:$B$41,2) -> #N/A
A18: 42264 | B18: 42264 | C18: =VLOOKUP(B18,Feuil1!$A$35:$B$41,2) -> #N/A
A19: 42265 | B19: 42265 | C19: =VLOOKUP(B19,Feuil1!$A$35:$B$41,2) -> #N/A
A20: 42266 | B20: 42266 | C20: =VLOOKUP(B20,Feuil1!$A$35:$B$41,2) -> #N/A
A21: 42267 | B21: 42267 | C21: =VLOOKUP(B21,Feuil1!$A$35:$B$41,2) -> #N/A
A22: 42268 | B22: 42268 | C22: =VLOOKUP(B22,Feuil1!$A$35:$B$41,2) -> #N/A
A23: 42269 | B23: 42269 | C23: =VLOOKUP(B23,Feuil1!$A$35:$B$41,2) -> #N/A
... A31: 42277 | B31: 42277 | C31: =VLOOKUP(B31,Feuil1!$A$35:$B$41,2) -> #N/A
A35: lun | B35: 0
A36: mar | B36: 7.5
A37: mer | B37: 9.5
A38: jeu | B38: 7.5
A39: ven | B39: 7.5
A40: sam | B40: 0
A41: dim | B41: 0

Sheet Feuil2
