Workbook
Name Cat_01: OFFSET(Recettes!$A$2,0,0,MAX(1,COUNTA(Recettes!$A$2:$A$463)),1)
Name Cat_02: OFFSET(Recettes!$B$2,0,0,MAX(1,COUNTA(Recettes!$B$2:$B$491)),1)
Name Cat_03: OFFSET(Recettes!#REF!,0,0,MAX(1,COUNTA(Recettes!$C$2:$C$495)),1)
Name Cat_04: OFFSET(Recettes!$D$2,0,0,MAX(1,COUNTA(Recettes!$D$2:$D$500)),1)
Name Cat_05: OFFSET(Recettes!$E$2,0,0,MAX(1,COUNTA(Recettes!$E$2:$E$500)),1)
Name Cat_06: OFFSET(Recettes!$F$2,0,0,MAX(1,COUNTA(Recettes!$F$2:$F$500)),1)
Name Cat_07: OFFSET(Recettes!$G$2,0,0,MAX(1,COUNTA(Recettes!$G$2:$G$500)),1)
Name Cat_08: OFFSET(Recettes!$H$2,0,0,MAX(1,COUNTA(Recettes!$H$2:$H$500)),1)
Name Cat_09: OFFSET(Recettes!$I$2,0,0,MAX(1,COUNTA(Recettes!$I$2:$I$500)),1)
Name Cat_10: OFFSET(Recettes!$J$2,0,0,MAX(1,COUNTA(Recettes!$J$2:$J$500)),1)
Name Cat_11: OFFSET(Recettes!$K$2,0,0,MAX(1,COUNTA(Recettes!$K$2:$K$500)),1)
Name Cat_12: OFFSET(Recettes!$L$2,0,0,MAX(1,COUNTA(Recettes!$L$2:$L$500)),1)
Name Cat_13: OFFSET(Recettes!$M$2,0,0,MAX(1,COUNTA(Recettes!$M$2:$M$500)),1)
Name Cat_14: OFFSET(Recettes!$N$2,0,0,MAX(1,COUNTA(Recettes!$N$2:$N$500)),1)
Name Cat_15: OFFSET(Recettes!$O$2,0,0,MAX(1,COUNTA(Recettes!$O$2:$O$500)),1)
Name Cat_16: OFFSET(Recettes!$P$2,0,0,MAX(1,COUNTA(Recettes!$P$2:$P$500)),1)
Name Cat_17: OFFSET(Recettes!$Q$2,0,0,MAX(1,COUNTA(Recettes!$Q$2:$Q$500)),1)
Name Cat_18: OFFSET(Recettes!$R$2,0,0,MAX(1,COUNTA(Recettes!$R$2:$R$500)),1)
Name Cat_19: OFFSET(Recettes!$S$2,0,0,MAX(1,COUNTA(Recettes!$S$2:$S$500)),1)
Name Cat_20: OFFSET(Recettes!$T$2,0,0,MAX(1,COUNTA(Recettes!$T$2:$T$500)),1)
Name Cat_21: OFFSET(Recettes!$U$2,0,0,MAX(1,COUNTA(Recettes!$U$2:$U$500)),1)
Name Cat_22: OFFSET(Recettes!$V$2,0,0,MAX(1,COUNTA(Recettes!$V$2:$V$500)),1)
Name Cat_23: OFFSET(Recettes!$W$2,0,0,MAX(1,COUNTA(Recettes!$W$2:$W$500)),1)
Name Cat_24: OFFSET(Recettes!$X$2,0,0,MAX(1,COUNTA(Recettes!$X$2:$X$500)),1)
Name Cat_25: OFFSET(Recettes!$Y$2,0,0,MAX(1,COUNTA(Recettes!$Y$2:$Y$500)),1)

Sheet Menus 4 semaines
A1: RESTAURATION SCOLAIRE – École ... 2026
A2: Plan alimentaire par catégories – cycle de 4 semaines (16 repas)
A3: Cliquez sur une case : un menu déroulant propose les recettes de la catégorie (onglet « Recettes »).
A5: SEMAINE 1 – du 00/00 au 00/00
B6: LUNDI | C6: MARDI | D6: JEUDI | E6: VENDREDI
A7: Entrée | B7: Crudité | C7: Entrée de légumes cuits | D7: Crudité | E7: Crudité
A8: Plat protidique | B8: Plat végétarien à base d'œuf | C8: Viande rouge non hachée (bœuf, veau, agneau) | D8: Plat végétarien à base de légumineuses (< 70 % de la portion) | E8: Poisson (≥ 70 %, P/L ≥ 2)
A9: Légumes | B9: Légumes cuits | C9: Légumes cuits | D9: Légumes cuits | E9: Légumes cuits
A10: Féculents | B10: Légumes secs (légumineuses) | C10: Féculents | D10: Féculents | E10: Féculents
A11: Produit laitier | B11: Fromage ≥ 150 mg de calcium | C11: Laitier frais | D11: Fromage 100–150 mg de calcium | E11: Fromage ≥ 150 mg de calcium
A12: Dessert | B12: Fruit cru | C12: Compote / fruit cuit sans sucre ajouté | D12: Fruit cru | E12: Fruit cru
A14: SEMAINE 2 – du 00/00 au 00/00
B15: LUNDI | C15: MARDI | D15: JEUDI | E15: VENDREDI
A16: Entrée | B16: Entrée de légumes cuits | C16: Crudité | D16: Entrée de légumes cuits | E16: Crudité
A17: Plat protidique | B17: Plat végétarien à base d'œuf | C17: Viande rouge non hachée (bœuf, veau, agneau) | D17: Plat végétarien à base d'œuf | E17: Poisson (≥ 70 %, P/L ≥ 2)
A18: Légumes | B18: Légumes cuits | C18: Légumes cuits | D18: Légumes cuits | E18: Légumes cuits
A19: Féculents | B19: Féculents | C19: Féculents | D19: Féculents (inclus dans le plat) | E19: Féculents
A20: Produit laitier | B20: Fromage ≥ 150 mg de calcium | C20: Laitier frais | D20: Fromage 100–150 mg de calcium | E20: Fromage ≥ 150 mg de calcium
A21: Dessert | B21: Fruit cru | C21: Dessert > 15 % de lipides | D21: Fruit cru | E21: Compote / fruit cuit sans sucre ajouté
A23: SEMAINE 3 – du 00/00 au 00/00
B24: LUNDI | C24: MARDI | D24: JEUDI | E24: VENDREDI
A25: Entrée | B25: Crudité | C25: Crudité | D25: Entrée de légumes cuits | E25: Crudité
A26: Plat protidique | B26: Plat végétarien à base d'œuf | C26: Viande rouge non hachée (bœuf, veau, agneau) | D26: Plat végétarien à base de légumineuses (< 70 % de la portion) | E26: Poisson (≥ 70 %, P/L ≥ 2)
A27: Légumes | B27: Légumes cuits | C27: Légumes cuits | D27: Légumes cuits | E27: Légumes cuits
A28: Féculents | B28: Féculents | C28: Féculents frits ou préfrits | D28: Féculents | E28: Féculents
A29: Produit laitier | B29: Laitier frais | C29: Fromage ≥ 150 mg de calcium | D29: Fromage 100–150 mg de calcium | E29: Laitier frais
A30: Dessert | B30: Fruit cru | C30: Dessert > 15 % de lipides | D30: Fruit cru | E30: Dessert sucré (> 20 g de sucres, < 15 % de lipides)
A32: SEMAINE 4 – du 00/00 au 00/00
B33: LUNDI | C33: MARDI | D33: JEUDI | E33: VENDREDI
A34: Entrée | B34: Entrée de légumes cuits | C34: Crudité | D34: Entrée de légumes cuits | E34: Crudité
A35: Plat protidique | B35: Plat végétarien à base d'œuf | C35: Viande rouge non hachée (bœuf, veau, agneau) | D35: Plat végétarien à base d'œuf | E35: Poisson (≥ 70 %, P/L ≥ 2)
A36: Légumes | B36: Légumes cuits | C36: Légumes cuits | D36: Légumes cuits | E36: Légumes cuits
A37: Féculents | B37: Féculents | C37: Légumes secs (légumineuses) | D37: Féculents | E37: Féculents
A38: Produit laitier | B38: Fromage ≥ 150 mg de calcium | C38: Fromage ≥ 150 mg de calcium | D38: Fromage 100–150 mg de calcium | E38: Laitier frais
A39: Dessert | B39: Fruit cru | C39: Compote / fruit cuit sans sucre ajouté | D39: Fruit cru | E39: Dessert sucré (> 20 g de sucres, < 15 % de lipides)

Sheet Menus 5 semaines
A1: RESTAURATION SCOLAIRE – École – 2026
A2: Plan alimentaire par catégories – cycle de 5 semaines (20 repas)
A3: Cliquez sur une case : un menu déroulant propose les recettes de la catégorie (onglet « Recettes »).
A5: SEMAINE 1 – du 00/00 au 00/00
B6: LUNDI | C6: MARDI | D6: JEUDI | E6: VENDREDI
A7: Entrée | B7: Crudité | C7: Entrée de légumes cuits | D7: Crudité | E7: Crudité
A8: Plat protidique | B8: Plat végétarien à base d'œuf | C8: Viande rouge non hachée (bœuf, veau, agneau) | D8: Plat végétarien à base de légumineuses (< 70 % de la portion) | E8: Poisson (≥ 70 %, P/L ≥ 2)
A9: Légumes | B9: Légumes cuits | C9: Légumes cuits | D9: Légumes cuits | E9: Légumes cuits
A10: Féculents | B10: Légumes secs (légumineuses) | C10: Féculents | D10: Féculents | E10: Féculents
A11: Produit laitier | B11: Fromage ≥ 150 mg de calcium | C11: Laitier frais | D11: Fromage 100–150 mg de calcium | E11: Fromage ≥ 150 mg de calcium
A12: Dessert | B12: Fruit cru | C12: Compote / fruit cuit sans sucre ajouté | D12: Fruit cru | E12: Fruit cru
A14: SEMAINE 2 – du 00/00 au 00/00
B15: LUNDI | C15: MARDI | D15: JEUDI | E15: VENDREDI
A16: Entrée | B16: Entrée de légumes cuits | C16: Crudité | D16: Entrée de légumes cuits | E16: Crudité
A17: Plat protidique | B17: Plat végétarien à base d'œuf | C17: Viande rouge non hachée (bœuf, veau, agneau) | D17: Plat végétarien à base d'œuf | E17: Poisson (≥ 70 %, P/L ≥ 2)
A18: Légumes | B18: Légumes cuits | C18: Légumes cuits | D18: Légumes cuits | E18: Légumes cuits
A19: Féculents | B19: Féculents | C19: Féculents | D19: Féculents (inclus dans le plat) | E19: Féculents
A20: Produit laitier | B20: Fromage ≥ 150 mg de calcium | C20: Fromage < 100 mg de calcium | D20: Fromage 100–150 mg de calcium | E20: Laitier frais
A21: Dessert | B21: Fruit cru | C21: Dessert > 15 % de lipides | D21: Fruit cru | E21: Compote / fruit cuit sans sucre ajouté
A23: SEMAINE 3 – du 00/00 au 00/00
B24: LUNDI | C24: MARDI | D24: JEUDI | E24: VENDREDI
A25: Entrée | B25: Crudité | C25: Crudité | D25: Entrée de légumes cuits | E25: Crudité
A26: Plat protidique | B26: Plat végétarien à base d'œuf | C26: Volaille | D26: Plat végétarien à base de légumineuses (< 70 % de la portion) | E26: Poisson (≥ 70 %, P/L ≥ 2)
A27: Légumes | B27: Légumes cuits | C27: Légumes cuits | D27: Légumes cuits | E27: Légumes cuits
A28: Féculents | B28: Féculents | C28: Féculents | D28: Féculents | E28: Féculents
A29: Produit laitier | B29: Laitier frais | C29: Fromage ≥ 150 mg de calcium | D29: Fromage 100–150 mg de calcium | E29: Fromage ≥ 150 mg de calcium
A30: Dessert | B30: Fruit cru | C30: Dessert > 15 % de lipides | D30: Fruit cru | E30: Dessert sucré (> 20 g de sucres, < 15 % de lipides)
A32: SEMAINE 4 – du 00/00 au 00/00
B33: LUNDI | C33: MARDI | D33: JEUDI | E33: VENDREDI
A34: Entrée | B34: Entrée de légumes cuits | C34: Crudité | D34: Entrée de légumes cuits | E34: Crudité
A35: Plat protidique | B35: Plat végétarien à base d'œuf | C35: Viande rouge non hachée (bœuf, veau, agneau) | D35: Plat végétarien à base d'œuf | E35: Poisson (≥ 70 %, P/L ≥ 2)
A36: Légumes | B36: Légumes cuits | C36: Légumes cuits | D36: Légumes cuits | E36: Légumes cuits
A37: Féculents | B37: Féculents | C37: Légumes secs (légumineuses) | D37: Féculents | E37: Féculents
A38: Produit laitier | B38: Fromage ≥ 150 mg de calcium | C38: Laitier frais | D38: Fromage 100–150 mg de calcium | E38: Fromage < 100 mg de calcium
A39: Dessert | B39: Fruit cru | C39: Compote / fruit cuit sans sucre ajouté | D39: Fruit cru | E39: Dessert sucré (> 20 g de sucres, < 15 % de lipides)
A41: SEMAINE 5 – du 00/00 au 00/00
B42: LUNDI | C42: MARDI | D42: JEUDI | E42: VENDREDI
A43: Entrée | B43: Crudité | C43: Crudité | D43: Entrée de légumes cuits | E43: Crudité
A44: Plat protidique | B44: Plat végétarien à base d'œuf | C44: Viande rouge non hachée (bœuf, veau, agneau) | D44: Plat végétarien à base de légumineuses (< 70 % de la portion) | E44: Poisson (≥ 70 %, P/L ≥ 2)
A45: Légumes | B45: Légumes cuits | C45: Légumes cuits | D45: Légumes cuits | E45: Légumes cuits
A46: Féculents | B46: Féculents | C46: Légumes secs (légumineuses) | D46: Féculents | E46: Féculents
A47: Produit laitier | B47: Fromage ≥ 150 mg de calcium | C47: Laitier frais | D47: Laitier frais | E47: Fromage ≥ 150 mg de calcium
A48: Dessert | B48: Fruit cru | C48: Compote / fruit cuit sans sucre ajouté | D48: Fruit cru | E48: Dessert sucré (> 20 g de sucres, < 15 % de lipides)

Sheet Recettes
A1: Crudité | B1: Entrée de légumes cuits | C1: Entrée > 15 % de lipides | D1: Viande rouge non hachée (bœuf, veau, agneau) | E1: Poisson (≥ 70 %, P/L ≥ 2) | F1: Volaille | G1: Porc ou autre viande | H1: Plat végétarien à base d'œuf | I1: Plat végétarien à base de légumineuses (< 70 % de la portion) | J1: Plat protidique P/L ≤ 1 (saucisse, nuggets…) | K1: Plat prêt < 70 % de la portion | L1: Plat frit ou préfrit | M1: Légumes cuits | N1: Féculents | O1: Légumes secs (légumineuses) | P1: Féculents frits ou préfrits | Q1: Féculents (inclus dans le plat) | R1: Fromage ≥ 150 mg de calcium | S1: Fromage 100–150 mg de calcium | T1: Laitier frais | U1: Fromage < 100 mg de calcium | V1: Fruit cru | W1: Compote / fruit cuit sans sucre ajouté | X1: Dessert > 15 % de lipides | Y1: Dessert sucré (> 20 g de sucres, < 15 % de lipides)
A2: Carottes râpées vinaigrette | B2: Betteraves vinaigrette | C2: Croisillon au fromage | D2: Bœuf bourguignon | E2: Dos de cabillaud à l'aneth | F2: Poulet rôti | G2: Boulette | H2: Omelette au fromage | I2: Chili sin carne : haricots rouges, maïs | J2: Cervelas obernois | K2: Abba- burger | L2: Beignet au fromage | M2: Brocolis | N2: Blé | O2: Haricots blancs | P2: Frites cuisson au four | R2: Cantal AOP | S2: Port-Salut | T2: Fromage blanc nature | U2: Brie de Meaux AOP | V2: Clémentine | W2: Compote de poires | X2: Chou pâtissier | Y2: Crème dessert vanille
A3: Carottes râpées à l'orange | B3: Potage cultivateur | C3: Croisillon emmental | D3: Navarin d'agneau | E3: Filet de colin sauce aurore | F3: Ailerons de poulet marinés | G3: Boulette au munster | H3: Omelette aux fines herbes | I3: Curry de pois chiches et patates douces | J3: Chipolatas grillée | K3: Blanquette de légumes | L3: Beignet de brocolis sauce tartare | M3: Brocolis persillés | N3: Boulgour | O3: Lentilles vertes | P3: Frites | R3: Comté AOP | S3: Saint-Paulin | T3: Yaourt nature de Normandie | U3: Camembert de Normandie AOP | V3: Clémentines | W3: Compote de poires sans sucre ajouté | X3: Coupe mascarpone | Y3: Riz au lait
A4: Coleslaw : chou blanc, carottes | B4: Potage de légumes d'hiver | C4: Duo de saucissons | D4: Rôti de bœuf sauce moutarde | E4: Filet de lieu noir sauce citron | F4: Brochette de dinde | G4: Boulettes à la provençale | H4: Shakshuka : œufs pochés, sauce tomate-poivrons | I4: Lentilles corail au curry et lait de coco | J4: Merguez | K4: Blanquette végétale | L4: Beignets de brocolis | M4: Carottes fondantes | N4: Coquillettes | O4: Flageolets tomatés | P4: Frites sauce cheddar | R4: Edam | S4: Tomme de Savoie IGP | T4: Fromage blanc | U4: Fromage frais | V4: Poire | W4: Compote de pommes sans sucre ajouté | X4: Crumble aux pommes | Y4: Semoule au lait
A5: Céleri rémoulade | B5: Soupe de poireaux et pommes de terre | C5: Feuilleté à l'emmental | D5: Sauté de veau marengo | E5: Filet de merlu sauce normande | F5: Colombo de poulet | G5: Boulettes de bœuf sauce paprika | H5: Tortilla de pommes de terre et oignons | I5: Bolognaise de lentilles | J5: Merguez grillée | K5: Boulette bolognaise | L5: Beignets de chou-fleurs sauce tartare | M5: Carottes rôties | N5: Pommes de terre rissolées au four | O5: Gratin complet de courgettes & lentilles corail | P5: Frites/haricots verts | R5: Emmental de Savoie IGP | T5: Fromage blanc & son coulis | U5: Fromage frais normand | V5: Pomme | W5: Compote pomme-banane | X5: Crêpe banane chocolat | Y5: Crème aux œufs
A6: Salade d'agrumes (orange, pamplemousse) | B6: Velouté de brocolis | C6: Feuilleté au fromage | D6: Blanquette de veau | E6: Filet de merlu à l'oseille | F6: Emincé de poulet | G6: Boulettes façon andalouse | H6: Œufs brouillés aux champignons | I6: Chili sin carne | J6: Rougail saucisse | K6: Boulettes aux légumes | L6: Beignets de choux-fleurs | M6: Carottes Vichy | N6: Pommes de terre vapeur | O6: Lentilles | P6: Haricots verts/frites | R6: Gouda | T6: Gâteau yaourt | V6: Pomme de Normandie | W6: Ananas rôti à la vanille | X6: Cœur coulant chocolat | Y6: Crème caramel
A7: Salade d'endives et pommes | B7: Velouté de carottes | C7: Feuilleté de hot dog | D7: Bœuf braisé à la bourguignonne | E7: Boulettes sauce épices du soleil | F7: Émincé de poulet à la basquaise | G7: Côte de porc | H7: Œufs cocotte à la crème et aux champignons | I7: Cocotte gourmande de pâtes aux pois chiches rôtis | J7: Saucisse | K7: Boulettes végétale à la tomate | L7: Beignets de légumes | M7: Chou-fleur persillé | N7: Purée de pommes de terre maison | O7: Lentilles cuisinées | P7: Patatoes | R7: Mimolette | T7: Pâtes crémeuses aux petits pois et bûche de chèvre | V7: Salade de fruits frais de saison | W7: Compote | X7: Flan pâtissier | Y7: Crème dessert
A8: Salade de chou blanc et pommes | B8: Velouté de panais | C8: Flammekueche | D8: Bœuf mode | E8: Dos de poisson frais | F8: Émincé de poulet sauce dragon | G8: Jambon au cidre | H8: Œufs durs sauce florentine | I8: Curry de légumes au lait de coco et pois chiches | J8: Saucisse de toulouse | K8: Boulettes végétariennes | L8: Croustillant au fromage | M8: Duo de carottes et panais | N8: Pâtes | O8: Semoule sauce lentille corail au curry | P8: Pommes noisettes | T8: Petit pot de crème | V8: Ananas | W8: Compote de fruits | X8: Gaufre chantilly spéculoos | Y8: Crème dessert/biscuit
A9: Salade de chou rouge et pommes | B9: Velouté de potiron | C9: Flan au camembert | D9: Bœuf strogonoff | E9: Filet de cabillaud sauce aurore | F9: Escalope de dinde | G9: Jambon grillé | H9: Frittata aux légumes | I9: Dahl de lentilles | J9: Saucisse grillée | K9: Brandade | L9: Croustillant fromager | M9: Fondue de poireaux | N9: Pâtes complètes | P9: Rosti | T9: Petits suisses | V9: Ananas frais | W9: Compote de saison | X9: Grillé aux pommes | Y9: Crème vanille
A10: Salade de mâche, vinaigrette | B10: Crème de courgettes | C10: Friand au fromage | D10: Bourguignon | E10: Filet de colin | F10: Escalope de dinde à la crème | G10: Jambon grillé sauce fromage | H10: Omelette | I10: Dahl de lentilles -v | K10: Brandade de poisson | L10: Fish & chips | M10: Haricots verts | N10: Riz | T10: Petits suisses aux fruits | V10: Buffet de fruits | W10: Compote pomme-pêche | X10: Mille-feuilles | Y10: Entremet
A11: Salade verte et croûtons | B11: Potage de pois chiches aux épices orientales | C11: Gratinée à l'oignon | D11: Carbonade | E11: Filet de colin sauce citron | F11: Escalope de dinde au camembert | G11: Jambon sauce madère | H11: Omelette à la courgette et aux copeaux de parmesan | I11: Dahl de lentilles corail | K11: Burger | L11: Fish and chips | M11: Haricots verts persillés | N11: Riz basmati | T11: Tarte au fromage blanc | V11: Buffet de fruits de saison | W11: Fruit cuit | X11: Mousse au chocolat | Y11: Entremet & biscuit local
A12: Betteraves & pommes râpées | B12: Potage mystere | C12: Macedoine mayonnaise | D12: Estouffade de bœuf | E12: Filet de colin sauce oseille | F12: Escalope de dinde au cantal | G12: Lapin sauce moutarde | H12: Omelette à la feta | I12: Dahl de lentilles corail au lait de coco | K12: Burger sauce tennessee | L12: Fish and chips sauce andalouse | M12: Navets et carottes | N12: Semoule | T12: Yaourt | V12: Fraises | W12: Pomme au four | X12: Pain perdu sauce crème anglaise | Y12: Entremet barbe a papa
A13: Betteraves ciboulette | B13: Potage potimaron | C13: Nems | D13: Joue de bœuf en carbonade | E13: Filet de lieu sauce aurore | F13: Escalope de dinde au chorizo | G13: Palette à la diable | H13: Omelette au chèvre | I13: Dahl de lentilles corail et riz blanc | K13: Burger vege | L13: Fish and chips sauce tartare | M13: Petits pois et carottes | N13: Ble aux petits légumes | T13: Yaourt a boire | V13: Fruit | W13: Pomme cuite | X13: Paris-Brest | Y13: Entremet biscuit
A14: Betteraves mimosa | B14: Soupe mystere | C14: Nems aux légumes | D14: Langue | E14: Filet de lieu sauce citron | F14: Escalope de dinde au reblochon | G14: Palette à la provençale | H14: Omelette au fromage vg | I14: Dahl de lentilles riz | K14: Burger végétarien | L14: Nugget's | M14: Poêlée de champignons | N14: Ble et ratatouille | T14: Yaourt aux fruits | V14: Fruit de saison | X14: Tarte amandine | Y14: Entremet caramel
A15: Betteraves/pommes | B15: Soupe vermicelle | C15: Pain de poisson mayo | D15: Langue de bœuf | E15: Filet de poisson | F15: Escalope de dinde sauce camembert | G15: Porc sauté miel soja | H15: Omelette aux lardons | I15: Dhal de lentilles | K15: Burger vg | L15: Nuggets | M15: Poêlée de légumes d'automne (courge, panais) | N15: Carottes & pommes de terre | T15: Yaourt bio | V15: Fruits rouges | X15: Tarte citron meringuée | Y15: Entremet chocolat
A16: Buffet de crudites | B16: Velouté | C16: Panier feuilleté au fromage | D16: Langue sauce piquante | E16: Filet de poisson à la bordelaise | F16: Escalope de poulet sauce marinara | G16: Ribbs caramélisé | H16: Omelette basquaise | I16: Falafel sauce provençale | K16: Cassoulet | L16: Nuggets de fromage | M16: Poêlée de légumes d'hiver | N16: Choux bruxelles & pommes de terre | T16: Yaourt biscuit | V16: Plateau de fruits | X16: Tarte fine aux pommes | Y16: Entremet vanille
A17: Carottes râpées au cumin | B17: Velouté butternut/poireaux | C17: Pâté blanc au saumon | D17: Normandin de veau | E17: Filet de poisson à la normande | F17: Escalope de volaille sauce à la crème | G17: Rôti de porc | H17: Omelette ciboulette | I17: Falafelles | K17: Chili | L17: Nuggets de poulet | M17: Purée de courge butternut | N17: Choux-fleurs & pommes de terre béchamel | T17: Yaourt chocolat | V17: Plateau de fruits de saison | X17: Tarte rhubarbe chocolat blanc | Y17: Flan caramel
A18: Céleri et chou rouge râpés | B18: Velouté carottes patates douces et lait coco | C18: Pâté blanc au thon | D18: Paupiette de veau | E18: Filet de poisson frais sauce citron | F18: Filet de poulet au curry | G18: Rôti de porc au chorizo | H18: Omelette mozzarela | I18: Falafels | K18: Chili végétarien | L18: Poisson pane | M18: Épinards hachés | N18: Duo de purée | T18: Yaourt nature | V18: Poire belle helene | X18: Tarte tatin | Y18: Île flottante
A19: Chou râpé | B19: Velouté coco curry | C19: Pâté de campagne | D19: Rôti de bœuf | E19: Filet de poisson meunière | F19: Filet de poulet sauce camembert | G19: Rôti de porc fv | H19: Omelette mozzarella | I19: Galette de pois chiches | K19: Choucroute de la mer | L19: Poisson pané sauce tartare | M19: À l'indienne | N19: Duo quinoa/ semoule | T19: Yaourt vanille | V19: Pomme d'amour | X19: Tiramisu | Y19: Île flottante au chocolat
A20: Chou rouge aux pommes | B20: Velouté courgettes VQR | C20: Pâté de foie | D20: Rôti de bœuf (origine france) | E20: Filet de poisson sauce aurore | F20: Pintade au camembert | G20: Rôti de porc sauce forestière | H20: Omelette tomate et fromage | I20: Lasagne au pois casses | K20: Couscous | M20: Ble aux petits légumes | N20: Épinards/pommes de terre | V20: Salade de fruits | X20: Tropézienne | Y20: Liégeois
A21: Choux & pommes râpés | B21: Velouté de butternut | C21: Pâté de foie/cornichons | D21: Rôti de bœuf sauce au poivre | E21: Filet de poisson sauce beurre blanc | F21: Pintade aux raisins | G21: Sauté de porc | H21: Tortilla pommes de terre | I21: Lasagne aux légumes & lentilles | K21: Couscous et ses légumes | M21: Ble et ratatouille | N21: Épinards/riz | V21: Salade de fruits exotiques | X21: Éclair vanille chocolat | Y21: Liégeois chocolat
A22: Concombre à la crème | B22: Velouté de carottes & VQR | C22: Pâté sauce bolo vege | D22: Rôti de bœuf sauce camembert | E22: Filet de poisson sauce citron | F22: Pintade rôtie aux raisins | G22: Sauté de porc à la moutarde | H22: Tortillas | I22: Parmentier de légumes et lentilles | K22: Couscous végétarien | M22: Blettes | N22: Gnocchi et egrene | V22: Salade de fruits frais | X22: Ananas frais & rôti | Y22: Liégeois vanille
A23: Concombre au yaourt | B23: Velouté de champignons | C23: Quiche au thon | D23: Rôti de veau | E23: Filet de poisson sauce citronnée | F23: Pintade sauce camembert | G23: Sauté de porc à la tomate | I23: Parmentier de lentilles corail | K23: Croque | M23: Bolognaise végétale | N23: Gnocchis | X23: Barbe a papa | Y23: Liégeois vanille sur lit de caramel
A24: Concombre bulgare | B24: Velouté de citrouille | C24: Quiche aux courgettes et fromages | D24: Sauté de veau | E24: Filet de poisson sauce crème ciboulette | F24: Poule au blanc | G24: Sauté de porc au curry | I24: Tagliatelles aux lentilles | K24: Croque vege | M24: Brocolis en gratin | N24: Gnocchis à la provençale | X24: Bavarois | Y24: Riz au lait cannelle
A25: Concombre ciboulette | B25: Velouté de courges | C25: Quiche aux fromages | E25: Filet de poisson sauce nantua | F25: Poule au blanc & ses légumes | G25: Steak | I25: Boulette tomate basilic | K25: Croque-monsieur | M25: Brocolis gratinés | N25: Gnocchis sauce tomate | X25: Bavarois à la clémentine | Y25: Semoule à l'orientale glace
A26: Concombre persillé | B26: Velouté de courgettes | C26: Quiche aux légumes | E26: Poisson à la bordelaise | F26: Poule au pot / et ses légumes /b | G26: Steak au poivre | I26: Gnocchis tomate mozza | K26: Croziflette savoyarde | M26: Brocolis vapeur | N26: Gratin d'épinards & pommes de terre | X26: Beignet | Y26: Semoule au caramel
A27: Concombre sauce curry | B27: Velouté de légumes | C27: Quiche lorraine | E27: Poisson du jour | F27: Poule au pot et ses légumes | G27: Steak fromage | K27: Fajitas aux légumes | M27: Carotte/cheddar | N27: Gratin de choux-fleurs & pommes de terre | X27: Beignet d'ananas ou pommes | Y27: Semoule aux raisins
A28: Concombre sauce fraîcheur | B28: Velouté de légumes anciens | C28: Quiche saumon & poireaux | E28: Poisson du jour au coulis de poivrons et thym | F28: Poulet | G28: Steak fromager | K28: Galette complete | M28: Carottes | N28: Gratin de coquillettes aux fromages | X28: Beignets de pomme | Y28: Teurgoule
A29: Concombre vinaigrette | B29: Velouté de patate douce | C29: Quiche saumon/poireau | E29: Poisson du jour sauce citron | F29: Poulet à la provençale | G29: Steak haché | K29: Hachis parmentier | M29: Carottes & pommes de terre | N29: Gratin de tagliatelles | X29: Biscuit local
A30: Concombre/mozza | B30: Velouté de tomates | C30: Quiche surimi | E30: Poisson frais | F30: Poulet basquaise | G30: Steak haché au poivre | K30: Hachis végétarien | M30: Champignons & brocolis | N30: Gratiné de pâtes | X30: Brownies & crème anglaise
A31: Concombres au curry | B31: Velouté mystere | C31: Quiche thon moutarde | E31: Poisson meunière | F31: Poulet en sauce | G31: Steak haché grillé | K31: Hamburger | M31: Champignons & fromage | N31: Haricots verts & pommes de terre | X31: Café gourmand
A32: Crudites de saison | C32: Rillette de thon-ciboulette | E32: Poisson sauce aurore | F32: Poulet rôti au citron | G32: Steak haché sauce au poivre | K32: Hamburger -v | M32: Choux bruxelles & pommes de terre | N32: Nouilles chinoises | X32: Cappuccino normand
A33: Macedoine de légumes | C33: Rillettes | E33: Poisson sauce citron | F33: Poulet sauce chorizo | G33: Steak haché sauce tomatée | K33: Hamburger vg | M33: Choux-fleurs & pommes de terre béchamel | N33: Pâtes à la tomate | X33: Caramel au beurre salé
A34: Melon | C34: Rillettes de maquereaux | E34: Poisson sc beurre blanc | F34: Poulet vallee d'auge | G34: Steak sauce camembert | K34: Kebab | M34: Choux-fleurs gratinés | N34: Pâtes au gruyère | X34: Charlotte aux fruits
A35: Pasteque | C35: Rillettes de poisson | E35: Saumonette | F35: Poulet vallée d'auge et légumes d'automne | G35: Steak sauce échalote | K35: Lasagne | M35: Choux-fleurs safrané | N35: Pâtes aux légumes | X35: Cheesecake
A36: Poireaux sauce moutarde | C36: Rillettes de sardine/toast | E36: Dos de poisson sauce tomate et basilic | F36: Poulet yassa | G36: Viandes froides | K36: Lasagne au thon | M36: Cocos à la tomate | N36: Pâtes bolognaises | X36: Cheesecake à la mangue
A37: Poireaux vinaigrette | C37: Rillettes de sardines | F37: Rôti de dinde | K37: Lasagne aux légumes | M37: Courgettes à l'orientale | N37: Pâtes carbonara | X37: Cheesecake citron/fruits rouges
A38: Radis | C38: Rillettes de saumon | F38: Rôti de dinde aux raisins | K38: Lasagne de poisson et épinards | M38: Courgettes béchamel | N38: Pâtes crémeuses | X38: Chocolat
A39: Radis beurre | C39: Rillettes de thon | F39: Rôti de dinde sauce curry | K39: Lasagne végétarienne v | M39: Courgettes gratinées | N39: Pâtes fraîches | X39: Chou à la crème
A40: Radis râpé | C40: Rillettes thon/poivrons | F40: Rôti de dinde sauce forestière | K40: Lasagnes végétariennes | M40: Courgettes parmesan | N40: Penne | X40: Chou à la crème diplomate
A41: Salade alsacienne | C41: Rillettes/cornichons | F41: Rôti de dinde sauce fromage | K41: Lasagnes vg | M41: Courgettes sautées | N41: Pommes de terre | X41: Churros
A42: Salade antiboise | C42: Salade normande (salade, pommes, andouille ...) | F42: Sauté de dinde | K42: Paella | M42: Croustade de légumes | N42: Pommes de terre & brocolis | X42: Coulis caramel
A43: Salade basque | C43: Samoussas aux légumes | F43: Sauté de dinde au curry | K43: Parmentier de légumes | M43: Duo de choux sauce béchamel | N43: Pommes de terre à la cème | X43: Coupe de fruits frais
A44: Salade chou chinois carottes | C44: Saucisson | F44: Sauté de dinde sauce curry | K44: Pizza | M44: Épinards | N44: Pommes de terre épinards | X44: Coupe fraises & mascarpone
A45: Salade croquante | C45: Saucisson sec | F45: Sauté de dinde sauce raisin | K45: Pizza 4 fromages | M45: Épinards & mozzarella | N45: Pommes de terre grenailles | X45: Coupe mascarpone aux fruits
A46: concombre à la menthe | C46: Saucisson sec/ cornichons | F46: Sauté de poulet au curry | K46: Pizza au pesto, courgettes et tomates | M46: Épinards/pommes de terre | N46: Pommes de terre persillées | X46: Coupe mascarpone aux fruits rouges
A47: Salade de tomates | C47: Soupe gratinée | F47: Sauté de poulet sauce colombo | K47: Pizza aux 3 fromages | M47: Épinards/riz | N47: Pommes de terre sautées | X47: Crème anglaise
A48: Salade melee | C48: Surimi mayonnaise | F48: Sauté de poulet sauce curry | K48: Pizza aux fromages | M48: Gnocchis sauce tomate | N48: Pommes de terre/choux bruxelles | X48: Crème brûlée
A49: Salade parmentière | C49: Tarte au reblochon | F49: Yassa de poulet | K49: Pizza aux légumes & ricotta | M49: Gratin d'épinards & pommes de terre | N49: Purée | X49: Crème brûlée chocolat
A50: Salade portugaise | C50: Tarte au surimi | K50: Pizza aux légumes et fromage | M50: Gratin de brocolis | N50: Purée / butternut | X50: Crêpe chocolat
A51: Salade printaniere | C51: Tarte au thon | K51: Pot au feu de la mer | M51: Gratin de chou | N51: Purée de panais courge | X51: Crêpe garnie
A52: Salade sauce yakitori | C52: Tarte au thon & tomates confites | K52: Pot au feu et ses légumes | M52: Gratin de choux fleurs | N52: Purée dubarry | X52: Crumble
A53: Salade strasbourgeoise | C53: Tarte aux 3 fromages | K53: Raclette | M53: Gratin de choux-fleurs & pommes de terre | N53: Purée florentine | X53: Crumble aux fruits
A54: Salade thailandaise | C54: Tarte aux fromages | K54: Raclette / jambon de dinde | M54: Gratin de courgettes | N54: Rataouille semoule | X54: Crumble aux poires
A55: Salade verte | C55: Tarte aux pommes de terre et fromages | K55: Raviole chèvre | M55: Gratin de légumes | N55: Ratatouille semoule | X55: Crumble poires pommes
A56: Tomate à l’échalote | C56: Tarte de légumes | K56: Ravioles gratinées | M56: Gratin de légumes & fromage | N56: Riz aux petits légumes | X56: David brownie
A57: Tomates | C57: Tarte provençale | K57: Ravioles provençales | M57: Gratin de poisson et épinards | N57: Riz cantonais | X57: Eclair au chocolat
A58: Tomates au basilic | C58: Terrine au camembert | K58: Ravioles provençales au comté | M58: Haricots beurre | N58: Riz madras | X58: Far breton
A59: Tomates ciboulette | C59: Terrine au livarot | K59: Ravioles sauce provençale | M59: Haricots beurre persillés | N59: Riz pilaf | X59: Flan nappé caramel
A60: Tomates farcies au poisson | C60: Terrine aux pommes | K60: Red hot chili peppers | M60: Haricots verts & pommes de terre | N60: Riz pilaf aux légumes | X60: Fondant choco
A61: Tomates mozza | C61: Terrine de légumes | K61: Risotto (fromage courgette ..) | M61: Haricots verts à la fondue d"échalote | N61: Semoule & rataouille | X61: Fraises mascarpone
A62: Tomates vinaigrette | C62: Terrine de poisson | K62: Risotto aux champignons | M62: Haricots verts persillées | N62: Semoule à l'orientale | X62: Fraisier
C63: Vol au vent | K63: Risotto aux légumes | M63: Jardiniere de légumes | N63: Semoule au paprika fumé | X63: Galette des rois
C64: Accras de morue et salade | K64: Risotto courgettes et parmesan | M64: Julienne de légumes | N64: Semoule aux petits légumes | X64: Gâteau
C65: Chou au saumon ciboulette | K65: Risotto de | M65: Légumes en gratin | N65: Semoule ratatouille | X65: Gâteau d'anniversaire
C66: Salade marco polo | K66: Risotto de courgettes | M66: Légumes en piperade | N66: Spaghettis | X66: Gâteau de crêpes au chocolat
K67: Risotto petit pois | M67: Légumes gratinés | N67: Spaghettis à la bolognaise | X67: Gâteau de Pâques
K68: Tacos | M68: Légumes vapeur | N68: Spaghettis à la bolognaise végétale | X68: Gâteau roulé mascarpone
K69: Tacos de trigo | M69: Légumes vapeur & sauce fines herbes | N69: Spaghettis carbonara | X69: Gaufre chantilly speculos
K70: Tarte bolognaise | M70: Marengo | N70: Spaghettis parmesan | X70: Gaufre choco & chantilly
K71: Tarte mediteraneenne | M71: Matelote | N71: Spaghettis vegan à la bolo | X71: Gaufre chocolat
K72: Tarte orientale | M72: Pâtes à la tomate | N72: Tagliatelles | X72: Lamington
K73: Tartiflette | M73: Pâtes aux légumes | X73: Mascarpone aux fruits rouges
K74: Timbale milanaise | M74: Petits pois | X74: Mascarpone et fruit de saison
K75: Timbale végétarienne | M75: Petits pois à la française | X75: Meringuée
K76: Wrap | M76: Petits pois/carotte/cheddar | X76: Moelleux au citron crème anglaise
M77: Poêlée autonale | X77: Moelleux chocolat
M78: Poêlée de légumes | X78: Mousse
M79: Pommes de terre & brocolis | X79: Mousse au café
M80: Pommes de terre épinards | X80: Mousse caramel
M81: Pommes de terre/choux bruxelles | X81: Mousse chocolat blanc
M82: Pommes râpées | X82: Mousse praline
M83: Pommes rhubarbe | X83: Pain perdu
M84: Pommes rissolees | X84: Pain perdu & crème
M85: Potatoes | X85: Pain perdu & crème anglaise
M86: Purée / butternut | X86: Pain perdu au caramel beurre salé
M87: Purée de panais courge | X87: Pain perdu au chocolat
M88: Ratatouille | X88: Pain perdu sauce anglaise
... M97: Tian de légumes | X97: Rhubarbe
X98: Riz au caramel
X99: Riz au chocolat
X100: Savarin
X101: Strudel aux pommes
X102: Tarte à l'abricots
X103: Tarte ananas
X104: Tarte au citron
X105: Tarte aux fraises
X106: Tarte aux fruits
X107: Tarte aux fruits frais
X108: Tarte aux poires
...

Sheet Contrôle 4 semaines
A1: Contrôle GEMRCN – plan de 4 semaines (16 repas)
A2: Seuils sur 20 repas consécutifs (GEM-RCN milieu scolaire, v1.0 juillet 2015). Les totaux se recalculent d'après les cases du plan, qu'elles affichent une catégorie ou une recette choisie dans le menu déroulant (chaque recette est rattachée à sa catégorie dans l'onglet « Recettes »). Le cycle compte 16 repas : la colonne E ramène le total à 20 repas (× 1,25). Le contrôle exact sur fenêtres glissantes a été fait sur le plan initial.
A4: Critère | B4: Type | C4: Seuil /20 | D4: Total sur le cycle | E4: Équivalent sur 20 repas | F4: Statut
A5: Crudités : entrées ou garnitures ≥ 50 % de légumes/fruits crus | B5: min | C5: 10 | D5: =D30 -> 10 | E5: =D5*20/16 -> 12.5 | F5: =IF(B5="min",IF(E5>=C5,"✔ conforme","✘ à revoir"),IF(E5<=C5,"✔ conforme","✘ à revoir")) -> ✔ conforme
A6: Légumes cuits (hors légumes secs) en garniture ≥ 50 % | B6: min | C6: 10 | D6: =D42 -> 16 | E6: =D6*20/16 -> 20 | F6: =IF(B6="min",IF(E6>=C6,"✔ conforme","✘ à revoir"),IF(E6<=C6,"✔ conforme","✘ à revoir")) -> ✔ conforme
A7: Desserts : fruit cru 100 % fruit, sans sucre ajouté | B7: min | C7: 8 | D7: =D51 -> 9 | E7: =D7*20/16 -> 11.25 | F7: =IF(B7="min",IF(E7>=C7,"✔ conforme","✘ à revoir"),IF(E7<=C7,"✔ conforme","✘ à revoir")) -> ✔ conforme
A8: Féculents / légumes secs en garniture ≥ 50 % | B8: min | C8: 10 | D8: =D43+D44+D45+D46 -> 16 | E8: =D8*20/16 -> 20 | F8: =IF(B8="min",IF(E8>=C8,"✔ conforme","✘ à revoir"),IF(E8<=C8,"✔ conforme","✘ à revoir")) -> ✔ conforme
A9: Entrées > 15 % de lipides | B9: max | C9: 4 | D9: =D32 -> 0 | E9: =D9*20/16 -> 0 | F9: =IF(B9="min",IF(E9>=C9,"✔ conforme","✘ à revoir"),IF(E9<=C9,"✔ conforme","✘ à revoir")) -> ✔ conforme
A10: Fritures et préfrits > 15 % de lipides | B10: max | C10: 4 | D10: =D41+D45 -> 1 | E10: =D10*20/16 -> 1.25 | F10: =IF(B10="min",IF(E10>=C10,"✔ conforme","✘ à revoir"),IF(E10<=C10,"✔ conforme","✘ à revoir")) -> ✔ conforme
A11: Plats protidiques avec P/L ≤ 1 | B11: max | C11: 2 | D11: =D39 -> 0 | E11: =D11*20/16 -> 0 | F11: =IF(B11="min",IF(E11>=C11,"✔ conforme","✘ à revoir"),IF(E11<=C11,"✔ conforme","✘ à revoir")) -> ✔ conforme
A12: Desserts > 15 % de lipides | B12: max | C12: 3 | D12: =D53 -> 2 | E12: =D12*20/16 -> 2.5 | F12: =IF(B12="min",IF(E12>=C12,"✔ conforme","✘ à revoir"),IF(E12<=C12,"✔ conforme","✘ à revoir")) -> ✔ conforme
A13: Poisson ≥ 70 % et P/L ≥ 2 | B13: min | C13: 4 | D13: =D34 -> 4 | E13: =D13*20/16 -> 5 | F13: =IF(B13="min",IF(E13>=C13,"✔ conforme","✘ à revoir"),IF(E13<=C13,"✔ conforme","✘ à revoir")) -> ✔ conforme
A14: Bœuf, veau, agneau ou abats, non hachés | B14: min | C14: 4 | D14: =D33 -> 4 | E14: =D14*20/16 -> 5 | F14: =IF(B14="min",IF(E14>=C14,"✔ conforme","✘ à revoir"),IF(E14<=C14,"✔ conforme","✘ à revoir")) -> ✔ conforme
A15: Plats < 70 % de la portion viande/poisson/œuf (dont végétariens sans œuf) | B15: max | C15: 3 | D15: =D38+D40 -> 2 | E15: =D15*20/16 -> 2.5 | F15: =IF(B15="min",IF(E15>=C15,"✔ conforme","✘ à revoir"),IF(E15<=C15,"✔ conforme","✘ à revoir")) -> ✔ conforme
A16: Desserts > 20 g de sucres simples et < 15 % de lipides | B16: max | C16: 4 | D16: =D54 -> 2 | E16: =D16*20/16 -> 2.5 | F16: =IF(B16="min",IF(E16>=C16,"✔ conforme","✘ à revoir"),IF(E16<=C16,"✔ conforme","✘ à revoir")) -> ✔ conforme
A17: Fromages ≥ 150 mg de calcium par portion | B17: min | C17: 8 | D17: =D47 -> 7 | E17: =D17*20/16 -> 8.75 | F17: =IF(B17="min",IF(E17>=C17,"✔ conforme","✘ à revoir"),IF(E17<=C17,"✔ conforme","✘ à revoir")) -> ✔ conforme
A18: Fromages 100–150 mg de calcium par portion | B18: min | C18: 4 | D18: =D48 -> 4 | E18: =D18*20/16 -> 5 | F18: =IF(B18="min",IF(E18>=C18,"✔ conforme","✘ à revoir"),IF(E18<=C18,"✔ conforme","✘ à revoir")) -> ✔ conforme
A19: Laitiers frais ≥ 100 mg de calcium et < 5 g de lipides | B19: min | C19: 6 | D19: =D49 -> 5 | E19: =D19*20/16 -> 6.25 | F19: =IF(B19="min",IF(E19>=C19,"✔ conforme","✘ à revoir"),IF(E19<=C19,"✔ conforme","✘ à revoir")) -> ✔ conforme
A20: Objectif complémentaire : légumineuses (lentilles, pois, haricots secs) | B20: min | C20: 4 | D20: =D38+D44 -> 4 | E20: =D20*20/16 -> 5 | F20: =IF(B20="min",IF(E20>=C20,"✔ conforme","✘ à revoir"),IF(E20<=C20,"✔ conforme","✘ à revoir")) -> ✔ conforme
A22: Repas végétariens par semaine (EGalim : au moins 1 ; votre pratique : 2)
A23: Semaine 1 | C23: 1 | D23: =COUNTIF('Menus 4 semaines'!$B$8:$E$8,"Plat végétarien à base d'œuf")+SUMPRODUCT(COUNTIF('Menus 4 semaines'!$B$8:$E$8,Cat_08))+COUNTIF('Menus 4 semaines'!$B$8:$E$8,"Plat végétarien à base de légumineuses (< 70 % de la portion)")+SUMPRODUCT(COUNTIF('Menus 4 semaines'!$B$8:$E$8,Cat_09)) -> 2 | F23: =IF(D23>=C23,"✔ conforme","✘ à revoir") -> ✔ conforme
A24: Semaine 2 | C24: 1 | D24: =COUNTIF('Menus 4 semaines'!$B$17:$E$17,"Plat végétarien à base d'œuf")+SUMPRODUCT(COUNTIF('Menus 4 semaines'!$B$17:$E$17,Cat_08))+COUNTIF('Menus 4 semaines'!$B$17:$E$17,"Plat végétarien à base de légumineuses (< 70 % de la portion)")+SUMPRODUCT(COUNTIF('Menus 4 semaines'!$B$17:$E$17,Cat_09)) -> 2 | F24: =IF(D24>=C24,"✔ conforme","✘ à revoir") -> ✔ conforme
A25: Semaine 3 | C25: 1 | D25: =COUNTIF('Menus 4 semaines'!$B$26:$E$26,"Plat végétarien à base d'œuf")+SUMPRODUCT(COUNTIF('Menus 4 semaines'!$B$26:$E$26,Cat_08))+COUNTIF('Menus 4 semaines'!$B$26:$E$26,"Plat végétarien à base de légumineuses (< 70 % de la portion)")+SUMPRODUCT(COUNTIF('Menus 4 semaines'!$B$26:$E$26,Cat_09)) -> 2 | F25: =IF(D25>=C25,"✔ conforme","✘ à revoir") -> ✔ conforme
A26: Semaine 4 | C26: 1 | D26: =COUNTIF('Menus 4 semaines'!$B$35:$E$35,"Plat végétarien à base d'œuf")+SUMPRODUCT(COUNTIF('Menus 4 semaines'!$B$35:$E$35,Cat_08))+COUNTIF('Menus 4 semaines'!$B$35:$E$35,"Plat végétarien à base de légumineuses (< 70 % de la portion)")+SUMPRODUCT(COUNTIF('Menus 4 semaines'!$B$35:$E$35,Cat_09)) -> 2 | F26: =IF(D26>=C26,"✔ conforme","✘ à revoir") -> ✔ conforme
A29: Comptage par catégorie (nombre de cases du plan)
A30: Crudité | D30: =COUNTIF('Menus 4 semaines'!$B$5:$E$40,A30)+SUMPRODUCT(COUNTIF('Menus 4 semaines'!$B$5:$E$40,Cat_01)) -> 10
A31: Entrée de légumes cuits | D31: =COUNTIF('Menus 4 semaines'!$B$5:$E$40,A31)+SUMPRODUCT(COUNTIF('Menus 4 semaines'!$B$5:$E$40,Cat_02)) -> 6
A32: Entrée > 15 % de lipides | D32: =COUNTIF('Menus 4 semaines'!$B$5:$E$40,A32)+SUMPRODUCT(COUNTIF('Menus 4 semaines'!$B$5:$E$40,Cat_03)) -> 0
A33: Viande rouge non hachée (bœuf, veau, agneau) | D33: =COUNTIF('Menus 4 semaines'!$B$5:$E$40,A33)+SUMPRODUCT(COUNTIF('Menus 4 semaines'!$B$5:$E$40,Cat_04)) -> 4
A34: Poisson (≥ 70 %, P/L ≥ 2) | D34: =COUNTIF('Menus 4 semaines'!$B$5:$E$40,A34)+SUMPRODUCT(COUNTIF('Menus 4 semaines'!$B$5:$E$40,Cat_05)) -> 4
A35: Volaille | D35: =COUNTIF('Menus 4 semaines'!$B$5:$E$40,A35)+SUMPRODUCT(COUNTIF('Menus 4 semaines'!$B$5:$E$40,Cat_06)) -> 0
A36: Porc ou autre viande | D36: =COUNTIF('Menus 4 semaines'!$B$5:$E$40,A36)+SUMPRODUCT(COUNTIF('Menus 4 semaines'!$B$5:$E$40,Cat_07)) -> 0
A37: Plat végétarien à base d'œuf | D37: =COUNTIF('Menus 4 semaines'!$B$5:$E$40,A37)+SUMPRODUCT(COUNTIF('Menus 4 semaines'!$B$5:$E$40,Cat_08)) -> 6
A38: Plat végétarien à base de légumineuses (< 70 % de la portion) | D38: =COUNTIF('Menus 4 semaines'!$B$5:$E$40,A38)+SUMPRODUCT(COUNTIF('Menus 4 semaines'!$B$5:$E$40,Cat_09)) -> 2
A39: Plat protidique P/L ≤ 1 (saucisse, nuggets…) | D39: =COUNTIF('Menus 4 semaines'!$B$5:$E$40,A39)+SUMPRODUCT(COUNTIF('Menus 4 semaines'!$B$5:$E$40,Cat_10)) -> 0
A40: Plat prêt < 70 % de la portion | D40: =COUNTIF('Menus 4 semaines'!$B$5:$E$40,A40)+SUMPRODUCT(COUNTIF('Menus 4 semaines'!$B$5:$E$40,Cat_11)) -> 0
A41: Plat frit ou préfrit | D41: =COUNTIF('Menus 4 semaines'!$B$5:$E$40,A41)+SUMPRODUCT(COUNTIF('Menus 4 semaines'!$B$5:$E$40,Cat_12)) -> 0
A42: Légumes cuits | D42: =COUNTIF('Menus 4 semaines'!$B$5:$E$40,A42)+SUMPRODUCT(COUNTIF('Menus 4 semaines'!$B$5:$E$40,Cat_13)) -> 16
A43: Féculents | D43: =COUNTIF('Menus 4 semaines'!$B$5:$E$40,A43)+SUMPRODUCT(COUNTIF('Menus 4 semaines'!$B$5:$E$40,Cat_14)) -> 12
A44: Légumes secs (légumineuses) | D44: =COUNTIF('Menus 4 semaines'!$B$5:$E$40,A44)+SUMPRODUCT(COUNTIF('Menus 4 semaines'!$B$5:$E$40,Cat_15)) -> 2
A45: Féculents frits ou préfrits | D45: =COUNTIF('Menus 4 semaines'!$B$5:$E$40,A45)+SUMPRODUCT(COUNTIF('Menus 4 semaines'!$B$5:$E$40,Cat_16)) -> 1
A46: Féculents (inclus dans le plat) | D46: =COUNTIF('Menus 4 semaines'!$B$5:$E$40,A46)+SUMPRODUCT(COUNTIF('Menus 4 semaines'!$B$5:$E$40,Cat_17)) -> 1
A47: Fromage ≥ 150 mg de calcium | D47: =COUNTIF('Menus 4 semaines'!$B$5:$E$40,A47)+SUMPRODUCT(COUNTIF('Menus 4 semaines'!$B$5:$E$40,Cat_18)) -> 7
A48: Fromage 100–150 mg de calcium | D48: =COUNTIF('Menus 4 semaines'!$B$5:$E$40,A48)+SUMPRODUCT(COUNTIF('Menus 4 semaines'!$B$5:$E$40,Cat_19)) -> 4
A49: Laitier frais | D49: =COUNTIF('Menus 4 semaines'!$B$5:$E$40,A49)+SUMPRODUCT(COUNTIF('Menus 4 semaines'!$B$5:$E$40,Cat_20)) -> 5
A50: Fromage < 100 mg de calcium | D50: =COUNTIF('Menus 4 semaines'!$B$5:$E$40,A50)+SUMPRODUCT(COUNTIF('Menus 4 semaines'!$B$5:$E$40,Cat_21)) -> 0
A51: Fruit cru | D51: =COUNTIF('Menus 4 semaines'!$B$5:$E$40,A51)+SUMPRODUCT(COUNTIF('Menus 4 semaines'!$B$5:$E$40,Cat_22)) -> 9
A52: Compote / fruit cuit sans sucre ajouté | D52: =COUNTIF('Menus 4 semaines'!$B$5:$E$40,A52)+SUMPRODUCT(COUNTIF('Menus 4 semaines'!$B$5:$E$40,Cat_23)) -> 3
A53: Dessert > 15 % de lipides | D53: =COUNTIF('Menus 4 semaines'!$B$5:$E$40,A53)+SUMPRODUCT(COUNTIF('Menus 4 semaines'!$B$5:$E$40,Cat_24)) -> 2
A54: Dessert sucré (> 20 g de sucres, < 15 % de lipides) | D54: =COUNTIF('Menus 4 semaines'!$B$5:$E$40,A54)+SUMPRODUCT(COUNTIF('Menus 4 semaines'!$B$5:$E$40,Cat_25)) -> 2

Sheet Contrôle 5 semaines
A1: Contrôle GEMRCN – plan de 5 semaines (20 repas)
A2: Seuils sur 20 repas consécutifs (GEM-RCN milieu scolaire, v1.0 juillet 2015). Les totaux se recalculent d'après les cases du plan, qu'elles affichent une catégorie ou une recette choisie dans le menu déroulant (chaque recette est rattachée à sa catégorie dans l'onglet « Recettes »).
A4: Critère | B4: Type | C4: Seuil /20 | D4: Total sur le cycle | E4: Équivalent sur 20 repas | F4: Statut
A5: Crudités : entrées ou garnitures ≥ 50 % de légumes/fruits crus | B5: min | C5: 10 | D5: =D31 -> 13 | E5: =D5 -> 13 | F5: =IF(B5="min",IF(E5>=C5,"✔ conforme","✘ à revoir"),IF(E5<=C5,"✔ conforme","✘ à revoir")) -> ✔ conforme
A6: Légumes cuits (hors légumes secs) en garniture ≥ 50 % | B6: min | C6: 10 | D6: =D43 -> 20 | E6: =D6 -> 20 | F6: =IF(B6="min",IF(E6>=C6,"✔ conforme","✘ à revoir"),IF(E6<=C6,"✔ conforme","✘ à revoir")) -> ✔ conforme
A7: Desserts : fruit cru 100 % fruit, sans sucre ajouté | B7: min | C7: 8 | D7: =D52 -> 11 | E7: =D7 -> 11 | F7: =IF(B7="min",IF(E7>=C7,"✔ conforme","✘ à revoir"),IF(E7<=C7,"✔ conforme","✘ à revoir")) -> ✔ conforme
A8: Féculents / légumes secs en garniture ≥ 50 % | B8: min | C8: 10 | D8: =D44+D45+D46+D47 -> 20 | E8: =D8 -> 20 | F8: =IF(B8="min",IF(E8>=C8,"✔ conforme","✘ à revoir"),IF(E8<=C8,"✔ conforme","✘ à revoir")) -> ✔ conforme
A9: Entrées > 15 % de lipides | B9: max | C9: 4 | D9: =D33 -> 0 | E9: =D9 -> 0 | F9: =IF(B9="min",IF(E9>=C9,"✔ conforme","✘ à revoir"),IF(E9<=C9,"✔ conforme","✘ à revoir")) -> ✔ conforme
A10: Fritures et préfrits > 15 % de lipides | B10: max | C10: 4 | D10: =D42+D46 -> 0 | E10: =D10 -> 0 | F10: =IF(B10="min",IF(E10>=C10,"✔ conforme","✘ à revoir"),IF(E10<=C10,"✔ conforme","✘ à revoir")) -> ✔ conforme
A11: Plats protidiques avec P/L ≤ 1 | B11: max | C11: 2 | D11: =D40 -> 0 | E11: =D11 -> 0 | F11: =IF(B11="min",IF(E11>=C11,"✔ conforme","✘ à revoir"),IF(E11<=C11,"✔ conforme","✘ à revoir")) -> ✔ conforme
A12: Desserts > 15 % de lipides | B12: max | C12: 3 | D12: =D54 -> 2 | E12: =D12 -> 2 | F12: =IF(B12="min",IF(E12>=C12,"✔ conforme","✘ à revoir"),IF(E12<=C12,"✔ conforme","✘ à revoir")) -> ✔ conforme
A13: Poisson ≥ 70 % et P/L ≥ 2 | B13: min | C13: 4 | D13: =D35 -> 5 | E13: =D13 -> 5 | F13: =IF(B13="min",IF(E13>=C13,"✔ conforme","✘ à revoir"),IF(E13<=C13,"✔ conforme","✘ à revoir")) -> ✔ conforme
A14: Bœuf, veau, agneau ou abats, non hachés | B14: min | C14: 4 | D14: =D34 -> 4 | E14: =D14 -> 4 | F14: =IF(B14="min",IF(E14>=C14,"✔ conforme","✘ à revoir"),IF(E14<=C14,"✔ conforme","✘ à revoir")) -> ✔ conforme
A15: Plats < 70 % de la portion viande/poisson/œuf (dont végétariens sans œuf) | B15: max | C15: 3 | D15: =D39+D41 -> 3 | E15: =D15 -> 3 | F15: =IF(B15="min",IF(E15>=C15,"✔ conforme","✘ à revoir"),IF(E15<=C15,"✔ conforme","✘ à revoir")) -> ✔ conforme
A16: Desserts > 20 g de sucres simples et < 15 % de lipides | B16: max | C16: 4 | D16: =D55 -> 3 | E16: =D16 -> 3 | F16: =IF(B16="min",IF(E16>=C16,"✔ conforme","✘ à revoir"),IF(E16<=C16,"✔ conforme","✘ à revoir")) -> ✔ conforme
A17: Fromages ≥ 150 mg de calcium par portion | B17: min | C17: 8 | D17: =D48 -> 8 | E17: =D17 -> 8 | F17: =IF(B17="min",IF(E17>=C17,"✔ conforme","✘ à revoir"),IF(E17<=C17,"✔ conforme","✘ à revoir")) -> ✔ conforme
A18: Fromages 100–150 mg de calcium par portion | B18: min | C18: 4 | D18: =D49 -> 4 | E18: =D18 -> 4 | F18: =IF(B18="min",IF(E18>=C18,"✔ conforme","✘ à revoir"),IF(E18<=C18,"✔ conforme","✘ à revoir")) -> ✔ conforme
A19: Laitiers frais ≥ 100 mg de calcium et < 5 g de lipides | B19: min | C19: 6 | D19: =D50 -> 6 | E19: =D19 -> 6 | F19: =IF(B19="min",IF(E19>=C19,"✔ conforme","✘ à revoir"),IF(E19<=C19,"✔ conforme","✘ à revoir")) -> ✔ conforme
A20: Objectif complémentaire : légumineuses (lentilles, pois, haricots secs) | B20: min | C20: 4 | D20: =D39+D45 -> 6 | E20: =D20 -> 6 | F20: =IF(B20="min",IF(E20>=C20,"✔ conforme","✘ à revoir"),IF(E20<=C20,"✔ conforme","✘ à revoir")) -> ✔ conforme
A22: Repas végétariens par semaine (EGalim : au moins 1 ; votre pratique : 2)
A23: Semaine 1 | C23: 1 | D23: =COUNTIF('Menus 5 semaines'!$B$8:$E$8,"Plat végétarien à base d'œuf")+SUMPRODUCT(COUNTIF('Menus 5 semaines'!$B$8:$E$8,Cat_08))+COUNTIF('Menus 5 semaines'!$B$8:$E$8,"Plat végétarien à base de légumineuses (< 70 % de la portion)")+SUMPRODUCT(COUNTIF('Menus 5 semaines'!$B$8:$E$8,Cat_09)) -> 2 | F23: =IF(D23>=C23,"✔ conforme","✘ à revoir") -> ✔ conforme
A24: Semaine 2 | C24: 1 | D24: =COUNTIF('Menus 5 semaines'!$B$17:$E$17,"Plat végétarien à base d'œuf")+SUMPRODUCT(COUNTIF('Menus 5 semaines'!$B$17:$E$17,Cat_08))+COUNTIF('Menus 5 semaines'!$B$17:$E$17,"Plat végétarien à base de légumineuses (< 70 % de la portion)")+SUMPRODUCT(COUNTIF('Menus 5 semaines'!$B$17:$E$17,Cat_09)) -> 2 | F24: =IF(D24>=C24,"✔ conforme","✘ à revoir") -> ✔ conforme
A25: Semaine 3 | C25: 1 | D25: =COUNTIF('Menus 5 semaines'!$B$26:$E$26,"Plat végétarien à base d'œuf")+SUMPRODUCT(COUNTIF('Menus 5 semaines'!$B$26:$E$26,Cat_08))+COUNTIF('Menus 5 semaines'!$B$26:$E$26,"Plat végétarien à base de légumineuses (< 70 % de la portion)")+SUMPRODUCT(COUNTIF('Menus 5 semaines'!$B$26:$E$26,Cat_09)) -> 2 | F25: =IF(D25>=C25,"✔ conforme","✘ à revoir") -> ✔ conforme
A26: Semaine 4 | C26: 1 | D26: =COUNTIF('Menus 5 semaines'!$B$35:$E$35,"Plat végétarien à base d'œuf")+SUMPRODUCT(COUNTIF('Menus 5 semaines'!$B$35:$E$35,Cat_08))+COUNTIF('Menus 5 semaines'!$B$35:$E$35,"Plat végétarien à base de légumineuses (< 70 % de la portion)")+SUMPRODUCT(COUNTIF('Menus 5 semaines'!$B$35:$E$35,Cat_09)) -> 2 | F26: =IF(D26>=C26,"✔ conforme","✘ à revoir") -> ✔ conforme
A27: Semaine 5 | C27: 1 | D27: =COUNTIF('Menus 5 semaines'!$B$44:$E$44,"Plat végétarien à base d'œuf")+SUMPRODUCT(COUNTIF('Menus 5 semaines'!$B$44:$E$44,Cat_08))+COUNTIF('Menus 5 semaines'!$B$44:$E$44,"Plat végétarien à base de légumineuses (< 70 % de la portion)")+SUMPRODUCT(COUNTIF('Menus 5 semaines'!$B$44:$E$44,Cat_09)) -> 2 | F27: =IF(D27>=C27,"✔ conforme","✘ à revoir") -> ✔ conforme
A30: Comptage par catégorie (nombre de cases du plan)
A31: Crudité | D31: =COUNTIF('Menus 5 semaines'!$B$5:$E$49,A31)+SUMPRODUCT(COUNTIF('Menus 5 semaines'!$B$5:$E$49,Cat_01)) -> 13
A32: Entrée de légumes cuits | D32: =COUNTIF('Menus 5 semaines'!$B$5:$E$49,A32)+SUMPRODUCT(COUNTIF('Menus 5 semaines'!$B$5:$E$49,Cat_02)) -> 7
A33: Entrée > 15 % de lipides | D33: =COUNTIF('Menus 5 semaines'!$B$5:$E$49,A33)+SUMPRODUCT(COUNTIF('Menus 5 semaines'!$B$5:$E$49,Cat_03)) -> 0
A34: Viande rouge non hachée (bœuf, veau, agneau) | D34: =COUNTIF('Menus 5 semaines'!$B$5:$E$49,A34)+SUMPRODUCT(COUNTIF('Menus 5 semaines'!$B$5:$E$49,Cat_04)) -> 4
A35: Poisson (≥ 70 %, P/L ≥ 2) | D35: =COUNTIF('Menus 5 semaines'!$B$5:$E$49,A35)+SUMPRODUCT(COUNTIF('Menus 5 semaines'!$B$5:$E$49,Cat_05)) -> 5
A36: Volaille | D36: =COUNTIF('Menus 5 semaines'!$B$5:$E$49,A36)+SUMPRODUCT(COUNTIF('Menus 5 semaines'!$B$5:$E$49,Cat_06)) -> 1
A37: Porc ou autre viande | D37: =COUNTIF('Menus 5 semaines'!$B$5:$E$49,A37)+SUMPRODUCT(COUNTIF('Menus 5 semaines'!$B$5:$E$49,Cat_07)) -> 0
A38: Plat végétarien à base d'œuf | D38: =COUNTIF('Menus 5 semaines'!$B$5:$E$49,A38)+SUMPRODUCT(COUNTIF('Menus 5 semaines'!$B$5:$E$49,Cat_08)) -> 7
A39: Plat végétarien à base de légumineuses (< 70 % de la portion) | D39: =COUNTIF('Menus 5 semaines'!$B$5:$E$49,A39)+SUMPRODUCT(COUNTIF('Menus 5 semaines'!$B$5:$E$49,Cat_09)) -> 3
A40: Plat protidique P/L ≤ 1 (saucisse, nuggets…) | D40: =COUNTIF('Menus 5 semaines'!$B$5:$E$49,A40)+SUMPRODUCT(COUNTIF('Menus 5 semaines'!$B$5:$E$49,Cat_10)) -> 0
A41: Plat prêt < 70 % de la portion | D41: =COUNTIF('Menus 5 semaines'!$B$5:$E$49,A41)+SUMPRODUCT(COUNTIF('Menus 5 semaines'!$B$5:$E$49,Cat_11)) -> 0
A42: Plat frit ou préfrit | D42: =COUNTIF('Menus 5 semaines'!$B$5:$E$49,A42)+SUMPRODUCT(COUNTIF('Menus 5 semaines'!$B$5:$E$49,Cat_12)) -> 0
A43: Légumes cuits | D43: =COUNTIF('Menus 5 semaines'!$B$5:$E$49,A43)+SUMPRODUCT(COUNTIF('Menus 5 semaines'!$B$5:$E$49,Cat_13)) -> 20
A44: Féculents | D44: =COUNTIF('Menus 5 semaines'!$B$5:$E$49,A44)+SUMPRODUCT(COUNTIF('Menus 5 semaines'!$B$5:$E$49,Cat_14)) -> 16
A45: Légumes secs (légumineuses) | D45: =COUNTIF('Menus 5 semaines'!$B$5:$E$49,A45)+SUMPRODUCT(COUNTIF('Menus 5 semaines'!$B$5:$E$49,Cat_15)) -> 3
A46: Féculents frits ou préfrits | D46: =COUNTIF('Menus 5 semaines'!$B$5:$E$49,A46)+SUMPRODUCT(COUNTIF('Menus 5 semaines'!$B$5:$E$49,Cat_16)) -> 0
A47: Féculents (inclus dans le plat) | D47: =COUNTIF('Menus 5 semaines'!$B$5:$E$49,A47)+SUMPRODUCT(COUNTIF('Menus 5 semaines'!$B$5:$E$49,Cat_17)) -> 1
A48: Fromage ≥ 150 mg de calcium | D48: =COUNTIF('Menus 5 semaines'!$B$5:$E$49,A48)+SUMPRODUCT(COUNTIF('Menus 5 semaines'!$B$5:$E$49,Cat_18)) -> 8
A49: Fromage 100–150 mg de calcium | D49: =COUNTIF('Menus 5 semaines'!$B$5:$E$49,A49)+SUMPRODUCT(COUNTIF('Menus 5 semaines'!$B$5:$E$49,Cat_19)) -> 4
A50: Laitier frais | D50: =COUNTIF('Menus 5 semaines'!$B$5:$E$49,A50)+SUMPRODUCT(COUNTIF('Menus 5 semaines'!$B$5:$E$49,Cat_20)) -> 6
A51: Fromage < 100 mg de calcium | D51: =COUNTIF('Menus 5 semaines'!$B$5:$E$49,A51)+SUMPRODUCT(COUNTIF('Menus 5 semaines'!$B$5:$E$49,Cat_21)) -> 2
A52: Fruit cru | D52: =COUNTIF('Menus 5 semaines'!$B$5:$E$49,A52)+SUMPRODUCT(COUNTIF('Menus 5 semaines'!$B$5:$E$49,Cat_22)) -> 11
A53: Compote / fruit cuit sans sucre ajouté | D53: =COUNTIF('Menus 5 semaines'!$B$5:$E$49,A53)+SUMPRODUCT(COUNTIF('Menus 5 semaines'!$B$5:$E$49,Cat_23)) -> 4
A54: Dessert > 15 % de lipides | D54: =COUNTIF('Menus 5 semaines'!$B$5:$E$49,A54)+SUMPRODUCT(COUNTIF('Menus 5 semaines'!$B$5:$E$49,Cat_24)) -> 2
A55: Dessert sucré (> 20 g de sucres, < 15 % de lipides) | D55: =COUNTIF('Menus 5 semaines'!$B$5:$E$49,A55)+SUMPRODUCT(COUNTIF('Menus 5 semaines'!$B$5:$E$49,Cat_25)) -> 3

Sheet EGalim et hypothèses
A1: EGalim – ce que le plan initial prévoit, et hypothèses de travail
A3: Indicateur (en nombre de composantes du plan initial) | B3: Plan 4 semaines | C3: Plan 5 semaines | D3: Objectif / remarque
A4: Composantes ciblées bio | B4: 23/96 = 24% | C4: 32/120 = 27% | D4: Objectif loi : 20 % bio (mesuré en valeur d'achats HT)
A5: Composantes bio ou sous label de qualité / durable (Label Rouge, MSC, AOP, IGP, HVE) | B5: 48/96 = 50% | C5: 64/120 = 53% | D5: Objectif loi : 50 % durables et de qualité, bio compris (valeur d'achats HT)
A6: Plats de viande et de poisson sous label ou bio | B6: 6/8 = 75% | C6: 8/10 = 80% | D6: Objectif loi : 60 % des viandes et poissons durables et de qualité
A7: Repas végétariens par semaine | B7: 2 | C7: 2 | D7: Loi : au moins 1 par semaine ; vous en proposez 2
A9: À savoir
A10: • Ces pourcentages concernent le plan initial (recettes exemples) : le bio et les labels sont des cibles d'approvisionnement, à confirmer avec vos fournisseurs. EGalim se mesure en valeur d'achats (€ HT), pas en nombre de composantes. Ils ne se recalculent pas quand vous choisissez d'autres recettes.
A11: • À 350 couverts par jour, vous êtes au-dessus du seuil de 200 couverts/jour à partir duquel un plan pluriannuel de diversification des protéines est exigé. Les repas végétariens et les légumineuses peuvent l'alimenter.
A12: • Les achats de produits durables et de qualité se télédéclarent chaque année sur la plateforme ma-cantine.
A13: • Seuils GEMRCN : version 1.0 de juillet 2015 (milieu scolaire), la plus récente que j'ai pu consulter. L'arrêté du 30 septembre 2011 reste le texte réglementaire.
A14: • Structure supposée : 6 lignes par jour (entrée, plat protidique, légumes, féculents, produit laitier, dessert), 4 jours (lundi, mardi, jeudi, vendredi).
A15: • Vos 2 repas végétariens par semaine + le poisson le vendredi laissent un seul jour de viande par semaine. Le GEMRCN impose au moins 4 plats de bœuf, veau, agneau ou abats non hachés sur 20 repas : ce jour est donc de la viande rouge dans le plan 4 semaines, avec 1 volaille dans le plan 5 semaines.
A16: • Ligne « plats < 70 % de la portion » (max 3/20) : lecture la plus stricte, qui compte les plats végétariens sans œuf. Si elle ne vise que les plats prêts achetés, vous avez plus de marge pour les légumineuses.
A17: • Classement calcium des fromages (≥ 150 mg ou 100–150 mg par portion) : à valider avec vos fiches techniques. Camembert et brie n'entrent dans aucune des deux classes (catégorie « Fromage < 100 mg »).
A18: • Un recette choisie dans le menu déroulant compte pour sa catégorie : classez bien chaque recette dans la bonne colonne de l'onglet « Recettes ». Les 20 desserts maison de votre liste sont rangés par défaut dans « Dessert > 15 % de lipides » : à ajuster si certains ne le sont pas.
A19: • Le GEMRCN compte les mercredis servis dans les 20 repas consécutifs : ce plan ne couvre que lundi, mardi, jeudi et vendredi. Grammages et coût matière ne sont pas traités.
A20: • Saison : automne-hiver. Au printemps, gardez les catégories et changez les recettes.

Sheet À valider
A1: Recette | B1: Famille (base de menus) | C1: Sous-famille (base de menus) | D1: Pourquoi à valider / colonne probable
A2: Asperge sc cocktail | B2: Entrée | C2: Entrée crue (crudité, salade) | D2: avocat/asperge : lipides ou cuisson à valider
A3: Asperge, pois mange tout, parmesan | B3: Entrée | C3: Entrée crue (crudité, salade) | D3: avocat/asperge : lipides ou cuisson à valider
A4: Asperges et poireaux vinaig | B4: Entrée | C4: Entrée crue (crudité, salade) | D4: avocat/asperge : lipides ou cuisson à valider
A5: Asperges sauce cocktail | B5: Entrée | C5: Entrée crue (crudité, salade) | D5: avocat/asperge : lipides ou cuisson à valider
A6: Asperges sauce cocktail | B6: Entrée | C6: Entrée crue (crudité, salade) | D6: avocat/asperge : lipides ou cuisson à valider
A7: Asperges vinaigrette | B7: Entrée | C7: Entrée crue (crudité, salade) | D7: avocat/asperge : lipides ou cuisson à valider
A8: Avocat au thon | B8: Entrée | C8: Entrée protéinée (charcuterie, poisson, œuf) | D8: avocat/asperge : lipides ou cuisson à valider
A9: Betteraves/asperges sauce cocktail | B9: Entrée | C9: Entrée crue (crudité, salade) | D9: avocat/asperge : lipides ou cuisson à valider
A10: Salade d'avocats | B10: Entrée | C10: Entrée crue (crudité, salade) | D10: avocat/asperge : lipides ou cuisson à valider
A11: Boulettes aux légumes | B11: Plat protidique | C11: Viande hachée / préparation / plat composé | D11: classé K – boulettes de légumes : à valider
A12: Blanquette végétale | B12: Plat protidique | C12: Plat végétarien / légumineuses | D12: classé K – plat végétarien sans œuf ni légumineuses : à valider (K)
... A162: Œuf cocotte | B162: Entrée | C162: Entrée protéinée (charcuterie, poisson, œuf) | D162: salade composée / féculents / poisson : à classer (crudité ou >15 % de lipides ?)
