Workbook
Name Cat_01: OFFSET(Recettes!$A$2,0,0,MAX(1,COUNTA(Recettes!$A$2:$A$500)),1)
Name Cat_02: OFFSET(Recettes!$B$2,0,0,MAX(1,COUNTA(Recettes!$B$2:$B$500)),1)
Name Cat_03: OFFSET(Recettes!$C$2,0,0,MAX(1,COUNTA(Recettes!$C$2:$C$500)),1)
Name Cat_04: OFFSET(Recettes!$D$2,0,0,MAX(1,COUNTA(Recettes!$D$2:$D$500)),1)
Name Cat_05: OFFSET(Recettes!$E$2,0,0,MAX(1,COUNTA(Recettes!$E$2:$E$500)),1)
Name Cat_06: OFFSET(Recettes!$F$2,0,0,MAX(1,COUNTA(Recettes!$F$2:$F$500)),1)
Name Cat_07: OFFSET(Recettes!$G$2,0,0,MAX(1,COUNTA(Recettes!$G$2:$G$500)),1)
Name Cat_08: OFFSET(Recettes!$H$2,0,0,MAX(1,COUNTA(Recettes!$H$2:$H$500)),1)
Name Cat_09: OFFSET(Recettes!$I$2,0,0,MAX(1,COUNTA(Recettes!$I$2:$I$500)),1)
Name Cat_10: OFFSET(Recettes!$J$2,0,0,MAX(1,COUNTA(Recettes!$J$2:$J$500)),1)
Name Cat_11: OFFSET(Recettes!$K$2,0,0,MAX(1,COUNTA(Recettes!$K$2:$K$500)),1)
Name Cat_12: OFFSET(Recettes!$L$2,0,0,MAX(1,COUNTA(Recettes!$L$2:$L$500)),1)
Name Cat_13: OFFSET(Recettes!$M$2,0,0,MAX(1,COUNTA(Recettes!$M$2:$M$500)),1)
Name Cat_14: OFFSET(Recettes!$N$2,0,0,MAX(1,COUNTA(Recettes!$N$2:$N$500)),1)
Name Cat_15: OFFSET(Recettes!$O$2,0,0,MAX(1,COUNTA(Recettes!$O$2:$O$500)),1)
Name Cat_16: OFFSET(Recettes!$P$2,0,0,MAX(1,COUNTA(Recettes!$P$2:$P$500)),1)
Name Cat_17: OFFSET(Recettes!$Q$2,0,0,MAX(1,COUNTA(Recettes!$Q$2:$Q$500)),1)
Name Cat_18: OFFSET(Recettes!$R$2,0,0,MAX(1,COUNTA(Recettes!$R$2:$R$500)),1)
Name Cat_19: OFFSET(Recettes!$S$2,0,0,MAX(1,COUNTA(Recettes!$S$2:$S$500)),1)
Name Cat_20: OFFSET(Recettes!$T$2,0,0,MAX(1,COUNTA(Recettes!$T$2:$T$500)),1)
Name Cat_21: OFFSET(Recettes!$U$2,0,0,MAX(1,COUNTA(Recettes!$U$2:$U$500)),1)
Name Cat_22: OFFSET(Recettes!$V$2,0,0,MAX(1,COUNTA(Recettes!$V$2:$V$500)),1)
Name Cat_23: OFFSET(Recettes!$W$2,0,0,MAX(1,COUNTA(Recettes!$W$2:$W$500)),1)
Name Cat_24: OFFSET(Recettes!$X$2,0,0,MAX(1,COUNTA(Recettes!$X$2:$X$500)),1)
Name Cat_25: OFFSET(Recettes!$Y$2,0,0,MAX(1,COUNTA(Recettes!$Y$2:$Y$500)),1)

Sheet Menus 4 semaines
A1: RESTAURATION SCOLAIRE – École ... 2026
A2: Plan alimentaire par catégories – cycle de 4 semaines (16 repas)
A3: Cliquez sur une case : un menu déroulant propose les recettes de la catégorie (onglet « Recettes »).
A5: SEMAINE 1 – du 00/00 au 00/00
B6: LUNDI | C6: MARDI | D6: JEUDI | E6: VENDREDI
A7: Entrée | B7: Crudité | C7: Entrée de légumes cuits | D7: Crudité | E7: Crudité
A8: Plat protidique | B8: Plat végétarien à base d'œuf | C8: Viande rouge non hachée (bœuf, veau, agneau) | D8: Plat végétarien à base de légumineuses (< 70 % de la portion) | E8: Poisson (≥ 70 %, P/L ≥ 2)
A9: Légumes | B9: Légumes cuits | C9: Légumes cuits | D9: Légumes cuits | E9: Légumes cuits
A10: Féculents | B10: Légumes secs (légumineuses) | C10: Féculents | D10: Féculents | E10: Féculents
A11: Produit laitier | B11: Fromage ≥ 150 mg de calcium | C11: Laitier frais | D11: Fromage 100–150 mg de calcium | E11: Fromage ≥ 150 mg de calcium
A12: Dessert | B12: Fruit cru | C12: Compote / fruit cuit sans sucre ajouté | D12: Fruit cru | E12: Fruit cru
A14: SEMAINE 2 – du 00/00 au 00/00
B15: LUNDI | C15: MARDI | D15: JEUDI | E15: VENDREDI
A16: Entrée | B16: Entrée de légumes cuits | C16: Crudité | D16: Entrée de légumes cuits | E16: Crudité
A17: Plat protidique | B17: Plat végétarien à base d'œuf | C17: Viande rouge non hachée (bœuf, veau, agneau) | D17: Plat végétarien à base d'œuf | E17: Poisson (≥ 70 %, P/L ≥ 2)
A18: Légumes | B18: Légumes cuits | C18: Légumes cuits | D18: Légumes cuits | E18: Légumes cuits
A19: Féculents | B19: Féculents | C19: Féculents | D19: Féculents (inclus dans le plat) | E19: Féculents
A20: Produit laitier | B20: Fromage ≥ 150 mg de calcium | C20: Laitier frais | D20: Fromage 100–150 mg de calcium | E20: Fromage ≥ 150 mg de calcium
A21: Dessert | B21: Fruit cru | C21: Dessert > 15 % de lipides | D21: Fruit cru | E21: Compote / fruit cuit sans sucre ajouté
A23: SEMAINE 3 – du 00/00 au 00/00
B24: LUNDI | C24: MARDI | D24: JEUDI | E24: VENDREDI
A25: Entrée | B25: Crudité | C25: Crudité | D25: Entrée de légumes cuits | E25: Crudité
A26: Plat protidique | B26: Plat végétarien à base d'œuf | C26: Viande rouge non hachée (bœuf, veau, agneau) | D26: Plat végétarien à base de légumineuses (< 70 % de la portion) | E26: Poisson (≥ 70 %, P/L ≥ 2)
A27: Légumes | B27: Légumes cuits | C27: Légumes cuits | D27: Légumes cuits | E27: Légumes cuits
A28: Féculents | B28: Féculents | C28: Féculents frits ou préfrits | D28: Féculents | E28: Féculents
A29: Produit laitier | B29: Laitier frais | C29: Fromage ≥ 150 mg de calcium | D29: Fromage 100–150 mg de calcium | E29: Laitier frais
A30: Dessert | B30: Fruit cru | C30: Dessert > 15 % de lipides | D30: Fruit cru | E30: Dessert sucré (> 20 g de sucres, < 15 % de lipides)
A32: SEMAINE 4 – du 00/00 au 00/00
B33: LUNDI | C33: MARDI | D33: JEUDI | E33: VENDREDI
A34: Entrée | B34: Entrée de légumes cuits | C34: Crudité | D34: Entrée de légumes cuits | E34: Crudité
A35: Plat protidique | B35: Plat végétarien à base d'œuf | C35: Viande rouge non hachée (bœuf, veau, agneau) | D35: Plat végétarien à base d'œuf | E35: Poisson (≥ 70 %, P/L ≥ 2)
A36: Légumes | B36: Légumes cuits | C36: Légumes cuits | D36: Légumes cuits | E36: Légumes cuits
A37: Féculents | B37: Féculents | C37: Légumes secs (légumineuses) | D37: Féculents | E37: Féculents
A38: Produit laitier | B38: Fromage ≥ 150 mg de calcium | C38: Fromage ≥ 150 mg de calcium | D38: Fromage 100–150 mg de calcium | E38: Laitier frais
A39: Dessert | B39: Fruit cru | C39: Compote / fruit cuit sans sucre ajouté | D39: Fruit cru | E39: Dessert sucré (> 20 g de sucres, < 15 % de lipides)

Sheet Menus 5 semaines
A1: RESTAURATION SCOLAIRE – École – 2026
A2: Plan alimentaire par catégories – cycle de 5 semaines (20 repas)
A3: Cliquez sur une case : un menu déroulant propose les recettes de la catégorie (onglet « Recettes »).
A5: SEMAINE 1 – du 00/00 au 00/00
B6: LUNDI | C6: MARDI | D6: JEUDI | E6: VENDREDI
A7: Entrée | B7: Crudité | C7: Entrée de légumes cuits | D7: Crudité | E7: Crudité
A8: Plat protidique | B8: Plat végétarien à base d'œuf | C8: Viande rouge non hachée (bœuf, veau, agneau) | D8: Plat végétarien à base de légumineuses (< 70 % de la portion) | E8: Poisson (≥ 70 %, P/L ≥ 2)
A9: Légumes | B9: Légumes cuits | C9: Légumes cuits | D9: Légumes cuits | E9: Légumes cuits
A10: Féculents | B10: Légumes secs (légumineuses) | C10: Féculents | D10: Féculents | E10: Féculents
A11: Produit laitier | B11: Fromage ≥ 150 mg de calcium | C11: Laitier frais | D11: Fromage 100–150 mg de calcium | E11: Fromage ≥ 150 mg de calcium
A12: Dessert | B12: Fruit cru | C12: Compote / fruit cuit sans sucre ajouté | D12: Fruit cru | E12: Fruit cru
A14: SEMAINE 2 – du 00/00 au 00/00
B15: LUNDI | C15: MARDI | D15: JEUDI | E15: VENDREDI
A16: Entrée | B16: Entrée de légumes cuits | C16: Crudité | D16: Entrée de légumes cuits | E16: Crudité
A17: Plat protidique | B17: Plat végétarien à base d'œuf | C17: Viande rouge non hachée (bœuf, veau, agneau) | D17: Plat végétarien à base d'œuf | E17: Poisson (≥ 70 %, P/L ≥ 2)
A18: Légumes | B18: Légumes cuits | C18: Légumes cuits | D18: Légumes cuits | E18: Légumes cuits
A19: Féculents | B19: Féculents | C19: Féculents | D19: Féculents (inclus dans le plat) | E19: Féculents
A20: Produit laitier | B20: Fromage ≥ 150 mg de calcium | C20: Fromage < 100 mg de calcium | D20: Fromage 100–150 mg de calcium | E20: Laitier frais
A21: Dessert | B21: Fruit cru | C21: Dessert > 15 % de lipides | D21: Fruit cru | E21: Compote / fruit cuit sans sucre ajouté
A23: SEMAINE 3 – du 00/00 au 00/00
B24: LUNDI | C24: MARDI | D24: JEUDI | E24: VENDREDI
A25: Entrée | B25: Crudité | C25: Crudité | D25: Entrée de légumes cuits | E25: Crudité
A26: Plat protidique | B26: Plat végétarien à base d'œuf | C26: Volaille | D26: Plat végétarien à base de légumineuses (< 70 % de la portion) | E26: Poisson (≥ 70 %, P/L ≥ 2)
A27: Légumes | B27: Légumes cuits | C27: Légumes cuits | D27: Légumes cuits | E27: Légumes cuits
A28: Féculents | B28: Féculents | C28: Féculents | D28: Féculents | E28: Féculents
A29: Produit laitier | B29: Laitier frais | C29: Fromage ≥ 150 mg de calcium | D29: Fromage 100–150 mg de calcium | E29: Fromage ≥ 150 mg de calcium
A30: Dessert | B30: Fruit cru | C30: Dessert > 15 % de lipides | D30: Fruit cru | E30: Dessert sucré (> 20 g de sucres, < 15 % de lipides)
A32: SEMAINE 4 – du 00/00 au 00/00
B33: LUNDI | C33: MARDI | D33: JEUDI | E33: VENDREDI
A34: Entrée | B34: Entrée de légumes cuits | C34: Crudité | D34: Entrée de légumes cuits | E34: Crudité
A35: Plat protidique | B35: Plat végétarien à base d'œuf | C35: Viande rouge non hachée (bœuf, veau, agneau) | D35: Plat végétarien à base d'œuf | E35: Poisson (≥ 70 %, P/L ≥ 2)
A36: Légumes | B36: Légumes cuits | C36: Légumes cuits | D36: Légumes cuits | E36: Légumes cuits
A37: Féculents | B37: Féculents | C37: Légumes secs (légumineuses) | D37: Féculents | E37: Féculents
A38: Produit laitier | B38: Fromage ≥ 150 mg de calcium | C38: Laitier frais | D38: Fromage 100–150 mg de calcium | E38: Fromage < 100 mg de calcium
A39: Dessert | B39: Fruit cru | C39: Compote / fruit cuit sans sucre ajouté | D39: Fruit cru | E39: Dessert sucré (> 20 g de sucres, < 15 % de lipides)
A41: SEMAINE 5 – du 00/00 au 00/00
B42: LUNDI | C42: MARDI | D42: JEUDI | E42: VENDREDI
A43: Entrée | B43: Crudité | C43: Crudité | D43: Entrée de légumes cuits | E43: Crudité
A44: Plat protidique | B44: Plat végétarien à base d'œuf | C44: Viande rouge non hachée (bœuf, veau, agneau) | D44: Plat végétarien à base de légumineuses (< 70 % de la portion) | E44: Poisson (≥ 70 %, P/L ≥ 2)
A45: Légumes | B45: Légumes cuits | C45: Légumes cuits | D45: Légumes cuits | E45: Légumes cuits
...

Sheet Recettes
A1: Crudité | B1: Entrée de légumes cuits | C1: Entrée > 15 % de lipides | D1: Viande rouge non hachée (bœuf, veau, agneau) | E1: Poisson (≥ 70 %, P/L ≥ 2) | F1: Volaille | G1: Porc ou autre viande | H1: Plat végétarien à base d'œuf | I1: Plat végétarien à base de légumineuses (< 70 % de la portion) | J1: Plat protidique P/L ≤ 1 (saucisse, nuggets…) | K1: Plat prêt < 70 % de la portion | L1: Plat frit ou préfrit | M1: Légumes cuits | N1: Féculents | O1: Légumes secs (légumineuses) | P1: Féculents frits ou préfrits | Q1: Féculents (inclus dans le plat) | R1: Fromage ≥ 150 mg de calcium | S1: Fromage 100–150 mg de calcium | T1: Laitier frais | U1: Fromage < 100 mg de calcium | V1: Fruit cru | W1: Compote / fruit cuit sans sucre ajouté | X1: Dessert > 15 % de lipides | Y1: Dessert sucré (> 20 g de sucres, < 15 % de lipides)
A2: Carottes râpées vinaigrette | B2: Betteraves vinaigrette | D2: Bœuf bourguignon | E2: Dos de cabillaud à l'aneth | F2: Poulet rôti | H2: Omelette au fromage | I2: Chili sin carne : haricots rouges, maïs | M2: Brocolis | N2: Blé | O2: Haricots blancs | P2: Frites cuisson au four | R2: Cantal AOP | S2: Port-Salut | T2: Fromage blanc nature | U2: Brie de Meaux AOP | V2: Clémentine | W2: Compote de poires | X2: Chou pâtissier | Y2: Crème dessert vanille
A3: Carottes râpées à l'orange | B3: Potage cultivateur | D3: Navarin d'agneau | E3: Filet de colin sauce aurore | H3: Omelette aux fines herbes | I3: Curry de pois chiches et patates douces | M3: Brocolis persillés | N3: Boulgour | O3: Lentilles vertes | R3: Comté AOP | S3: Saint-Paulin | T3: Yaourt nature de Normandie | U3: Camembert de Normandie AOP | V3: Clémentines | W3: Compote de poires sans sucre ajouté | X3: Coupe mascarpone | Y3: Riz au lait
A4: Coleslaw : chou blanc, carottes | B4: Potage de légumes d'hiver | D4: Rôti de bœuf sauce moutarde | E4: Filet de lieu noir sauce citron | H4: Shakshuka : œufs pochés, sauce tomate-poivrons | I4: Lentilles corail au curry et lait de coco | M4: Carottes fondantes | N4: Coquillettes | R4: Edam | S4: Tomme de Savoie IGP | V4: Poire | W4: Compote de pommes sans sucre ajouté | X4: Crumble aux pommes | Y4: Semoule au lait
A5: Céleri rémoulade | B5: Soupe de légumes d'hiver | D5: Sauté de veau marengo | E5: Filet de merlu sauce normande | H5: Tortilla de pommes de terre et oignons | M5: Carottes rôties | N5: Pommes de terre rissolées au four | R5: Emmental de Savoie IGP | V5: Pomme | W5: Compote pomme-banane | X5: Crêpe banane chocolat
A6: Râpée de carottes et radis noir | B6: Soupe de poireaux et pommes de terre | E6: Filet de merlu à l'oseille | H6: Œufs brouillés aux champignons | M6: Carottes Vichy | N6: Pommes de terre vapeur | R6: Gouda | V6: Pomme de Normandie | X6: Cœur coulant chocolat
A7: Salade d'agrumes (orange, pamplemousse) | B7: Velouté de brocolis | H7: Œufs cocotte à la crème et aux champignons | M7: Chou-fleur persillé | N7: Purée de pommes de terre maison | R7: Mimolette | V7: Salade de fruits frais de saison | X7: Flan pâtissier
A8: Salade d'endives et pommes | B8: Velouté de carottes | H8: Œufs durs sauce florentine | M8: Duo de carottes et panais | N8: Pâtes | X8: Gaufre chantilly spéculoos
A9: Salade de chou blanc et pommes | B9: Velouté de panais | M9: Fondue de poireaux | N9: Pâtes complètes | X9: Grillé aux pommes
A10: Salade de chou rouge et pommes | B10: Velouté de potiron | M10: Haricots verts | N10: Riz | X10: Mille-feuilles
A11: Salade de mâche, vinaigrette | M11: Haricots verts persillés | N11: Riz basmati | X11: Mousse au chocolat
A12: Salade verte et croûtons | M12: Navets et carottes | N12: Semoule | X12: Pain perdu sauce crème anglaise
M13: Petits pois et carottes | X13: Paris-Brest
M14: Poêlée de champignons | X14: Tarte amandine
M15: Poêlée de légumes d'automne (courge, panais) | X15: Tarte citron meringuée
M16: Poêlée de légumes d'hiver | X16: Tarte fine aux pommes
M17: Purée de courge butternut | X17: Tarte rhubarbe chocolat blanc
M18: Épinards hachés | X18: Tarte tatin
X19: Tiramisu
X20: Tropézienne
X21: Éclair vanille chocolat

Sheet Contrôle 4 semaines
A1: Contrôle GEMRCN – plan de 4 semaines (16 repas)
A2: Seuils sur 20 repas consécutifs (GEM-RCN milieu scolaire, v1.0 juillet 2015). Les totaux se recalculent d'après les cases du plan, qu'elles affichent une catégorie ou une recette choisie dans le menu déroulant (chaque recette est rattachée à sa catégorie dans l'onglet « Recettes »). Le cycle compte 16 repas : la colonne E ramène le total à 20 repas (× 1,25). Le contrôle exact sur fenêtres glissantes a été fait sur le plan initial.
A4: Critère | B4: Type | C4: Seuil /20 | D4: Total sur le cycle | E4: Équivalent sur 20 repas | F4: Statut
A5: Crudités : entrées ou garnitures ≥ 50 % de légumes/fruits crus | B5: min | C5: 10 | D5: =D30 -> 10 | E5: =D5*20/16 -> 12.5 | F5: =IF(B5="min",IF(E5>=C5,"✔ conforme","✘ à revoir"),IF(E5<=C5,"✔ conforme","✘ à revoir")) -> ✔ conforme
A6: Légumes cuits (hors légumes secs) en garniture ≥ 50 % | B6: min | C6: 10 | D6: =D42 -> 16 | E6: =D6*20/16 -> 20 | F6: =IF(B6="min",IF(E6>=C6,"✔ conforme","✘ à revoir"),IF(E6<=C6,"✔ conforme","✘ à revoir")) -> ✔ conforme
A7: Desserts : fruit cru 100 % fruit, sans sucre ajouté | B7: min | C7: 8 | D7: =D51 -> 9 | E7: =D7*20/16 -> 11.25 | F7: =IF(B7="min",IF(E7>=C7,"✔ conforme","✘ à revoir"),IF(E7<=C7,"✔ conforme","✘ à revoir")) -> ✔ conforme
A8: Féculents / légumes secs en garniture ≥ 50 % | B8: min | C8: 10 | D8: =D43+D44+D45+D46 -> 16 | E8: =D8*20/16 -> 20 | F8: =IF(B8="min",IF(E8>=C8,"✔ conforme","✘ à revoir"),IF(E8<=C8,"✔ conforme","✘ à revoir")) -> ✔ conforme
A9: Entrées > 15 % de lipides | B9: max | C9: 4 | D9: =D32 -> 0 | E9: =D9*20/16 -> 0 | F9: =IF(B9="min",IF(E9>=C9,"✔ conforme","✘ à revoir"),IF(E9<=C9,"✔ conforme","✘ à revoir")) -> ✔ conforme
A10: Fritures et préfrits > 15 % de lipides | B10: max | C10: 4 | D10: =D41+D45 -> 1 | E10: =D10*20/16 -> 1.25 | F10: =IF(B10="min",IF(E10>=C10,"✔ conforme","✘ à revoir"),IF(E10<=C10,"✔ conforme","✘ à revoir")) -> ✔ conforme
A11: Plats protidiques avec P/L ≤ 1 | B11: max | C11: 2 | D11: =D39 -> 0 | E11: =D11*20/16 -> 0 | F11: =IF(B11="min",IF(E11>=C11,"✔ conforme","✘ à revoir"),IF(E11<=C11,"✔ conforme","✘ à revoir")) -> ✔ conforme
A12: Desserts > 15 % de lipides | B12: max | C12: 3 | D12: =D53 -> 2 | E12: =D12*20/16 -> 2.5 | F12: =IF(B12="min",IF(E12>=C12,"✔ conforme","✘ à revoir"),IF(E12<=C12,"✔ conforme","✘ à revoir")) -> ✔ conforme
A13: Poisson ≥ 70 % et P/L ≥ 2 | B13: min | C13: 4 | D13: =D34 -> 4 | E13: =D13*20/16 -> 5 | F13: =IF(B13="min",IF(E13>=C13,"✔ conforme","✘ à revoir"),IF(E13<=C13,"✔ conforme","✘ à revoir")) -> ✔ conforme
A14: Bœuf, veau, agneau ou abats, non hachés | B14: min | C14: 4 | D14: =D33 -> 4 | E14: =D14*20/16 -> 5 | F14: =IF(B14="min",IF(E14>=C14,"✔ conforme","✘ à revoir"),IF(E14<=C14,"✔ conforme","✘ à revoir")) -> ✔ conforme
A15: Plats < 70 % de la portion viande/poisson/œuf (dont végétariens sans œuf) | B15: max | C15: 3 | D15: =D38+D40 -> 2 | E15: =D15*20/16 -> 2.5 | F15: =IF(B15="min",IF(E15>=C15,"✔ conforme","✘ à revoir"),IF(E15<=C15,"✔ conforme","✘ à revoir")) -> ✔ conforme
A16: Desserts > 20 g de sucres simples et < 15 % de lipides | B16: max | C16: 4 | D16: =D54 -> 2 | E16: =D16*20/16 -> 2.5 | F16: =IF(B16="min",IF(E16>=C16,"✔ conforme","✘ à revoir"),IF(E16<=C16,"✔ conforme","✘ à revoir")) -> ✔ conforme
A17: Fromages ≥ 150 mg de calcium par portion | B17: min | C17: 8 | D17: =D47 -> 7 | E17: =D17*20/16 -> 8.75 | F17: =IF(B17="min",IF(E17>=C17,"✔ conforme","✘ à revoir"),IF(E17<=C17,"✔ conforme","✘ à revoir")) -> ✔ conforme
A18: Fromages 100–150 mg de calcium par portion | B18: min | C18: 4 | D18: =D48 -> 4 | E18: =D18*20/16 -> 5 | F18: =IF(B18="min",IF(E18>=C18,"✔ conforme","✘ à revoir"),IF(E18<=C18,"✔ conforme","✘ à revoir")) -> ✔ conforme
A19: Laitiers frais ≥ 100 mg de calcium et < 5 g de lipides | B19: min | C19: 6 | D19: =D49 -> 5 | E19: =D19*20/16 -> 6.25 | F19: =IF(B19="min",IF(E19>=C19,"✔ conforme","✘ à revoir"),IF(E19<=C19,"✔ conforme","✘ à revoir")) -> ✔ conforme
A20: Objectif complémentaire : légumineuses (lentilles, pois, haricots secs) | B20: min | C20: 4 | D20: =D38+D44 -> 4 | E20: =D20*20/16 -> 5 | F20: =IF(B20="min",IF(E20>=C20,"✔ conforme","✘ à revoir"),IF(E20<=C20,"✔ conforme","✘ à revoir")) -> ✔ conforme
A22: Repas végétariens par semaine (EGalim : au moins 1 ; votre pratique : 2)
A23: Semaine 1 | C23: 1 | D23: =COUNTIF('Menus 4 semaines'!$B$8:$E$8,"Plat végétarien à base d'œuf")+SUMPRODUCT(COUNTIF('Menus 4 semaines'!$B$8:$E$8,Cat_08))+COUNTIF('Menus 4 semaines'!$B$8:$E$8,"Plat végétarien à base de légumineuses (< 70 % de la portion)")+SUMPRODUCT(COUNTIF('Menus 4 semaines'!$B$8:$E$8,Cat_09)) -> 2 | F23: =IF(D23>=C23,"✔ conforme","✘ à revoir") -> ✔ conforme
A24: Semaine 2 | C24: 1 | D24: =COUNTIF('Menus 4 semaines'!$B$17:$E$17,"Plat végétarien à base d'œuf")+SUMPRODUCT(COUNTIF('Menus 4 semaines'!$B$17:$E$17,Cat_08))+COUNTIF('Menus 4 semaines'!$B$17:$E$17,"Plat végétarien à base de légumineuses (< 70 % de la portion)")+SUMPRODUCT(COUNTIF('Menus 4 semaines'!$B$17:$E$17,Cat_09)) -> 2 | F24: =IF(D24>=C24,"✔ conforme","✘ à revoir") -> ✔ conforme
A25: Semaine 3 | C25: 1 | D25: =COUNTIF('Menus 4 semaines'!$B$26:$E$26,"Plat végétarien à base d'œuf")+SUMPRODUCT(COUNTIF('Menus 4 semaines'!$B$26:$E$26,Cat_08))+COUNTIF('Menus 4 semaines'!$B$26:$E$26,"Plat végétarien à base de légumineuses (< 70 % de la portion)")+SUMPRODUCT(COUNTIF('Menus 4 semaines'!$B$26:$E$26,Cat_09)) -> 2 | F25: =IF(D25>=C25,"✔ conforme","✘ à revoir") -> ✔ conforme
A26: Semaine 4 | C26: 1 | D26: =COUNTIF('Menus 4 semaines'!$B$35:$E$35,"Plat végétarien à base d'œuf")+SUMPRODUCT(COUNTIF('Menus 4 semaines'!$B$35:$E$35,Cat_08))+COUNTIF('Menus 4 semaines'!$B$35:$E$35,"Plat végétarien à base de légumineuses (< 70 % de la portion)")+SUMPRODUCT(COUNTIF('Menus 4 semaines'!$B$35:$E$35,Cat_09)) -> 2 | F26: =IF(D26>=C26,"✔ conforme","✘ à revoir") -> ✔ conforme
A29: Comptage par catégorie (nombre de cases du plan)
A30: Crudité | D30: =COUNTIF('Menus 4 semaines'!$B$5:$E$40,A30)+SUMPRODUCT(COUNTIF('Menus 4 semaines'!$B$5:$E$40,Cat_01)) -> 10
A31: Entrée de légumes cuits | D31: =COUNTIF('Menus 4 semaines'!$B$5:$E$40,A31)+SUMPRODUCT(COUNTIF('Menus 4 semaines'!$B$5:$E$40,Cat_02)) -> 6
A32: Entrée > 15 % de lipides | D32: =COUNTIF('Menus 4 semaines'!$B$5:$E$40,A32)+SUMPRODUCT(COUNTIF('Menus 4 semaines'!$B$5:$E$40,Cat_03)) -> 0
A33: Viande rouge non hachée (bœuf, veau, agneau) | D33: =COUNTIF('Menus 4 semaines'!$B$5:$E$40,A33)+SUMPRODUCT(COUNTIF('Menus 4 semaines'!$B$5:$E$40,Cat_04)) -> 4
A34: Poisson (≥ 70 %, P/L ≥ 2) | D34: =COUNTIF('Menus 4 semaines'!$B$5:$E$40,A34)+SUMPRODUCT(COUNTIF('Menus 4 semaines'!$B$5:$E$40,Cat_05)) -> 4
A35: Volaille | D35: =COUNTIF('Menus 4 semaines'!$B$5:$E$40,A35)+SUMPRODUCT(COUNTIF('Menus 4 semaines'!$B$5:$E$40,Cat_06)) -> 0
A36: Porc ou autre viande | D36: =COUNTIF('Menus 4 semaines'!$B$5:$E$40,A36)+SUMPRODUCT(COUNTIF('Menus 4 semaines'!$B$5:$E$40,Cat_07)) -> 0
A37: Plat végétarien à base d'œuf | D37: =COUNTIF('Menus 4 semaines'!$B$5:$E$40,A37)+SUMPRODUCT(COUNTIF('Menus 4 semaines'!$B$5:$E$40,Cat_08)) -> 6
A38: Plat végétarien à base de légumineuses (< 70 % de la portion) | D38: =COUNTIF('Menus 4 semaines'!$B$5:$E$40,A38)+SUMPRODUCT(COUNTIF('Menus 4 semaines'!$B$5:$E$40,Cat_09)) -> 2
A39: Plat protidique P/L ≤ 1 (saucisse, nuggets…) | D39: =COUNTIF('Menus 4 semaines'!$B$5:$E$40,A39)+SUMPRODUCT(COUNTIF('Menus 4 semaines'!$B$5:$E$40,Cat_10)) -> 0
A40: Plat prêt < 70 % de la portion | D40: =COUNTIF('Menus 4 semaines'!$B$5:$E$40,A40)+SUMPRODUCT(COUNTIF('Menus 4 semaines'!$B$5:$E$40,Cat_11)) -> 0
A41: Plat frit ou préfrit | D41: =COUNTIF('Menus 4 semaines'!$B$5:$E$40,A41)+SUMPRODUCT(COUNTIF('Menus 4 semaines'!$B$5:$E$40,Cat_12)) -> 0
A42: Légumes cuits | D42: =COUNTIF('Menus 4 semaines'!$B$5:$E$40,A42)+SUMPRODUCT(COUNTIF('Menus 4 semaines'!$B$5:$E$40,Cat_13)) -> 16
A43: Féculents | D43: =COUNTIF('Menus 4 semaines'!$B$5:$E$40,A43)+SUMPRODUCT(COUNTIF('Menus 4 semaines'!$B$5:$E$40,Cat_14)) -> 12
A44: Légumes secs (légumineuses) | D44: =COUNTIF('Menus 4 semaines'!$B$5:$E$40,A44)+SUMPRODUCT(COUNTIF('Menus 4 semaines'!$B$5:$E$40,Cat_15)) -> 2
...

Sheet Contrôle 5 semaines
A1: Contrôle GEMRCN – plan de 5 semaines (20 repas)
A2: Seuils sur 20 repas consécutifs (GEM-RCN milieu scolaire, v1.0 juillet 2015). Les totaux se recalculent d'après les cases du plan, qu'elles affichent une catégorie ou une recette choisie dans le menu déroulant (chaque recette est rattachée à sa catégorie dans l'onglet « Recettes »).
A4: Critère | B4: Type | C4: Seuil /20 | D4: Total sur le cycle | E4: Équivalent sur 20 repas | F4: Statut
A5: Crudités : entrées ou garnitures ≥ 50 % de légumes/fruits crus | B5: min | C5: 10 | D5: =D31 -> 13 | E5: =D5 -> 13 | F5: =IF(B5="min",IF(E5>=C5,"✔ conforme","✘ à revoir"),IF(E5<=C5,"✔ conforme","✘ à revoir")) -> ✔ conforme
A6: Légumes cuits (hors légumes secs) en garniture ≥ 50 % | B6: min | C6: 10 | D6: =D43 -> 20 | E6: =D6 -> 20 | F6: =IF(B6="min",IF(E6>=C6,"✔ conforme","✘ à revoir"),IF(E6<=C6,"✔ conforme","✘ à revoir")) -> ✔ conforme
A7: Desserts : fruit cru 100 % fruit, sans sucre ajouté | B7: min | C7: 8 | D7: =D52 -> 11 | E7: =D7 -> 11 | F7: =IF(B7="min",IF(E7>=C7,"✔ conforme","✘ à revoir"),IF(E7<=C7,"✔ conforme","✘ à revoir")) -> ✔ conforme
A8: Féculents / légumes secs en garniture ≥ 50 % | B8: min | C8: 10 | D8: =D44+D45+D46+D47 -> 20 | E8: =D8 -> 20 | F8: =IF(B8="min",IF(E8>=C8,"✔ conforme","✘ à revoir"),IF(E8<=C8,"✔ conforme","✘ à revoir")) -> ✔ conforme
A9: Entrées > 15 % de lipides | B9: max | C9: 4 | D9: =D33 -> 0 | E9: =D9 -> 0 | F9: =IF(B9="min",IF(E9>=C9,"✔ conforme","✘ à revoir"),IF(E9<=C9,"✔ conforme","✘ à revoir")) -> ✔ conforme
A10: Fritures et préfrits > 15 % de lipides | B10: max | C10: 4 | D10: =D42+D46 -> 0 | E10: =D10 -> 0 | F10: =IF(B10="min",IF(E10>=C10,"✔ conforme","✘ à revoir"),IF(E10<=C10,"✔ conforme","✘ à revoir")) -> ✔ conforme
A11: Plats protidiques avec P/L ≤ 1 | B11: max | C11: 2 | D11: =D40 -> 0 | E11: =D11 -> 0 | F11: =IF(B11="min",IF(E11>=C11,"✔ conforme","✘ à revoir"),IF(E11<=C11,"✔ conforme","✘ à revoir")) -> ✔ conforme
A12: Desserts > 15 % de lipides | B12: max | C12: 3 | D12: =D54 -> 2 | E12: =D12 -> 2 | F12: =IF(B12="min",IF(E12>=C12,"✔ conforme","✘ à revoir"),IF(E12<=C12,"✔ conforme","✘ à revoir")) -> ✔ conforme
A13: Poisson ≥ 70 % et P/L ≥ 2 | B13: min | C13: 4 | D13: =D35 -> 5 | E13: =D13 -> 5 | F13: =IF(B13="min",IF(E13>=C13,"✔ conforme","✘ à revoir"),IF(E13<=C13,"✔ conforme","✘ à revoir")) -> ✔ conforme
A14: Bœuf, veau, agneau ou abats, non hachés | B14: min | C14: 4 | D14: =D34 -> 4 | E14: =D14 -> 4 | F14: =IF(B14="min",IF(E14>=C14,"✔ conforme","✘ à revoir"),IF(E14<=C14,"✔ conforme","✘ à revoir")) -> ✔ conforme
A15: Plats < 70 % de la portion viande/poisson/œuf (dont végétariens sans œuf) | B15: max | C15: 3 | D15: =D39+D41 -> 3 | E15: =D15 -> 3 | F15: =IF(B15="min",IF(E15>=C15,"✔ conforme","✘ à revoir"),IF(E15<=C15,"✔ conforme","✘ à revoir")) -> ✔ conforme
A16: Desserts > 20 g de sucres simples et < 15 % de lipides | B16: max | C16: 4 | D16: =D55 -> 3 | E16: =D16 -> 3 | F16: =IF(B16="min",IF(E16>=C16,"✔ conforme","✘ à revoir"),IF(E16<=C16,"✔ conforme","✘ à revoir")) -> ✔ conforme
A17: Fromages ≥ 150 mg de calcium par portion | B17: min | C17: 8 | D17: =D48 -> 8 | E17: =D17 -> 8 | F17: =IF(B17="min",IF(E17>=C17,"✔ conforme","✘ à revoir"),IF(E17<=C17,"✔ conforme","✘ à revoir")) -> ✔ conforme
A18: Fromages 100–150 mg de calcium par portion | B18: min | C18: 4 | D18: =D49 -> 4 | E18: =D18 -> 4 | F18: =IF(B18="min",IF(E18>=C18,"✔ conforme","✘ à revoir"),IF(E18<=C18,"✔ conforme","✘ à revoir")) -> ✔ conforme
A19: Laitiers frais ≥ 100 mg de calcium et < 5 g de lipides | B19: min | C19: 6 | D19: =D50 -> 6 | E19: =D19 -> 6 | F19: =IF(B19="min",IF(E19>=C19,"✔ conforme","✘ à revoir"),IF(E19<=C19,"✔ conforme","✘ à revoir")) -> ✔ conforme
A20: Objectif complémentaire : légumineuses (lentilles, pois, haricots secs) | B20: min | C20: 4 | D20: =D39+D45 -> 6 | E20: =D20 -> 6 | F20: =IF(B20="min",IF(E20>=C20,"✔ conforme","✘ à revoir"),IF(E20<=C20,"✔ conforme","✘ à revoir")) -> ✔ conforme
A22: Repas végétariens par semaine (EGalim : au moins 1 ; votre pratique : 2)
A23: Semaine 1 | C23: 1 | D23: =COUNTIF('Menus 5 semaines'!$B$8:$E$8,"Plat végétarien à base d'œuf")+SUMPRODUCT(COUNTIF('Menus 5 semaines'!$B$8:$E$8,Cat_08))+COUNTIF('Menus 5 semaines'!$B$8:$E$8,"Plat végétarien à base de légumineuses (< 70 % de la portion)")+SUMPRODUCT(COUNTIF('Menus 5 semaines'!$B$8:$E$8,Cat_09)) -> 2 | F23: =IF(D23>=C23,"✔ conforme","✘ à revoir") -> ✔ conforme
A24: Semaine 2 | C24: 1 | D24: =COUNTIF('Menus 5 semaines'!$B$17:$E$17,"Plat végétarien à base d'œuf")+SUMPRODUCT(COUNTIF('Menus 5 semaines'!$B$17:$E$17,Cat_08))+COUNTIF('Menus 5 semaines'!$B$17:$E$17,"Plat végétarien à base de légumineuses (< 70 % de la portion)")+SUMPRODUCT(COUNTIF('Menus 5 semaines'!$B$17:$E$17,Cat_09)) -> 2 | F24: =IF(D24>=C24,"✔ conforme","✘ à revoir") -> ✔ conforme
A25: Semaine 3 | C25: 1 | D25: =COUNTIF('Menus 5 semaines'!$B$26:$E$26,"Plat végétarien à base d'œuf")+SUMPRODUCT(COUNTIF('Menus 5 semaines'!$B$26:$E$26,Cat_08))+COUNTIF('Menus 5 semaines'!$B$26:$E$26,"Plat végétarien à base de légumineuses (< 70 % de la portion)")+SUMPRODUCT(COUNTIF('Menus 5 semaines'!$B$26:$E$26,Cat_09)) -> 2 | F25: =IF(D25>=C25,"✔ conforme","✘ à revoir") -> ✔ conforme
A26: Semaine 4 | C26: 1 | D26: =COUNTIF('Menus 5 semaines'!$B$35:$E$35,"Plat végétarien à base d'œuf")+SUMPRODUCT(COUNTIF('Menus 5 semaines'!$B$35:$E$35,Cat_08))+COUNTIF('Menus 5 semaines'!$B$35:$E$35,"Plat végétarien à base de légumineuses (< 70 % de la portion)")+SUMPRODUCT(COUNTIF('Menus 5 semaines'!$B$35:$E$35,Cat_09)) -> 2 | F26: =IF(D26>=C26,"✔ conforme","✘ à revoir") -> ✔ conforme
A27: Semaine 5 | C27: 1 | D27: =COUNTIF('Menus 5 semaines'!$B$44:$E$44,"Plat végétarien à base d'œuf")+SUMPRODUCT(COUNTIF('Menus 5 semaines'!$B$44:$E$44,Cat_08))+COUNTIF('Menus 5 semaines'!$B$44:$E$44,"Plat végétarien à base de légumineuses (< 70 % de la portion)")+SUMPRODUCT(COUNTIF('Menus 5 semaines'!$B$44:$E$44,Cat_09)) -> 2 | F27: =IF(D27>=C27,"✔ conforme","✘ à revoir") -> ✔ conforme
A30: Comptage par catégorie (nombre de cases du plan)
A31: Crudité | D31: =COUNTIF('Menus 5 semaines'!$B$5:$E$49,A31)+SUMPRODUCT(COUNTIF('Menus 5 semaines'!$B$5:$E$49,Cat_01)) -> 13
A32: Entrée de légumes cuits | D32: =COUNTIF('Menus 5 semaines'!$B$5:$E$49,A32)+SUMPRODUCT(COUNTIF('Menus 5 semaines'!$B$5:$E$49,Cat_02)) -> 7
A33: Entrée > 15 % de lipides | D33: =COUNTIF('Menus 5 semaines'!$B$5:$E$49,A33)+SUMPRODUCT(COUNTIF('Menus 5 semaines'!$B$5:$E$49,Cat_03)) -> 0
A34: Viande rouge non hachée (bœuf, veau, agneau) | D34: =COUNTIF('Menus 5 semaines'!$B$5:$E$49,A34)+SUMPRODUCT(COUNTIF('Menus 5 semaines'!$B$5:$E$49,Cat_04)) -> 4
A35: Poisson (≥ 70 %, P/L ≥ 2) | D35: =COUNTIF('Menus 5 semaines'!$B$5:$E$49,A35)+SUMPRODUCT(COUNTIF('Menus 5 semaines'!$B$5:$E$49,Cat_05)) -> 5
A36: Volaille | D36: =COUNTIF('Menus 5 semaines'!$B$5:$E$49,A36)+SUMPRODUCT(COUNTIF('Menus 5 semaines'!$B$5:$E$49,Cat_06)) -> 1
A37: Porc ou autre viande | D37: =COUNTIF('Menus 5 semaines'!$B$5:$E$49,A37)+SUMPRODUCT(COUNTIF('Menus 5 semaines'!$B$5:$E$49,Cat_07)) -> 0
A38: Plat végétarien à base d'œuf | D38: =COUNTIF('Menus 5 semaines'!$B$5:$E$49,A38)+SUMPRODUCT(COUNTIF('Menus 5 semaines'!$B$5:$E$49,Cat_08)) -> 7
A39: Plat végétarien à base de légumineuses (< 70 % de la portion) | D39: =COUNTIF('Menus 5 semaines'!$B$5:$E$49,A39)+SUMPRODUCT(COUNTIF('Menus 5 semaines'!$B$5:$E$49,Cat_09)) -> 3
A40: Plat protidique P/L ≤ 1 (saucisse, nuggets…) | D40: =COUNTIF('Menus 5 semaines'!$B$5:$E$49,A40)+SUMPRODUCT(COUNTIF('Menus 5 semaines'!$B$5:$E$49,Cat_10)) -> 0
A41: Plat prêt < 70 % de la portion | D41: =COUNTIF('Menus 5 semaines'!$B$5:$E$49,A41)+SUMPRODUCT(COUNTIF('Menus 5 semaines'!$B$5:$E$49,Cat_11)) -> 0
A42: Plat frit ou préfrit | D42: =COUNTIF('Menus 5 semaines'!$B$5:$E$49,A42)+SUMPRODUCT(COUNTIF('Menus 5 semaines'!$B$5:$E$49,Cat_12)) -> 0
A43: Légumes cuits | D43: =COUNTIF('Menus 5 semaines'!$B$5:$E$49,A43)+SUMPRODUCT(COUNTIF('Menus 5 semaines'!$B$5:$E$49,Cat_13)) -> 20
A44: Féculents | D44: =COUNTIF('Menus 5 semaines'!$B$5:$E$49,A44)+SUMPRODUCT(COUNTIF('Menus 5 semaines'!$B$5:$E$49,Cat_14)) -> 16
...

Sheet EGalim et hypothèses
A1: EGalim – ce que le plan initial prévoit, et hypothèses de travail
A3: Indicateur (en nombre de composantes du plan initial) | B3: Plan 4 semaines | C3: Plan 5 semaines | D3: Objectif / remarque
A4: Composantes ciblées bio | B4: 23/96 = 24% | C4: 32/120 = 27% | D4: Objectif loi : 20 % bio (mesuré en valeur d'achats HT)
A5: Composantes bio ou sous label de qualité / durable (Label Rouge, MSC, AOP, IGP, HVE) | B5: 48/96 = 50% | C5: 64/120 = 53% | D5: Objectif loi : 50 % durables et de qualité, bio compris (valeur d'achats HT)
A6: Plats de viande et de poisson sous label ou bio | B6: 6/8 = 75% | C6: 8/10 = 80% | D6: Objectif loi : 60 % des viandes et poissons durables et de qualité
A7: Repas végétariens par semaine | B7: 2 | C7: 2 | D7: Loi : au moins 1 par semaine ; vous en proposez 2
A9: À savoir
A10: • Ces pourcentages concernent le plan initial (recettes exemples) : le bio et les labels sont des cibles d'approvisionnement, à confirmer avec vos fournisseurs. EGalim se mesure en valeur d'achats (€ HT), pas en nombre de composantes. Ils ne se recalculent pas quand vous choisissez d'autres recettes.
A11: • À 350 couverts par jour, vous êtes au-dessus du seuil de 200 couverts/jour à partir duquel un plan pluriannuel de diversification des protéines est exigé. Les repas végétariens et les légumineuses peuvent l'alimenter.
A12: • Les achats de produits durables et de qualité se télédéclarent chaque année sur la plateforme ma-cantine.
A13: • Seuils GEMRCN : version 1.0 de juillet 2015 (milieu scolaire), la plus récente que j'ai pu consulter. L'arrêté du 30 septembre 2011 reste le texte réglementaire.
A14: • Structure supposée : 6 lignes par jour (entrée, plat protidique, légumes, féculents, produit laitier, dessert), 4 jours (lundi, mardi, jeudi, vendredi).
A15: • Vos 2 repas végétariens par semaine + le poisson le vendredi laissent un seul jour de viande par semaine. Le GEMRCN impose au moins 4 plats de bœuf, veau, agneau ou abats non hachés sur 20 repas : ce jour est donc de la viande rouge dans le plan 4 semaines, avec 1 volaille dans le plan 5 semaines.
A16: • Ligne « plats < 70 % de la portion » (max 3/20) : lecture la plus stricte, qui compte les plats végétariens sans œuf. Si elle ne vise que les plats prêts achetés, vous avez plus de marge pour les légumineuses.
A17: • Classement calcium des fromages (≥ 150 mg ou 100–150 mg par portion) : à valider avec vos fiches techniques. Camembert et brie n'entrent dans aucune des deux classes (catégorie « Fromage < 100 mg »).
A18: • Un recette choisie dans le menu déroulant compte pour sa catégorie : classez bien chaque recette dans la bonne colonne de l'onglet « Recettes ». Les 20 desserts maison de votre liste sont rangés par défaut dans « Dessert > 15 % de lipides » : à ajuster si certains ne le sont pas.
A19: • Le GEMRCN compte les mercredis servis dans les 20 repas consécutifs : ce plan ne couvre que lundi, mardi, jeudi et vendredi. Grammages et coût matière ne sont pas traités.
A20: • Saison : automne-hiver. Au printemps, gardez les catégories et changez les recettes.
