Workbook

Sheet Caracteristiques produits
B2: Référence produit | C2: Stock initial (Si) | D2: Stock de Sécurité ( Ss ) | E2: Délai d'obtention (DL)(semaine) | F2: Lot technique (LT)
B3: A | C3: 460 | D3: 30 | E3: 1 | F3: 200

Sheet Nomenclature & Données
B22: Réception prévue
B23: Semaine | C23: S1 | E23: S2 | G23: S3 | I23: S4 | K23: S5 | M23: S6 | O23: S7 | Q23: S8 | S23: S9
B24: A
B25: B
B26: C
B27: D
B28: E | E28: 50
B29: F | C29: 75
B31: Besoin Indépendant
B32: Semaine | C32: S1 | E32: S2 | G32: S3 | I32: S4 | K32: S5 | M32: S6 | O32: S7 | Q32: S8 | S32: S9
B33: A | K33: 25 | O33: 50 | S33: 100
B34: B
B35: C | G35: 100
B36: D
B37: E
B38: F
B40: Stocks reservés
B41: Semaine | C41: S1 | E41: S2 | G41: S3 | I41: S4 | K41: S5 | M41: S6 | O41: S7 | Q41: S8 | S41: S9
B42: A
B43: B
B44: C
B45: D | I45: 50
B46: E | K46: 30
B47: F

Sheet MRP
B3: Periode (i) | G3: S1 | I3: S2 | K3: S3 | M3: S4 | O3: S5 | Q3: S6 | S3: S7 | U3: S8 | W3: S9
B4: Code article | E4: Rang | G4: BB | H4: DPS | I4: BB | J4: DPS | K4: BB | L4: DPS | M4: BB | N4: DPS | O4: BB | P4: DPS | Q4: BB | R4: DPS | S4: BB | T4: DPS | U4: BB | V4: DPS | W4: BB | X4: DPS
E5: % Rebut | G5: RP | H5: BN | I5: RP | J5: BN | K5: RP | L5: BN | M5: RP | N5: BN | O5: RP | P5: BN | Q5: RP | R5: BN | S5: RP | T5: BN | U5: RP | V5: BN | W5: RP | X5: BN
E6: % Perte | G6: SR | H6: RPl | I6: SR | J6: RPl | K6: SR | L6: RPl | M6: SR | N6: RPl | O6: SR | P6: RPl | Q6: SR | R6: RPl | S6: SR | T6: RPl | U6: SR | V6: RPl | W6: SR | X6: RPl
B7: Lot de gestion | D7: Type | E7: Stock de securité | G7: LP | H7: S | I7: LP | J7: S | K7: LP | L7: S | M7: LP | N7: S | O7: LP | P7: S | Q7: LP | R7: S | S7: LP | T7: S | U7: LP | V7: S | W7: LP | X7: S
B9: Lot | D9: Delai | E9: Stock
B10: Produit A | E10: 1 | G10: ='Nomenclature & Données'!C33 -> 0 | H10: =ROUNDUP(E15-$E$13-G$12-G$10+G$11*(1-($E$11/100)),0) -> 0 | I10: ='Nomenclature & Données'!E33 -> 0 | J10: =ROUNDUP(H$13-$E$13-I$12-I$10+I$11*(1-($E$11/100)),0) -> 0 | K10: ='Nomenclature & Données'!G33 -> 0 | L10: =ROUNDUP(J$13-$E$13-K$12-K$10+K$11*(1-($E$11/100)),0) -> 0 | M10: ='Nomenclature & Données'!I33 -> 0 | N10: =ROUNDUP(L$13-$E$13-M$12-M$10+M$11*(1-($E$11/100)),0) -> 0 | O10: ='Nomenclature & Données'!K33 -> 25 | P10: =ROUNDUP(N$13-$E$13-O$12-O$10+O$11*(1-($E$11/100)),0) -> -25 | Q10: ='Nomenclature & Données'!M33 -> 0 | R10: =ROUNDUP(P$13-$E$13-Q$12-Q$10+Q$11*(1-($E$11/100)),0) -> 0 | S10: ='Nomenclature & Données'!O33 -> 50 | T10: =ROUNDUP(R$13-$E$13-S$12-S$10+S$11*(1-($E$11/100)),0) -> -50 | U10: ='Nomenclature & Données'!Q33 -> 0 | V10: =ROUNDUP(T$13-$E$13-U$12-U$10+U$11*(1-($E$11/100)),0) -> 0 | W10: ='Nomenclature & Données'!S$33 -> 100 | X10: =ROUNDUP(V$13-$E$13-W$12-W$10+W$11*(1-($E$11/100)),0) -> -100
E11: ='Données techniques'!C26 -> 0 | G11: =OFFSET('Nomenclature & Données'!C$24,0,2) -> 0 | H11: =IF(H$10>0,0,-H$10/(1-(G$11/100))) -> 0 | I11: =OFFSET('Nomenclature & Données'!E$24,0,2) -> 0 | J11: =IF(J$10>0,0,-J$10/(1-(I$11/100))) -> 0 | K11: =OFFSET('Nomenclature & Données'!G$24,0,2) -> 0 | L11: =MAX(0,-L10/(1-E11)) -> 0 | M11: =OFFSET('Nomenclature & Données'!I$24,0,2) -> 0 | N11: =MAX(0,-N10/(1-E11)) -> 0 | O11: =OFFSET('Nomenclature & Données'!K$24,0,2) -> 0 | P11: =MAX(0,-P10/(1-E11)) -> 25 | Q11: ='Nomenclature & Données'!M24 -> 0 | R11: =MAX(0,-R10/(1-E11)) -> 0 | S11: ='Nomenclature & Données'!O24 -> 0 | T11: =MAX(0,-T10/(1-E11)) -> 50 | U11: ='Nomenclature & Données'!Q24 -> 0 | V11: =MAX(0,-V10/(1-E11)) -> 0 | W11: =OFFSET('Nomenclature & Données'!S$24,0,1) -> 0 | X11: =IF(X$10>0,0,-X$10/(1-(W$11/100))) -> 100
E12: ='Données techniques'!C27 -> 0 | G12: ='Nomenclature & Données'!C42 -> 0 | H12: =IF(AND($B13="Lot",$B15>0),ROUNDUP(H11/$B15,)*$B15,IF(AND($B13="LFL",$B15>0),H11,IF(AND($B13="SEUIL",$B15>0),MAX($B15,H11,0)))) -> 0 | I12: ='Nomenclature & Données'!E42 -> 0 | J12: =IF(AND($B13="Lot",$B15>0),ROUNDUP(J11/$B15,)*$B15,IF(AND($B13="LFL",$B15>0),J11,IF(AND($B13="SEUIL",$B15>0),MAX($B15,J11,0)))) -> 0 | K12: ='Nomenclature & Données'!G42 -> 0 | L12: =IF(AND($B13="Lot",$B15>0),ROUNDUP(L11/$B15,)*$B15,IF(AND($B13="LFL",$B15>0),L11,IF(AND($B13="SEUIL",$B15>0),MAX($B15,L11,0)))) -> 0 | M12: ='Nomenclature & Données'!I42 -> 0 | N12: =IF(AND($B13="Lot",$B15>0),ROUNDUP(N11/$B15,)*$B15,IF(AND($B13="LFL",$B15>0),N11,IF(AND($B13="SEUIL",$B15>0),MAX($B15,N11,0)))) -> 0 | O12: ='Nomenclature & Données'!K42 -> 0 | P12: =IF(AND($B13="Lot",$B15>0),ROUNDUP(P11/$B15,)*$B15,IF(AND($B13="LFL",$B15>0),P11,IF(AND($B13="SEUIL",$B15>0),MAX($B15,P11,0)))) -> 25 | Q12: ='Nomenclature & Données'!M42 -> 0 | R12: =IF(AND($B13="Lot",$B15>0),ROUNDUP(R11/$B15,)*$B15,IF(AND($B13="LFL",$B15>0),R11,IF(AND($B13="SEUIL",$B15>0),MAX($B15,R11,0)))) -> 0 | S12: ='Nomenclature & Données'!O42 -> 0 | T12: =IF(AND($B13="Lot",$B15>0),ROUNDUP(T11/$B15,)*$B15,IF(AND($B13="LFL",$B15>0),T11,IF(AND($B13="SEUIL",$B15>0),MAX($B15,T11,0)))) -> 50 | U12: ='Nomenclature & Données'!Q42 -> 0 | V12: =IF(AND($B13="Lot",$B15>0),ROUNDUP(V11/$B15,)*$B15,IF(AND($B13="LFL",$B15>0),V11,IF(AND($B13="SEUIL",$B15>0),MAX($B15,V11,0)))) -> 0 | W12: ='Nomenclature & Données'!S42 -> 0 | X12: =IF(AND($B13="Lot",$B15>0),ROUNDUP(X11/$B15,)*$B15,IF(AND($B13="LFL",$B15>0),X11,IF(AND($B13="SEUIL",$B15>0),MAX($B15,X11,0)))) -> 100
B13: LFL | D13: F | E13: ='Données techniques'!C22 -> 10 | G13: =OFFSET(G13,-1,(2*$D15)+1,1,1) -> 0 | H13: =H10+$E13+(H12*(1-$E11)) -> 10 | I13: =OFFSET(I13,-1,(2*$D15)+1,1,1) -> 0 | J13: =J10+$E13+(J12*(1-$E11)) -> 10 | K13: =OFFSET(K13,-1,(2*$D15)+1,1,1) -> 0 | L13: =L10+$E13+(L12*(1-$E11)) -> 10 | M13: =OFFSET(M13,-1,(2*$D15)+1,1,1) -> 25 | N13: =N10+$E13+(N12*(1-$E11)) -> 10 | O13: =OFFSET(O13,-1,(2*$D15)+1,1,1) -> 0 | P13: =P10+$E13+(P12*(1-$E11)) -> 10 | Q13: =OFFSET(Q13,-1,(2*$D15)+1,1,1) -> 50 | R13: =R10+$E13+(R12*(1-$E11)) -> 10 | S13: =OFFSET(S13,-1,(2*$D15)+1,1,1) -> 0 | T13: =T10+$E13+(T12*(1-$E11)) -> 10 | U13: =OFFSET(U13,-1,(2*$D15)+1,1,1) -> 100 | V13: =V10+$E13+(V12*(1-$E11)) -> 10 | W13: =OFFSET(W13,-1,(2*$D15)+1,1,1) -> 0 | X13: =X10+$E13+(X12*(1-$E11)) -> 10
B15: Lot | D15: 1 | E15: ='Données techniques'!C21 -> 10
B16: Produit B | E16: 2 | G16: =ROUNDUP((IF($E$16>$E$10,G$13*'Données techniques'!$D$35/(1-($E$18/100)),0))+(IF($E$16>$E$22,G$25*'Données techniques'!$F$35/(1-(MRP!$E$18/100)),0))+(IF(MRP!$E$16>MRP!E28,MRP!G$31*'Données techniques'!$G$35/(1-($E$18/100)),0))+(IF($E$16>$E$34,G37*'Données techniques'!$H$35/(1-(MRP!$E$18/100)),0))+(IF(MRP!$E$16>MRP!$E$40,MRP!G$43*'Données techniques'!$I$35/(1-(MRP!$E$18/100)),0))+'Nomenclature & Données'!$E$34,0) -> 0 | H16: =ROUNDUP(E21-$E$19-G18-G16+G17*(1-(E17/100)),0) -> 25 | I16: =ROUNDUP((IF($E$16>$E$10,I$13*'Données techniques'!$D$35/(1-($E$18/100)),0))+(IF($E$16>$E$22,I$25*'Données techniques'!$F$35/(1-($E$18/100)),0))+(IF($E$16>$E$28,I$31*'Données techniques'!$G$35/(1-(MRP!$E$18/100)),0))+(IF(MRP!$E$16>MRP!$E$34,MRP!I$37*'Données techniques'!$H$35/(1-(MRP!$E$18/100)),0))+(IF(MRP!E16>MRP!E40,MRP!I43*'Données techniques'!I35/(1-(MRP!E18/100)),0))+'Nomenclature & Données'!E34,0) -> 0 | J16: =ROUNDUP(H19-$E$19-I18-I16+I17*(1-(E17/100)),0) -> 25 | K16: =ROUNDUP((IF($E$16>$E$10,K$13*'Données techniques'!$D$35/(1-($E$18/100)),0))+(IF($E$16>$E$22,K$25*'Données techniques'!$F$35/(1-($E$18/100)),0))+(IF($E$16>$E$28,K$31*'Données techniques'!$G$35/(1-(MRP!$E$18/100)),0))+(IF(MRP!$E$16>MRP!$E$34,MRP!K$37*'Données techniques'!$H$35/(1-(MRP!$E$18/100)),0))+(IF(MRP!E16>MRP!E40,MRP!K43*'Données techniques'!I35/(1-(MRP!E18/100)),0))+'Nomenclature & Données'!G34,0) -> 0 | L16: =ROUNDUP(J19-$E$19-K16-K18+K17*(1-(E17/100)),0) -> 25 | M16: =ROUNDUP((IF($E$16>$E$10,M$13*'Données techniques'!$D$35/(1-($E$18/100)),0))+(IF($E$16>$E$22,M$25*'Données techniques'!$F$35/(1-($E$18/100)),0))+(IF($E$16>$E$28,M$31*'Données techniques'!$G$35/(1-(MRP!$E$18/100)),0))+(IF(MRP!$E$16>MRP!$E$34,MRP!M$37*'Données techniques'!$H$35/(1-(MRP!$E$18/100)),0))+(IF(MRP!E16>MRP!E40,MRP!M43*'Données techniques'!I35/(1-(MRP!E18/100)),0))+'Nomenclature & Données'!I34,0) -> 28 | N16: =ROUNDUP(L19-$E$19-M16-M18+M17*(1-(E17/100)),0) -> -3 | O16: =ROUNDUP((IF($E$16>$E$10,O$13*'Données techniques'!$D$35/(1-($E$18/100)),0))+(IF($E$16>$E$22,O$25*'Données techniques'!$F$35/(1-($E$18/100)),0))+(IF($E$16>$E$28,O$31*'Données techniques'!$G$35/(1-(MRP!$E$18/100)),0))+(IF(MRP!$E$16>MRP!$E$34,MRP!O$37*'Données techniques'!$H$35/(1-(MRP!$E$18/100)),0))+(IF(MRP!E16>MRP!E40,MRP!O43*'Données techniques'!I35/(1-(MRP!E18/100)),0))+'Nomenclature & Données'!K34,0) -> 0 | P16: =ROUNDUP(N19-$E$19-O18-O16+O17*(1-(E17/100)),0) -> 7 | Q16: =ROUNDUP((IF($E$16>$E$10,Q$13*'Données techniques'!$D$35/(1-($E$18/100)),0))+(IF($E$16>$E$22,Q$25*'Données techniques'!$F$35/(1-($E$18/100)),0))+(IF($E$16>$E$28,Q$31*'Données techniques'!$G$35/(1-(MRP!$E$18/100)),0))+(IF(MRP!$E$16>MRP!$E$34,MRP!Q$37*'Données techniques'!$H$35/(1-(MRP!$E$18/100)),0))+(IF(MRP!E16>MRP!E40,MRP!Q43*'Données techniques'!I35/(1-(MRP!E18/100)),0))+'Nomenclature & Données'!M34,0) -> 56 | R16: =ROUNDUP(P19-$E$19-Q18-Q16+Q17*(1-(E17/100)),0) -> -49 | S16: =ROUNDUP((IF($E$16>$E$10,S$13*'Données techniques'!$D$35/(1-($E$18/100)),0))+(IF($E$16>$E$22,S$25*'Données techniques'!$F$35/(1-($E$18/100)),0))+(IF($E$16>$E$28,S$31*'Données techniques'!$G$35/(1-(MRP!$E$18/100)),0))+(IF(MRP!$E$16>MRP!$E$34,MRP!S$37*'Données techniques'!$H$35/(1-(MRP!$E$18/100)),0))+(IF(MRP!E16>MRP!E40,MRP!S43*'Données techniques'!I35/(1-(MRP!E18/100)),0))+'Nomenclature & Données'!O34,0) -> 0 | T16: =ROUNDUP(R19-$E$19-S18-S16+S17*(1-(E17/100)),0) -> 1 | U16: =ROUNDUP((IF($E$16>$E$10,U$13*'Données techniques'!$D$35/(1-($E$18/100)),0))+(IF($E$16>$E$22,U$25*'Données techniques'!$F$35/(1-($E$18/100)),0))+(IF($E$16>$E$28,U$31*'Données techniques'!$G$35/(1-(MRP!$E$18/100)),0))+(IF(MRP!$E$16>MRP!$E$34,MRP!U$37*'Données techniques'!$H$35/(1-(MRP!$E$18/100)),0))+(IF(MRP!E16>MRP!E40,MRP!U43*'Données techniques'!I35/(1-(MRP!E18/100)),0))+'Nomenclature & Données'!Q34,0) -> 112 | V16: =ROUNDUP(T19-$E$19-U16-U18+U17*(1-(E17/100)),0) -> -111 | W16: =ROUNDUP((IF($E$16>$E$10,W$13*'Données techniques'!$D$35/(1-($E$18/100)),0))+(IF($E$16>$E$22,W$25*'Données techniques'!$F$35/(1-($E$18/100)),0))+(IF($E$16>$E$28,W$31*'Données techniques'!$G$35/(1-(MRP!$E$18/100)),0))+(IF(MRP!$E$16>MRP!$E$34,MRP!W$37*'Données techniques'!$H$35/(1-(MRP!$E$18/100)),0))+(IF(MRP!E16>MRP!E40,MRP!W43*'Données techniques'!I35/(1-(MRP!E18/100)),0))+'Nomenclature & Données'!S34,0) -> 0 | X16: =ROUNDUP(V19-$E$19-W18-W16+W17*(1-(E17/100)),0) -> 9
E17: ='Données techniques'!D26 -> 0 | G17: ='Nomenclature & Données'!C25 -> 0 | H17: =MAX(0,-H16/(1-E17)) -> 0 | I17: ='Nomenclature & Données'!E25 -> 0 | J17: =MAX(0,-J16/(1-E17)) -> 0 | K17: ='Nomenclature & Données'!G25 -> 0 | L17: =MAX(0,-L16/(1-E17)) -> 0 | M17: ='Nomenclature & Données'!I25 -> 0 | N17: =MAX(0,-N16/(1-E17)) -> 3 | O17: ='Nomenclature & Données'!K25 -> 0 | P17: =MAX(0,-P16/(1-E17)) -> 0 | Q17: ='Nomenclature & Données'!M25 -> 0 | R17: =MAX(0,-R16/(1-E17)) -> 49 | S17: ='Nomenclature & Données'!O25 -> 0 | T17: =MAX(0,-T16/(1-E17)) -> 0 | U17: ='Nomenclature & Données'!Q25 -> 0 | V17: =MAX(0,-V16/(1-E17)) -> 111 | W17: ='Nomenclature & Données'!S25 -> 0 | X17: =MAX(0,-X16/(1-E17)) -> 0
E18: ='Données techniques'!D27 -> 10 | G18: ='Nomenclature & Données'!C43 -> 0 | H18: =IF(AND($B19="Lot",$B21>0),ROUNDUP(H17/$B21,)*$B21,IF(AND($B19="LFL",$B21>0),H17,IF(AND($B19="SEUIL",$B21>0),MAX($B21,H17,0)))) -> 0 | I18: ='Nomenclature & Données'!E43 -> 0 | J18: =IF(AND($B19="Lot",$B21>0),ROUNDUP(J17/$B21,)*$B21,IF(AND($B19="LFL",$B21>0),J17,IF(AND($B19="SEUIL",$B21>0),MAX($B21,J17,0)))) -> 0 | K18: ='Nomenclature & Données'!G43 -> 0 | L18: =IF(AND($B19="Lot",$B21>0),ROUNDUP(L17/$B21,)*$B21,IF(AND($B19="LFL",$B21>0),L17,IF(AND($B19="SEUIL",$B21>0),MAX($B21,L17,0)))) -> 0 | M18: ='Nomenclature & Données'!I43 -> 0 | N18: =IF(AND($B19="Lot",$B21>0),ROUNDUP(N17/$B21,)*$B21,IF(AND($B19="LFL",$B21>0),N17,IF(AND($B19="SEUIL",$B21>0),MAX($B21,N17,0)))) -> 10 | O18: ='Nomenclature & Données'!K43 -> 0 | P18: =IF(AND($B19="Lot",$B21>0),ROUNDUP(P17/$B21,)*$B21,IF(AND($B19="LFL",$B21>0),P17,IF(AND($B19="SEUIL",$B21>0),MAX($B21,P17,0)))) -> 0 | Q18: ='Nomenclature & Données'!M43 -> 0 | R18: =IF(AND($B19="Lot",$B21>0),ROUNDUP(R17/$B21,)*$B21,IF(AND($B19="LFL",$B21>0),R17,IF(AND($B19="SEUIL",$B21>0),MAX($B21,R17,0)))) -> 50 | S18: ='Nomenclature & Données'!O43 -> 0 | T18: =IF(AND($B19="Lot",$B21>0),ROUNDUP(T17/$B21,)*$B21,IF(AND($B19="LFL",$B21>0),T17,IF(AND($B19="SEUIL",$B21>0),MAX($B21,T17,0)))) -> 0 | U18: ='Nomenclature & Données'!Q43 -> 0 | V18: =IF(AND($B19="Lot",$B21>0),ROUNDUP(V17/$B21,)*$B21,IF(AND($B19="LFL",$B21>0),V17,IF(AND($B19="SEUIL",$B21>0),MAX($B21,V17,0)))) -> 120 | W18: ='Nomenclature & Données'!S43 -> 0 | X18: =IF(AND($B19="Lot",$B21>0),ROUNDUP(X17/$B21,)*$B21,IF(AND($B19="LFL",$B21>0),X17,IF(AND($B19="SEUIL",$B21>0),MAX($B21,X17,0)))) -> 0
B19: LOT | D19: F | E19: ='Données techniques'!D22 -> 0 | G19: =OFFSET(G19,-1,(2*$D21)+1,1,1) -> 0 | H19: =H16+$E19+(H18*(1-$E17)) -> 25 | I19: =OFFSET(I19,-1,(2*$D21)+1,1,1) -> 0 | J19: =J16+$E19+(J18*(1-$E17)) -> 25 | K19: =OFFSET(K19,-1,(2*$D21)+1,1,1) -> 10 | L19: =L16+$E19+(L18*(1-$E17)) -> 25 | M19: =OFFSET(M19,-1,(2*$D21)+1,1,1) -> 0 | N19: =N16+$E19+(N18*(1-$E17)) -> 7 | O19: =OFFSET(O19,-1,(2*$D21)+1,1,1) -> 50 | P19: =P16+$E19+(P18*(1-$E17)) -> 7 | Q19: =OFFSET(Q19,-1,(2*$D21)+1,1,1) -> 0 | R19: =R16+$E19+(R18*(1-$E17)) -> 1 | S19: =OFFSET(S19,-1,(2*$D21)+1,1,1) -> 120 | T19: =T16+$E19+(T18*(1-$E17)) -> 1 | U19: =OFFSET(U19,-1,(2*$D21)+1,1,1) -> 0 | V19: =V16+$E19+(V18*(1-$E17)) -> 9 | W19: =OFFSET(W19,-1,(2*$D21)+1,1,1) -> 0 | X19: =X16+$E19+(X18*(1-$E17)) -> 9
B21: 10 | D21: 1 | E21: ='Données techniques'!D21 -> 25
B22: Produit C | E22: 3 | G22: =ROUNDUP((IF($E$22>$E$16,G$19*'Données techniques'!$E$37/(1-($E$24/100)),0))+(IF($E$22>$E$10,G$13*'Données techniques'!$D$37/(1-(MRP!$E$24/100)),0))+(IF(MRP!$E$22>MRP!$E$28,MRP!G$31*'Données techniques'!$G$37/(1-($E$24/100)),0))+(IF($E$22>$E$34,G$37*'Données techniques'!$H$37/(1-(MRP!$E$24/100)),0))+(IF(MRP!$E$22>MRP!$E$40,MRP!G$43*'Données techniques'!$I$37/(1-(MRP!$E$24/100)),0))+'Nomenclature & Données'!$C$35,0) -> 0 | H22: =ROUNDUP(E27-$E$25-G22-G24+G23*(1-(E23/100)),0) -> 0 | I22: =ROUNDUP((IF($E$22>$E$16,I$19*'Données techniques'!$E$37/(1-($E$24/100)),0))+(IF($E$22>$E$10,I$13*'Données techniques'!$D$37/(1-(MRP!$E$24/100)),0))+(IF(MRP!$E$22>MRP!$E$28,MRP!I$31*'Données techniques'!$G$37/(1-($E$24/100)),0))+(IF($E$22>$E$34,I$37*'Données techniques'!$H$37/(1-(MRP!$E$24/100)),0))+(IF(MRP!$E$22>MRP!$E$40,MRP!I$43*'Données techniques'!$I$37/(1-(MRP!$E$24/100)),0))+'Nomenclature & Données'!$E$35,0) -> 0 | J22: =ROUNDUP(H25-$E$25-I22-I24+I23*(1-(E23/100)),0) -> 0 | K22: =ROUNDUP((IF($E$22>$E$16,K$19*'Données techniques'!$E$37/(1-($E$24/100)),0))+(IF($E$22>$E$10,K$13*'Données techniques'!$D$37/(1-(MRP!$E$24/100)),0))+(IF(MRP!$E$22>MRP!$E$28,MRP!K$31*'Données techniques'!$G$37/(1-($E$24/100)),0))+(IF($E$22>$E$34,K$37*'Données techniques'!$H$37/(1-(MRP!$E$24/100)),0))+(IF(MRP!$E$22>MRP!$E$40,MRP!K$43*'Données techniques'!$I$37/(1-(MRP!$E$24/100)),0))+'Nomenclature & Données'!$G$35,0) -> 120 | L22: =ROUNDUP(J25-$E$25-K24-K22+K23*(1-(E23/100)),0) -> -120 | M22: =ROUNDUP((IF($E$22>$E$16,M$19*'Données techniques'!$E$37/(1-($E$24/100)),0))+(IF($E$22>$E$10,M$13*'Données techniques'!$D$37/(1-(MRP!$E$24/100)),0))+(IF(MRP!$E$22>MRP!$E$28,MRP!M$31*'Données techniques'!$G$37/(1-($E$24/100)),0))+(IF($E$22>$E$34,M$37*'Données techniques'!$H$37/(1-(MRP!$E$24/100)),0))+(IF(MRP!$E$22>MRP!$E$40,MRP!M$43*'Données techniques'!$I$37/(1-(MRP!$E$24/100)),0))+'Nomenclature & Données'!$I$35,0) -> 75 | N22: =ROUNDUP(L25-$E$25-M24-M22+M23*(1-(E23/100)),0) -> -75 | O22: =ROUNDUP((IF($E$22>$E$16,O$19*'Données techniques'!$E$37/(1-($E$24/100)),0))+(IF($E$22>$E$10,O$13*'Données techniques'!$D$37/(1-(MRP!$E$24/100)),0))+(IF(MRP!$E$22>MRP!$E$28,MRP!O$31*'Données techniques'!$G$37/(1-($E$24/100)),0))+(IF($E$22>$E$34,O$37*'Données techniques'!$H$37/(1-(MRP!$E$24/100)),0))+(IF(MRP!$E$22>MRP!$E$40,MRP!O$43*'Données techniques'!$I$37/(1-(MRP!$E$24/100)),0))+'Nomenclature & Données'!$K$35,0) -> 100 | P22: =ROUNDUP(N25-O24-O22-$E$25+O23*(1-(E23/100)),0) -> -100 | Q22: =ROUNDUP((IF($E$22>$E$16,Q$19*'Données techniques'!$E$37/(1-($E$24/100)),0))+(IF($E$22>$E$10,Q$13*'Données techniques'!$D$37/(1-(MRP!$E$24/100)),0))+(IF(MRP!$E$22>MRP!$E$28,MRP!Q$31*'Données techniques'!$G$37/(1-($E$24/100)),0))+(IF($E$22>$E$34,Q$37*'Données techniques'!$H$37/(1-(MRP!$E$24/100)),0))+(IF(MRP!$E$22>MRP!$E$40,MRP!Q$43*'Données techniques'!$I$37/(1-(MRP!$E$24/100)),0))+'Nomenclature & Données'!$M$35,0) -> 150 | R22: =ROUNDUP(P25-$E$25-Q24-Q22+Q23*(1-(E23/100)),0) -> -150 | S22: =ROUNDUP((IF($E$22>$E$16,S$19*'Données techniques'!$E$37/(1-($E$24/100)),0))+(IF($E$22>$E$10,S$13*'Données techniques'!$D$37/(1-(MRP!$E$24/100)),0))+(IF(MRP!$E$22>MRP!$E$28,MRP!S$31*'Données techniques'!$G$37/(1-($E$24/100)),0))+(IF($E$22>$E$34,S$37*'Données techniques'!$H$37/(1-(MRP!$E$24/100)),0))+(IF(MRP!$E$22>MRP!$E$40,MRP!S$43*'Données techniques'!$I$37/(1-(MRP!$E$24/100)),0))+'Nomenclature & Données'!$O$35,0) -> 240 | T22: =ROUNDUP(R25-$E$25-S24-S22+S23*(1-(E23/100)),0) -> -240 | U22: =ROUNDUP((IF($E$22>$E$16,U$19*'Données techniques'!$E$37/(1-($E$24/100)),0))+(IF($E$22>$E$10,U$13*'Données techniques'!$D$37/(1-(MRP!$E$24/100)),0))+(IF(MRP!$E$22>MRP!$E$28,MRP!U$31*'Données techniques'!$G$37/(1-($E$24/100)),0))+(IF($E$22>$E$34,U$37*'Données techniques'!$H$37/(1-(MRP!$E$24/100)),0))+(IF(MRP!$E$22>MRP!$E$40,MRP!U$43*'Données techniques'!$I$37/(1-(MRP!$E$24/100)),0))+'Nomenclature & Données'!$Q$35,0) -> 300 | V22: =ROUNDUP(T25-$E$25-U22-U24+U23*(1-(E23/100)),0) -> -300 | W22: =ROUNDUP((IF($E$22>$E$16,W$19*'Données techniques'!$E$37/(1-($E$24/100)),0))+(IF($E$22>$E$10,W$13*'Données techniques'!$D$37/(1-(MRP!$E$24/100)),0))+(IF(MRP!$E$22>MRP!$E$28,MRP!W$31*'Données techniques'!$G$37/(1-($E$24/100)),0))+(IF($E$22>$E$34,W$37*'Données techniques'!$H$37/(1-(MRP!$E$24/100)),0))+(IF(MRP!$E$22>MRP!$E$40,MRP!W$43*'Données techniques'!$I$37/(1-(MRP!$E$24/100)),0))+'Nomenclature & Données'!$S$35,0) -> 0 | X22: =ROUNDUP(V25-$E$25-W24-W22+W23*(1-(E23/100)),0) -> 0
E23: ='Données techniques'!E26 -> 0 | G23: ='Nomenclature & Données'!C26 -> 0 | H23: =MAX(0,-H22/(1-E23)) -> 0 | I23: ='Nomenclature & Données'!E26 -> 0 | J23: =MAX(0,-J22/(1-E23)) -> 0 | K23: ='Nomenclature & Données'!G26 -> 0 | L23: =MAX(0,-L22/(1-E23)) -> 120 | M23: ='Nomenclature & Données'!I26 -> 0 | N23: =MAX(0,-N22/(1-E23)) -> 75 | O23: ='Nomenclature & Données'!K26 -> 0 | P23: =MAX(0,-P22/(1-E23)) -> 100 | Q23: ='Nomenclature & Données'!M26 -> 0 | R23: =MAX(0,-R22/(1-E23)) -> 150 | S23: ='Nomenclature & Données'!O26 -> 0 | T23: =MAX(0,-T22/(1-E23)) -> 240 | U23: ='Nomenclature & Données'!Q26 -> 0 | V23: =MAX(0,-V22/(1-E23)) -> 300 | W23: ='Nomenclature & Données'!S26 -> 0 | X23: =MAX(0,-X22/(1-E23)) -> 0
E24: ='Données techniques'!E27 -> 0 | G24: ='Nomenclature & Données'!C44 -> 0 | H24: =IF(AND($B25="Lot",$B27>0),ROUNDUP(H23/$B27,)*$B27,IF(AND($B25="LFL",$B27>0),H23,IF(AND($B25="SEUIL",$B27>0),MAX($B27,H23,0)))) -> 0 | I24: ='Nomenclature & Données'!E44 -> 0 | J24: =IF(AND($B25="Lot",$B27>0),ROUNDUP(J23/$B27,)*$B27,IF(AND($B25="LFL",$B27>0),J23,IF(AND($B25="SEUIL",$B27>0),MAX($B27,J23,0)))) -> 0 | K24: ='Nomenclature & Données'!G44 -> 0 | L24: =IF(AND($B25="Lot",$B27>0),ROUNDUP(L23/$B27,)*$B27,IF(AND($B25="LFL",$B27>0),L23,IF(AND($B25="SEUIL",$B27>0),MAX($B27,L23,0)))) -> 120 | M24: ='Nomenclature & Données'!I44 -> 0 | N24: =IF(AND($B25="Lot",$B27>0),ROUNDUP(N23/$B27,)*$B27,IF(AND($B25="LFL",$B27>0),N23,IF(AND($B25="SEUIL",$B27>0),MAX($B27,N23,0)))) -> 75 | O24: ='Nomenclature & Données'!K44 -> 0 | P24: =IF(AND($B25="Lot",$B27>0),ROUNDUP(P23/$B27,)*$B27,IF(AND($B25="LFL",$B27>0),P23,IF(AND($B25="SEUIL",$B27>0),MAX($B27,P23,0)))) -> 100 | Q24: ='Nomenclature & Données'!M44 -> 0 | R24: =IF(AND($B25="Lot",$B27>0),ROUNDUP(R23/$B27,)*$B27,IF(AND($B25="LFL",$B27>0),R23,IF(AND($B25="SEUIL",$B27>0),MAX($B27,R23,0)))) -> 150 | S24: ='Nomenclature & Données'!O44 -> 0 | T24: =IF(AND($B25="Lot",$B27>0),ROUNDUP(T23/$B27,)*$B27,IF(AND($B25="LFL",$B27>0),T23,IF(AND($B25="SEUIL",$B27>0),MAX($B27,T23,0)))) -> 240 | U24: ='Nomenclature & Données'!Q44 -> 0 | V24: =IF(AND($B25="Lot",$B27>0),ROUNDUP(V23/$B27,)*$B27,IF(AND($B25="LFL",$B27>0),V23,IF(AND($B25="SEUIL",$B27>0),MAX($B27,V23,0)))) -> 300 | W24: ='Nomenclature & Données'!S44 -> 0 | X24: =IF(AND($B25="Lot",$B27>0),ROUNDUP(X23/$B27,)*$B27,IF(AND($B25="LFL",$B27>0),X23,IF(AND($B25="SEUIL",$B27>0),MAX($B27,X23,0)))) -> 0
B25: LFL | D25: F | E25: ='Données techniques'!E22 -> 5 | G25: =OFFSET(G25,-1,(2*$D27)+1,1,1) -> 120 | H25: =H22+$E25+(H24*(1-$E23)) -> 5 | I25: =OFFSET(I25,-1,(2*$D27)+1,1,1) -> 75 | J25: =J22+$E25+(J24*(1-$E23)) -> 5 | K25: =OFFSET(K25,-1,(2*$D27)+1,1,1) -> 100 | L25: =L22+$E25+(L24*(1-$E23)) -> 5 | M25: =OFFSET(M25,-1,(2*$D27)+1,1,1) -> 150 | N25: =N22+$E25+(N24*(1-$E23)) -> 5 | O25: =OFFSET(O25,-1,(2*$D27)+1,1,1) -> 240 | P25: =P22+$E25+(P24*(1-$E23)) -> 5 | Q25: =OFFSET(Q25,-1,(2*$D27)+1,1,1) -> 300 | R25: =R22+$E25+(R24*(1-$E23)) -> 5 | S25: =OFFSET(S25,-1,(2*$D27)+1,1,1) -> 0 | T25: =T22+$E25+(T24*(1-$E23)) -> 5 | U25: =OFFSET(U25,-1,(2*$D27)+1,1,1) -> 0 | V25: =V22+$E25+(V24*(1-$E23)) -> 5 | W25: =OFFSET(W25,-1,(2*$D27)+1,1,1) -> 0 | X25: =X22+$E25+(X24*(1-$E23)) -> 5
B27: Lot | D27: 2 | E27: ='Données techniques'!E21 -> 5
B28: Produit D | E28: 4 | G28: =ROUNDUP((IF($E$28>$E$22,G$25*'Données techniques'!$F$39/(1-($E$30/100)),0))+(IF($E$28>$E$16,G$19*'Données techniques'!$E$39/(1-(MRP!$E$30/100)),0))+(IF(MRP!$E$28>MRP!$E$10,MRP!G$13*'Données techniques'!$D$39/(1-($E$30/100)),0))+(IF($E$28>$E$34,G$37*'Données techniques'!$H$39/(1-(MRP!$E$30/100)),0))+(IF(MRP!$E$28>MRP!$E$40,MRP!G$43*'Données techniques'!I39/(1-(MRP!$E$30/100)),0))+'Nomenclature & Données'!C36,0) -> 0 | H28: =ROUNDUP(E33-$E$31-G30-G28+G29*(1-(E29/100)),0) -> 25 | I28: =ROUNDUP((IF($E$28>$E$22,I$25*'Données techniques'!$F$39/(1-($E$30/100)),0))+(IF($E$28>$E$16,I$19*'Données techniques'!$E$39/(1-(MRP!$E$30/100)),0))+(IF(MRP!$E$28>MRP!$E$10,MRP!I$13*'Données techniques'!$D$39/(1-($E$30/100)),0))+(IF($E$28>$E$34,I$37*'Données techniques'!$H$39/(1-(MRP!$E$30/100)),0))+(IF(MRP!$E$28>MRP!$E$40,MRP!I$43*'Données techniques'!I39/(1-(MRP!$E$30/100)),0))+'Nomenclature & Données'!E36,0) -> 0 | J28: =ROUNDUP(H31-$E$31-I30-I28+I29*(1-(E29/100)),0) -> -35 | K28: =ROUNDUP((IF($E$28>$E$22,K$25*'Données techniques'!$F$39/(1-($E$30/100)),0))+(IF($E$28>$E$16,K$19*'Données techniques'!$E$39/(1-(MRP!$E$30/100)),0))+(IF(MRP!$E$28>MRP!$E$10,MRP!K$13*'Données techniques'!$D$39/(1-($E$30/100)),0))+(IF($E$28>$E$34,K$37*'Données techniques'!$H$39/(1-(MRP!$E$30/100)),0))+(IF(MRP!$E$28>MRP!$E$40,MRP!K$43*'Données techniques'!I39/(1-(MRP!$E$30/100)),0))+'Nomenclature & Données'!G36,0) -> 30 | L28: =ROUNDUP(J31-$E$31-K28-K30+K29*(1-(E29/100)),0) -> -125 | M28: =ROUNDUP((IF($E$28>$E$22,M$25*'Données techniques'!$F$39/(1-($E$30/100)),0))+(IF($E$28>$E$16,M$19*'Données techniques'!$E$39/(1-(MRP!$E$30/100)),0))+(IF(MRP!$E$28>MRP!$E$10,MRP!M$13*'Données techniques'!$D$39/(1-($E$30/100)),0))+(IF($E$28>$E$34,M$37*'Données techniques'!$H$39/(1-(MRP!$E$30/100)),0))+(IF(MRP!$E$28>MRP!$E$40,MRP!M$43*'Données techniques'!I39/(1-(MRP!$E$30/100)),0))+'Nomenclature & Données'!I36,0) -> 0 | N28: =ROUNDUP(L31-$E$31-M30-M28+M29*(1-(E29/100)),0) -> -235 | O28: =ROUNDUP((IF($E$28>$E$22,O$25*'Données techniques'!$F$39/(1-($E$30/100)),0))+(IF($E$28>$E$16,O$19*'Données techniques'!$E$39/(1-(MRP!$E$30/100)),0))+(IF(MRP!$E$28>MRP!$E$10,MRP!O$13*'Données techniques'!$D$39/(1-($E$30/100)),0))+(IF($E$28>$E$34,O$37*'Données techniques'!$H$39/(1-(MRP!$E$30/100)),0))+(IF(MRP!$E$28>MRP!$E$40,MRP!O$43*'Données techniques'!I39/(1-(MRP!$E$30/100)),0))+'Nomenclature & Données'!K36,0) -> 150 | P28: =ROUNDUP(N31-$E$31-O30-O28+O29*(1-(E29/100)),0) -> -445 | Q28: =ROUNDUP((IF($E$28>$E$22,Q$25*'Données techniques'!$F$39/(1-($E$30/100)),0))+(IF($E$28>$E$16,Q$19*'Données techniques'!$E$39/(1-(MRP!$E$30/100)),0))+(IF(MRP!$E$28>MRP!$E$10,MRP!Q$13*'Données techniques'!$D$39/(1-($E$30/100)),0))+(IF($E$28>$E$34,Q$37*'Données techniques'!$H$39/(1-(MRP!$E$30/100)),0))+(IF(MRP!$E$28>MRP!$E$40,MRP!Q$43*'Données techniques'!I39/(1-(MRP!$E$30/100)),0))+'Nomenclature & Données'!M36,0) -> 0 | R28: =ROUNDUP(P31-Q30-Q28-$E$31+Q29*(1-(E29/100)),0) -> -505 | S28: =ROUNDUP((IF($E$28>$E$22,S$25*'Données techniques'!$F$39/(1-($E$30/100)),0))+(IF($E$28>$E$16,S$19*'Données techniques'!$E$39/(1-(MRP!$E$30/100)),0))+(IF(MRP!$E$28>MRP!$E$10,MRP!S$13*'Données techniques'!$D$39/(1-($E$30/100)),0))+(IF($E$28>$E$34,S$37*'Données techniques'!$H$39/(1-(MRP!$E$30/100)),0))+(IF(MRP!$E$28>MRP!$E$40,MRP!S$43*'Données techniques'!I39/(1-(MRP!$E$30/100)),0))+'Nomenclature & Données'!O36,0) -> 360 | T28: =ROUNDUP(R31-S30-S28+S29*(1-(E29/100))-$E$31,0) -> -925 | U28: =ROUNDUP((IF($E$28>$E$22,U$25*'Données techniques'!$F$39/(1-($E$30/100)),0))+(IF($E$28>$E$16,U$19*'Données techniques'!$E$39/(1-(MRP!$E$30/100)),0))+(IF(MRP!$E$28>MRP!$E$10,MRP!U$13*'Données techniques'!$D$39/(1-($E$30/100)),0))+(IF($E$28>$E$34,U$37*'Données techniques'!$H$39/(1-(MRP!$E$30/100)),0))+(IF(MRP!$E$28>MRP!$E$40,MRP!U$43*'Données techniques'!I39/(1-(MRP!$E$30/100)),0))+'Nomenclature & Données'!Q36,0) -> 0 | V28: =ROUNDUP(T31-U30-U28+U29*(1-(E29/100))-$E$31,0) -> -985 | W28: =ROUNDUP((IF($E$28>$E$22,W$25*'Données techniques'!$F$39/(1-($E$30/100)),0))+(IF($E$28>$E$16,W$19*'Données techniques'!$E$39/(1-(MRP!$E$30/100)),0))+(IF(MRP!$E$28>MRP!$E$10,MRP!W$13*'Données techniques'!$D$39/(1-($E$30/100)),0))+(IF($E$28>$E$34,W$37*'Données techniques'!$H$39/(1-(MRP!$E$30/100)),0))+(IF(MRP!$E$28>MRP!$E$40,MRP!W$43*'Données techniques'!I39/(1-(MRP!$E$30/100)),0))+'Nomenclature & Données'!S36,0) -> 0 | X28: =ROUNDUP(V31-W30-W28+W29*(1-(E29/100))-$E$31,0) -> -1045
E29: ='Données techniques'!F26 -> 5 | G29: ='Nomenclature & Données'!C27 -> 0 | H29: =MAX(0,-H28/(1-E29)) -> 6.25 | I29: ='Nomenclature & Données'!E27 -> 0 | J29: =MAX(0,-J28/(1-E29)) -> 0 | K29: ='Nomenclature & Données'!G27 -> 0 | L29: =MAX(0,-L28/(1-E29)) -> 0 | M29: ='Nomenclature & Données'!I27 -> 0 | N29: =MAX(0,-N28/(1-E29)) -> 0 | O29: ='Nomenclature & Données'!K27 -> 0 | P29: =MAX(0,-P28/(1-E29)) -> 0 | Q29: ='Nomenclature & Données'!M27 -> 0 | R29: =MAX(0,-R28/(1-E29)) -> 0 | S29: ='Nomenclature & Données'!O27 -> 0 | T29: =MAX(0,-T2/(1-E29)) -> 0 | U29: ='Nomenclature & Données'!Q27 -> 0 | V29: =MAX(0,-V28/(1-E29)) -> 0 | W29: ='Nomenclature & Données'!S27 -> 0 | X29: =MAX(0,-X28/(1-E29)) -> 0
E30: ='Données techniques'!F27 -> 0 | G30: ='Nomenclature & Données'!C45 -> 0 | H30: =IF(AND($B31="Lot",$B33>0),ROUNDUP(H29/$B33,)*$B33,IF(AND($B31="LFL",$B33>0),H29,IF(AND($B31="SEUIL",$B33>0),MAX($B33,H29,0)))) -> 15 | I30: ='Nomenclature & Données'!E45 -> 0 | J30: =IF(AND($B31="Lot",$B33>0),ROUNDUP(J29/$B33,)*$B33,IF(AND($B31="LFL",$B33>0),J29,IF(AND($B31="SEUIL",$B33>0),MAX($B33,J29,0)))) -> 15 | K30: ='Nomenclature & Données'!G45 -> 0 | L30: =IF(AND($B31="Lot",$B33>0),ROUNDUP(L29/$B33,)*$B33,IF(AND($B31="LFL",$B33>0),L29,IF(AND($B31="SEUIL",$B33>0),MAX($B33,L29,0)))) -> 15 | M30: ='Nomenclature & Données'!I45 -> 50 | N30: =IF(AND($B31="Lot",$B33>0),ROUNDUP(N29/$B33,)*$B33,IF(AND($B31="LFL",$B33>0),N29,IF(AND($B31="SEUIL",$B33>0),MAX($B33,N29,0)))) -> 15 | O30: ='Nomenclature & Données'!K45 -> 0 | P30: =IF(AND($B31="Lot",$B33>0),ROUNDUP(P29/$B33,)*$B33,IF(AND($B31="LFL",$B33>0),P29,IF(AND($B31="SEUIL",$B33>0),MAX($B33,P29,0)))) -> 15 | Q30: ='Nomenclature & Données'!M45 -> 0 | R30: =IF(AND($B31="Lot",$B33>0),ROUNDUP(R29/$B33,)*$B33,IF(AND($B31="LFL",$B33>0),R29,IF(AND($B31="SEUIL",$B33>0),MAX($B33,R29,0)))) -> 15 | S30: ='Nomenclature & Données'!O45 -> 0 | T30: =IF(AND($B31="Lot",$B33>0),ROUNDUP(T29/$B33,)*$B33,IF(AND($B31="LFL",$B33>0),T29,IF(AND($B31="SEUIL",$B33>0),MAX($B33,T29,0)))) -> 15 | U30: ='Nomenclature & Données'!Q45 -> 0 | V30: =IF(AND($B31="Lot",$B33>0),ROUNDUP(V29/$B33,)*$B33,IF(AND($B31="LFL",$B33>0),V29,IF(AND($B31="SEUIL",$B33>0),MAX($B33,V29,0)))) -> 15 | W30: ='Nomenclature & Données'!S45 -> 0 | X30: =IF(AND($B31="Lot",$B33>0),ROUNDUP(X29/$B33,)*$B33,IF(AND($B31="LFL",$B33>0),X29,IF(AND($B31="SEUIL",$B33>0),MAX($B33,X29,0)))) -> 15
B31: SEUIL | D31: A | E31: ='Données techniques'!F22 -> 0 | G31: =OFFSET(G31,-1,(2*$D33)+1,1,1) -> 15 | H31: =H28+$E31+(H30*(1-$E29)) -> -35 | I31: =OFFSET(I31,-1,(2*$D33)+1,1,1) -> 15 | J31: =J28+$E31+(J30*(1-$E29)) -> -95 | K31: =OFFSET(K31,-1,(2*$D33)+1,1,1) -> 15 | L31: =L28+$E31+(L30*(1-$E29)) -> -185 | M31: =OFFSET(M31,-1,(2*$D33)+1,1,1) -> 15 | N31: =N28+$E31+(N30*(1-$E29)) -> -295 | O31: =OFFSET(O31,-1,(2*$D33)+1,1,1) -> 15 | P31: =P28+$E31+(P30*(1-$E29)) -> -505 | Q31: =OFFSET(Q31,-1,(2*$D33)+1,1,1) -> 15 | R31: =R28+$E31+(R30*(1-$E29)) -> -565 | S31: =OFFSET(S31,-1,(2*$D33)+1,1,1) -> 15 | T31: =T28+$E31+(T30*(1-$E29)) -> -985 | U31: =OFFSET(U31,-1,(2*$D33)+1,1,1) -> 0 | V31: =V28+$E31+(V30*(1-$E29)) -> -1045 | W31: =OFFSET(W31,-1,(2*$D33)+1,1,1) -> 0 | X31: =X28+$E31+(X30*(1-$E29)) -> -1105
B33: 15 | D33: 2 | E33: ='Données techniques'!F21 -> 25
B34: Produit E | E34: 4 | G34: =ROUNDUP((IF(MRP!$E$34>$E$28,G$31*'Données techniques'!G41/(1-($E$36/100)),0))+(IF($E$34>$E$22,G$25*'Données techniques'!F41/(1-($E$36/100)),0))+(IF(MRP!$E$34>MRP!$E$16,MRP!G$19*'Données techniques'!E41/(1-($E$36/100)),0))+(IF($E$34>$E$10,G$13*'Données techniques'!D41/(1-($E$36/100)),0))+(IF(MRP!$E$34>MRP!$E$40,MRP!G$43*'Données techniques'!I41/(1-($E$36/100)),0))+'Nomenclature & Données'!C37,0) -> 360 | H34: =ROUNDUP(E39-$E$37-G36-G34+G35*(1-(E35/100)),0) -> -60 | I34: =ROUNDUP((IF(MRP!$E$34>$E$28,I$31*'Données techniques'!G41/(1-($E$36/100)),0))+(IF($E$34>$E$22,I$25*'Données techniques'!F41/(1-($E$36/100)),0))+(IF(MRP!$E$34>MRP!$E$16,MRP!I$19*'Données techniques'!E41/(1-($E$36/100)),0))+(IF($E$34>$E$10,I$13*'Données techniques'!D41/(1-($E$36/100)),0))+(IF(MRP!$E$34>MRP!$E$40,MRP!I$43*'Données techniques'!I41/(1-($E$36/100)),0))+'Nomenclature & Données'!E37,0) -> 225 | J34: =ROUNDUP(H37-I36-I34-$E$37+I35*(1-(E35/100)),0) -> -175 | K34: =ROUNDUP((IF(MRP!$E$34>$E$28,K$31*'Données techniques'!G41/(1-($E$36/100)),0))+(IF($E$34>$E$22,K$25*'Données techniques'!F41/(1-($E$36/100)),0))+(IF(MRP!$E$34>MRP!$E$16,MRP!K$19*'Données techniques'!E41/(1-($E$36/100)),0))+(IF($E$34>$E$10,K$13*'Données techniques'!D41/(1-($E$36/100)),0))+(IF(MRP!$E$34>MRP!$E$40,MRP!K$43*'Données techniques'!I41/(1-($E$36/100)),0))+'Nomenclature & Données'!G37,0) -> 300 | L34: =ROUNDUP(J37-K36-K34+K35*(1-(E35/100))-$E$37,0) -> -300 | M34: =ROUNDUP((IF(MRP!$E$34>$E$28,M$31*'Données techniques'!G41/(1-($E$36/100)),0))+(IF($E$34>$E$22,M$25*'Données techniques'!F41/(1-($E$36/100)),0))+(IF(MRP!$E$34>MRP!$E$16,MRP!M$19*'Données techniques'!E41/(1-($E$36/100)),0))+(IF($E$34>$E$10,M$13*'Données techniques'!D41/(1-($E$36/100)),0))+(IF(MRP!$E$34>MRP!$E$40,MRP!M$43*'Données techniques'!I41/(1-($E$36/100)),0))+'Nomenclature & Données'!I37,0) -> 500 | N34: =ROUNDUP(L37-M36-M34-$E$37+M35*(1-(E35/100)),0) -> -500 | O34: =ROUNDUP((IF(MRP!$E$34>$E$28,O$31*'Données techniques'!G41/(1-($E$36/100)),0))+(IF($E$34>$E$22,O$25*'Données techniques'!F41/(1-($E$36/100)),0))+(IF(MRP!$E$34>MRP!$E$16,MRP!O$19*'Données techniques'!E41/(1-($E$36/100)),0))+(IF($E$34>$E$10,O$13*'Données techniques'!D41/(1-($E$36/100)),0))+(IF(MRP!$E$34>MRP!$E$40,MRP!O$43*'Données techniques'!I41/(1-($E$36/100)),0))+'Nomenclature & Données'!K37,0) -> 720 | P34: =ROUNDUP(N37-$E$37-O36-O34+O35*(1-(E35/100)),0) -> -750 | Q34: =ROUNDUP((IF(MRP!$E$34>$E$28,Q$31*'Données techniques'!G41/(1-($E$36/100)),0))+(IF($E$34>$E$22,Q$25*'Données techniques'!F41/(1-($E$36/100)),0))+(IF(MRP!$E$34>MRP!$E$16,MRP!Q$19*'Données techniques'!E41/(1-($E$36/100)),0))+(IF($E$34>$E$10,Q$13*'Données techniques'!D41/(1-($E$36/100)),0))+(IF(MRP!$E$34>MRP!$E$40,MRP!Q$43*'Données techniques'!I41/(1-($E$36/100)),0))+'Nomenclature & Données'!M37,0) -> 1000 | R34: =ROUNDUP(P37-Q36-Q34+Q35*(1-(E35/100))-$E$37,0) -> -1000 | S34: =ROUNDUP((IF(MRP!$E$34>$E$28,S$31*'Données techniques'!G41/(1-($E$36/100)),0))+(IF($E$34>$E$22,S$25*'Données techniques'!F41/(1-($E$36/100)),0))+(IF(MRP!$E$34>MRP!$E$16,MRP!S$19*'Données techniques'!E41/(1-($E$36/100)),0))+(IF($E$34>$E$10,S$13*'Données techniques'!D41/(1-($E$36/100)),0))+(IF(MRP!$E$34>MRP!$E$40,MRP!S$43*'Données techniques'!I41/(1-($E$36/100)),0))+'Nomenclature & Données'!O37,0) -> 0 | T34: =ROUNDUP(R37-S36-S34+S35*(1-(E35/100))-$E$37,0) -> 0 | U34: =ROUNDUP((IF(MRP!$E$34>$E$28,U$31*'Données techniques'!G41/(1-($E$36/100)),0))+(IF($E$34>$E$22,U$25*'Données techniques'!F41/(1-($E$36/100)),0))+(IF(MRP!$E$34>MRP!$E$16,MRP!U$19*'Données techniques'!E41/(1-($E$36/100)),0))+(IF($E$34>$E$10,U$13*'Données techniques'!D41/(1-($E$36/100)),0))+(IF(MRP!$E$34>MRP!$E$40,MRP!U$43*'Données techniques'!I41/(1-($E$36/100)),0))+'Nomenclature & Données'!Q37,0) -> 200 | V34: =ROUNDUP(T37-U36-U34+U35*(1-(E35/100))-$E$37,0) -> -140 | W34: =ROUNDUP((IF(MRP!$E$34>$E$28,W$31*'Données techniques'!G41/(1-($E$36/100)),0))+(IF($E$34>$E$22,W$25*'Données techniques'!F41/(1-($E$36/100)),0))+(IF(MRP!$E$34>MRP!$E$16,MRP!W$19*'Données techniques'!E41/(1-($E$36/100)),0))+(IF($E$34>$E$10,W$13*'Données techniques'!D41/(1-($E$36/100)),0))+(IF(MRP!$E$34>MRP!$E$40,MRP!W$43*'Données techniques'!I41/(1-($E$36/100)),0))+'Nomenclature & Données'!S37,0) -> 0 | X34: =ROUNDUP(V37-W34-W36+W35*(1-(E35/100))-$E$37,0) -> 0
E35: ='Données techniques'!G26 -> 0 | G35: ='Nomenclature & Données'!C28 -> 0 | H35: =MAX(0,-H34/(1-E35)) -> 60 | I35: ='Nomenclature & Données'!E28 -> 50 | J35: =MAX(0,-J34/(1-E35)) -> 175 | K35: ='Nomenclature & Données'!G28 -> 0 | L35: =MAX(0,-L34/(1-E35)) -> 300 | M35: ='Nomenclature & Données'!I28 -> 0 | N35: =MAX(0,-N34/(1-E35)) -> 500 | O35: ='Nomenclature & Données'!K28 -> 0 | P35: =MAX(0,-P34/(1-E35)) -> 750 | Q35: ='Nomenclature & Données'!M28 -> 0 | R35: =MAX(0,-R34/(1-E35)) -> 1000 | S35: ='Nomenclature & Données'!O28 -> 0 | T35: =MAX(0,-H34/(1-E35)) -> 60 | U35: ='Nomenclature & Données'!Q28 -> 0 | V35: =MAX(0,-V34/(1-E35)) -> 140 | W35: ='Nomenclature & Données'!S28 -> 0 | X35: =MAX(0,-X34/(1-E35)) -> 0
E36: ='Données techniques'!G27 -> 0 | G36: ='Nomenclature & Données'!C46 -> 0 | H36: =IF(AND($B37="Lot",$B39>0),ROUNDUP(H35/$B39,)*$B39,IF(AND($B37="LFL",$B39>0),H35,IF(AND($B37="SEUIL",$B39>0),MAX($B39,H35,0)))) -> 60 | I36: ='Nomenclature & Données'!E46 -> 0 | J36: =IF(AND($B37="Lot",$B39>0),ROUNDUP(J35/$B39,)*$B39,IF(AND($B37="LFL",$B39>0),J35,IF(AND($B37="SEUIL",$B39>0),MAX($B39,J35,0)))) -> 175 | K36: ='Nomenclature & Données'!G46 -> 0 | L36: =IF(AND($B37="Lot",$B39>0),ROUNDUP(L35/$B39,)*$B39,IF(AND($B37="LFL",$B39>0),L35,IF(AND($B37="SEUIL",$B39>0),MAX($B39,L35,0)))) -> 300 | M36: ='Nomenclature & Données'!I46 -> 0 | N36: =IF(AND($B37="Lot",$B39>0),ROUNDUP(N35/$B39,)*$B39,IF(AND($B37="LFL",$B39>0),N35,IF(AND($B37="SEUIL",$B39>0),MAX($B39,N35,0)))) -> 500 | O36: ='Nomenclature & Données'!K46 -> 30 | P36: =IF(AND($B37="Lot",$B39>0),ROUNDUP(P35/$B39,)*$B39,IF(AND($B37="LFL",$B39>0),P35,IF(AND($B37="SEUIL",$B39>0),MAX($B39,P35,0)))) -> 750 | Q36: ='Nomenclature & Données'!M46 -> 0 | R36: =IF(AND($B37="Lot",$B39>0),ROUNDUP(R35/$B39,)*$B39,IF(AND($B37="LFL",$B39>0),R35,IF(AND($B37="SEUIL",$B39>0),MAX($B39,R35,0)))) -> 1000 | S36: ='Nomenclature & Données'!O46 -> 0 | T36: =IF(AND($B37="Lot",$B39>0),ROUNDUP(T35/$B39,)*$B39,IF(AND($B37="LFL",$B39>0),T35,IF(AND($B37="SEUIL",$B39>0),MAX($B39,T35,0)))) -> 60 | U36: ='Nomenclature & Données'!Q46 -> 0 | V36: =IF(AND($B37="Lot",$B39>0),ROUNDUP(V35/$B39,)*$B39,IF(AND($B37="LFL",$B39>0),V35,IF(AND($B37="SEUIL",$B39>0),MAX($B39,V35,0)))) -> 140 | W36: ='Nomenclature & Données'!S46 -> 0 | X36: =IF(AND($B37="Lot",$B39>0),ROUNDUP(X35/$B39,)*$B39,IF(AND($B37="LFL",$B39>0),X35,IF(AND($B37="SEUIL",$B39>0),MAX($B39,X35,0)))) -> 0
B37: LFL | D37: A | E37: ='Données techniques'!G22 -> 0 | G37: =OFFSET(G39,-1,(2*$D39)+1,1,1) -> 0 | H37: =H34+$E37+(H36*(1-$E35)) -> 0 | I37: =OFFSET(I39,-1,(2*$D39)+1,1,1) -> 0 | J37: =J34+$E37+(J36*(1-$E35)) -> 0 | K37: =OFFSET(K39,-1,(2*$D39)+1,1,1) -> 0 | L37: =L34+$E37+(L36*(1-$E35)) -> 0 | M37: =OFFSET(M39,-1,(2*$D39)+1,1,1) -> 0 | N37: =N34+$E37+(N36*(1-$E35)) -> 0 | O37: =OFFSET(O39,-1,(2*$D39)+1,1,1) -> 0 | P37: =P34+$E37+(P36*(1-$E35)) -> 0 | Q37: =OFFSET(Q39,-1,(2*$D39)+1,1,1) -> 0 | R37: =R34+$E37+(R36*(1-$E35)) -> 0 | S37: =OFFSET(S39,-1,(2*$D39)+1,1,1) -> 0 | T37: =T34+$E37+(T36*(1-$E35)) -> 60 | U37: =OFFSET(U39,-1,(2*$D39)+1,1,1) -> 0 | V37: =V34+$E37+(V36*(1-$E35)) -> 0 | W37: =OFFSET(W39,-1,(2*$D39)+1,1,1) -> 0 | X37: =X34+$E37+(X36*(1-$E35)) -> 0
B39: Lot | D39: 1 | E39: ='Données techniques'!G21 -> 300
B40: Produit F | E40: 4 | G40: =ROUNDUP((IF(MRP!$E$40>$E$34,G$37*'Données techniques'!H43/(1-($E$42/100)),0))+(IF($E$40>$E$28,G$31*'Données techniques'!G43/(1-($E$42/100)),0))+(IF(MRP!$E$40>MRP!$E$22,MRP!G$25*'Données techniques'!F43/(1-($E$42/100)),0))+(IF($E$40>$E$16,G$19*'Données techniques'!E43/(1-($E$42/100)),0))+(IF(MRP!$E$40>MRP!$E$10,MRP!G$13*'Données techniques'!D43/(1-($E$42/100)),0))+'Nomenclature & Données'!C38,0) -> 120 | H40: =ROUNDUP(E45-$E$43-G42-G40+G41*(1-(E41/100)),0) -> -45 | I40: =ROUNDUP((IF(MRP!$E$40>$E$34,I$37*'Données techniques'!H43/(1-($E$42/100)),0))+(IF($E$40>$E$28,I$31*'Données techniques'!G43/(1-($E$42/100)),0))+(IF(MRP!$E$40>MRP!$E$22,MRP!I$25*'Données techniques'!F43/(1-($E$42/100)),0))+(IF($E$40>$E$16,I$19*'Données techniques'!E43/(1-($E$42/100)),0))+(IF(MRP!$E$40>MRP!$E$10,MRP!I$13*'Données techniques'!D43/(1-($E$42/100)),0))+'Nomenclature & Données'!E38,0) -> 75 | J40: =ROUNDUP(H43-$E$43-I42-I40+I41*(1-(E41/100)),0) -> -75 | K40: =ROUNDUP((IF(MRP!$E$40>$E$34,K$37*'Données techniques'!H43/(1-($E$42/100)),0))+(IF($E$40>$E$28,K$31*'Données techniques'!G43/(1-($E$42/100)),0))+(IF(MRP!$E$40>MRP!$E$22,MRP!K$25*'Données techniques'!F43/(1-($E$42/100)),0))+(IF($E$40>$E$16,K$19*'Données techniques'!E43/(1-($E$42/100)),0))+(IF(MRP!$E$40>MRP!$E$10,MRP!K$13*'Données techniques'!D43/(1-($E$42/100)),0))+'Nomenclature & Données'!G38,0) -> 100 | L40: =ROUNDUP(J43-K42-K40-$E$43+K41*(1-(E41/100)),0) -> -100 | M40: =ROUNDUP((IF(MRP!$E$40>$E$34,M$37*'Données techniques'!H43/(1-($E$42/100)),0))+(IF($E$40>$E$28,M$31*'Données techniques'!G43/(1-($E$42/100)),0))+(IF(MRP!$E$40>MRP!$E$22,MRP!M$25*'Données techniques'!F43/(1-($E$42/100)),0))+(IF($E$40>$E$16,M$19*'Données techniques'!E43/(1-($E$42/100)),0))+(IF(MRP!$E$40>MRP!$E$10,MRP!M$13*'Données techniques'!D43/(1-($E$42/100)),0))+'Nomenclature & Données'!I38,0) -> 150 | N40: =ROUNDUP(L43-M40-M42+M41-E43,0) -> -150 | O40: =ROUNDUP((IF(MRP!$E$40>$E$34,O$37*'Données techniques'!H43/(1-($E$42/100)),0))+(IF($E$40>$E$28,O$31*'Données techniques'!G43/(1-($E$42/100)),0))+(IF(MRP!$E$40>MRP!$E$22,MRP!O$25*'Données techniques'!F43/(1-($E$42/100)),0))+(IF($E$40>$E$16,O$19*'Données techniques'!E43/(1-($E$42/100)),0))+(IF(MRP!$E$40>MRP!$E$10,MRP!O$13*'Données techniques'!D43/(1-($E$42/100)),0))+'Nomenclature & Données'!K38,0) -> 240 | P40: =ROUNDUP(N43-O42-O40+O41*(1-(E41/100))-$E$43,0) -> -240 | Q40: =ROUNDUP((IF(MRP!$E$40>$E$34,Q$37*'Données techniques'!H43/(1-($E$42/100)),0))+(IF($E$40>$E$28,Q$31*'Données techniques'!G43/(1-($E$42/100)),0))+(IF(MRP!$E$40>MRP!$E$22,MRP!Q$25*'Données techniques'!F43/(1-($E$42/100)),0))+(IF($E$40>$E$16,Q$19*'Données techniques'!E43/(1-($E$42/100)),0))+(IF(MRP!$E$40>MRP!$E$10,MRP!Q$13*'Données techniques'!D43/(1-($E$42/100)),0))+'Nomenclature & Données'!M38,0) -> 300 | R40: =ROUNDUP(P43-Q42-Q40-$E$43+Q41*(1-(E41/100)),0) -> -300 | S40: =ROUNDUP((IF(MRP!$E$40>$E$34,S$37*'Données techniques'!H43/(1-($E$42/100)),0))+(IF($E$40>$E$28,S$31*'Données techniques'!G43/(1-($E$42/100)),0))+(IF(MRP!$E$40>MRP!$E$22,MRP!S$25*'Données techniques'!F43/(1-($E$42/100)),0))+(IF($E$40>$E$16,S$19*'Données techniques'!E43/(1-($E$42/100)),0))+(IF(MRP!$E$40>MRP!$E$10,MRP!S$13*'Données techniques'!D43/(1-($E$42/100)),0))+'Nomenclature & Données'!O38,0) -> 0 | T40: =ROUNDUP(R43-S42-S40+S41*(1-(E41/100))-$E$43,0) -> 0 | U40: =ROUNDUP((IF(MRP!$E$40>$E$34,U$37*'Données techniques'!H43/(1-($E$42/100)),0))+(IF($E$40>$E$28,U$31*'Données techniques'!G43/(1-($E$42/100)),0))+(IF(MRP!$E$40>MRP!$E$22,MRP!U$25*'Données techniques'!F43/(1-($E$42/100)),0))+(IF($E$40>$E$16,U$19*'Données techniques'!E43/(1-($E$42/100)),0))+(IF(MRP!$E$40>MRP!$E$10,MRP!U$13*'Données techniques'!D43/(1-($E$42/100)),0))+'Nomenclature & Données'!Q38,0) -> 0 | V40: =ROUNDUP(T43-U42-U40+U41*(1-(E41/100))-$E$43,0) -> 0 | W40: =ROUNDUP((IF(MRP!$E$40>$E$34,W$37*'Données techniques'!H43/(1-($E$42/100)),0))+(IF($E$40>$E$28,W$31*'Données techniques'!G43/(1-($E$42/100)),0))+(IF(MRP!$E$40>MRP!$E$22,MRP!W$25*'Données techniques'!F43/(1-($E$42/100)),0))+(IF($E$40>$E$16,W$19*'Données techniques'!E43/(1-($E$42/100)),0))+(IF(MRP!$E$40>MRP!$E$10,MRP!W$13*'Données techniques'!D43/(1-($E$42/100)),0))+'Nomenclature & Données'!S38,0) -> 0 | X40: =ROUNDUP(V43-W42-W40+W41*(1-(E41/100))-$E$43,0) -> 0
E41: ='Données techniques'!H26 -> 0 | G41: ='Nomenclature & Données'!C29 -> 75 | H41: =MAX(0,-H40/(1-E41)) -> 45 | I41: ='Nomenclature & Données'!E29 -> 0 | J41: =MAX(0,-J40/(1-E41)) -> 75 | K41: ='Nomenclature & Données'!G29 -> 0 | L41: =MAX(0,-L40/(1-E41)) -> 100 | M41: ='Nomenclature & Données'!I29 -> 0 | N41: =MAX(0,-N40/(1-E41)) -> 150 | O41: ='Nomenclature & Données'!K29 -> 0 | P41: =MAX(0,-P40/(1-E41)) -> 240 | Q41: ='Nomenclature & Données'!M29 -> 0 | R41: =MAX(0,-R40/(1-E41)) -> 300 | S41: ='Nomenclature & Données'!O29 -> 0 | T41: =MAX(0,-T40/(1-E41)) -> 0 | U41: ='Nomenclature & Données'!Q29 -> 0 | V41: =MAX(0,-V40/(1-E41)) -> 0 | W41: ='Nomenclature & Données'!S29 -> 0 | X41: =MAX(0,-J40/(1-E41)) -> 75
E42: ='Données techniques'!H27 -> 0 | G42: ='Nomenclature & Données'!C47 -> 0 | H42: =IF(AND($B43="Lot",$B45>0),ROUNDUP(H41/$B45,)*$B45,IF(AND($B43="LFL",$B45>0),H41,IF(AND($B43="SEUIL",$B45>0),MAX($B45,H41,0)))) -> 45 | I42: ='Nomenclature & Données'!E47 -> 0 | J42: =IF(AND($B43="Lot",$B45>0),ROUNDUP(J41/$B45,)*$B45,IF(AND($B43="LFL",$B45>0),J41,IF(AND($B43="SEUIL",$B45>0),MAX($B45,J41,0)))) -> 75 | K42: ='Nomenclature & Données'!G47 -> 0 | L42: =IF(AND($B43="Lot",$B45>0),ROUNDUP(L41/$B45,)*$B45,IF(AND($B43="LFL",$B45>0),L41,IF(AND($B43="SEUIL",$B45>0),MAX($B45,L41,0)))) -> 100 | M42: ='Nomenclature & Données'!I47 -> 0 | N42: =IF(AND($B43="Lot",$B45>0),ROUNDUP(N41/$B45,)*$B45,IF(AND($B43="LFL",$B45>0),N41,IF(AND($B43="SEUIL",$B45>0),MAX($B45,N41,0)))) -> 150 | O42: ='Nomenclature & Données'!K47 -> 0 | P42: =IF(AND($B43="Lot",$B45>0),ROUNDUP(P41/$B45,)*$B45,IF(AND($B43="LFL",$B45>0),P41,IF(AND($B43="SEUIL",$B45>0),MAX($B45,P41,0)))) -> 240 | Q42: ='Nomenclature & Données'!M47 -> 0 | R42: =IF(AND($B43="Lot",$B45>0),ROUNDUP(R41/$B45,)*$B45,IF(AND($B43="LFL",$B45>0),R41,IF(AND($B43="SEUIL",$B45>0),MAX($B45,R41,0)))) -> 300 | S42: ='Nomenclature & Données'!O47 -> 0 | T42: =IF(AND($B43="Lot",$B45>0),ROUNDUP(T41/$B45,)*$B45,IF(AND($B43="LFL",$B45>0),T41,IF(AND($B43="SEUIL",$B45>0),MAX($B45,T41,0)))) -> 0 | U42: ='Nomenclature & Données'!Q47 -> 0 | V42: =IF(AND($B43="Lot",$B45>0),ROUNDUP(V41/$B45,)*$B45,IF(AND($B43="LFL",$B45>0),V41,IF(AND($B43="SEUIL",$B45>0),MAX($B45,V41,0)))) -> 0 | W42: ='Nomenclature & Données'!S47 -> 0 | X42: =IF(AND($B43="Lot",$B45>0),ROUNDUP(X41/$B45,)*$B45,IF(AND($B43="LFL",$B45>0),X41,IF(AND($B43="SEUIL",$B45>0),MAX($B45,X41,0)))) -> 75
B43: LFL | D43: A | E43: ='Données techniques'!H22 -> 0 | G43: =OFFSET(G45,-1,(2*$D45)+1,1,1) -> 0 | H43: =H40+$E43+(H42*(1-$E41)) -> 0 | I43: =OFFSET(I45,-1,(2*$D45)+1,1,1) -> 0 | J43: =J40+$E43+(J42*(1-$E41)) -> 0 | K43: =OFFSET(K45,-1,(2*$D45)+1,1,1) -> 0 | L43: =L40+$E43+(L42*(1-$E41)) -> 0 | M43: =OFFSET(M45,-1,(2*$D45)+1,1,1) -> 0 | N43: =N40+$E43+(N42*(1-$E41)) -> 0 | O43: =OFFSET(O45,-1,(2*$D45)+1,1,1) -> 0 | P43: =P40+$E43+(P42*(1-$E41)) -> 0 | Q43: =OFFSET(Q45,-1,(2*$D45)+1,1,1) -> 0 | R43: =R40+$E43+(R42*(1-$E41)) -> 0 | S43: =OFFSET(S45,-1,(2*$D45)+1,1,1) -> 0 | T43: =T40+$E43+(T42*(1-$E41)) -> 0 | U43: =OFFSET(U45,-1,(2*$D45)+1,1,1) -> 0 | V43: =V40+$E43+(V42*(1-$E41)) -> 0 | W43: =OFFSET(W45,-1,(2*$D45)+1,1,1) -> 0 | X43: =X40+$E43+(X42*(1-$E41)) -> 75
B45: Lot | D45: 1 | E45: ='Données techniques'!H21 -> 0

Sheet OF & OA
B4: Semaine | C4: 7
B10: Rpl | C10: Lp | D10: Stock
A11: A | B11: =IF($C$4=1, MRP!H12,IF($C$4=2, MRP!J12,IF($C$4=3, MRP!L12,IF($C$4=4, MRP!N12,IF($C$4=5, MRP!P12,IF($C$4=6, MRP!R12,IF($C$4=7, MRP!T12,IF($C$4=8, MRP!V12,IF($C$4=9, MRP!X12,0))))))))) -> 50 | C11: =IF($C$4=1, MRP!G13,IF($C$4=2, MRP!I13,IF($C$4=3, MRP!K13,IF($C$4=4, MRP!M13,IF($C$4=5, MRP!O13,IF($C$4=6, MRP!Q13,IF($C$4=7, MRP!S13,IF($C$4=8, MRP!U13,IF($C$4=9, MRP!W13,0))))))))) -> 0 | D11: =IF($C$4=1, MRP!H13,IF($C$4=2, MRP!J13,IF($C$4=3, MRP!L13,IF($C$4=4, MRP!N13,IF($C$4=5, MRP!P13,IF($C$4=6, MRP!R13,IF($C$4=7, MRP!T13,IF($C$4=8, MRP!V13,IF($C$4=9, MRP!X13,0))))))))) -> 10
A12: B | B12: =IF($C$4=1, MRP!H18,IF($C$4=2, MRP!J18,IF($C$4=3, MRP!L18,IF($C$4=4, MRP!N18,IF($C$4=5, MRP!P18,IF($C$4=6, MRP!R18,IF($C$4=7, MRP!T18,IF($C$4=8, MRP!V18,IF($C$4=9, MRP!X18,0))))))))) -> 0 | C12: =IF($C$4=1, MRP!G19,IF($C$4=2, MRP!I19,IF($C$4=3, MRP!K19,IF($C$4=4, MRP!M19,IF($C$4=5, MRP!O19,IF($C$4=6, MRP!Q19,IF($C$4=7, MRP!S19,IF($C$4=8, MRP!U19,IF($C$4=9, MRP!W19,0))))))))) -> 120 | D12: =IF($C$4=1, MRP!H19,IF($C$4=2, MRP!J19,IF($C$4=3, MRP!L19,IF($C$4=4, MRP!N19,IF($C$4=5, MRP!P19,IF($C$4=6, MRP!R19,IF($C$4=7, MRP!T19,IF($C$4=8, MRP!V19,IF($C$4=9, MRP!X19,0))))))))) -> 1
A13: C | B13: =IF($C$4=1, MRP!H24,IF($C$4=2, MRP!J24,IF($C$4=3, MRP!L24,IF($C$4=4, MRP!N24,IF($C$4=5, MRP!P24,IF($C$4=6, MRP!R24,IF($C$4=7, MRP!T24,IF($C$4=8, MRP!V24,IF($C$4=9, MRP!X24,0))))))))) -> 240 | C13: =IF($C$4=1, MRP!G25,IF($C$4=2, MRP!I25,IF($C$4=3, MRP!K25,IF($C$4=4, MRP!M25,IF($C$4=5, MRP!O25,IF($C$4=6, MRP!Q25,IF($C$4=7, MRP!S25,IF($C$4=8, MRP!U25,IF($C$4=9, MRP!W25,0))))))))) -> 0 | D13: =IF($C$4=1, MRP!H25,IF($C$4=2, MRP!J25,IF($C$4=3, MRP!L25,IF($C$4=4, MRP!N25,IF($C$4=5, MRP!P25,IF($C$4=6, MRP!R25,IF($C$4=7, MRP!T25,IF($C$4=8, MRP!V25,IF($C$4=9, MRP!X25,0))))))))) -> 5
A14: D | B14: =IF($C$4=1, MRP!H30,IF($C$4=2, MRP!J30,IF($C$4=3, MRP!L30,IF($C$4=4, MRP!N30,IF($C$4=5, MRP!P30,IF($C$4=6, MRP!R30,IF($C$4=7, MRP!T30,IF($C$4=8, MRP!V30,IF($C$4=9, MRP!X30,0))))))))) -> 15 | C14: =IF($C$4=1, MRP!G31,IF($C$4=2, MRP!I31,IF($C$4=3, MRP!K31,IF($C$4=4, MRP!M31,IF($C$4=5, MRP!O31,IF($C$4=6, MRP!Q31,IF($C$4=7, MRP!S31,IF($C$4=8, MRP!U31,IF($C$4=9, MRP!W31,0))))))))) -> 15 | D14: =IF($C$4=1, MRP!H31,IF($C$4=2, MRP!J31,IF($C$4=3, MRP!L31,IF($C$4=4, MRP!N31,IF($C$4=5, MRP!P31,IF($C$4=6, MRP!R31,IF($C$4=7, MRP!T31,IF($C$4=8, MRP!V31,IF($C$4=9, MRP!X31,0))))))))) -> -985
A15: E | B15: =IF($C$4=1, MRP!H36,IF($C$4=2, MRP!J36,IF($C$4=3, MRP!L36,IF($C$4=4, MRP!N36,IF($C$4=5, MRP!P36,IF($C$4=6, MRP!R36,IF($C$4=7, MRP!T36,IF($C$4=8, MRP!V36,IF($C$4=9, MRP!X36,0))))))))) -> 60 | C15: =IF($C$4=1, MRP!G43,IF($C$4=2, MRP!I43,IF($C$4=3, MRP!K43,IF($C$4=4, MRP!M43,IF($C$4=5, MRP!O43,IF($C$4=6, MRP!Q43,IF($C$4=7, MRP!S43,IF($C$4=8, MRP!U43,IF($C$4=9, MRP!W43,0))))))))) -> 0 | D15: =IF($C$4=1, MRP!H37,IF($C$4=2, MRP!J37,IF($C$4=3, MRP!L37,IF($C$4=4, MRP!N37,IF($C$4=5, MRP!P37,IF($C$4=6, MRP!R37,IF($C$4=7, MRP!T37,IF($C$4=8, MRP!V37,IF($C$4=9, MRP!X37,0))))))))) -> 60
A16: F | B16: =IF($C$4=1, MRP!H42,IF($C$4=2, MRP!J42,IF($C$4=3, MRP!L42,IF($C$4=4, MRP!N42,IF($C$4=5, MRP!P42,IF($C$4=6, MRP!R42,IF($C$4=7, MRP!T42,IF($C$4=8, MRP!V42,IF($C$4=9, MRP!X42,0))))))))) -> 0 | C16: =IF($C$4=1, MRP!G13,IF($C$4=2, MRP!I13,IF($C$4=3, MRP!K13,IF($C$4=4, MRP!M13,IF($C$4=5, MRP!O13,IF($C$4=6, MRP!Q13,IF($C$4=7, MRP!S13,IF($C$4=8, MRP!U13,IF($C$4=9, MRP!W13,0))))))))) -> 0 | D16: =IF($C$4=1, MRP!H41,IF($C$4=2, MRP!J41,IF($C$4=3, MRP!L41,IF($C$4=4, MRP!N41,IF($C$4=5, MRP!P41,IF($C$4=6, MRP!R41,IF($C$4=7, MRP!T41,IF($C$4=8, MRP!V41,IF($C$4=9, MRP!X41,0))))))))) -> 0

Sheet Données techniques
B10: Semaine | C10: 1 | D10: 2 | E10: 3 | F10: 4 | G10: 5 | H10: 6 | I10: 7 | J10: 8
B11: Prevision de vente (Pv) | C11: 90 | D11: 90 | E11: 60 | F11: 50 | G11: 50 | H11: 50 | I11: 100 | J11: 80
B12: Commandes acceptées (Ca) | C12: 100 | D12: 90 | E12: 90 | F12: 30 | G12: 20 | H12: 20 | I12: 20
B13: Previsionnel disponible/ stock(Pd) | C13: ='Caracteristiques produits'!C3-'Caracteristiques produits'!D3-'Données techniques'!C11-'Données techniques'!C12 -> 240 | D13: =C13+D14-D11-D12 -> 60 | E13: =D13+E14-E11-E12 -> 110 | F13: =E13+F14-F11-F12 -> 30 | G13: =F13+G14-G11-G12 -> 160 | H13: =G13+H14-H11-H12 -> 90 | I13: =H13+I14-I11-I12 -> 170 | J13: =I13+J14-J11-J12 -> 90
B14: PDP (PDP) | C14: =IF((C11+C12)>B13,ROUNDUP(C11+C12-B13,-2),0) -> 0 | D14: =IF((D11+D12-C13)>0,ROUNDUP(((D11+D12)/'Caracteristiques produits'!$F3),0),0)*'Caracteristiques produits'!$F3 -> 0 | E14: =IF((E11+E12-D13)>0,ROUNDUP(((E11+E12)/'Caracteristiques produits'!$F3),0),0)*'Caracteristiques produits'!$F3 -> 200 | F14: =IF((F11+F12-E13)>0,ROUNDUP(((F11+F12)/'Caracteristiques produits'!$F3),0),0)*'Caracteristiques produits'!$F3 -> 0 | G14: =IF((G11+G12-F13)>0,ROUNDUP(((G11+G12)/'Caracteristiques produits'!$F3),0),0)*'Caracteristiques produits'!$F3 -> 200 | H14: =IF((H11+H12-G13)>0,ROUNDUP(((H11+H12)/'Caracteristiques produits'!$F3),0),0)*'Caracteristiques produits'!$F3 -> 0 | I14: =IF((I11+I12-H13)>0,ROUNDUP(((I11+I12)/'Caracteristiques produits'!$F3),0),0)*'Caracteristiques produits'!$F3 -> 200 | J14: =IF((J11+J12-I13)>0,ROUNDUP(((J11+J12)/'Caracteristiques produits'!$F3),0),0)*'Caracteristiques produits'!$F3 -> 0
B15: PDP Suggéré (PDPs) | C15: =OFFSET(C15,-1,1,1,1) -> 0 | D15: =OFFSET(D15,-1,1,1,1) -> 200 | E15: =OFFSET(E15,-1,1,1,1) -> 0 | F15: =OFFSET(F15,-1,1,1,1) -> 200 | G15: =OFFSET(G15,-1,1,1,1) -> 0 | H15: =OFFSET(H15,-1,1,1,1) -> 200 | I15: =OFFSET(I15,-1,1,1,1) -> 0 | J15: =OFFSET(J15,-1,1,1,1) -> 0 | O15: Nomenclature
B16: Disponible à la vente (Dv) | C16: ='Caracteristiques produits'!$C$3-'Données techniques'!C12-'Données techniques'!D12 -> 270 | D16: =IF(D14-D12-E12>0,D14-D12-E12,0) -> 0 | E16: =IF(E14-E12-F12>0,E14-E12-F12,0) -> 80 | F16: =IF(F14-F12-G12>0,F14-F12-G12,0) -> 0 | G16: =IF(G14-G12-H12>0,G14-G12-H12,0) -> 160 | H16: =IF(H14-H12-I12>0,H14-H12-I12,0) -> 0 | I16: =IF(I14-I12-J12>0,I14-I12-J12,0) -> 180 | J16: =IF(J14-J12-K12>0,J14-J12-K12,0) -> 0
U17: Produit A
B19: Article | C19: A | D19: B | E19: C | F19: D | G19: E | H19: F
B20: Delais (s) | C20: 1 | D20: 1 | E20: 2 | F20: 2 | G20: 1 | H20: 1
B21: Stock initial | C21: 10 | D21: 25 | E21: 5 | F21: 25 | G21: 300
B22: Stock de sécurité | C22: 10 | E22: 5 | Q22: Produit C (3) | U22: Produit E (2) | Y22: Produit B (1)
B23: Règle de gestion | C23: LFL | D23: LOT | E23: LFL | F23: SEUIL | G23: LFL | H23: LFL
B24: Taille de lot | D24: 10 | F24: 15
B25: Type d'article | C25: F | D25: F | E25: F | F25: A | G25: A | H25: A
B26: % Rebut | F26: 5
B27: % Pertes | D27: 10 | AB27: Produit C (2)
B30: Matrice des produits | D30: Composés
D32: A | E32: B | F32: C | G32: D | H32: E | I32: F | O32: Produit E (3) | S32: Produit F (1) | W32: Produit D (3) | AA32: Produit E (3) | AE32: Produit F (1)
B33: Composants | C33: A
C35: B | D35: 1
C37: C | D37: 3 | E37: 2
C39: D | E39: 3
C41: E | D41: 2 | F41: 3
C43: F | F43: 1
