Workbook
Name aa: DANGER!$A$16:$A$231
Name att: DANGER!$G$1:$J$1
Name attente: DANGER!$A$12:$O$12
Name choix: données!$H$2:$H$3
Name delai: DANGER!$D$8,DANGER!$A$8,DANGER!$B$8,DANGER!$C$8
Name dem: DANGER!$E$19:$E$27
Name deux: DANGER!$A$1:$A$2
Name heure: DANGER!$D$1:$D$2
Name inter: DANGER!$B$1:$B$3
Name kjl: #REF!
Name liste: données!$H$2,données!$H$3
Name mm: #REF!
Name mmm: DANGER!$A$14:$L$14
Name moyen: DANGER!$A$4,DANGER!$A$5,DANGER!$A$6
Name moyens: DANGER!$B$7,DANGER!$A$4,DANGER!$A$5,DANGER!$A$6
Name ok: DANGER!$B$15:$B$18
Name okay: DANGER!$B$15:$C$18
Name question: données!$H$2:$H$3
Name questions: DANGER!$A$1:$A$2
Name satisfaction: DANGER!$A$10,DANGER!$B$10,DANGER!$C$10
Name semaine: DANGER!$K$1:$K$5
Name service: DANGER!$F$1:$F$4

Sheet données
A1: Q1 SERVICE | B1: Démarche | C1: Année | D1: Mois | E1: JOUR | F1: Q2 | G1: SI NON | H1: Q2b | I1: Q3 | J1: SI OUI | K1: Q4 | L1: Q5 | M1: Q5b | N1: Q6 | O1: Q7 | P1: Q7b | Q1: Q8 | R1: SI NON2 | S1: Q10 | T1: CONTRÔLE | U1: RECEPTION | V1: BUREAU | W1: Q11 | X1: SI OUI2 | Y1: SI retard | Z1: Q12 | AA1: Q13 | AB1: Securité 1 | AC1: Securité 2 | AD1: Securité 3 | AE1: GLOBAL
A2: EC | B2: certificat de vie | C2: 2017 | D2: janvier | E2: lundi | F2: non | G2: non | H2: oui | I2: non | J2: sur place | K2: entre 24-48h | N2: complet | O2: non | P2: non | Q2: ne sais pas | T2: très satisfaisant | U2: très satisfaisant | V2: très satisfaisant | W2: oui | X2: En retard | Y2: 15-30 | Z2: plus de 60 | AA2: oui | AB2: non | AC2: oui | AD2: non | AE2: moy. satisfaisant
A3: EC | B3: certificat de vie | C3: 2017 | D3: janvier | E3: lundi | F3: non | G3: non | H3: non | I3: non | J3: mail | K3: moins 24h | L3: 8 | M3: 8 | N3: pas du tout | O3: non | P3: oui | Q3: oui | T3: satisfaisant | U3: satisfaisant | V3: satisfaisant | W3: non | X3: En retard | Y3: plus de 60 | Z3: 30-60 | AA3: non | AB3: non | AC3: non | AD3: oui | AE3: satisfaisant
A4: EC | B4: certificat de vie | C4: 2017 | D4: janvier | E4: lundi | F4: non | G4: non | H4: non | I4: oui | J4: sur place | K4: moins 24h | L4: 1 | M4: 1 | N4: pas du tout | O4: non | P4: oui | Q4: ne sais pas | T4: pas du tout satisfaisant | U4: pas du tout satisfaisant | V4: pas du tout satisfaisant | W4: non | X4: A l'heure | Y4: 30-60 | Z4: plus de 60 | AA4: non | AB4: oui | AC4: oui | AD4: non | AE4: très satisfaisant
A5: EC | B5: certificat de vie | C5: 2017 | D5: janvier | E5: lundi | F5: non | G5: non | H5: non | I5: oui | J5: sur place | N5: pas du tout | O5: oui | P5: non | Q5: ne sais pas
A6: EC | B6: certificat de vie | C6: 2017 | D6: janvier | E6: lundi | F6: non | G6: non | H6: non | I6: oui | J6: sur place
A7: EC | B7: certificat de vie | C7: 2017 | D7: janvier | E7: lundi | F7: non | G7: non | H7: oui | I7: non | J7: mail | K7: moins 24h | L7: 5 | M7: 5
A8: EC | B8: certificat de vie | C8: 2017 | D8: janvier | E8: lundi | F8: non | G8: non | H8: non | I8: oui | J8: mail | K8: entre 24-48h | L8: 7 | M8: 7
A9: EC | B9: certificat de vie | C9: 2017 | D9: janvier | E9: lundi | F9: oui | G9: oui | H9: non | I9: oui | J9: téléphone | K9: moins 24h | L9: 4 | M9: 4 | N9: complet | O9: non | P9: non | Q9: non | T9: moy. satisfaisant | U9: moy. satisfaisant | V9: moy. satisfaisant | W9: oui | X9: A l'heure | Y9: 15-30 | Z9: 0-15 | AA9: non | AB9: oui | AC9: non | AD9: oui | AE9: pas du tout satisfaisant
A10: EC | B10: certificat de vie | C10: 2017 | D10: janvier | E10: lundi | F10: oui | G10: oui | H10: non | I10: oui | J10: sur place | N10: partiel | O10: non | P10: non | Q10: oui
A11: EC | B11: certificat de vie | C11: 2017 | D11: janvier | E11: lundi | F11: non | G11: non | H11: non | I11: oui | J11: sur place | N11: complet | O11: oui | P11: non | Q11: oui
A12: EC | C12: 2018 | D12: mars | E12: mardi | F12: oui | G12: non | H12: non | I12: oui
A13: EC | C13: 2018 | D13: avril | E13: mercredi | F13: non | G13: non | H13: non | I13: oui
A14: EC | C14: 2017 | D14: avril | E14: jeudi | F14: non | G14: oui | H14: non | I14: oui
A15: EC | C15: 2017 | D15: janvier | E15: vendredi | F15: non | G15: oui | H15: oui | I15: oui | M15: 4
A16: EC | C16: 2017 | D16: mars | E16: samedi | F16: non | G16: oui | H16: non | I16: oui | M16: 1
A17: EC | C17: 2017 | D17: janvier | E17: dimanche | F17: non | G17: oui | H17: non | I17: oui | M17: 5
A18: EC | B18: certificat de vie | C18: 2017 | D18: janvier | E18: lundi | F18: non | G18: oui | H18: non | I18: oui | J18: sur place | N18: partiel | O18: oui | P18: non | Q18: oui
A19: EC | C19: 2017 | D19: mai | E19: mardi | F19: oui | G19: oui | H19: non | I19: oui
A20: EC | C20: 2017 | D20: mai | E20: mercredi | F20: oui | G20: oui | H20: oui | I20: oui
A21: EC | C21: 2017 | D21: mai | E21: jeudi | F21: oui | G21: oui | H21: oui | I21: oui | M21: 4
A22: EC | C22: 2017 | D22: juin | E22: vendredi | F22: oui | G22: non | H22: oui | I22: oui | M22: 1
A23: EC | C23: 2017 | D23: juillet | E23: samedi | F23: oui | G23: non | H23: oui | I23: oui | M23: 1
A24: EC | C24: 2017 | D24: août | E24: dimanche | F24: oui | G24: non | H24: oui | I24: non | M24: 1
A25: EC | B25: certificat de vie | C25: 2017 | D25: janvier | E25: lundi | F25: non | G25: non | H25: non | I25: oui | J25: sur place
A26: EC | C26: 2017 | D26: octobre | E26: mardi | F26: non | G26: non | H26: oui | I26: non | L26: 8
A27: EC | C27: 2017 | D27: novembre | E27: mercredi | F27: non | G27: non | H27: oui | I27: non | L27: 1 | M27: 4
A28: EC | C28: 2017 | D28: décembre | E28: jeudi | F28: non | G28: non | H28: oui | I28: non | L28: 5
A29: EC | C29: 2017 | D29: janvier | E29: vendredi | F29: non | G29: non | H29: oui | I29: non | L29: 6
A30: EC | C30: 2017 | D30: février | E30: samedi | F30: non | G30: oui | H30: oui | I30: non | L30: 5
A31: EC | C31: 2017 | D31: mars | E31: dimanche | F31: non | G31: oui | H31: oui | I31: non | L31: 7 | M31: 5
A32: EC | B32: certificat de vie | C32: 2017 | D32: janvier | E32: lundi | F32: oui | G32: oui | H32: oui | I32: oui | J32: sur place
A33: EC | C33: 2017 | D33: mai | E33: mardi | F33: non | G33: oui | H33: oui | I33: non | J33: mail | L33: 1 | M33: 4
A34: EC | C34: 2017 | D34: septembre | E34: mercredi | F34: non | G34: oui | H34: non | I34: oui | J34: sur place | L34: 1
A35: EC | C35: 2017 | D35: septembre | E35: jeudi | F35: non | G35: non | H35: non | I35: oui | J35: sur place | L35: 1
A36: EC | C36: 2017 | D36: août | E36: vendredi | F36: non | G36: non | H36: non | I36: oui | J36: sur place
A37: EC | C37: 2017 | D37: septembre | E37: samedi | F37: non | G37: non | H37: non | I37: oui | J37: mail | M37: 4
A38: EC | C38: 2017 | D38: octobre | E38: dimanche | F38: non | G38: non | H38: non | I38: oui | J38: mail
A39: EC | B39: certificat de vie | C39: 2017 | D39: janvier | E39: lundi | F39: oui | G39: non | H39: non | I39: non | J39: téléphone | K39: moins 24h | L39: 4 | M39: 3
A40: EC | C40: 2017 | D40: décembre | E40: mardi | F40: non | G40: non | H40: non | I40: oui | J40: sur place | L40: 8
...

Sheet résultats & analyse
A1: 2017 | B1: EC
B3: janvier
A5: lundi | B5: 1er contact | C5: RESULTATS | H5: Taux de satisfaction %
A6: Notariat | B6: Contact ? | C6: oui | D6: non | G6: Total | H6: Satisfaits | I6: N satisfaits | J6: Ratio de satisfaction
C7: =COUNTIFS(OFFSET(données!$I:$I,0,MOD(ROW()-7,11)/2),C6,données!$A:$A,$B$1,données!$B:$B,OFFSET($A$6,ROW()-7-MOD(ROW()-7,11),0),données!$C:$C,$A$1,données!$D:$D,$B$3,données!$E:$E,$A$5) -> 7 | D7: =COUNTIFS(OFFSET(données!$I:$I,0,MOD(ROW()-7,11)/2),D6,données!$A:$A,$B$1,données!$B:$B,OFFSET($A$6,ROW()-7-MOD(ROW()-7,11),0),données!$C:$C,$A$1,données!$D:$D,$B$3,données!$E:$E,$A$5) -> 8 | G7: =SUM(C7+D7+E7+F7) -> 15 | H7: =IFERROR(C7/G7,"") -> 0.46666667 | I7: =IFERROR(D7/G7,"") -> 0.53333333 | J7: =IFERROR(H7/I7,"") -> 0.875
B8: Comment ? | C8: téléphone | D8: mail | E8: sur place | H8: =IFERROR(C8/G8,"") | I8: =IFERROR(D8/G8,"") | J8: =IFERROR(H8/I8,"")
C9: =COUNTIFS(OFFSET(données!$I:$I,0,MOD(ROW()-7,11)/2),C8,données!$A:$A,$B$1,données!$B:$B,OFFSET($A$6,ROW()-7-MOD(ROW()-7,11),0),données!$C:$C,$A$1,données!$D:$D,$B$3,données!$E:$E,$A$5) -> 2 | D9: =COUNTIFS(OFFSET(données!$I:$I,0,MOD(ROW()-7,11)/2),D8,données!$A:$A,$B$1,données!$B:$B,OFFSET($A$6,ROW()-7-MOD(ROW()-7,11),0),données!$C:$C,$A$1,données!$D:$D,$B$3,données!$E:$E,$A$5) -> 3 | E9: =COUNTIFS(OFFSET(données!$I:$I,0,MOD(ROW()-7,11)/2),E8,données!$A:$A,$B$1,données!$B:$B,OFFSET($A$6,ROW()-7-MOD(ROW()-7,11),0),données!$C:$C,$A$1,données!$D:$D,$B$3,données!$E:$E,$A$5) -> 10 | G9: =SUM(C9+D9+E9+F9) -> 15 | H9: =IFERROR(C9/G9,"") -> 0.13333333 | I9: =IFERROR(D9/G9,"") -> 0.2 | J9: =IFERROR(H9/I9,"") -> 0.66666667
B10: Si mail | C10: immédiat | D10: moins 24h | E10: entre 24-48h | F10: plus de 48h | H10: =IFERROR(C10/G10,"") | I10: =IFERROR(D10/G10,"") | J10: =IFERROR(H10/I10,"")
C11: =COUNTIFS(OFFSET(données!$I:$I,0,MOD(ROW()-7,11)/2),C10,données!$A:$A,$B$1,données!$B:$B,OFFSET($A$6,ROW()-7-MOD(ROW()-7,11),0),données!$C:$C,$A$1,données!$D:$D,$B$3,données!$E:$E,$A$5) -> 2 | D11: =COUNTIFS(OFFSET(données!$I:$I,0,MOD(ROW()-7,11)/2),D10,données!$A:$A,$B$1,données!$B:$B,OFFSET($A$6,ROW()-7-MOD(ROW()-7,11),0),données!$C:$C,$A$1,données!$D:$D,$B$3,données!$E:$E,$A$5) -> 0 | E11: =COUNTIFS(OFFSET(données!$I:$I,0,MOD(ROW()-7,11)/2),E10,données!$A:$A,$B$1,données!$B:$B,OFFSET($A$6,ROW()-7-MOD(ROW()-7,11),0),données!$C:$C,$A$1,données!$D:$D,$B$3,données!$E:$E,$A$5) -> 2 | F11: =COUNTIFS(OFFSET(données!$I:$I,0,MOD(ROW()-7,11)/2),F10,données!$A:$A,$B$1,données!$B:$B,OFFSET($A$6,ROW()-7-MOD(ROW()-7,11),0),données!$C:$C,$A$1,données!$D:$D,$B$3,données!$E:$E,$A$5) -> 1 | G11: =SUM(C11+D11+E11+F11) -> 5 | H11: =IFERROR(C11/G11,"") -> 0.4 | I11: =IFERROR(D11/G11,"") -> 0 | J11: =IFERROR(H11/I11,"")
B12: Si tél | C12: un agent | D12: l’information | H12: =IFERROR(C12/G12,"") | I12: =IFERROR(D12/G12,"") | J12: =IFERROR(H12/I12,"")
C13: =SUMIFS(données!L:L,données!$B:$B,OFFSET($A$6,ROW()-7-MOD(ROW()-7,11),0),données!$C:$C,$A$1,données!$A:$A,$B$1,données!$D:$D,$B$3,données!$E:$E,$A$5) -> 17 | D13: =SUMIFS(données!M:M,données!$B:$B,OFFSET($A$6,ROW()-7-MOD(ROW()-7,11),0),données!$C:$C,$A$1,données!$A:$A,$B$1,données!$D:$D,$B$3,données!$E:$E,$A$5) -> 29 | G13: =SUM(C13+D13+E13+F13) -> 46 | H13: =IFERROR(C13/G13,"") -> 0.36956522 | I13: =IFERROR(D13/G13,"") -> 0.63043478 | J13: =IFERROR(H13/I13,"") -> 0.5862069
B14: In fine | C14: complet | D14: partiel | E14: moy | F14: pas du tout | H14: =IFERROR(C14/G14,"") | I14: =IFERROR(D14/G14,"") | J14: =IFERROR(H14/I14,"")
C15: =COUNTIFS(données!$N:$N,C14,données!$A:$A,$B$1,données!$B:$B,OFFSET($A$6,ROW()-7-MOD(ROW()-7,11),0),données!$C:$C,$A$1,données!$D:$D,$B$3,données!$E:$E,$A$5) -> 2 | D15: =COUNTIFS(données!$N:$N,D14,données!$A:$A,$B$1,données!$B:$B,OFFSET($A$6,ROW()-7-MOD(ROW()-7,11),0),données!$C:$C,$A$1,données!$D:$D,$B$3,données!$E:$E,$A$5) -> 3 | E15: =COUNTIFS(données!$N:$N,E14,données!$A:$A,$B$1,données!$B:$B,OFFSET($A$6,ROW()-7-MOD(ROW()-7,11),0),données!$C:$C,$A$1,données!$D:$D,$B$3,données!$E:$E,$A$5) -> 1 | F15: =COUNTIFS(données!$N:$N,F14,données!$A:$A,$B$1,données!$B:$B,OFFSET($A$6,ROW()-7-MOD(ROW()-7,11),0),données!$C:$C,$A$1,données!$D:$D,$B$3,données!$E:$E,$A$5) -> 1 | G15: =SUM(C15+D15+E15+F15) -> 7 | H15: =IFERROR(C15/G15,"") -> 0.28571429 | I15: =IFERROR(D15/G15,"") -> 0.42857143 | J15: =IFERROR(H15/I15,"") -> 0.66666667
B16: 1er contact | C16: RESULTATS
A17: naissance/mariage/décès | B17: Contact ? | C17: oui | D17: non | G17: Total | H17: Satisfaits | I17: N satisfaits
C18: =COUNTIFS(OFFSET(données!$I:$I,0,MOD(ROW()-7,11)/2),C17,données!$A:$A,$B$1,données!$B:$B,OFFSET($A$6,ROW()-7-MOD(ROW()-7,11),0),données!$C:$C,$A$1,données!$D:$D,$B$3,données!$E:$E,$A$5) -> 4 | D18: =COUNTIFS(OFFSET(données!$I:$I,0,MOD(ROW()-7,11)/2),D17,données!$A:$A,$B$1,données!$B:$B,OFFSET($A$6,ROW()-7-MOD(ROW()-7,11),0),données!$C:$C,$A$1,données!$D:$D,$B$3,données!$E:$E,$A$5) -> 13 | G18: =SUM(C18+D18+E18+F18) -> 17 | H18: =IFERROR(C18/G18,"") -> 0.23529412 | I18: =IFERROR(D18/G18,"") -> 0.76470588 | J18: =IFERROR(H18/I18,"") -> 0.30769231
B19: Comment ? | C19: téléphone | D19: mail | E19: sur place | H19: =IFERROR(C19/G19,"") | I19: =IFERROR(D19/G19,"") | J19: =IFERROR(H19/I19,"")
C20: =COUNTIFS(OFFSET(données!$I:$I,0,MOD(ROW()-7,11)/2),C19,données!$A:$A,$B$1,données!$B:$B,OFFSET($A$6,ROW()-7-MOD(ROW()-7,11),0),données!$C:$C,$A$1,données!$D:$D,$B$3,données!$E:$E,$A$5) -> 3 | D20: =COUNTIFS(OFFSET(données!$I:$I,0,MOD(ROW()-7,11)/2),D19,données!$A:$A,$B$1,données!$B:$B,OFFSET($A$6,ROW()-7-MOD(ROW()-7,11),0),données!$C:$C,$A$1,données!$D:$D,$B$3,données!$E:$E,$A$5) -> 6 | E20: =COUNTIFS(OFFSET(données!$I:$I,0,MOD(ROW()-7,11)/2),E19,données!$A:$A,$B$1,données!$B:$B,OFFSET($A$6,ROW()-7-MOD(ROW()-7,11),0),données!$C:$C,$A$1,données!$D:$D,$B$3,données!$E:$E,$A$5) -> 8 | G20: =SUM(C20+D20+E20+F20) -> 17 | H20: =IFERROR(C20/G20,"") -> 0.17647059 | I20: =IFERROR(D20/G20,"") -> 0.35294118 | J20: =IFERROR(H20/I20,"") -> 0.5
B21: Si mail | C21: immédiat | D21: moins 24h | E21: entre 24-48h | F21: plus de 48h | H21: =IFERROR(C21/G21,"") | I21: =IFERROR(D21/G21,"") | J21: =IFERROR(H21/I21,"")
C22: =COUNTIFS(OFFSET(données!$I:$I,0,MOD(ROW()-7,11)/2),C21,données!$A:$A,$B$1,données!$B:$B,OFFSET($A$6,ROW()-7-MOD(ROW()-7,11),0),données!$C:$C,$A$1,données!$D:$D,$B$3,données!$E:$E,$A$5) -> 4 | D22: =COUNTIFS(OFFSET(données!$I:$I,0,MOD(ROW()-7,11)/2),D21,données!$A:$A,$B$1,données!$B:$B,OFFSET($A$6,ROW()-7-MOD(ROW()-7,11),0),données!$C:$C,$A$1,données!$D:$D,$B$3,données!$E:$E,$A$5) -> 3 | E22: =COUNTIFS(OFFSET(données!$I:$I,0,MOD(ROW()-7,11)/2),E21,données!$A:$A,$B$1,données!$B:$B,OFFSET($A$6,ROW()-7-MOD(ROW()-7,11),0),données!$C:$C,$A$1,données!$D:$D,$B$3,données!$E:$E,$A$5) -> 2 | F22: =COUNTIFS(OFFSET(données!$I:$I,0,MOD(ROW()-7,11)/2),F21,données!$A:$A,$B$1,données!$B:$B,OFFSET($A$6,ROW()-7-MOD(ROW()-7,11),0),données!$C:$C,$A$1,données!$D:$D,$B$3,données!$E:$E,$A$5) -> 0 | G22: =SUM(C22+D22+E22+F22) -> 9 | H22: =IFERROR(C22/G22,"") -> 0.44444444 | I22: =IFERROR(D22/G22,"") -> 0.33333333 | J22: =IFERROR(H22/I22,"") -> 1.3333333
B23: Si tél | C23: un agent | D23: l’information | H23: =IFERROR(C23/G23,"") | I23: =IFERROR(D23/G23,"") | J23: =IFERROR(H23/I23,"")
C24: =SUMIFS(données!L:L,données!$B:$B,OFFSET($A$6,ROW()-7-MOD(ROW()-7,11),0),données!$C:$C,$A$1,données!$A:$A,$B$1,données!$D:$D,$B$3,données!$E:$E,$A$5) -> 39 | D24: =SUMIFS(données!M:M,données!$B:$B,OFFSET($A$6,ROW()-7-MOD(ROW()-7,11),0),données!$C:$C,$A$1,données!$A:$A,$B$1,données!$D:$D,$B$3,données!$E:$E,$A$5) -> 28 | G24: =SUM(C24+D24+E24+F24) -> 67 | H24: =IFERROR(C24/G24,"") -> 0.58208955 | I24: =IFERROR(D24/G24,"") -> 0.41791045 | J24: =IFERROR(H24/I24,"") -> 1.3928571
B25: In fine | C25: complet | D25: partiel | E25: moy | F25: pas du tout | H25: =IFERROR(C25/G25,"") | I25: =IFERROR(D25/G25,"") | J25: =IFERROR(H25/I25,"")
C26: =COUNTIFS(données!$N:$N,C25,données!$A:$A,$B$1,données!$B:$B,OFFSET($A$6,ROW()-7-MOD(ROW()-7,11),0),données!$C:$C,$A$1,données!$D:$D,$B$3,données!$E:$E,$A$5) -> 0 | D26: =COUNTIFS(données!$N:$N,D25,données!$A:$A,$B$1,données!$B:$B,OFFSET($A$6,ROW()-7-MOD(ROW()-7,11),0),données!$C:$C,$A$1,données!$D:$D,$B$3,données!$E:$E,$A$5) -> 0 | E26: =COUNTIFS(données!$N:$N,E25,données!$A:$A,$B$1,données!$B:$B,OFFSET($A$6,ROW()-7-MOD(ROW()-7,11),0),données!$C:$C,$A$1,données!$D:$D,$B$3,données!$E:$E,$A$5) -> 0 | F26: =COUNTIFS(données!$N:$N,F25,données!$A:$A,$B$1,données!$B:$B,OFFSET($A$6,ROW()-7-MOD(ROW()-7,11),0),données!$C:$C,$A$1,données!$D:$D,$B$3,données!$E:$E,$A$5) -> 0 | G26: =SUM(C26+D26+E26+F26) -> 0 | H26: =IFERROR(C26/G26,"") | I26: =IFERROR(D26/G26,"") | J26: =IFERROR(H26/I26,"")
B27: 1er contact | C27: RESULTATS
A28: Certificat de vie | B28: Contact ? | C28: oui | D28: non | G28: Total | H28: Satisfaits | I28: N satisfaits
C29: =COUNTIFS(OFFSET(données!$I:$I,0,MOD(ROW()-7,11)/2),C28,données!$A:$A,$B$1,données!$B:$B,OFFSET($A$6,ROW()-7-MOD(ROW()-7,11),0),données!$C:$C,$A$1,données!$D:$D,$B$3,données!$E:$E,$A$5) -> 10 | D29: =COUNTIFS(OFFSET(données!$I:$I,0,MOD(ROW()-7,11)/2),D28,données!$A:$A,$B$1,données!$B:$B,OFFSET($A$6,ROW()-7-MOD(ROW()-7,11),0),données!$C:$C,$A$1,données!$D:$D,$B$3,données!$E:$E,$A$5) -> 4 | G29: =SUM(C29+D29+E29+F29) -> 14 | H29: =IFERROR(C29/G29,"") -> 0.71428571 | I29: =IFERROR(D29/G29,"") -> 0.28571429 | J29: =IFERROR(H29/I29,"") -> 2.5
B30: Comment ? | C30: téléphone | D30: mail | E30: sur place | H30: =IFERROR(C30/G30,"") | I30: =IFERROR(D30/G30,"") | J30: =IFERROR(H30/I30,"")
C31: =COUNTIFS(OFFSET(données!$I:$I,0,MOD(ROW()-7,11)/2),C30,données!$A:$A,$B$1,données!$B:$B,OFFSET($A$6,ROW()-7-MOD(ROW()-7,11),0),données!$C:$C,$A$1,données!$D:$D,$B$3,données!$E:$E,$A$5) -> 2 | D31: =COUNTIFS(OFFSET(données!$I:$I,0,MOD(ROW()-7,11)/2),D30,données!$A:$A,$B$1,données!$B:$B,OFFSET($A$6,ROW()-7-MOD(ROW()-7,11),0),données!$C:$C,$A$1,données!$D:$D,$B$3,données!$E:$E,$A$5) -> 3 | E31: =COUNTIFS(OFFSET(données!$I:$I,0,MOD(ROW()-7,11)/2),E30,données!$A:$A,$B$1,données!$B:$B,OFFSET($A$6,ROW()-7-MOD(ROW()-7,11),0),données!$C:$C,$A$1,données!$D:$D,$B$3,données!$E:$E,$A$5) -> 9 | G31: =SUM(C31+D31+E31+F31) -> 14 | H31: =IFERROR(C31/G31,"") -> 0.14285714 | I31: =IFERROR(D31/G31,"") -> 0.21428571 | J31: =IFERROR(H31/I31,"") -> 0.66666667
B32: Si mail | C32: immédiat | D32: moins 24h | E32: entre 24-48h | F32: plus de 48h | H32: =IFERROR(C32/G32,"") | I32: =IFERROR(D32/G32,"") | J32: =IFERROR(H32/I32,"")
C33: =COUNTIFS(OFFSET(données!$I:$I,0,MOD(ROW()-7,11)/2),C32,données!$A:$A,$B$1,données!$B:$B,OFFSET($A$6,ROW()-7-MOD(ROW()-7,11),0),données!$C:$C,$A$1,données!$D:$D,$B$3,données!$E:$E,$A$5) -> 0 | D33: =COUNTIFS(OFFSET(données!$I:$I,0,MOD(ROW()-7,11)/2),D32,données!$A:$A,$B$1,données!$B:$B,OFFSET($A$6,ROW()-7-MOD(ROW()-7,11),0),données!$C:$C,$A$1,données!$D:$D,$B$3,données!$E:$E,$A$5) -> 5 | E33: =COUNTIFS(OFFSET(données!$I:$I,0,MOD(ROW()-7,11)/2),E32,données!$A:$A,$B$1,données!$B:$B,OFFSET($A$6,ROW()-7-MOD(ROW()-7,11),0),données!$C:$C,$A$1,données!$D:$D,$B$3,données!$E:$E,$A$5) -> 2 | F33: =COUNTIFS(OFFSET(données!$I:$I,0,MOD(ROW()-7,11)/2),F32,données!$A:$A,$B$1,données!$B:$B,OFFSET($A$6,ROW()-7-MOD(ROW()-7,11),0),données!$C:$C,$A$1,données!$D:$D,$B$3,données!$E:$E,$A$5) -> 0 | G33: =SUM(C33+D33+E33+F33) -> 7 | H33: =IFERROR(C33/G33,"") -> 0 | I33: =IFERROR(D33/G33,"") -> 0.71428571 | J33: =IFERROR(H33/I33,"") -> 0
B34: Si tél | C34: un agent | D34: l’information | H34: =IFERROR(C34/G34,"") | I34: =IFERROR(D34/G34,"") | J34: =IFERROR(H34/I34,"")
C35: =SUMIFS(données!L:L,données!$B:$B,OFFSET($A$6,ROW()-7-MOD(ROW()-7,11),0),données!$C:$C,$A$1,données!$A:$A,$B$1,données!$D:$D,$B$3,données!$E:$E,$A$5) -> 29 | D35: =SUMIFS(données!M:M,données!$B:$B,OFFSET($A$6,ROW()-7-MOD(ROW()-7,11),0),données!$C:$C,$A$1,données!$A:$A,$B$1,données!$D:$D,$B$3,données!$E:$E,$A$5) -> 28 | G35: =SUM(C35+D35+E35+F35) -> 57 | H35: =IFERROR(C35/G35,"") -> 0.50877193 | I35: =IFERROR(D35/G35,"") -> 0.49122807 | J35: =IFERROR(H35/I35,"") -> 1.0357143
B36: In fine | C36: complet | D36: partiel | E36: moy | F36: pas du tout | H36: =IFERROR(C36/G36,"") | I36: =IFERROR(D36/G36,"") | J36: =IFERROR(H36/I36,"")
C37: =COUNTIFS(données!$N:$N,C36,données!$A:$A,$B$1,données!$B:$B,OFFSET($A$6,ROW()-7-MOD(ROW()-7,11),0),données!$C:$C,$A$1,données!$D:$D,$B$3,données!$E:$E,$A$5) -> 3 | D37: =COUNTIFS(données!$N:$N,D36,données!$A:$A,$B$1,données!$B:$B,OFFSET($A$6,ROW()-7-MOD(ROW()-7,11),0),données!$C:$C,$A$1,données!$D:$D,$B$3,données!$E:$E,$A$5) -> 2 | E37: =COUNTIFS(données!$N:$N,E36,données!$A:$A,$B$1,données!$B:$B,OFFSET($A$6,ROW()-7-MOD(ROW()-7,11),0),données!$C:$C,$A$1,données!$D:$D,$B$3,données!$E:$E,$A$5) -> 0 | F37: =COUNTIFS(données!$N:$N,F36,données!$A:$A,$B$1,données!$B:$B,OFFSET($A$6,ROW()-7-MOD(ROW()-7,11),0),données!$C:$C,$A$1,données!$D:$D,$B$3,données!$E:$E,$A$5) -> 3 | G37: =SUM(C37+D37+E37+F37) -> 8 | H37: =IFERROR(C37/G37,"") -> 0.375 | I37: =IFERROR(D37/G37,"") -> 0.25 | J37: =IFERROR(H37/I37,"") -> 1.5
B38: 1er contact | C38: RESULTATS
A39: Notariat | B39: Question 11 | C39: oui | D39: non | G39: Total | H39: Satisfaits | I39: N satisfaits
C40: =COUNTIFS(OFFSET(données!$W:$W,0,MOD(ROW()-7,11)/2),C39,données!$A:$A,$B$1,données!$B:$B,OFFSET($A$6,ROW()-7-MOD(ROW()-7,11),0),données!$C:$C,$A$1,données!$D:$D,$B$3,données!$E:$E,$A$5) -> 0 | D40: =COUNTIFS(OFFSET(données!$W:$W,0,MOD(ROW()-7,11)/2),D39,données!$A:$A,$B$1,données!$B:$B,OFFSET($A$6,ROW()-7-MOD(ROW()-7,11),0),données!$C:$C,$A$1,données!$D:$D,$B$3,données!$E:$E,$A$5) -> 0 | G40: =SUM(C40+D40+E40+F40) -> 0 | H40: =IFERROR(C40/G40,"") | I40: =IFERROR(D40/G40,"") | J40: =IFERROR(H40/I40,"")
B41: Si oui, reçu… | C41: A l'heure | D41: En retard | H41: =IFERROR(C41/G41,"") | I41: =IFERROR(D41/G41,"") | J41: =IFERROR(H41/I41,"")
C42: =COUNTIFS(OFFSET(données!$W:$W,0,MOD(ROW()-7,11)/2),C41,données!$A:$A,$B$1,données!$B:$B,OFFSET($A$6,ROW()-7-MOD(ROW()-7,11),0),données!$C:$C,$A$1,données!$D:$D,$B$3,données!$E:$E,$A$5) -> 0 | D42: =COUNTIFS(OFFSET(données!$W:$W,0,MOD(ROW()-7,11)/2),D41,données!$A:$A,$B$1,données!$B:$B,OFFSET($A$6,ROW()-7-MOD(ROW()-7,11),0),données!$C:$C,$A$1,données!$D:$D,$B$3,données!$E:$E,$A$5) -> 0 | G42: =SUM(C42+D42+E42+F42) -> 0 | H42: =IFERROR(C42/G42,"") | I42: =IFERROR(D42/G42,"") | J42: =IFERROR(H42/I42,"")
...

Sheet Synthèse

Sheet Evolution

Sheet DANGER
A1: oui | B1: oui | D1: A l'heure | F1: AFE | G1: 0-15 | H1: 15-30 | I1: 30-60 | J1: plus de 60 | K1: lundi
A2: non | B2: non | D2: En retard | F2: EC | K2: mardi
B3: ne sais pas | F3: AS | K3: mercredi
A4: téléphone | K4: jeudi
A5: mail | K5: vendredi
A6: sur place
A8: immédiat | B8: moins 24h | C8: entre 24-48h | D8: plus de 48h
A10: complet | B10: partiel | C10: moy | D10: pas du tout
A12: 1 | B12: 2 | C12: 3 | D12: 4 | E12: 5 | F12: 6 | G12: 7 | H12: 8 | I12: 9 | J12: 10 | K12: 11 | L12: 12 | M12: 13 | N12: 14 | O12: 15
A14: janvier | B14: février | C14: mars | D14: avril | E14: mai | F14: juin | G14: juillet | H14: août | I14: septembre | J14: octobre | K14: novembre | L14: décembre
B15: très satisfaisant
A16: 2014 | B16: satisfaisant
A17: 2015 | B17: moy. satisfaisant
A18: 2016 | B18: pas du tout satisfaisant
A19: 2017 | E19: inscription consulat
A20: 2018 | E20: certificat de vie
A21: 2019 | E21: CNIS/PP
A22: 2020 | E22: légalisation/certification
A23: 2021 | E23: notariat
A24: 2022 | E24: naissance/mariage/décès
A25: 2023 | E25: affaires sociales
A26: 2024 | E26: bourses scolaires
A27: 2025 | E27: AUTRES
A28: 2026
A29: 2027
A30: 2028
A31: 2029
A32: 2030
A33: 2031
A34: 2032
A35: 2033
A36: 2034
A37: 2035
A38: 2036
A39: 2037
... A231: 2229
