Workbook
Name aa: DANGER!$A$16:$A$231
Name att: DANGER!$G$1:$J$1
Name attente: DANGER!$A$12:$O$12
Name choix: données!$H$2:$H$3
Name delai: DANGER!$D$8,DANGER!$A$8,DANGER!$B$8,DANGER!$C$8
Name dem: DANGER!$E$19:$E$27
Name deux: DANGER!$A$1:$A$2
Name heure: DANGER!$D$1:$D$2
Name inter: DANGER!$B$1:$B$3
Name kjl: #REF!
Name liste: données!$H$2,données!$H$3
Name mm: #REF!
Name mmm: DANGER!$A$14:$L$14
Name moyen: DANGER!$A$4,DANGER!$A$5,DANGER!$A$6
Name moyens: DANGER!$B$7,DANGER!$A$4,DANGER!$A$5,DANGER!$A$6
Name ok: DANGER!$B$15:$B$18
Name okay: DANGER!$B$15:$C$18
Name question: données!$H$2:$H$3
Name questions: DANGER!$A$1:$A$2
Name satisfaction: DANGER!$A$10,DANGER!$B$10,DANGER!$C$10
Name semaine: DANGER!$K$1:$K$5
Name service: DANGER!$F$1:$F$4

Sheet données
A1: Q1 SERVICE | B1: Démarche | C1: Année | D1: Mois | E1: JOUR | F1: Q2 | G1: SI NON | H1: Q2b | I1: Q3 | J1: SI OUI | K1: Q4 | L1: Q5 | M1: Q5b | N1: Q6 | O1: Q7 | P1: Q7b | Q1: Q8 | R1: SI NON2 | S1: Q10 | T1: CONTRÔLE | U1: RECEPTION | V1: BUREAU | W1: Q11 | X1: SI OUI2 | Y1: SI retard | Z1: Q12 | AA1: Q13 | AB1: Securité 1 | AC1: Securité 2 | AD1: Securité 3 | AE1: GLOBAL
A2: EC | B2: certificat de vie | C2: 2017 | D2: janvier | E2: lundi | F2: non | G2: non | H2: oui | I2: non | J2: sur place | K2: entre 24-48h | N2: complet | O2: non | P2: non | Q2: ne sais pas | T2: très satisfaisant | U2: très satisfaisant | V2: très satisfaisant | W2: oui | X2: En retard | Y2: 15-30 | Z2: plus de 60 | AA2: oui | AB2: non | AC2: oui | AD2: non | AE2: moy. satisfaisant
A3: EC | B3: certificat de vie | C3: 2017 | D3: janvier | E3: lundi | F3: non | G3: non | H3: non | I3: non | J3: mail | K3: moins 24h | L3: 8 | M3: 8 | N3: pas du tout | O3: non | P3: oui | Q3: oui | T3: satisfaisant | U3: satisfaisant | V3: satisfaisant | W3: non | X3: En retard | Y3: plus de 60 | Z3: 30-60 | AA3: non | AB3: non | AC3: non | AD3: oui | AE3: satisfaisant
A4: EC | B4: certificat de vie | C4: 2017 | D4: janvier | E4: lundi | F4: non | G4: non | H4: non | I4: oui | J4: sur place | K4: moins 24h | L4: 1 | M4: 1 | N4: pas du tout | O4: non | P4: oui | Q4: ne sais pas | T4: pas du tout satisfaisant | U4: pas du tout satisfaisant | V4: pas du tout satisfaisant | W4: non | X4: A l'heure | Y4: 30-60 | Z4: plus de 60 | AA4: non | AB4: oui | AC4: oui | AD4: non | AE4: très satisfaisant
A5: EC | B5: certificat de vie | C5: 2017 | D5: janvier | E5: lundi | F5: non | G5: non | H5: non | I5: oui | J5: sur place | N5: pas du tout | O5: oui | P5: non | Q5: ne sais pas
A6: EC | B6: certificat de vie | C6: 2017 | D6: janvier | E6: lundi | F6: non | G6: non | H6: non | I6: oui | J6: sur place
A7: EC | B7: certificat de vie | C7: 2017 | D7: janvier | E7: lundi | F7: non | G7: non | H7: oui | I7: non | J7: mail | K7: moins 24h | L7: 5 | M7: 5
A8: EC | B8: certificat de vie | C8: 2017 | D8: janvier | E8: lundi | F8: non | G8: non | H8: non | I8: oui | J8: mail | K8: entre 24-48h | L8: 7 | M8: 7
A9: EC | B9: certificat de vie | C9: 2017 | D9: janvier | E9: lundi | F9: oui | G9: oui | H9: non | I9: oui | J9: téléphone | K9: moins 24h | L9: 4 | M9: 4 | N9: complet | O9: non | P9: non | Q9: non | T9: moy. satisfaisant | U9: moy. satisfaisant | V9: moy. satisfaisant | W9: oui | X9: A l'heure | Y9: 15-30 | Z9: 0-15 | AA9: non | AB9: oui | AC9: non | AD9: oui | AE9: pas du tout satisfaisant
A10: EC | B10: certificat de vie | C10: 2017 | D10: janvier | E10: lundi | F10: oui | G10: oui | H10: non | I10: oui | J10: sur place | N10: partiel | O10: non | P10: non | Q10: oui
A11: EC | B11: certificat de vie | C11: 2017 | D11: janvier | E11: lundi | F11: non | G11: non | H11: non | I11: oui | J11: sur place | N11: complet | O11: oui | P11: non | Q11: oui
A12: EC | C12: 2018 | D12: mars | E12: mardi | F12: oui | G12: non | H12: non | I12: oui
A13: EC | C13: 2018 | D13: avril | E13: mercredi | F13: non | G13: non | H13: non | I13: oui
A14: EC | C14: 2017 | D14: avril | E14: jeudi | F14: non | G14: oui | H14: non | I14: oui
A15: EC | C15: 2017 | D15: janvier | E15: vendredi | F15: non | G15: oui | H15: oui | I15: oui | M15: 4
A16: EC | C16: 2017 | D16: mars | E16: samedi | F16: non | G16: oui | H16: non | I16: oui | M16: 1
A17: EC | C17: 2017 | D17: janvier | E17: dimanche | F17: non | G17: oui | H17: non | I17: oui | M17: 5
A18: EC | B18: certificat de vie | C18: 2017 | D18: janvier | E18: lundi | F18: non | G18: oui | H18: non | I18: oui | J18: sur place | N18: partiel | O18: oui | P18: non | Q18: oui
A19: EC | C19: 2017 | D19: mai | E19: mardi | F19: oui | G19: oui | H19: non | I19: oui
A20: EC | C20: 2017 | D20: mai | E20: mercredi | F20: oui | G20: oui | H20: oui | I20: oui
A21: EC | C21: 2017 | D21: mai | E21: jeudi | F21: oui | G21: oui | H21: oui | I21: oui | M21: 4
A22: EC | C22: 2017 | D22: juin | E22: vendredi | F22: oui | G22: non | H22: oui | I22: oui | M22: 1
A23: EC | C23: 2017 | D23: juillet | E23: samedi | F23: oui | G23: non | H23: oui | I23: oui | M23: 1
A24: EC | C24: 2017 | D24: août | E24: dimanche | F24: oui | G24: non | H24: oui | I24: non | M24: 1
A25: EC | B25: certificat de vie | C25: 2017 | D25: janvier | E25: lundi | F25: non | G25: non | H25: non | I25: oui | J25: sur place
A26: EC | C26: 2017 | D26: octobre | E26: mardi | F26: non | G26: non | H26: oui | I26: non | L26: 8
A27: EC | C27: 2017 | D27: novembre | E27: mercredi | F27: non | G27: non | H27: oui | I27: non | L27: 1 | M27: 4
A28: EC | C28: 2017 | D28: décembre | E28: jeudi | F28: non | G28: non | H28: oui | I28: non | L28: 5
A29: EC | C29: 2017 | D29: janvier | E29: vendredi | F29: non | G29: non | H29: oui | I29: non | L29: 6
A30: EC | C30: 2017 | D30: février | E30: samedi | F30: non | G30: oui | H30: oui | I30: non | L30: 5
A31: EC | C31: 2017 | D31: mars | E31: dimanche | F31: non | G31: oui | H31: oui | I31: non | L31: 7 | M31: 5
A32: EC | B32: certificat de vie | C32: 2017 | D32: janvier | E32: lundi | F32: oui | G32: oui | H32: oui | I32: oui | J32: sur place
A33: EC | C33: 2017 | D33: mai | E33: mardi | F33: non | G33: oui | H33: oui | I33: non | J33: mail | L33: 1 | M33: 4
A34: EC | C34: 2017 | D34: septembre | E34: mercredi | F34: non | G34: oui | H34: non | I34: oui | J34: sur place | L34: 1
A35: EC | C35: 2017 | D35: septembre | E35: jeudi | F35: non | G35: non | H35: non | I35: oui | J35: sur place | L35: 1
A36: EC | C36: 2017 | D36: août | E36: vendredi | F36: non | G36: non | H36: non | I36: oui | J36: sur place
A37: EC | C37: 2017 | D37: septembre | E37: samedi | F37: non | G37: non | H37: non | I37: oui | J37: mail | M37: 4
A38: EC | C38: 2017 | D38: octobre | E38: dimanche | F38: non | G38: non | H38: non | I38: oui | J38: mail
A39: EC | B39: certificat de vie | C39: 2017 | D39: janvier | E39: lundi | F39: oui | G39: non | H39: non | I39: non | J39: téléphone | K39: moins 24h | L39: 4 | M39: 3
A40: EC | C40: 2017 | D40: décembre | E40: mardi | F40: non | G40: non | H40: non | I40: oui | J40: sur place | L40: 8
A41: EC | C41: 2017 | D41: janvier | E41: mercredi | F41: non | G41: non | H41: non | I41: oui | J41: sur place | L41: 1 | M41: 2
A42: EC | C42: 2017 | D42: février | E42: jeudi | F42: non | G42: non | H42: non | I42: oui | J42: sur place | L42: 5 | M42: 8
G43: non | J43: sur place | L43: 6 | M43: 1
G44: non | L44: 5
G45: non | L45: 7
G46: non | L46: 4 | M46: 3
G47: non | L47: 1 | M47: 5
L48: 1
A3424: EC | B3424: notariat | C3424: 2017 | D3424: janvier | E3424: lundi | F3424: oui | G3424: oui | H3424: oui | I3424: oui | J3424: sur place | L3424: 1 | M3424: 4
A3425: EC | B3425: notariat | C3425: 2017 | D3425: janvier | E3425: lundi | F3425: oui | G3425: oui | H3425: oui | I3425: oui | J3425: téléphone | K3425: immédiat | L3425: 5 | M3425: 4
A3426: EC | B3426: notariat | C3426: 2017 | D3426: janvier | E3426: lundi | F3426: oui | G3426: oui | H3426: oui | I3426: oui | J3426: sur place | N3426: complet
A3427: EC | B3427: notariat | C3427: 2017 | D3427: janvier | E3427: lundi | F3427: oui | G3427: oui | H3427: oui | I3427: oui | J3427: sur place | N3427: complet
A3428: EC | B3428: notariat | C3428: 2017 | D3428: janvier | E3428: lundi | F3428: oui | G3428: oui | H3428: oui | I3428: oui | J3428: sur place | N3428: partiel
A3429: EC | B3429: notariat | C3429: 2017 | D3429: janvier | E3429: lundi | F3429: oui | G3429: oui | H3429: oui | I3429: oui | J3429: mail | K3429: plus de 48h | L3429: 4 | M3429: 3
A3430: EC | B3430: notariat | C3430: 2017 | D3430: janvier | E3430: lundi | F3430: non | G3430: non | H3430: non | I3430: non | J3430: mail | K3430: entre 24-48h | L3430: 1 | M3430: 3 | N3430: partiel
A3431: EC | B3431: notariat | C3431: 2017 | D3431: janvier | E3431: lundi | F3431: non | G3431: non | H3431: non | I3431: non | J3431: téléphone | K3431: immédiat | L3431: 1 | M3431: 3 | N3431: pas du tout
A3432: EC | B3432: notariat | C3432: 2017 | D3432: janvier | E3432: lundi | F3432: non | G3432: non | H3432: non | I3432: non | J3432: sur place | L3432: 1 | M3432: 5 | N3432: moy
A3433: EC | B3433: notariat | C3433: 2017 | D3433: janvier | E3433: lundi | F3433: non | G3433: non | H3433: non | I3433: non | J3433: sur place
A3434: EC | B3434: notariat | C3434: 2017 | D3434: janvier | E3434: lundi | F3434: non | G3434: non | H3434: non | I3434: non | J3434: sur place
A3435: EC | B3435: notariat | C3435: 2017 | D3435: janvier | E3435: lundi | F3435: non | G3435: non | H3435: non | I3435: non | J3435: mail | K3435: entre 24-48h | L3435: 4 | M3435: 7 | N3435: partiel
A3436: EC | B3436: notariat | C3436: 2017 | D3436: janvier | E3436: lundi | F3436: non | G3436: non | H3436: non | I3436: non | J3436: sur place
A3437: EC | B3437: notariat | C3437: 2017 | D3437: janvier | E3437: lundi | F3437: non | G3437: non | H3437: non | I3437: non | J3437: sur place
A3438: EC | B3438: notariat | C3438: 2017 | D3438: janvier | E3438: lundi | F3438: oui | G3438: oui | H3438: oui | I3438: oui | J3438: sur place
A3439: EC | B3439: naissance/mariage/décès | C3439: 2017 | D3439: janvier | E3439: lundi | F3439: oui | G3439: oui | H3439: oui | I3439: oui | J3439: mail | K3439: immédiat | L3439: 5 | M3439: 6
A3440: EC | B3440: naissance/mariage/décès | C3440: 2017 | D3440: janvier | E3440: lundi | F3440: oui | G3440: oui | H3440: oui | I3440: oui | J3440: mail | K3440: immédiat | L3440: 7 | M3440: 5
A3441: EC | B3441: naissance/mariage/décès | C3441: 2017 | D3441: janvier | E3441: lundi | F3441: oui | G3441: oui | H3441: oui | I3441: oui | J3441: téléphone | K3441: immédiat | L3441: 4 | M3441: 2
A3442: EC | B3442: naissance/mariage/décès | C3442: 2017 | D3442: janvier | E3442: lundi | F3442: oui | G3442: oui | H3442: oui | I3442: oui | J3442: sur place
A3443: EC | B3443: naissance/mariage/décès | C3443: 2017 | D3443: janvier | E3443: lundi | F3443: non | G3443: non | H3443: non | I3443: non | J3443: sur place
A3444: EC | B3444: naissance/mariage/décès | C3444: 2017 | D3444: janvier | E3444: lundi | F3444: non | G3444: non | H3444: non | I3444: non | J3444: sur place
A3445: EC | B3445: naissance/mariage/décès | C3445: 2017 | D3445: janvier | E3445: lundi | F3445: non | G3445: non | H3445: non | I3445: non | J3445: mail | K3445: moins 24h | L3445: 4 | M3445: 1
A3446: EC | B3446: naissance/mariage/décès | C3446: 2017 | D3446: janvier | E3446: lundi | F3446: non | G3446: non | H3446: non | I3446: non | J3446: sur place
A3447: EC | B3447: naissance/mariage/décès | C3447: 2017 | D3447: janvier | E3447: lundi | F3447: non | G3447: non | H3447: non | I3447: non | J3447: sur place
A3448: EC | B3448: naissance/mariage/décès | C3448: 2017 | D3448: janvier | E3448: lundi | F3448: non | G3448: non | H3448: non | I3448: non | J3448: sur place
A3449: EC | B3449: naissance/mariage/décès | C3449: 2017 | D3449: janvier | E3449: lundi | F3449: non | G3449: non | H3449: non | I3449: non | J3449: mail | K3449: entre 24-48h | L3449: 2 | M3449: 1
A3450: EC | B3450: naissance/mariage/décès | C3450: 2017 | D3450: janvier | E3450: lundi | F3450: non | G3450: non | H3450: non | I3450: non | J3450: mail | K3450: moins 24h | L3450: 8 | M3450: 1
A3451: EC | B3451: naissance/mariage/décès | C3451: 2017 | D3451: janvier | E3451: lundi | F3451: non | G3451: non | H3451: non | I3451: non | J3451: téléphone | K3451: moins 24h | L3451: 1 | M3451: 1
A3452: EC | B3452: naissance/mariage/décès | C3452: 2017 | D3452: janvier | E3452: lundi | F3452: non | G3452: non | H3452: non | I3452: non | J3452: sur place
A3453: EC | B3453: naissance/mariage/décès | C3453: 2017 | D3453: janvier | E3453: lundi | F3453: non | G3453: non | H3453: non | I3453: non | J3453: sur place
A3454: EC | B3454: naissance/mariage/décès | C3454: 2017 | D3454: janvier | E3454: lundi | F3454: non | G3454: non | H3454: non | I3454: non | J3454: mail | K3454: immédiat | L3454: 3 | M3454: 5
A3455: EC | B3455: naissance/mariage/décès | C3455: 2017 | D3455: janvier | E3455: lundi | F3455: non | G3455: non | H3455: non | I3455: non | J3455: téléphone | K3455: entre 24-48h | L3455: 5 | M3455: 6

Sheet résultats & analyse
A1: 2017 | B1: EC
B3: janvier
A5: lundi | B5: 1er contact | C5: RESULTATS | H5: Taux de satisfaction %
A6: Notariat | B6: Contact ? | C6: oui | D6: non | G6: Total | H6: Satisfaits | I6: N satisfaits | J6: Ratio de satisfaction
C7: =COUNTIFS(OFFSET(données!$I:$I,0,MOD(ROW()-7,11)/2),C6,données!$A:$A,$B$1,données!$B:$B,OFFSET($A$6,ROW()-7-MOD(ROW()-7,11),0),données!$C:$C,$A$1,données!$D:$D,$B$3,données!$E:$E,$A$5) -> 7 | D7: =COUNTIFS(OFFSET(données!$I:$I,0,MOD(ROW()-7,11)/2),D6,données!$A:$A,$B$1,données!$B:$B,OFFSET($A$6,ROW()-7-MOD(ROW()-7,11),0),données!$C:$C,$A$1,données!$D:$D,$B$3,données!$E:$E,$A$5) -> 8 | G7: =SUM(C7+D7+E7+F7) -> 15 | H7: =IFERROR(C7/G7,"") -> 0.46666667 | I7: =IFERROR(D7/G7,"") -> 0.53333333 | J7: =IFERROR(H7/I7,"") -> 0.875
B8: Comment ? | C8: téléphone | D8: mail | E8: sur place | H8: =IFERROR(C8/G8,"") | I8: =IFERROR(D8/G8,"") | J8: =IFERROR(H8/I8,"")
C9: =COUNTIFS(OFFSET(données!$I:$I,0,MOD(ROW()-7,11)/2),C8,données!$A:$A,$B$1,données!$B:$B,OFFSET($A$6,ROW()-7-MOD(ROW()-7,11),0),données!$C:$C,$A$1,données!$D:$D,$B$3,données!$E:$E,$A$5) -> 2 | D9: =COUNTIFS(OFFSET(données!$I:$I,0,MOD(ROW()-7,11)/2),D8,données!$A:$A,$B$1,données!$B:$B,OFFSET($A$6,ROW()-7-MOD(ROW()-7,11),0),données!$C:$C,$A$1,données!$D:$D,$B$3,données!$E:$E,$A$5) -> 3 | E9: =COUNTIFS(OFFSET(données!$I:$I,0,MOD(ROW()-7,11)/2),E8,données!$A:$A,$B$1,données!$B:$B,OFFSET($A$6,ROW()-7-MOD(ROW()-7,11),0),données!$C:$C,$A$1,données!$D:$D,$B$3,données!$E:$E,$A$5) -> 10 | G9: =SUM(C9+D9+E9+F9) -> 15 | H9: =IFERROR(C9/G9,"") -> 0.13333333 | I9: =IFERROR(D9/G9,"") -> 0.2 | J9: =IFERROR(H9/I9,"") -> 0.66666667
B10: Si mail | C10: immédiat | D10: moins 24h | E10: entre 24-48h | F10: plus de 48h | H10: =IFERROR(C10/G10,"") | I10: =IFERROR(D10/G10,"") | J10: =IFERROR(H10/I10,"")
C11: =COUNTIFS(OFFSET(données!$I:$I,0,MOD(ROW()-7,11)/2),C10,données!$A:$A,$B$1,données!$B:$B,OFFSET($A$6,ROW()-7-MOD(ROW()-7,11),0),données!$C:$C,$A$1,données!$D:$D,$B$3,données!$E:$E,$A$5) -> 2 | D11: =COUNTIFS(OFFSET(données!$I:$I,0,MOD(ROW()-7,11)/2),D10,données!$A:$A,$B$1,données!$B:$B,OFFSET($A$6,ROW()-7-MOD(ROW()-7,11),0),données!$C:$C,$A$1,données!$D:$D,$B$3,données!$E:$E,$A$5) -> 0 | E11: =COUNTIFS(OFFSET(données!$I:$I,0,MOD(ROW()-7,11)/2),E10,données!$A:$A,$B$1,données!$B:$B,OFFSET($A$6,ROW()-7-MOD(ROW()-7,11),0),données!$C:$C,$A$1,données!$D:$D,$B$3,données!$E:$E,$A$5) -> 2 | F11: =COUNTIFS(OFFSET(données!$I:$I,0,MOD(ROW()-7,11)/2),F10,données!$A:$A,$B$1,données!$B:$B,OFFSET($A$6,ROW()-7-MOD(ROW()-7,11),0),données!$C:$C,$A$1,données!$D:$D,$B$3,données!$E:$E,$A$5) -> 1 | G11: =SUM(C11+D11+E11+F11) -> 5 | H11: =IFERROR(C11/G11,"") -> 0.4 | I11: =IFERROR(D11/G11,"") -> 0 | J11: =IFERROR(H11/I11,"")
B12: Si tél | C12: un agent | D12: l’information | H12: =IFERROR(C12/G12,"") | I12: =IFERROR(D12/G12,"") | J12: =IFERROR(H12/I12,"")
C13: =SUMIFS(données!L:L,données!$B:$B,OFFSET($A$6,ROW()-7-MOD(ROW()-7,11),0),données!$C:$C,$A$1,données!$A:$A,$B$1,données!$D:$D,$B$3,données!$E:$E,$A$5) -> 17 | D13: =SUMIFS(données!M:M,données!$B:$B,OFFSET($A$6,ROW()-7-MOD(ROW()-7,11),0),données!$C:$C,$A$1,données!$A:$A,$B$1,données!$D:$D,$B$3,données!$E:$E,$A$5) -> 29 | G13: =SUM(C13+D13+E13+F13) -> 46 | H13: =IFERROR(C13/G13,"") -> 0.36956522 | I13: =IFERROR(D13/G13,"") -> 0.63043478 | J13: =IFERROR(H13/I13,"") -> 0.5862069
B14: In fine | C14: complet | D14: partiel | E14: moy | F14: pas du tout | H14: =IFERROR(C14/G14,"") | I14: =IFERROR(D14/G14,"") | J14: =IFERROR(H14/I14,"")
C15: =COUNTIFS(données!$N:$N,C14,données!$A:$A,$B$1,données!$B:$B,OFFSET($A$6,ROW()-7-MOD(ROW()-7,11),0),données!$C:$C,$A$1,données!$D:$D,$B$3,données!$E:$E,$A$5) -> 2 | D15: =COUNTIFS(données!$N:$N,D14,données!$A:$A,$B$1,données!$B:$B,OFFSET($A$6,ROW()-7-MOD(ROW()-7,11),0),données!$C:$C,$A$1,données!$D:$D,$B$3,données!$E:$E,$A$5) -> 3 | E15: =COUNTIFS(données!$N:$N,E14,données!$A:$A,$B$1,données!$B:$B,OFFSET($A$6,ROW()-7-MOD(ROW()-7,11),0),données!$C:$C,$A$1,données!$D:$D,$B$3,données!$E:$E,$A$5) -> 1 | F15: =COUNTIFS(données!$N:$N,F14,données!$A:$A,$B$1,données!$B:$B,OFFSET($A$6,ROW()-7-MOD(ROW()-7,11),0),données!$C:$C,$A$1,données!$D:$D,$B$3,données!$E:$E,$A$5) -> 1 | G15: =SUM(C15+D15+E15+F15) -> 7 | H15: =IFERROR(C15/G15,"") -> 0.28571429 | I15: =IFERROR(D15/G15,"") -> 0.42857143 | J15: =IFERROR(H15/I15,"") -> 0.66666667
B16: 1er contact | C16: RESULTATS
A17: naissance/mariage/décès | B17: Contact ? | C17: oui | D17: non | G17: Total | H17: Satisfaits | I17: N satisfaits
C18: =COUNTIFS(OFFSET(données!$I:$I,0,MOD(ROW()-7,11)/2),C17,données!$A:$A,$B$1,données!$B:$B,OFFSET($A$6,ROW()-7-MOD(ROW()-7,11),0),données!$C:$C,$A$1,données!$D:$D,$B$3,données!$E:$E,$A$5) -> 4 | D18: =COUNTIFS(OFFSET(données!$I:$I,0,MOD(ROW()-7,11)/2),D17,données!$A:$A,$B$1,données!$B:$B,OFFSET($A$6,ROW()-7-MOD(ROW()-7,11),0),données!$C:$C,$A$1,données!$D:$D,$B$3,données!$E:$E,$A$5) -> 13 | G18: =SUM(C18+D18+E18+F18) -> 17 | H18: =IFERROR(C18/G18,"") -> 0.23529412 | I18: =IFERROR(D18/G18,"") -> 0.76470588 | J18: =IFERROR(H18/I18,"") -> 0.30769231
B19: Comment ? | C19: téléphone | D19: mail | E19: sur place | H19: =IFERROR(C19/G19,"") | I19: =IFERROR(D19/G19,"") | J19: =IFERROR(H19/I19,"")
C20: =COUNTIFS(OFFSET(données!$I:$I,0,MOD(ROW()-7,11)/2),C19,données!$A:$A,$B$1,données!$B:$B,OFFSET($A$6,ROW()-7-MOD(ROW()-7,11),0),données!$C:$C,$A$1,données!$D:$D,$B$3,données!$E:$E,$A$5) -> 3 | D20: =COUNTIFS(OFFSET(données!$I:$I,0,MOD(ROW()-7,11)/2),D19,données!$A:$A,$B$1,données!$B:$B,OFFSET($A$6,ROW()-7-MOD(ROW()-7,11),0),données!$C:$C,$A$1,données!$D:$D,$B$3,données!$E:$E,$A$5) -> 6 | E20: =COUNTIFS(OFFSET(données!$I:$I,0,MOD(ROW()-7,11)/2),E19,données!$A:$A,$B$1,données!$B:$B,OFFSET($A$6,ROW()-7-MOD(ROW()-7,11),0),données!$C:$C,$A$1,données!$D:$D,$B$3,données!$E:$E,$A$5) -> 8 | G20: =SUM(C20+D20+E20+F20) -> 17 | H20: =IFERROR(C20/G20,"") -> 0.17647059 | I20: =IFERROR(D20/G20,"") -> 0.35294118 | J20: =IFERROR(H20/I20,"") -> 0.5
B21: Si mail | C21: immédiat | D21: moins 24h | E21: entre 24-48h | F21: plus de 48h | H21: =IFERROR(C21/G21,"") | I21: =IFERROR(D21/G21,"") | J21: =IFERROR(H21/I21,"")
C22: =COUNTIFS(OFFSET(données!$I:$I,0,MOD(ROW()-7,11)/2),C21,données!$A:$A,$B$1,données!$B:$B,OFFSET($A$6,ROW()-7-MOD(ROW()-7,11),0),données!$C:$C,$A$1,données!$D:$D,$B$3,données!$E:$E,$A$5) -> 4 | D22: =COUNTIFS(OFFSET(données!$I:$I,0,MOD(ROW()-7,11)/2),D21,données!$A:$A,$B$1,données!$B:$B,OFFSET($A$6,ROW()-7-MOD(ROW()-7,11),0),données!$C:$C,$A$1,données!$D:$D,$B$3,données!$E:$E,$A$5) -> 3 | E22: =COUNTIFS(OFFSET(données!$I:$I,0,MOD(ROW()-7,11)/2),E21,données!$A:$A,$B$1,données!$B:$B,OFFSET($A$6,ROW()-7-MOD(ROW()-7,11),0),données!$C:$C,$A$1,données!$D:$D,$B$3,données!$E:$E,$A$5) -> 2 | F22: =COUNTIFS(OFFSET(données!$I:$I,0,MOD(ROW()-7,11)/2),F21,données!$A:$A,$B$1,données!$B:$B,OFFSET($A$6,ROW()-7-MOD(ROW()-7,11),0),données!$C:$C,$A$1,données!$D:$D,$B$3,données!$E:$E,$A$5) -> 0 | G22: =SUM(C22+D22+E22+F22) -> 9 | H22: =IFERROR(C22/G22,"") -> 0.44444444 | I22: =IFERROR(D22/G22,"") -> 0.33333333 | J22: =IFERROR(H22/I22,"") -> 1.3333333
B23: Si tél | C23: un agent | D23: l’information | H23: =IFERROR(C23/G23,"") | I23: =IFERROR(D23/G23,"") | J23: =IFERROR(H23/I23,"")
C24: =SUMIFS(données!L:L,données!$B:$B,OFFSET($A$6,ROW()-7-MOD(ROW()-7,11),0),données!$C:$C,$A$1,données!$A:$A,$B$1,données!$D:$D,$B$3,données!$E:$E,$A$5) -> 39 | D24: =SUMIFS(données!M:M,données!$B:$B,OFFSET($A$6,ROW()-7-MOD(ROW()-7,11),0),données!$C:$C,$A$1,données!$A:$A,$B$1,données!$D:$D,$B$3,données!$E:$E,$A$5) -> 28 | G24: =SUM(C24+D24+E24+F24) -> 67 | H24: =IFERROR(C24/G24,"") -> 0.58208955 | I24: =IFERROR(D24/G24,"") -> 0.41791045 | J24: =IFERROR(H24/I24,"") -> 1.3928571
B25: In fine | C25: complet | D25: partiel | E25: moy | F25: pas du tout | H25: =IFERROR(C25/G25,"") | I25: =IFERROR(D25/G25,"") | J25: =IFERROR(H25/I25,"")
C26: =COUNTIFS(données!$N:$N,C25,données!$A:$A,$B$1,données!$B:$B,OFFSET($A$6,ROW()-7-MOD(ROW()-7,11),0),données!$C:$C,$A$1,données!$D:$D,$B$3,données!$E:$E,$A$5) -> 0 | D26: =COUNTIFS(données!$N:$N,D25,données!$A:$A,$B$1,données!$B:$B,OFFSET($A$6,ROW()-7-MOD(ROW()-7,11),0),données!$C:$C,$A$1,données!$D:$D,$B$3,données!$E:$E,$A$5) -> 0 | E26: =COUNTIFS(données!$N:$N,E25,données!$A:$A,$B$1,données!$B:$B,OFFSET($A$6,ROW()-7-MOD(ROW()-7,11),0),données!$C:$C,$A$1,données!$D:$D,$B$3,données!$E:$E,$A$5) -> 0 | F26: =COUNTIFS(données!$N:$N,F25,données!$A:$A,$B$1,données!$B:$B,OFFSET($A$6,ROW()-7-MOD(ROW()-7,11),0),données!$C:$C,$A$1,données!$D:$D,$B$3,données!$E:$E,$A$5) -> 0 | G26: =SUM(C26+D26+E26+F26) -> 0 | H26: =IFERROR(C26/G26,"") | I26: =IFERROR(D26/G26,"") | J26: =IFERROR(H26/I26,"")
B27: 1er contact | C27: RESULTATS
A28: Certificat de vie | B28: Contact ? | C28: oui | D28: non | G28: Total | H28: Satisfaits | I28: N satisfaits
C29: =COUNTIFS(OFFSET(données!$I:$I,0,MOD(ROW()-7,11)/2),C28,données!$A:$A,$B$1,données!$B:$B,OFFSET($A$6,ROW()-7-MOD(ROW()-7,11),0),données!$C:$C,$A$1,données!$D:$D,$B$3,données!$E:$E,$A$5) -> 10 | D29: =COUNTIFS(OFFSET(données!$I:$I,0,MOD(ROW()-7,11)/2),D28,données!$A:$A,$B$1,données!$B:$B,OFFSET($A$6,ROW()-7-MOD(ROW()-7,11),0),données!$C:$C,$A$1,données!$D:$D,$B$3,données!$E:$E,$A$5) -> 4 | G29: =SUM(C29+D29+E29+F29) -> 14 | H29: =IFERROR(C29/G29,"") -> 0.71428571 | I29: =IFERROR(D29/G29,"") -> 0.28571429 | J29: =IFERROR(H29/I29,"") -> 2.5
B30: Comment ? | C30: téléphone | D30: mail | E30: sur place | H30: =IFERROR(C30/G30,"") | I30: =IFERROR(D30/G30,"") | J30: =IFERROR(H30/I30,"")
C31: =COUNTIFS(OFFSET(données!$I:$I,0,MOD(ROW()-7,11)/2),C30,données!$A:$A,$B$1,données!$B:$B,OFFSET($A$6,ROW()-7-MOD(ROW()-7,11),0),données!$C:$C,$A$1,données!$D:$D,$B$3,données!$E:$E,$A$5) -> 2 | D31: =COUNTIFS(OFFSET(données!$I:$I,0,MOD(ROW()-7,11)/2),D30,données!$A:$A,$B$1,données!$B:$B,OFFSET($A$6,ROW()-7-MOD(ROW()-7,11),0),données!$C:$C,$A$1,données!$D:$D,$B$3,données!$E:$E,$A$5) -> 3 | E31: =COUNTIFS(OFFSET(données!$I:$I,0,MOD(ROW()-7,11)/2),E30,données!$A:$A,$B$1,données!$B:$B,OFFSET($A$6,ROW()-7-MOD(ROW()-7,11),0),données!$C:$C,$A$1,données!$D:$D,$B$3,données!$E:$E,$A$5) -> 9 | G31: =SUM(C31+D31+E31+F31) -> 14 | H31: =IFERROR(C31/G31,"") -> 0.14285714 | I31: =IFERROR(D31/G31,"") -> 0.21428571 | J31: =IFERROR(H31/I31,"") -> 0.66666667
B32: Si mail | C32: immédiat | D32: moins 24h | E32: entre 24-48h | F32: plus de 48h | H32: =IFERROR(C32/G32,"") | I32: =IFERROR(D32/G32,"") | J32: =IFERROR(H32/I32,"")
C33: =COUNTIFS(OFFSET(données!$I:$I,0,MOD(ROW()-7,11)/2),C32,données!$A:$A,$B$1,données!$B:$B,OFFSET($A$6,ROW()-7-MOD(ROW()-7,11),0),données!$C:$C,$A$1,données!$D:$D,$B$3,données!$E:$E,$A$5) -> 0 | D33: =COUNTIFS(OFFSET(données!$I:$I,0,MOD(ROW()-7,11)/2),D32,données!$A:$A,$B$1,données!$B:$B,OFFSET($A$6,ROW()-7-MOD(ROW()-7,11),0),données!$C:$C,$A$1,données!$D:$D,$B$3,données!$E:$E,$A$5) -> 5 | E33: =COUNTIFS(OFFSET(données!$I:$I,0,MOD(ROW()-7,11)/2),E32,données!$A:$A,$B$1,données!$B:$B,OFFSET($A$6,ROW()-7-MOD(ROW()-7,11),0),données!$C:$C,$A$1,données!$D:$D,$B$3,données!$E:$E,$A$5) -> 2 | F33: =COUNTIFS(OFFSET(données!$I:$I,0,MOD(ROW()-7,11)/2),F32,données!$A:$A,$B$1,données!$B:$B,OFFSET($A$6,ROW()-7-MOD(ROW()-7,11),0),données!$C:$C,$A$1,données!$D:$D,$B$3,données!$E:$E,$A$5) -> 0 | G33: =SUM(C33+D33+E33+F33) -> 7 | H33: =IFERROR(C33/G33,"") -> 0 | I33: =IFERROR(D33/G33,"") -> 0.71428571 | J33: =IFERROR(H33/I33,"") -> 0
B34: Si tél | C34: un agent | D34: l’information | H34: =IFERROR(C34/G34,"") | I34: =IFERROR(D34/G34,"") | J34: =IFERROR(H34/I34,"")
C35: =SUMIFS(données!L:L,données!$B:$B,OFFSET($A$6,ROW()-7-MOD(ROW()-7,11),0),données!$C:$C,$A$1,données!$A:$A,$B$1,données!$D:$D,$B$3,données!$E:$E,$A$5) -> 29 | D35: =SUMIFS(données!M:M,données!$B:$B,OFFSET($A$6,ROW()-7-MOD(ROW()-7,11),0),données!$C:$C,$A$1,données!$A:$A,$B$1,données!$D:$D,$B$3,données!$E:$E,$A$5) -> 28 | G35: =SUM(C35+D35+E35+F35) -> 57 | H35: =IFERROR(C35/G35,"") -> 0.50877193 | I35: =IFERROR(D35/G35,"") -> 0.49122807 | J35: =IFERROR(H35/I35,"") -> 1.0357143
B36: In fine | C36: complet | D36: partiel | E36: moy | F36: pas du tout | H36: =IFERROR(C36/G36,"") | I36: =IFERROR(D36/G36,"") | J36: =IFERROR(H36/I36,"")
C37: =COUNTIFS(données!$N:$N,C36,données!$A:$A,$B$1,données!$B:$B,OFFSET($A$6,ROW()-7-MOD(ROW()-7,11),0),données!$C:$C,$A$1,données!$D:$D,$B$3,données!$E:$E,$A$5) -> 3 | D37: =COUNTIFS(données!$N:$N,D36,données!$A:$A,$B$1,données!$B:$B,OFFSET($A$6,ROW()-7-MOD(ROW()-7,11),0),données!$C:$C,$A$1,données!$D:$D,$B$3,données!$E:$E,$A$5) -> 2 | E37: =COUNTIFS(données!$N:$N,E36,données!$A:$A,$B$1,données!$B:$B,OFFSET($A$6,ROW()-7-MOD(ROW()-7,11),0),données!$C:$C,$A$1,données!$D:$D,$B$3,données!$E:$E,$A$5) -> 0 | F37: =COUNTIFS(données!$N:$N,F36,données!$A:$A,$B$1,données!$B:$B,OFFSET($A$6,ROW()-7-MOD(ROW()-7,11),0),données!$C:$C,$A$1,données!$D:$D,$B$3,données!$E:$E,$A$5) -> 3 | G37: =SUM(C37+D37+E37+F37) -> 8 | H37: =IFERROR(C37/G37,"") -> 0.375 | I37: =IFERROR(D37/G37,"") -> 0.25 | J37: =IFERROR(H37/I37,"") -> 1.5
B38: 1er contact | C38: RESULTATS
A39: Notariat | B39: Question 11 | C39: oui | D39: non | G39: Total | H39: Satisfaits | I39: N satisfaits
C40: =COUNTIFS(OFFSET(données!$W:$W,0,MOD(ROW()-7,11)/2),C39,données!$A:$A,$B$1,données!$B:$B,OFFSET($A$6,ROW()-7-MOD(ROW()-7,11),0),données!$C:$C,$A$1,données!$D:$D,$B$3,données!$E:$E,$A$5) -> 0 | D40: =COUNTIFS(OFFSET(données!$W:$W,0,MOD(ROW()-7,11)/2),D39,données!$A:$A,$B$1,données!$B:$B,OFFSET($A$6,ROW()-7-MOD(ROW()-7,11),0),données!$C:$C,$A$1,données!$D:$D,$B$3,données!$E:$E,$A$5) -> 0 | G40: =SUM(C40+D40+E40+F40) -> 0 | H40: =IFERROR(C40/G40,"") | I40: =IFERROR(D40/G40,"") | J40: =IFERROR(H40/I40,"")
B41: Si oui, reçu… | C41: A l'heure | D41: En retard | H41: =IFERROR(C41/G41,"") | I41: =IFERROR(D41/G41,"") | J41: =IFERROR(H41/I41,"")
C42: =COUNTIFS(OFFSET(données!$W:$W,0,MOD(ROW()-7,11)/2),C41,données!$A:$A,$B$1,données!$B:$B,OFFSET($A$6,ROW()-7-MOD(ROW()-7,11),0),données!$C:$C,$A$1,données!$D:$D,$B$3,données!$E:$E,$A$5) -> 0 | D42: =COUNTIFS(OFFSET(données!$W:$W,0,MOD(ROW()-7,11)/2),D41,données!$A:$A,$B$1,données!$B:$B,OFFSET($A$6,ROW()-7-MOD(ROW()-7,11),0),données!$C:$C,$A$1,données!$D:$D,$B$3,données!$E:$E,$A$5) -> 0 | G42: =SUM(C42+D42+E42+F42) -> 0 | H42: =IFERROR(C42/G42,"") | I42: =IFERROR(D42/G42,"") | J42: =IFERROR(H42/I42,"")
B43: Si retard, combien ? | C43: 0-15 | D43: 15-30 | E43: 30-60 | F43: plus de 60 | H43: =IFERROR(C43/G43,"") | I43: =IFERROR(D43/G43,"") | J43: =IFERROR(H43/I43,"")
C44: =COUNTIFS(OFFSET(données!$W:$W,0,MOD(ROW()-7,11)/2),C43,données!$A:$A,$B$1,données!$B:$B,OFFSET($A$6,ROW()-7-MOD(ROW()-7,11),0),données!$C:$C,$A$1,données!$D:$D,$B$3,données!$E:$E,$A$5) -> 0 | D44: =COUNTIFS(OFFSET(données!$W:$W,0,MOD(ROW()-7,11)/2),D43,données!$A:$A,$B$1,données!$B:$B,OFFSET($A$6,ROW()-7-MOD(ROW()-7,11),0),données!$C:$C,$A$1,données!$D:$D,$B$3,données!$E:$E,$A$5) -> 0 | E44: =COUNTIFS(OFFSET(données!$W:$W,0,MOD(ROW()-7,11)/2),E43,données!$A:$A,$B$1,données!$B:$B,OFFSET($A$6,ROW()-7-MOD(ROW()-7,11),0),données!$C:$C,$A$1,données!$D:$D,$B$3,données!$E:$E,$A$5) -> 0 | F44: =COUNTIFS(OFFSET(données!$W:$W,0,MOD(ROW()-7,11)/2),F43,données!$A:$A,$B$1,données!$B:$B,OFFSET($A$6,ROW()-7-MOD(ROW()-7,11),0),données!$C:$C,$A$1,données!$D:$D,$B$3,données!$E:$E,$A$5) -> 0 | G44: =SUM(C44+D44+E44+F44) -> 0 | H44: =IFERROR(C44/G44,"") | I44: =IFERROR(D44/G44,"") | J44: =IFERROR(H44/I44,"")
B45: Question 12 | C45: 0-15 | D45: 15-30 | E45: 30-60 | F45: plus de 60 | H45: =IFERROR(C45/G45,"") | I45: =IFERROR(D45/G45,"") | J45: =IFERROR(H45/I45,"")
C46: =COUNTIFS(OFFSET(données!$W:$W,0,MOD(ROW()-7,11)/2),C45,données!$A:$A,$B$1,données!$B:$B,OFFSET($A$6,ROW()-7-MOD(ROW()-7,11),0),données!$C:$C,$A$1,données!$D:$D,$B$3,données!$E:$E,$A$5) -> 0 | D46: =COUNTIFS(OFFSET(données!$W:$W,0,MOD(ROW()-7,11)/2),D45,données!$A:$A,$B$1,données!$B:$B,OFFSET($A$6,ROW()-7-MOD(ROW()-7,11),0),données!$C:$C,$A$1,données!$D:$D,$B$3,données!$E:$E,$A$5) -> 0 | E46: =COUNTIFS(OFFSET(données!$W:$W,0,MOD(ROW()-7,11)/2),E45,données!$A:$A,$B$1,données!$B:$B,OFFSET($A$6,ROW()-7-MOD(ROW()-7,11),0),données!$C:$C,$A$1,données!$D:$D,$B$3,données!$E:$E,$A$5) -> 0 | F46: =COUNTIFS(OFFSET(données!$W:$W,0,MOD(ROW()-7,11)/2),F45,données!$A:$A,$B$1,données!$B:$B,OFFSET($A$6,ROW()-7-MOD(ROW()-7,11),0),données!$C:$C,$A$1,données!$D:$D,$B$3,données!$E:$E,$A$5) -> 0 | G46: =SUM(C46+D46+E46+F46) -> 0 | H46: =IFERROR(C46/G46,"") | I46: =IFERROR(D46/G46,"") | J46: =IFERROR(H46/I46,"")
H47: =IFERROR(C47/G47,"") | I47: =IFERROR(D47/G47,"") | J47: =IFERROR(H47/I47,"")
H48: =IFERROR(C48/G48,"") | I48: =IFERROR(D48/G48,"") | J48: =IFERROR(H48/I48,"")
B49: Délai d'attente | C49: RESULTATS
A50: naissance/mariage/décès | B50: Question 11 | C50: oui | D50: non | G50: Total | H50: Satisfaits | I50: N satisfaits
C51: =COUNTIFS(OFFSET(données!$W:$W,0,MOD(ROW()-7,11)/2),C50,données!$A:$A,$B$1,données!$B:$B,OFFSET($A$6,ROW()-7-MOD(ROW()-7,11),0),données!$C:$C,$A$1,données!$D:$D,$B$3,données!$E:$E,$A$5) -> 0 | D51: =COUNTIFS(OFFSET(données!$W:$W,0,MOD(ROW()-7,11)/2),D50,données!$A:$A,$B$1,données!$B:$B,OFFSET($A$6,ROW()-7-MOD(ROW()-7,11),0),données!$C:$C,$A$1,données!$D:$D,$B$3,données!$E:$E,$A$5) -> 0 | G51: =SUM(C51+D51+E51+F51) -> 0 | H51: =IFERROR(C51/G51,"") | I51: =IFERROR(D51/G51,"") | J51: =IFERROR(H51/I51,"")
B52: Si oui, reçu… | C52: A l'heure | D52: En retard | H52: =IFERROR(C52/G52,"") | I52: =IFERROR(D52/G52,"") | J52: =IFERROR(H52/I52,"")
C53: =COUNTIFS(OFFSET(données!$W:$W,0,MOD(ROW()-7,11)/2),C52,données!$A:$A,$B$1,données!$B:$B,OFFSET($A$6,ROW()-7-MOD(ROW()-7,11),0),données!$C:$C,$A$1,données!$D:$D,$B$3,données!$E:$E,$A$5) -> 0 | D53: =COUNTIFS(OFFSET(données!$W:$W,0,MOD(ROW()-7,11)/2),D52,données!$A:$A,$B$1,données!$B:$B,OFFSET($A$6,ROW()-7-MOD(ROW()-7,11),0),données!$C:$C,$A$1,données!$D:$D,$B$3,données!$E:$E,$A$5) -> 0 | G53: =SUM(C53+D53+E53+F53) -> 0 | H53: =IFERROR(C53/G53,"") | I53: =IFERROR(D53/G53,"") | J53: =IFERROR(H53/I53,"")
B54: Si retard, combien ? | C54: 0-15 | D54: 15-30 | E54: 30-60 | F54: plus de 60 | H54: =IFERROR(C54/G54,"") | I54: =IFERROR(D54/G54,"") | J54: =IFERROR(H54/I54,"")
C55: =COUNTIFS(OFFSET(données!$W:$W,0,MOD(ROW()-7,11)/2),C54,données!$A:$A,$B$1,données!$B:$B,OFFSET($A$6,ROW()-7-MOD(ROW()-7,11),0),données!$C:$C,$A$1,données!$D:$D,$B$3,données!$E:$E,$A$5) -> 0 | D55: =COUNTIFS(OFFSET(données!$W:$W,0,MOD(ROW()-7,11)/2),D54,données!$A:$A,$B$1,données!$B:$B,OFFSET($A$6,ROW()-7-MOD(ROW()-7,11),0),données!$C:$C,$A$1,données!$D:$D,$B$3,données!$E:$E,$A$5) -> 0 | E55: =COUNTIFS(OFFSET(données!$W:$W,0,MOD(ROW()-7,11)/2),E54,données!$A:$A,$B$1,données!$B:$B,OFFSET($A$6,ROW()-7-MOD(ROW()-7,11),0),données!$C:$C,$A$1,données!$D:$D,$B$3,données!$E:$E,$A$5) -> 0 | F55: =COUNTIFS(OFFSET(données!$W:$W,0,MOD(ROW()-7,11)/2),F54,données!$A:$A,$B$1,données!$B:$B,OFFSET($A$6,ROW()-7-MOD(ROW()-7,11),0),données!$C:$C,$A$1,données!$D:$D,$B$3,données!$E:$E,$A$5) -> 0 | G55: =SUM(C55+D55+E55+F55) -> 0 | H55: =IFERROR(C55/G55,"") | I55: =IFERROR(D55/G55,"") | J55: =IFERROR(H55/I55,"")
B56: Question 12 | C56: 0-15 | D56: 15-30 | E56: 30-60 | F56: plus de 60 | H56: =IFERROR(C56/G56,"") | I56: =IFERROR(D56/G56,"") | J56: =IFERROR(H56/I56,"")
C57: =COUNTIFS(OFFSET(données!$W:$W,0,MOD(ROW()-7,11)/2),C56,données!$A:$A,$B$1,données!$B:$B,OFFSET($A$6,ROW()-7-MOD(ROW()-7,11),0),données!$C:$C,$A$1,données!$D:$D,$B$3,données!$E:$E,$A$5) -> 0 | D57: =COUNTIFS(OFFSET(données!$W:$W,0,MOD(ROW()-7,11)/2),D56,données!$A:$A,$B$1,données!$B:$B,OFFSET($A$6,ROW()-7-MOD(ROW()-7,11),0),données!$C:$C,$A$1,données!$D:$D,$B$3,données!$E:$E,$A$5) -> 0 | E57: =COUNTIFS(OFFSET(données!$W:$W,0,MOD(ROW()-7,11)/2),E56,données!$A:$A,$B$1,données!$B:$B,OFFSET($A$6,ROW()-7-MOD(ROW()-7,11),0),données!$C:$C,$A$1,données!$D:$D,$B$3,données!$E:$E,$A$5) -> 0 | F57: =COUNTIFS(OFFSET(données!$W:$W,0,MOD(ROW()-7,11)/2),F56,données!$A:$A,$B$1,données!$B:$B,OFFSET($A$6,ROW()-7-MOD(ROW()-7,11),0),données!$C:$C,$A$1,données!$D:$D,$B$3,données!$E:$E,$A$5) -> 0 | G57: =SUM(C57+D57+E57+F57) -> 0 | H57: =IFERROR(C57/G57,"") | I57: =IFERROR(D57/G57,"") | J57: =IFERROR(H57/I57,"")
H58: =IFERROR(C58/G58,"") | I58: =IFERROR(D58/G58,"") | J58: =IFERROR(H58/I58,"")
H59: =IFERROR(C59/G59,"") | I59: =IFERROR(D59/G59,"") | J59: =IFERROR(H59/I59,"")
B60: Délai d'attente | C60: RESULTATS
A61: Certificat de vie | B61: Question 11 | C61: oui | D61: non | G61: Total | H61: Satisfaits | I61: N satisfaits
C62: =COUNTIFS(OFFSET(données!$W:$W,0,MOD(ROW()-7,11)/2),C61,données!$A:$A,$B$1,données!$B:$B,OFFSET($A$6,ROW()-7-MOD(ROW()-7,11),0),données!$C:$C,$A$1,données!$D:$D,$B$3,données!$E:$E,$A$5) -> 2 | D62: =COUNTIFS(OFFSET(données!$W:$W,0,MOD(ROW()-7,11)/2),D61,données!$A:$A,$B$1,données!$B:$B,OFFSET($A$6,ROW()-7-MOD(ROW()-7,11),0),données!$C:$C,$A$1,données!$D:$D,$B$3,données!$E:$E,$A$5) -> 2 | G62: =SUM(C62+D62+E62+F62) -> 4 | H62: =IFERROR(C62/G62,"") -> 0.5 | I62: =IFERROR(D62/G62,"") -> 0.5 | J62: =IFERROR(H62/I62,"") -> 1
B63: Si oui, reçu… | C63: A l'heure | D63: En retard | H63: =IFERROR(C63/G63,"") | I63: =IFERROR(D63/G63,"") | J63: =IFERROR(H63/I63,"")
C64: =COUNTIFS(OFFSET(données!$W:$W,0,MOD(ROW()-7,11)/2),C63,données!$A:$A,$B$1,données!$B:$B,OFFSET($A$6,ROW()-7-MOD(ROW()-7,11),0),données!$C:$C,$A$1,données!$D:$D,$B$3,données!$E:$E,$A$5) -> 2 | D64: =COUNTIFS(OFFSET(données!$W:$W,0,MOD(ROW()-7,11)/2),D63,données!$A:$A,$B$1,données!$B:$B,OFFSET($A$6,ROW()-7-MOD(ROW()-7,11),0),données!$C:$C,$A$1,données!$D:$D,$B$3,données!$E:$E,$A$5) -> 2 | G64: =SUM(C64+D64+E64+F64) -> 4 | H64: =IFERROR(C64/G64,"") -> 0.5 | I64: =IFERROR(D64/G64,"") -> 0.5 | J64: =IFERROR(H64/I64,"") -> 1
B65: Si retard, combien ? | C65: 0-15 | D65: 15-30 | E65: 30-60 | F65: plus de 60 | H65: =IFERROR(C65/G65,"") | I65: =IFERROR(D65/G65,"") | J65: =IFERROR(H65/I65,"")
C66: =COUNTIFS(OFFSET(données!$W:$W,0,MOD(ROW()-7,11)/2),C65,données!$A:$A,$B$1,données!$B:$B,OFFSET($A$6,ROW()-7-MOD(ROW()-7,11),0),données!$C:$C,$A$1,données!$D:$D,$B$3,données!$E:$E,$A$5) -> 0 | D66: =COUNTIFS(OFFSET(données!$W:$W,0,MOD(ROW()-7,11)/2),D65,données!$A:$A,$B$1,données!$B:$B,OFFSET($A$6,ROW()-7-MOD(ROW()-7,11),0),données!$C:$C,$A$1,données!$D:$D,$B$3,données!$E:$E,$A$5) -> 2 | E66: =COUNTIFS(OFFSET(données!$W:$W,0,MOD(ROW()-7,11)/2),E65,données!$A:$A,$B$1,données!$B:$B,OFFSET($A$6,ROW()-7-MOD(ROW()-7,11),0),données!$C:$C,$A$1,données!$D:$D,$B$3,données!$E:$E,$A$5) -> 1 | F66: =COUNTIFS(OFFSET(données!$W:$W,0,MOD(ROW()-7,11)/2),F65,données!$A:$A,$B$1,données!$B:$B,OFFSET($A$6,ROW()-7-MOD(ROW()-7,11),0),données!$C:$C,$A$1,données!$D:$D,$B$3,données!$E:$E,$A$5) -> 1 | G66: =SUM(C66+D66+E66+F66) -> 4 | H66: =IFERROR(C66/G66,"") -> 0 | I66: =IFERROR(D66/G66,"") -> 0.5 | J66: =IFERROR(H66/I66,"") -> 0
B67: Question 12 | C67: 0-15 | D67: 15-30 | E67: 30-60 | F67: plus de 60 | H67: =IFERROR(C67/G67,"") | I67: =IFERROR(D67/G67,"") | J67: =IFERROR(H67/I67,"")
C68: =COUNTIFS(OFFSET(données!$W:$W,0,MOD(ROW()-7,11)/2),C67,données!$A:$A,$B$1,données!$B:$B,OFFSET($A$6,ROW()-7-MOD(ROW()-7,11),0),données!$C:$C,$A$1,données!$D:$D,$B$3,données!$E:$E,$A$5) -> 1 | D68: =COUNTIFS(OFFSET(données!$W:$W,0,MOD(ROW()-7,11)/2),D67,données!$A:$A,$B$1,données!$B:$B,OFFSET($A$6,ROW()-7-MOD(ROW()-7,11),0),données!$C:$C,$A$1,données!$D:$D,$B$3,données!$E:$E,$A$5) -> 0 | E68: =COUNTIFS(OFFSET(données!$W:$W,0,MOD(ROW()-7,11)/2),E67,données!$A:$A,$B$1,données!$B:$B,OFFSET($A$6,ROW()-7-MOD(ROW()-7,11),0),données!$C:$C,$A$1,données!$D:$D,$B$3,données!$E:$E,$A$5) -> 1 | F68: =COUNTIFS(OFFSET(données!$W:$W,0,MOD(ROW()-7,11)/2),F67,données!$A:$A,$B$1,données!$B:$B,OFFSET($A$6,ROW()-7-MOD(ROW()-7,11),0),données!$C:$C,$A$1,données!$D:$D,$B$3,données!$E:$E,$A$5) -> 2 | G68: =SUM(C68+D68+E68+F68) -> 4 | H68: =IFERROR(C68/G68,"") -> 0.25 | I68: =IFERROR(D68/G68,"") -> 0 | J68: =IFERROR(H68/I68,"")
H69: =IFERROR(C69/G69,"") | I69: =IFERROR(D69/G69,"") | J69: =IFERROR(H69/I69,"")
H70: =IFERROR(C70/G70,"") | I70: =IFERROR(D70/G70,"") | J70: =IFERROR(H70/I70,"")
A75: Notariat | B75: Votre démarche | C75: oui | D75: non | G75: Total | H75: Satisfaits | I75: N satisfaits | J75: Ratio de satisfaction
A76: =ROW() -> 76 | B76: Question 2 | C76: =COUNTIFS(OFFSET(données!$F:$F,,ROW()-$A$76),C$75,données!$A:$A,$B$1,données!$B:$B,$A$75,données!$C:$C,$A$1,données!$D:$D,$B$3,données!$E:$E,$A$5) -> 7 | D76: =COUNTIFS(OFFSET(données!$F:$F,,ROW()-$A$76),D$75,données!$A:$A,$B$1,données!$B:$B,$A$75,données!$C:$C,$A$1,données!$D:$D,$B$3,données!$E:$E,$A$5) -> 8 | G76: =SUM(C76,D76) -> 15 | H76: =C76/G76 -> 0.46666667 | I76: =D76/G76 -> 0.53333333 | J76: =H76/I76 -> 0.875
B77: Si non | C77: =COUNTIFS(OFFSET(données!$F:$F,,ROW()-$A$76),C$75,données!$A:$A,$B$1,données!$B:$B,$A$75,données!$C:$C,$A$1,données!$D:$D,$B$3,données!$E:$E,$A$5) -> 7 | D77: =COUNTIFS(OFFSET(données!$F:$F,,ROW()-$A$76),D$75,données!$A:$A,$B$1,données!$B:$B,$A$75,données!$C:$C,$A$1,données!$D:$D,$B$3,données!$E:$E,$A$5) -> 8 | G77: =SUM(C77,D77) -> 15 | H77: =C77/G77 -> 0.46666667 | I77: =D77/G77 -> 0.53333333 | J77: =H77/I77 -> 0.875
B78: Question 2b | C78: =COUNTIFS(OFFSET(données!$F:$F,,ROW()-$A$76),C$75,données!$A:$A,$B$1,données!$B:$B,$A$75,données!$C:$C,$A$1,données!$D:$D,$B$3,données!$E:$E,$A$5) -> 7 | D78: =COUNTIFS(OFFSET(données!$F:$F,,ROW()-$A$76),D$75,données!$A:$A,$B$1,données!$B:$B,$A$75,données!$C:$C,$A$1,données!$D:$D,$B$3,données!$E:$E,$A$5) -> 8 | G78: =SUM(C78,D78) -> 15 | H78: =C78/G78 -> 0.46666667 | I78: =D78/G78 -> 0.53333333 | J78: =H78/I78 -> 0.875
A79: naissance/mariage/décès | B79: Votre démarche | C79: oui | D79: non
A80: =ROW() -> 80 | B80: Question 2 | C80: =COUNTIFS(OFFSET(données!$F:$F,,ROW()-$A$80),C$79,données!$A:$A,$B$1,données!$B:$B,$A$79,données!$C:$C,$A$1,données!$D:$D,$B$3,données!$E:$E,$A$5) -> 4 | D80: =COUNTIFS(OFFSET(données!$F:$F,,ROW()-$A$80),D$79,données!$A:$A,$B$1,données!$B:$B,$A$79,données!$C:$C,$A$1,données!$D:$D,$B$3,données!$E:$E,$A$5) -> 13 | G80: =SUM(C80,D80) -> 17 | H80: =C80/G80 -> 0.23529412 | I80: =D80/G80 -> 0.76470588 | J80: =H80/I80 -> 0.30769231
B81: Si non | C81: =COUNTIFS(OFFSET(données!$F:$F,,ROW()-$A$80),C$79,données!$A:$A,$B$1,données!$B:$B,$A$79,données!$C:$C,$A$1,données!$D:$D,$B$3,données!$E:$E,$A$5) -> 4 | D81: =COUNTIFS(OFFSET(données!$F:$F,,ROW()-$A$80),D$79,données!$A:$A,$B$1,données!$B:$B,$A$79,données!$C:$C,$A$1,données!$D:$D,$B$3,données!$E:$E,$A$5) -> 13 | G81: =SUM(C81,D81) -> 17 | H81: =C81/G81 -> 0.23529412 | I81: =D81/G81 -> 0.76470588 | J81: =H81/I81 -> 0.30769231
B82: Question 2b | C82: =COUNTIFS(OFFSET(données!$F:$F,,ROW()-$A$80),C$79,données!$A:$A,$B$1,données!$B:$B,$A$79,données!$C:$C,$A$1,données!$D:$D,$B$3,données!$E:$E,$A$5) -> 4 | D82: =COUNTIFS(OFFSET(données!$F:$F,,ROW()-$A$80),D$79,données!$A:$A,$B$1,données!$B:$B,$A$79,données!$C:$C,$A$1,données!$D:$D,$B$3,données!$E:$E,$A$5) -> 13 | G82: =SUM(C82,D82) -> 17 | H82: =C82/G82 -> 0.23529412 | I82: =D82/G82 -> 0.76470588 | J82: =H82/I82 -> 0.30769231
A83: Certificat de vie | B83: Votre démarche | C83: oui | D83: non
A84: =ROW() -> 84 | B84: Question 2 | C84: =COUNTIFS(OFFSET(données!$F:$F,,ROW()-$A$84),C$83,données!$A:$A,$B$1,données!$B:$B,$A$83,données!$C:$C,$A$1,données!$D:$D,$B$3,données!$E:$E,$A$5) -> 4 | D84: =COUNTIFS(OFFSET(données!$F:$F,,ROW()-$A$84),D$83,données!$A:$A,$B$1,données!$B:$B,$A$83,données!$C:$C,$A$1,données!$D:$D,$B$3,données!$E:$E,$A$5) -> 10 | G84: =SUM(C84,D84) -> 14 | H84: =C84/G84 -> 0.28571429 | I84: =D84/G84 -> 0.71428571 | J84: =H84/I84 -> 0.4
B85: Si non | C85: =COUNTIFS(OFFSET(données!$F:$F,,ROW()-$A$84),C$83,données!$A:$A,$B$1,données!$B:$B,$A$83,données!$C:$C,$A$1,données!$D:$D,$B$3,données!$E:$E,$A$5) -> 4 | D85: =COUNTIFS(OFFSET(données!$F:$F,,ROW()-$A$84),D$83,données!$A:$A,$B$1,données!$B:$B,$A$83,données!$C:$C,$A$1,données!$D:$D,$B$3,données!$E:$E,$A$5) -> 10 | G85: =SUM(C85,D85) -> 14 | H85: =C85/G85 -> 0.28571429 | I85: =D85/G85 -> 0.71428571 | J85: =H85/I85 -> 0.4
B86: Question 2b | C86: =COUNTIFS(OFFSET(données!$F:$F,,ROW()-$A$84),C$83,données!$A:$A,$B$1,données!$B:$B,$A$83,données!$C:$C,$A$1,données!$D:$D,$B$3,données!$E:$E,$A$5) -> 3 | D86: =COUNTIFS(OFFSET(données!$F:$F,,ROW()-$A$84),D$83,données!$A:$A,$B$1,données!$B:$B,$A$83,données!$C:$C,$A$1,données!$D:$D,$B$3,données!$E:$E,$A$5) -> 11 | G86: =SUM(C86,D86) -> 14 | H86: =C86/G86 -> 0.21428571 | I86: =D86/G86 -> 0.78571429 | J86: =H86/I86 -> 0.27272727

Sheet Synthèse

Sheet Evolution

Sheet DANGER
A1: oui | B1: oui | D1: A l'heure | F1: AFE | G1: 0-15 | H1: 15-30 | I1: 30-60 | J1: plus de 60 | K1: lundi
A2: non | B2: non | D2: En retard | F2: EC | K2: mardi
B3: ne sais pas | F3: AS | K3: mercredi
A4: téléphone | K4: jeudi
A5: mail | K5: vendredi
A6: sur place
A8: immédiat | B8: moins 24h | C8: entre 24-48h | D8: plus de 48h
A10: complet | B10: partiel | C10: moy | D10: pas du tout
A12: 1 | B12: 2 | C12: 3 | D12: 4 | E12: 5 | F12: 6 | G12: 7 | H12: 8 | I12: 9 | J12: 10 | K12: 11 | L12: 12 | M12: 13 | N12: 14 | O12: 15
A14: janvier | B14: février | C14: mars | D14: avril | E14: mai | F14: juin | G14: juillet | H14: août | I14: septembre | J14: octobre | K14: novembre | L14: décembre
B15: très satisfaisant
A16: 2014 | B16: satisfaisant
A17: 2015 | B17: moy. satisfaisant
A18: 2016 | B18: pas du tout satisfaisant
A19: 2017 | E19: inscription consulat
A20: 2018 | E20: certificat de vie
A21: 2019 | E21: CNIS/PP
A22: 2020 | E22: légalisation/certification
A23: 2021 | E23: notariat
A24: 2022 | E24: naissance/mariage/décès
A25: 2023 | E25: affaires sociales
A26: 2024 | E26: bourses scolaires
A27: 2025 | E27: AUTRES
A28: 2026
A29: 2027
A30: 2028
A31: 2029
A32: 2030
A33: 2031
A34: 2032
A35: 2033
A36: 2034
A37: 2035
A38: 2036
A39: 2037
... A231: 2229
