Workbook

Sheet Feuil1
A3: 1 | B3: AL Palais sur Vienne | D3: CLASSEMENT
A4: 2 | B4: ASPTT Limoges HB | D4: Position | E4: Equipe | F4: Points | G4: Joué | H4: Gagné | I4: Nul | J4: Perdu | K4: But + | L4: But - | M4: Différence
A5: 3 | B5: HB Brive Corrèze | D5: 1 | E5: AL Palais sur Vienne | F5: 19 | G5: 7 | H5: 6 | I5: 0 | J5: 1 | K5: 256 | L5: 148 | M5: 108
A6: 4 | B6: Rochechouart / Saint-Junien HB 87 | D6: 2 | E6: ASPTT Limoges HB | F6: 18 | G6: 7 | H6: 5 | I6: 1 | J6: 1 | K6: 238 | L6: 185 | M6: 53
A7: 5 | B7: JA Isle HB | D7: 3 | E7: HB Brive Corrèze | F7: 15 | G7: 6 | H7: 4 | I7: 1 | J7: 1 | K7: 161 | L7: 131 | M7: 30
A8: 6 | B8: HBC Objat Corrèze | D8: 4 | E8: Rochechouart / Saint-Junien HB 87 | F8: 14 | G8: 6 | H8: 4 | I8: 0 | J8: 2 | K8: 192 | L8: 163 | M8: 29
A9: 7 | B9: Capo Limoges HB | D9: 5 | E9: JA Isle HB | F9: 14 | G9: 6 | H9: 4 | I9: 0 | J9: 2 | K9: 143 | L9: 130 | M9: 13
A10: 8 | B10: E. Châteauneuf / Boisseuil | D10: 6 | E10: HBC Objat Corrèze | F10: 10 | G10: 6 | H10: 2 | I10: 0 | J10: 4 | K10: 136 | L10: 150 | M10: -14
A11: 9 | B11: Pana Loisirs | D11: 7 | E11: Capo Limoges HB | F11: 8 | G11: 6 | H11: 1 | I11: 0 | J11: 5 | K11: 100 | L11: 159 | M11: -59
A12: 10 | B12: Exempt | D12: 8 | E12: E. Châteauneuf / Boisseuil | F12: 8 | G12: 6 | H12: 1 | I12: 0 | J12: 5 | K12: 155 | L12: 234 | M12: -79
D13: 9 | E13: Pana Loisirs | F13: 6 | G13: 6 | H13: 0 | I13: 0 | J13: 6 | K13: 117 | L13: 198 | M13: -81
D14: 10
C19: Meilleure attaque : | E19: AL Palais sur Vienne
C21: Meilleure défense : | E21: JA Isle HB

Sheet Rencontres
B4: Journée 1 | D4: Confrontation | R4: Equipes
D5: Locaux | E5: But | F5: But | G5: Visiteur | L5: Points | N5: Points | R5: AL Palais sur Vienne
D6: =Feuil1!B11 -> Pana Loisirs | E6: 13 | F6: 26 | G6: =R9 -> JA Isle HB | H6: =E6 -> 13 | I6: =F6 -> 26 | K6: AL Palais sur Vienne | L6: =SUMPRODUCT((D1:F10=K6)*(E1:E10>F1:F10)*3)+SUMPRODUCT((G1:G10=K6)*(H1:H10<I1:I10)*3)+SUMPRODUCT((D1:F10=K6)*(E1:E10>0)*(E1:E10=F1:F10)*2)+SUMPRODUCT((G1:I10=K6)*(H1:H10>0)*(H1:H10=I1:I10)*2)+SUMPRODUCT((D1:F10=K6)*(E1:E10<F1:F10))+SUMPRODUCT((G1:I10=K6)*(H1:H10>I1:I10)) -> 1 | M6: HBC Objat Corrèze | N6: =SUMPRODUCT((D1:F10=M6)*(E1:E10>F1:F10)*3)+SUMPRODUCT((G1:G10=M6)*(H1:H10<I1:I10)*3)+SUMPRODUCT((D1:F10=M6)*(E1:E10>0)*(E1:E10=F1:F10)*2)+SUMPRODUCT((G1:I10=M6)*(H1:H10>0)*(H1:H10=I1:I10)*2)+SUMPRODUCT((D1:F10=M6)*(E1:E10<F1:F10))+SUMPRODUCT((G1:I10=M6)*(H1:H10>I1:I10)) -> 1 | R6: ASPTT Limoges HB
D7: =R8 -> Rochechouart / Saint-Junien HB 87 | E7: 29 | F7: 18 | G7: =R11 -> Capo Limoges HB | H7: =E7 -> 29 | I7: =F7 -> 18 | K7: ASPTT Limoges HB | L7: =SUMPRODUCT((D2:F11=K7)*(E2:E11>F2:F11)*3)+SUMPRODUCT((G2:G11=K7)*(H2:H11<I2:I11)*3)+SUMPRODUCT((D2:F11=K7)*(E2:E11>0)*(E2:E11=F2:F11)*2)+SUMPRODUCT((G2:I11=K7)*(H2:H11>0)*(H2:H11=I2:I11)*2)+SUMPRODUCT((D2:F11=K7)*(E2:E11<F2:F11))+SUMPRODUCT((G2:I11=K7)*(H2:H11>I2:I11)) -> 3 | M7: Capo Limoges HB | N7: =SUMPRODUCT((D2:F11=M7)*(E2:E11>F2:F11)*3)+SUMPRODUCT((G2:G11=M7)*(H2:H11<I2:I11)*3)+SUMPRODUCT((D2:F11=M7)*(E2:E11>0)*(E2:E11=F2:F11)*2)+SUMPRODUCT((G2:I11=M7)*(H2:H11>0)*(H2:H11=I2:I11)*2)+SUMPRODUCT((D2:F11=M7)*(E2:E11<F2:F11))+SUMPRODUCT((G2:I11=M7)*(H2:H11>I2:I11)) -> 1 | R7: HB Brive Corrèze
D8: =R12 -> E. Châteauneuf / Boisseuil | E8: 0 | F8: 0 | G8: =R14 -> Exempt | H8: =E8 -> 0 | I8: =F8 -> 0 | K8: HB Brive Corrèze | L8: =SUMPRODUCT((D3:F12=K8)*(E3:E12>F3:F12)*3)+SUMPRODUCT((G3:G12=K8)*(H3:H12<I3:I12)*3)+SUMPRODUCT((D3:F12=K8)*(E3:E12>0)*(E3:E12=F3:F12)*2)+SUMPRODUCT((G3:I12=K8)*(H3:H12>0)*(H3:H12=I3:I12)*2)+SUMPRODUCT((D3:F12=K8)*(E3:E12<F3:F12))+SUMPRODUCT((G3:I12=K8)*(H3:H12>I3:I12)) -> 3 | M8: E. Châteauneuf / Boisseuil | N8: =SUMPRODUCT((D3:F12=M8)*(E3:E12>F3:F12)*3)+SUMPRODUCT((G3:G12=M8)*(H3:H12<I3:I12)*3)+SUMPRODUCT((D3:F12=M8)*(E3:E12>0)*(E3:E12=F3:F12)*2)+SUMPRODUCT((G3:I12=M8)*(H3:H12>0)*(H3:H12=I3:I12)*2)+SUMPRODUCT((D3:F12=M8)*(E3:E12<F3:F12))+SUMPRODUCT((G3:I12=M8)*(H3:H12>I3:I12)) -> 0 | R8: Rochechouart / Saint-Junien HB 87
D9: =R6 -> ASPTT Limoges HB | E9: 30 | F9: 25 | G9: =R5 -> AL Palais sur Vienne | H9: =E9 -> 30 | I9: =F9 -> 25 | K9: Rochechouart / Saint-Junien HB 87 | L9: =SUMPRODUCT((D4:F13=K9)*(E4:E13>F4:F13)*3)+SUMPRODUCT((G4:G13=K9)*(H4:H13<I4:I13)*3)+SUMPRODUCT((D4:F13=K9)*(E4:E13>0)*(E4:E13=F4:F13)*2)+SUMPRODUCT((G4:I13=K9)*(H4:H13>0)*(H4:H13=I4:I13)*2)+SUMPRODUCT((D4:F13=K9)*(E4:E13<F4:F13))+SUMPRODUCT((G4:I13=K9)*(H4:H13>I4:I13)) -> 3 | M9: Pana Loisirs | N9: =SUMPRODUCT((D4:F13=M9)*(E4:E13>F4:F13)*3)+SUMPRODUCT((G4:G13=M9)*(H4:H13<I4:I13)*3)+SUMPRODUCT((D4:F13=M9)*(E4:E13>0)*(E4:E13=F4:F13)*2)+SUMPRODUCT((G4:I13=M9)*(H4:H13>0)*(H4:H13=I4:I13)*2)+SUMPRODUCT((D4:F13=M9)*(E4:E13<F4:F13))+SUMPRODUCT((G4:I13=M9)*(H4:H13>I4:I13)) -> 1 | R9: JA Isle HB
D10: =R10 -> HBC Objat Corrèze | E10: 16 | F10: 25 | G10: =R7 -> HB Brive Corrèze | H10: =E10 -> 16 | I10: =F10 -> 25 | K10: JA Isle HB | L10: =SUMPRODUCT((D5:F14=K10)*(E5:E14>F5:F14)*3)+SUMPRODUCT((G5:G14=K10)*(H5:H14<I5:I14)*3)+SUMPRODUCT((D5:F14=K10)*(E5:E14>0)*(E5:E14=F5:F14)*2)+SUMPRODUCT((G5:I14=K10)*(H5:H14>0)*(H5:H14=I5:I14)*2)+SUMPRODUCT((D5:F14=K10)*(E5:E14<F5:F14))+SUMPRODUCT((G5:I14=K10)*(H5:H14>I5:I14)) -> 3 | N10: =SUMPRODUCT((D5:F14=M10)*(E5:E14>F5:F14)*3)+SUMPRODUCT((G5:G14=M10)*(H5:H14<I5:I14)*3)+SUMPRODUCT((D5:F14=M10)*(E5:E14>0)*(E5:E14=F5:F14)*2)+SUMPRODUCT((G5:I14=M10)*(H5:H14>0)*(H5:H14=I5:I14)*2)+SUMPRODUCT((D5:F14=M10)*(E5:E14<F5:F14))+SUMPRODUCT((G5:I14=M10)*(H5:H14>I5:I14)) -> 0 | O10: (facultative) | R10: HBC Objat Corrèze
R11: Capo Limoges HB
R12: E. Châteauneuf / Boisseuil
R13: Pana Loisirs
B14: Journée 2 | D14: Confrontation | R14: Exempt
D15: Locaux | E15: But | F15: But | G15: Visiteur | L15: Points | N15: Points
D16: =R7 -> HB Brive Corrèze | E16: 24 | F16: 24 | G16: =R6 -> ASPTT Limoges HB | H16: =E16 -> 24 | I16: =F16 -> 24 | K16: AL Palais sur Vienne | L16: =SUMPRODUCT((D11:F20=K16)*(E11:E20>F11:F20)*3)+SUMPRODUCT((G11:G20=K16)*(H11:H20<I11:I20)*3)+SUMPRODUCT((D11:F20=K16)*(E11:E20>0)*(E11:E20=F11:F20)*2)+SUMPRODUCT((G11:I20=K16)*(H11:H20>0)*(H11:H20=I11:I20)*2)+SUMPRODUCT((D11:F20=K16)*(E11:E20<F11:F20))+SUMPRODUCT((G11:I20=K16)*(H11:H20>I11:I20)) -> 3 | M16: HBC Objat Corrèze | N16: =SUMPRODUCT((D11:F20=M16)*(E11:E20>F11:F20)*3)+SUMPRODUCT((G11:G20=M16)*(H11:H20<I11:I20)*3)+SUMPRODUCT((D11:F20=M16)*(E11:E20>0)*(E11:E20=F11:F20)*2)+SUMPRODUCT((G11:I20=M16)*(H11:H20>0)*(H11:H20=I11:I20)*2)+SUMPRODUCT((D11:F20=M16)*(E11:E20<F11:F20))+SUMPRODUCT((G11:I20=M16)*(H11:H20>I11:I20)) -> 1
D17: =R5 -> AL Palais sur Vienne | E17: 45 | F17: 21 | G17: =R12 -> E. Châteauneuf / Boisseuil | H17: =E17 -> 45 | I17: =F17 -> 21 | K17: ASPTT Limoges HB | L17: =SUMPRODUCT((D12:F21=K17)*(E12:E21>F12:F21)*3)+SUMPRODUCT((G12:G21=K17)*(H12:H21<I12:I21)*3)+SUMPRODUCT((D12:F21=K17)*(E12:E21>0)*(E12:E21=F12:F21)*2)+SUMPRODUCT((G12:I21=K17)*(H12:H21>0)*(H12:H21=I12:I21)*2)+SUMPRODUCT((D12:F21=K17)*(E12:E21<F12:F21))+SUMPRODUCT((G12:I21=K17)*(H12:H21>I12:I21)) -> 2 | M17: Capo Limoges HB | N17: =SUMPRODUCT((D12:F21=M17)*(E12:E21>F12:F21)*3)+SUMPRODUCT((G12:G21=M17)*(H12:H21<I12:I21)*3)+SUMPRODUCT((D12:F21=M17)*(E12:E21>0)*(E12:E21=F12:F21)*2)+SUMPRODUCT((G12:I21=M17)*(H12:H21>0)*(H12:H21=I12:I21)*2)+SUMPRODUCT((D12:F21=M17)*(E12:E21<F12:F21))+SUMPRODUCT((G12:I21=M17)*(H12:H21>I12:I21)) -> 3
D18: =R14 -> Exempt | E18: 0 | F18: 0 | G18: =R8 -> Rochechouart / Saint-Junien HB 87 | H18: =E18 -> 0 | I18: =F18 -> 0 | K18: HB Brive Corrèze | L18: =SUMPRODUCT((D13:F22=K18)*(E13:E22>F13:F22)*3)+SUMPRODUCT((G13:G22=K18)*(H13:H22<I13:I22)*3)+SUMPRODUCT((D13:F22=K18)*(E13:E22>0)*(E13:E22=F13:F22)*2)+SUMPRODUCT((G13:I22=K18)*(H13:H22>0)*(H13:H22=I13:I22)*2)+SUMPRODUCT((D13:F22=K18)*(E13:E22<F13:F22))+SUMPRODUCT((G13:I22=K18)*(H13:H22>I13:I22)) -> 2 | M18: E. Châteauneuf / Boisseuil | N18: =SUMPRODUCT((D13:F22=M18)*(E13:E22>F13:F22)*3)+SUMPRODUCT((G13:G22=M18)*(H13:H22<I13:I22)*3)+SUMPRODUCT((D13:F22=M18)*(E13:E22>0)*(E13:E22=F13:F22)*2)+SUMPRODUCT((G13:I22=M18)*(H13:H22>0)*(H13:H22=I13:I22)*2)+SUMPRODUCT((D13:F22=M18)*(E13:E22<F13:F22))+SUMPRODUCT((G13:I22=M18)*(H13:H22>I13:I22)) -> 1
D19: =R11 -> Capo Limoges HB | E19: 24 | F19: 19 | G19: =R13 -> Pana Loisirs | H19: =E19 -> 24 | I19: =F19 -> 19 | K19: Rochechouart / Saint-Junien HB 87 | L19: =SUMPRODUCT((D14:F23=K19)*(E14:E23>F14:F23)*3)+SUMPRODUCT((G14:G23=K19)*(H14:H23<I14:I23)*3)+SUMPRODUCT((D14:F23=K19)*(E14:E23>0)*(E14:E23=F14:F23)*2)+SUMPRODUCT((G14:I23=K19)*(H14:H23>0)*(H14:H23=I14:I23)*2)+SUMPRODUCT((D14:F23=K19)*(E14:E23<F14:F23))+SUMPRODUCT((G14:I23=K19)*(H14:H23>I14:I23)) -> 0 | M19: Pana Loisirs | N19: =SUMPRODUCT((D14:F23=M19)*(E14:E23>F14:F23)*3)+SUMPRODUCT((G14:G23=M19)*(H14:H23<I14:I23)*3)+SUMPRODUCT((D14:F23=M19)*(E14:E23>0)*(E14:E23=F14:F23)*2)+SUMPRODUCT((G14:I23=M19)*(H14:H23>0)*(H14:H23=I14:I23)*2)+SUMPRODUCT((D14:F23=M19)*(E14:E23<F14:F23))+SUMPRODUCT((G14:I23=M19)*(H14:H23>I14:I23)) -> 1
D20: =R9 -> JA Isle HB | E20: 21 | F20: 19 | G20: =R10 -> HBC Objat Corrèze | H20: =E20 -> 21 | I20: =F20 -> 19 | K20: JA Isle HB | L20: =SUMPRODUCT((D15:F24=K20)*(E15:E24>F15:F24)*3)+SUMPRODUCT((G15:G24=K20)*(H15:H24<I15:I24)*3)+SUMPRODUCT((D15:F24=K20)*(E15:E24>0)*(E15:E24=F15:F24)*2)+SUMPRODUCT((G15:I24=K20)*(H15:H24>0)*(H15:H24=I15:I24)*2)+SUMPRODUCT((D15:F24=K20)*(E15:E24<F15:F24))+SUMPRODUCT((G15:I24=K20)*(H15:H24>I15:I24)) -> 3 | N20: =SUMPRODUCT((D15:F24=M20)*(E15:E24>F15:F24)*3)+SUMPRODUCT((G15:G24=M20)*(H15:H24<I15:I24)*3)+SUMPRODUCT((D15:F24=M20)*(E15:E24>0)*(E15:E24=F15:F24)*2)+SUMPRODUCT((G15:I24=M20)*(H15:H24>0)*(H15:H24=I15:I24)*2)+SUMPRODUCT((D15:F24=M20)*(E15:E24<F15:F24))+SUMPRODUCT((G15:I24=M20)*(H15:H24>I15:I24)) -> 0
B24: Journée 3 | D24: Confrontation
D25: Locaux | E25: But | F25: But | G25: Visiteur | L25: Points | N25: Points
D26: =R7 -> HB Brive Corrèze | E26: 27 | F26: 19 | G26: =R9 -> JA Isle HB | H26: =E26 -> 27 | I26: =F26 -> 19 | K26: AL Palais sur Vienne | L26: =SUMPRODUCT((D21:F30=K26)*(E21:E30>F21:F30)*3)+SUMPRODUCT((G21:G30=K26)*(H21:H30<I21:I30)*3)+SUMPRODUCT((D21:F30=K26)*(E21:E30>0)*(E21:E30=F21:F30)*2)+SUMPRODUCT((G21:I30=K26)*(H21:H30>0)*(H21:H30=I21:I30)*2)+SUMPRODUCT((D21:F30=K26)*(E21:E30<F21:F30))+SUMPRODUCT((G21:I30=K26)*(H21:H30>I21:I30)) -> 3 | M26: HBC Objat Corrèze | N26: =SUMPRODUCT((D21:F30=M26)*(E21:E30>F21:F30)*3)+SUMPRODUCT((G21:G30=M26)*(H21:H30<I21:I30)*3)+SUMPRODUCT((D21:F30=M26)*(E21:E30>0)*(E21:E30=F21:F30)*2)+SUMPRODUCT((G21:I30=M26)*(H21:H30>0)*(H21:H30=I21:I30)*2)+SUMPRODUCT((D21:F30=M26)*(E21:E30<F21:F30))+SUMPRODUCT((G21:I30=M26)*(H21:H30>I21:I30)) -> 3
D27: =R13 -> Pana Loisirs | E27: 0 | F27: 0 | G27: =R14 -> Exempt | H27: =E27 -> 0 | I27: =F27 -> 0 | K27: ASPTT Limoges HB | L27: =SUMPRODUCT((D22:F31=K27)*(E22:E31>F22:F31)*3)+SUMPRODUCT((G22:G31=K27)*(H22:H31<I22:I31)*3)+SUMPRODUCT((D22:F31=K27)*(E22:E31>0)*(E22:E31=F22:F31)*2)+SUMPRODUCT((G22:I31=K27)*(H22:H31>0)*(H22:H31=I22:I31)*2)+SUMPRODUCT((D22:F31=K27)*(E22:E31<F22:F31))+SUMPRODUCT((G22:I31=K27)*(H22:H31>I22:I31)) -> 3 | M27: Capo Limoges HB | N27: =SUMPRODUCT((D22:F31=M27)*(E22:E31>F22:F31)*3)+SUMPRODUCT((G22:G31=M27)*(H22:H31<I22:I31)*3)+SUMPRODUCT((D22:F31=M27)*(E22:E31>0)*(E22:E31=F22:F31)*2)+SUMPRODUCT((G22:I31=M27)*(H22:H31>0)*(H22:H31=I22:I31)*2)+SUMPRODUCT((D22:F31=M27)*(E22:E31<F22:F31))+SUMPRODUCT((G22:I31=M27)*(H22:H31>I22:I31)) -> 1
D28: =R8 -> Rochechouart / Saint-Junien HB 87 | E28: 27 | F28: 38 | G28: =R5 -> AL Palais sur Vienne | H28: =E28 -> 27 | I28: =F28 -> 38 | K28: HB Brive Corrèze | L28: =SUMPRODUCT((D23:F34=K28)*(E23:E34>F23:F34)*3)+SUMPRODUCT((G23:G34=K28)*(H23:H34<I23:I34)*3)+SUMPRODUCT((D23:F34=K28)*(E23:E34>0)*(E23:E34=F23:F34)*2)+SUMPRODUCT((G23:I34=K28)*(H23:H34>0)*(H23:H34=I23:I34)*2)+SUMPRODUCT((D23:F34=K28)*(E23:E34<F23:F34))+SUMPRODUCT((G23:I34=K28)*(H23:H34>I23:I34)) -> 3 | M28: E. Châteauneuf / Boisseuil | N28: =SUMPRODUCT((D23:F32=M28)*(E23:E32>F23:F32)*3)+SUMPRODUCT((G23:G32=M28)*(H23:H32<I23:I32)*3)+SUMPRODUCT((D23:F32=M28)*(E23:E32>0)*(E23:E32=F23:F32)*2)+SUMPRODUCT((G23:I32=M28)*(H23:H32>0)*(H23:H32=I23:I32)*2)+SUMPRODUCT((D23:F32=M28)*(E23:E32<F23:F32))+SUMPRODUCT((G23:I32=M28)*(H23:H32>I23:I32)) -> 1
D29: =R12 -> E. Châteauneuf / Boisseuil | E29: 32 | F29: 51 | G29: =R6 -> ASPTT Limoges HB | H29: =E29 -> 32 | I29: =F29 -> 51 | K29: Rochechouart / Saint-Junien HB 87 | L29: =SUMPRODUCT((D24:F35=K29)*(E24:E35>F24:F35)*3)+SUMPRODUCT((G24:G35=K29)*(H24:H35<I24:I35)*3)+SUMPRODUCT((D24:F35=K29)*(E24:E35>0)*(E24:E35=F24:F35)*2)+SUMPRODUCT((G24:I35=K29)*(H24:H35>0)*(H24:H35=I24:I35)*2)+SUMPRODUCT((D24:F35=K29)*(E24:E35<F24:F35))+SUMPRODUCT((G24:I35=K29)*(H24:H35>I24:I35)) -> 1 | M29: Pana Loisirs | N29: =SUMPRODUCT((D24:F33=M29)*(E24:E33>F24:F33)*3)+SUMPRODUCT((G24:G33=M29)*(H24:H33<I24:I33)*3)+SUMPRODUCT((D24:F33=M29)*(E24:E33>0)*(E24:E33=F24:F33)*2)+SUMPRODUCT((G24:I33=M29)*(H24:H33>0)*(H24:H33=I24:I33)*2)+SUMPRODUCT((D24:F33=M29)*(E24:E33<F24:F33))+SUMPRODUCT((G24:I33=M29)*(H24:H33>I24:I33)) -> 0
D30: =R10 -> HBC Objat Corrèze | E30: 20 | F30: 19 | G30: =R11 -> Capo Limoges HB | H30: =E30 -> 20 | I30: =F30 -> 19 | K30: JA Isle HB | L30: =SUMPRODUCT((D25:F36=K30)*(E25:E36>F25:F36)*3)+SUMPRODUCT((G25:G36=K30)*(H25:H36<I25:I36)*3)+SUMPRODUCT((D25:F36=K30)*(E25:E36>0)*(E25:E36=F25:F36)*2)+SUMPRODUCT((G25:I36=K30)*(H25:H36>0)*(H25:H36=I25:I36)*2)+SUMPRODUCT((D25:F36=K30)*(E25:E36<F25:F36))+SUMPRODUCT((G25:I36=K30)*(H25:H36>I25:I36)) -> 1 | N30: =SUMPRODUCT((D25:F34=M30)*(E25:E34>F25:F34)*3)+SUMPRODUCT((G25:G34=M30)*(H25:H34<I25:I34)*3)+SUMPRODUCT((D25:F34=M30)*(E25:E34>0)*(E25:E34=F25:F34)*2)+SUMPRODUCT((G25:I34=M30)*(H25:H34>0)*(H25:H34=I25:I34)*2)+SUMPRODUCT((D25:F34=M30)*(E25:E34<F25:F34))+SUMPRODUCT((G25:I34=M30)*(H25:H34>I25:I34)) -> 0
B34: Journée 4 | D34: Confrontation
D35: Locaux | E35: But | F35: But | G35: Visiteur | L35: Points | N35: Points
D36: =R5 -> AL Palais sur Vienne | E36: 45 | F36: 16 | G36: =R13 -> Pana Loisirs | H36: =E36 -> 45 | I36: =F36 -> 16 | K36: AL Palais sur Vienne | L36: 3 | M36: HBC Objat Corrèze | N36: 0
D37: =R14 -> Exempt | E37: 0 | F37: 0 | G37: =R10 -> HBC Objat Corrèze | H37: =E37 -> 0 | I37: =F37 -> 0 | K37: ASPTT Limoges HB | L37: 3 | M37: Capo Limoges HB | N37: 1
D38: =R11 -> Capo Limoges HB | E38: 15 | F38: 25 | G38: =R9 -> JA Isle HB | H38: =E38 -> 15 | I38: =F38 -> 25 | K38: HB Brive Corrèze | L38: 3 | M38: E. Châteauneuf / Boisseuil | N38: 1
D39: =R12 -> E. Châteauneuf / Boisseuil | E39: 28 | F39: 33 | G39: =R7 -> HB Brive Corrèze | H39: =E39 -> 28 | I39: =F39 -> 33 | K39: Rochechouart / Saint-Junien HB 87 | L39: 1 | M39: Pana Loisirs | N39: 1
D40: =R6 -> ASPTT Limoges HB | E40: 35 | F40: 27 | G40: =R8 -> Rochechouart / Saint-Junien HB 87 | H40: =E40 -> 35 | I40: =F40 -> 27 | K40: JA Isle HB | L40: 3
B44: Journée 5 | D44: Confrontation
D45: Locaux | E45: But | F45: But | G45: Visiteur | L45: Points | N45: Points
D46: =R7 -> HB Brive Corrèze | E46: 28 | F46: 10 | G46: =R11 -> Capo Limoges HB | H46: =E46 -> 28 | I46: =F46 -> 10 | K46: AL Palais sur Vienne | L46: 3 | M46: HBC Objat Corrèze | N46: 1
D47: =R13 -> Pana Loisirs | E47: 22 | F47: 39 | G47: =R6 -> ASPTT Limoges HB | H47: =E47 -> 22 | I47: =F47 -> 39 | K47: ASPTT Limoges HB | L47: 3 | M47: Capo Limoges HB | N47: 1
D48: =R8 -> Rochechouart / Saint-Junien HB 87 | E48: 46 | F48: 22 | G48: =R12 -> E. Châteauneuf / Boisseuil | H48: =E48 -> 46 | I48: =F48 -> 22 | K48: HB Brive Corrèze | L48: 3 | M48: E. Châteauneuf / Boisseuil | N48: 1
D49: =R9 -> JA Isle HB | E49: 0 | F49: 0 | G49: =R14 -> Exempt | H49: =E49 -> 0 | I49: =F49 -> 0 | K49: Rochechouart / Saint-Junien HB 87 | L49: 3 | M49: Pana Loisirs | N49: 1
D50: =R10 -> HBC Objat Corrèze | E50: 18 | F50: 38 | G50: =R5 -> AL Palais sur Vienne | H50: =E50 -> 18 | I50: =F50 -> 38 | K50: JA Isle HB | L50: 0
B54: Journée 6 | D54: Confrontation
D55: Locaux | E55: But | F55: But | G55: Visiteur | L55: Points | N55: Points
D56: =R5 -> AL Palais sur Vienne | E56: 27 | F56: 22 | G56: =R9 -> JA Isle HB | H56: =E56 -> 27 | I56: =F56 -> 22 | K56: AL Palais sur Vienne | L56: 3 | M56: HBC Objat Corrèze | N56: 1
D57: =R14 -> Exempt | E57: 0 | F57: 0 | G57: =R11 -> Capo Limoges HB | H57: =E57 -> 0 | I57: =F57 -> 0 | K57: ASPTT Limoges HB | L57: 3 | M57: Capo Limoges HB | N57: 0
D58: =R8 -> Rochechouart / Saint-Junien HB 87 | E58: 34 | F58: 24 | G58: =R7 -> HB Brive Corrèze | H58: =E58 -> 34 | I58: =F58 -> 24 | K58: HB Brive Corrèze | L58: 1 | M58: E. Châteauneuf / Boisseuil | N58: 3
D59: =R12 -> E. Châteauneuf / Boisseuil | E59: 35 | F59: 21 | G59: =R13 -> Pana Loisirs | H59: =E59 -> 35 | I59: =F59 -> 21 | K59: Rochechouart / Saint-Junien HB 87 | L59: 3 | M59: Pana Loisirs | N59: 1
D60: =R6 -> ASPTT Limoges HB | E60: 30 | F60: 25 | G60: =R10 -> HBC Objat Corrèze | H60: =E60 -> 30 | I60: =F60 -> 25 | K60: JA Isle HB | L60: 1
D65: Locaux | E65: But | F65: But | G65: Visiteur | L65: Points | N65: Points
D66: =R7 -> HB Brive Corrèze | E66: 0 | F66: 0 | G66: =R14 -> Exempt | H66: =E66 -> 0 | I66: =F66 -> 0 | K66: AL Palais sur Vienne | L66: 3 | M66: HBC Objat Corrèze | N66: 3
D67: =R13 -> Pana Loisirs | E67: 26 | F67: 29 | G67: =R8 -> Rochechouart / Saint-Junien HB 87 | H67: =E67 -> 26 | I67: =F67 -> 29 | K67: ASPTT Limoges HB | L67: 1 | M67: Capo Limoges HB | N67: 1
D68: =R11 -> Capo Limoges HB | E68: 14 | F68: 38 | G68: =R5 -> AL Palais sur Vienne | H68: =E68 -> 14 | I68: =F68 -> 38 | K68: HB Brive Corrèze | L68: 0 | M68: E. Châteauneuf / Boisseuil | N68: 1
D69: =R9 -> JA Isle HB | E69: 30 | F69: 29 | G69: =R6 -> ASPTT Limoges HB | H69: =E69 -> 30 | I69: =F69 -> 29 | K69: Rochechouart / Saint-Junien HB 87 | L69: 3 | M69: Pana Loisirs | N69: 1
D70: =R10 -> HBC Objat Corrèze | E70: 38 | F70: 17 | G70: =R12 -> E. Châteauneuf / Boisseuil | H70: =E70 -> 38 | I70: =F70 -> 17 | K70: JA Isle HB | L70: 3
B74: Journée 8 | D74: Confrontation
D75: Locaux | E75: But | F75: But | G75: Visiteur | L75: Points | N75: Points
D76: =R5 -> AL Palais sur Vienne | G76: =R14 -> Exempt | H76: =E76 -> 0 | I76: =F76 -> 0 | K76: AL Palais sur Vienne | M76: HBC Objat Corrèze
D77: =R13 -> Pana Loisirs | G77: =R7 -> HB Brive Corrèze | H77: =E77 -> 0 | I77: =F77 -> 0 | K77: ASPTT Limoges HB | M77: Capo Limoges HB
D78: =R8 -> Rochechouart / Saint-Junien HB 87 | G78: =R10 -> HBC Objat Corrèze | H78: =E78 -> 0 | I78: =F78 -> 0 | K78: HB Brive Corrèze | M78: E. Châteauneuf / Boisseuil
D79: =R12 -> E. Châteauneuf / Boisseuil | G79: =R9 -> JA Isle HB | H79: =E79 -> 0 | I79: =F79 -> 0 | K79: Rochechouart / Saint-Junien HB 87 | M79: Pana Loisirs
D80: =R6 -> ASPTT Limoges HB | G80: =R11 -> Capo Limoges HB | H80: =E80 -> 0 | I80: =F80 -> 0 | K80: JA Isle HB
B84: Journée 9 | D84: Confrontation
D85: Locaux | E85: But | F85: But | G85: Visiteur | L85: Points | N85: Points
H86: =E86 -> 0 | I86: =F86 -> 0 | K86: AL Palais sur Vienne | M86: HBC Objat Corrèze
H87: =E87 -> 0 | I87: =F87 -> 0 | K87: ASPTT Limoges HB | M87: Capo Limoges HB
H88: =E88 -> 0 | I88: =F88 -> 0 | K88: HB Brive Corrèze | M88: E. Châteauneuf / Boisseuil
H89: =E89 -> 0 | I89: =F89 -> 0 | K89: Rochechouart / Saint-Junien HB 87 | M89: Pana Loisirs
H90: =E90 -> 0 | I90: =F90 -> 0 | K90: JA Isle HB
B94: Journée 10 | D94: Confrontation
D95: Locaux | E95: But | F95: But | G95: Visiteur
H96: =E96 -> 0 | I96: =F96 -> 0
H97: =E97 -> 0 | I97: =F97 -> 0
H98: =E98 -> 0 | I98: =F98 -> 0
H99: =E99 -> 0 | I99: =F99 -> 0
H100: =E100 -> 0 | I100: =F100 -> 0
B104: Journée 11 | D104: Confrontation
D105: Locaux | E105: But | F105: But | G105: Visiteur
H106: =E106 -> 0 | I106: =F106 -> 0
H107: =E107 -> 0 | I107: =F107 -> 0
H108: =E108 -> 0 | I108: =F108 -> 0
H111: =E111 -> 0 | I111: =F111 -> 0
H112: =E112 -> 0 | I112: =F112 -> 0
B114: Journée 12 | D114: Confrontation
D115: Locaux | E115: But | F115: But | G115: Visiteur
H116: =E116 -> 0 | I116: =F116 -> 0
H117: =E117 -> 0 | I117: =F117 -> 0
H120: =E120 -> 0 | I120: =F120 -> 0
H121: =E121 -> 0 | I121: =F121 -> 0
H122: =E122 -> 0 | I122: =F122 -> 0
B124: Journée 13 | D124: Confrontation
D125: Locaux | E125: But | F125: But | G125: Visiteur
H126: =E126 -> 0 | I126: =F126 -> 0
H127: =E127 -> 0 | I127: =F127 -> 0
H130: =E130 -> 0 | I130: =F130 -> 0
H131: =E131 -> 0 | I131: =F131 -> 0
H132: =E132 -> 0 | I132: =F132 -> 0
B134: Journée 14 | D134: Confrontation
D135: Locaux | E135: But | F135: But | G135: Visiteur
H136: =E136 -> 0 | I136: =F136 -> 0
H137: =E137 -> 0 | I137: =F137 -> 0
H140: =E140 -> 0 | I140: =F140 -> 0
H141: =E141 -> 0 | I141: =F141 -> 0
H142: =E142 -> 0 | I142: =F142 -> 0
...

Sheet Résumé
C3: Résumé
C4: Equipe | D4: Points | E4: Joué | F4: Gagné | G4: Nul | H4: Perdu | I4: But + | J4: But - | K4: Différence | Q4: Test points
C5: AL Palais sur Vienne | D5: =SUMIF(Rencontres!K$6:L$90,C5,Rencontres!L$6:L$90) -> 19 | E5: =SUMPRODUCT((Rencontres!D$6:D$180=C5)*(Rencontres!E$6:E$180>0)*1)+SUMPRODUCT((Rencontres!G$6:G$180=C5)*(Rencontres!H$6:H$180>0)*1) -> 7 | F5: =SUMPRODUCT((Rencontres!D$6:D$180=C5)*(Rencontres!E$6:E$180>Rencontres!F$6:F$180)*1)+SUMPRODUCT((Rencontres!G$6:G$180=C5)*(Rencontres!H$6:H$180<Rencontres!I$6:I$180)*1) -> 6 | G5: =E5-F5-H5 -> 0 | H5: =SUMPRODUCT((Rencontres!D$6:D$180=C5)*(Rencontres!E$6:E$180<Rencontres!F$6:F$180)*1)+SUMPRODUCT((Rencontres!G$6:G$180=C5)*(Rencontres!H$6:H$180>Rencontres!I$6:I$180)*1) -> 1 | I5: =SUMIF(Rencontres!D$6:E$180,C5,Rencontres!E$6:E$180)+SUMIF(Rencontres!G$6:I$180,C5,Rencontres!I$6:I$180) -> 256 | J5: =SUMIF(Rencontres!D$6:F$180,C5,Rencontres!F$6:F$180)+SUMIF(Rencontres!G$6:H$180,C5,Rencontres!H$6:H$180) -> 148 | K5: =I5-J5 -> 108 | Q5: =(F5*3)+(G5*2)+(H5*1) -> 19
C6: ASPTT Limoges HB | D6: =SUMIF(Rencontres!K$6:L$90,C6,Rencontres!L$6:L$90) -> 18 | E6: =SUMPRODUCT((Rencontres!D$6:D$180=C6)*(Rencontres!E$6:E$180>0)*1)+SUMPRODUCT((Rencontres!G$6:G$180=C6)*(Rencontres!H$6:H$180>0)*1) -> 7 | F6: =SUMPRODUCT((Rencontres!D$6:D$180=C6)*(Rencontres!E$6:E$180>Rencontres!F$6:F$180)*1)+SUMPRODUCT((Rencontres!G$6:G$180=C6)*(Rencontres!H$6:H$180<Rencontres!I$6:I$180)*1) -> 5 | G6: =E6-F6-H6 -> 1 | H6: 1 | I6: =SUMIF(Rencontres!D$6:E$180,C6,Rencontres!E$6:E$180)+SUMIF(Rencontres!G$6:I$180,C6,Rencontres!I$6:I$180) -> 238 | J6: =SUMIF(Rencontres!D$6:F$180,C6,Rencontres!F$6:F$180)+SUMIF(Rencontres!G$6:H$180,C6,Rencontres!H$6:H$180) -> 185 | K6: =I6-J6 -> 53 | Q6: =(F6*3)+(G6*2)+(H6*1) -> 18
C7: HB Brive Corrèze | D7: =SUMIF(Rencontres!K$6:L$90,C7,Rencontres!L$6:L$90) -> 15 | E7: =SUMPRODUCT((Rencontres!D$6:D$180=C7)*(Rencontres!E$6:E$180>0)*1)+SUMPRODUCT((Rencontres!G$6:G$180=C7)*(Rencontres!H$6:H$180>0)*1) -> 6 | F7: =SUMPRODUCT((Rencontres!D$6:D$180=C7)*(Rencontres!E$6:E$180>Rencontres!F$6:F$180)*1)+SUMPRODUCT((Rencontres!G$6:G$180=C7)*(Rencontres!H$6:H$180<Rencontres!I$6:I$180)*1) -> 4 | G7: =E7-F7-H7 -> 1 | H7: 1 | I7: =SUMIF(Rencontres!D$6:E$180,C7,Rencontres!E$6:E$180)+SUMIF(Rencontres!G$6:I$180,C7,Rencontres!I$6:I$180) -> 161 | J7: =SUMIF(Rencontres!D$6:F$180,C7,Rencontres!F$6:F$180)+SUMIF(Rencontres!G$6:H$180,C7,Rencontres!H$6:H$180) -> 131 | K7: =I7-J7 -> 30 | Q7: =(F7*3)+(G7*2)+(H7*1) -> 15
C8: Rochechouart / Saint-Junien HB 87 | D8: =SUMIF(Rencontres!K$6:L$90,C8,Rencontres!L$6:L$90) -> 14 | E8: =SUMPRODUCT((Rencontres!D$6:D$180=C8)*(Rencontres!E$6:E$180>0)*1)+SUMPRODUCT((Rencontres!G$6:G$180=C8)*(Rencontres!H$6:H$180>0)*1) -> 6 | F8: =SUMPRODUCT((Rencontres!D$6:D$180=C8)*(Rencontres!E$6:E$180>Rencontres!F$6:F$180)*1)+SUMPRODUCT((Rencontres!G$6:G$180=C8)*(Rencontres!H$6:H$180<Rencontres!I$6:I$180)*1) -> 4 | G8: =E8-F8-H8 -> 0 | H8: 2 | I8: =SUMIF(Rencontres!D$6:E$180,C8,Rencontres!E$6:E$180)+SUMIF(Rencontres!G$6:I$180,C8,Rencontres!I$6:I$180) -> 192 | J8: =SUMIF(Rencontres!D$6:F$180,C8,Rencontres!F$6:F$180)+SUMIF(Rencontres!G$6:H$180,C8,Rencontres!H$6:H$180) -> 163 | K8: =I8-J8 -> 29 | Q8: =(F8*3)+(G8*2)+(H8*1) -> 14
C9: JA Isle HB | D9: =SUMIF(Rencontres!K$6:L$90,C9,Rencontres!L$6:L$90) -> 14 | E9: =SUMPRODUCT((Rencontres!D$6:D$180=C9)*(Rencontres!E$6:E$180>0)*1)+SUMPRODUCT((Rencontres!G$6:G$180=C9)*(Rencontres!H$6:H$180>0)*1) -> 6 | F9: =SUMPRODUCT((Rencontres!D$6:D$180=C9)*(Rencontres!E$6:E$180>Rencontres!F$6:F$180)*1)+SUMPRODUCT((Rencontres!G$6:G$180=C9)*(Rencontres!H$6:H$180<Rencontres!I$6:I$180)*1) -> 4 | G9: =E9-F9-H9 -> 0 | H9: 2 | I9: =SUMIF(Rencontres!D$6:E$180,C9,Rencontres!E$6:E$180)+SUMIF(Rencontres!G$6:I$180,C9,Rencontres!I$6:I$180) -> 143 | J9: =SUMIF(Rencontres!D$6:F$180,C9,Rencontres!F$6:F$180)+SUMIF(Rencontres!G$6:H$180,C9,Rencontres!H$6:H$180) -> 130 | K9: =I9-J9 -> 13 | Q9: =(F9*3)+(G9*2)+(H9*1) -> 14
C10: HBC Objat Corrèze | D10: =SUMIF(Rencontres!M$6:N$90,C10,Rencontres!N$6:N$90) -> 10 | E10: =SUMPRODUCT((Rencontres!D$6:D$180=C10)*(Rencontres!E$6:E$180>0)*1)+SUMPRODUCT((Rencontres!G$6:G$180=C10)*(Rencontres!H$6:H$180>0)*1) -> 6 | F10: =SUMPRODUCT((Rencontres!D$6:D$180=C10)*(Rencontres!E$6:E$180>Rencontres!F$6:F$180)*1)+SUMPRODUCT((Rencontres!G$6:G$180=C10)*(Rencontres!H$6:H$180<Rencontres!I$6:I$180)*1) -> 2 | G10: =E10-F10-H10 -> 0 | H10: 4 | I10: =SUMIF(Rencontres!D$6:E$180,C10,Rencontres!E$6:E$180)+SUMIF(Rencontres!G$6:I$180,C10,Rencontres!I$6:I$180) -> 136 | J10: =SUMIF(Rencontres!D$6:F$180,C10,Rencontres!F$6:F$180)+SUMIF(Rencontres!G$6:H$180,C10,Rencontres!H$6:H$180) -> 150 | K10: =I10-J10 -> -14 | Q10: =(F10*3)+(G10*2)+(H10*1) -> 10
C11: Capo Limoges HB | D11: =SUMIF(Rencontres!M$6:N$90,C11,Rencontres!N$6:N$90) -> 8 | E11: =SUMPRODUCT((Rencontres!D$6:D$180=C11)*(Rencontres!E$6:E$180>0)*1)+SUMPRODUCT((Rencontres!G$6:G$180=C11)*(Rencontres!H$6:H$180>0)*1) -> 6 | F11: =SUMPRODUCT((Rencontres!D$6:D$180=C11)*(Rencontres!E$6:E$180>Rencontres!F$6:F$180)*1)+SUMPRODUCT((Rencontres!G$6:G$180=C11)*(Rencontres!H$6:H$180<Rencontres!I$6:I$180)*1) -> 1 | G11: =E11-F11-H11 -> 0 | H11: 5 | I11: =SUMIF(Rencontres!D$6:E$180,C11,Rencontres!E$6:E$180)+SUMIF(Rencontres!G$6:I$180,C11,Rencontres!I$6:I$180) -> 100 | J11: =SUMIF(Rencontres!D$6:F$180,C11,Rencontres!F$6:F$180)+SUMIF(Rencontres!G$6:H$180,C11,Rencontres!H$6:H$180) -> 159 | K11: =I11-J11 -> -59 | Q11: =(F11*3)+(G11*2)+(H11*1) -> 8
C12: E. Châteauneuf / Boisseuil | D12: =SUMIF(Rencontres!M$6:N$90,C12,Rencontres!N$6:N$90) -> 8 | E12: =SUMPRODUCT((Rencontres!D$6:D$180=C12)*(Rencontres!E$6:E$180>0)*1)+SUMPRODUCT((Rencontres!G$6:G$180=C12)*(Rencontres!H$6:H$180>0)*1) -> 6 | F12: =SUMPRODUCT((Rencontres!D$6:D$180=C12)*(Rencontres!E$6:E$180>Rencontres!F$6:F$180)*1)+SUMPRODUCT((Rencontres!G$6:G$180=C12)*(Rencontres!H$6:H$180<Rencontres!I$6:I$180)*1) -> 1 | G12: =E12-F12-H12 -> 0 | H12: 5 | I12: =SUMIF(Rencontres!D$6:E$180,C12,Rencontres!E$6:E$180)+SUMIF(Rencontres!G$6:I$180,C12,Rencontres!I$6:I$180) -> 155 | J12: =SUMIF(Rencontres!D$6:F$180,C12,Rencontres!F$6:F$180)+SUMIF(Rencontres!G$6:H$180,C12,Rencontres!H$6:H$180) -> 234 | K12: =I12-J12 -> -79 | Q12: =(F12*3)+(G12*2)+(H12*1) -> 8
C13: Pana Loisirs | D13: =SUMIF(Rencontres!M$6:N$90,C13,Rencontres!N$6:N$90) -> 6 | E13: =SUMPRODUCT((Rencontres!D$6:D$180=C13)*(Rencontres!E$6:E$180>0)*1)+SUMPRODUCT((Rencontres!G$6:G$180=C13)*(Rencontres!H$6:H$180>0)*1) -> 6 | F13: =SUMPRODUCT((Rencontres!D$6:D$180=C13)*(Rencontres!E$6:E$180>Rencontres!F$6:F$180)*1)+SUMPRODUCT((Rencontres!G$6:G$180=C13)*(Rencontres!H$6:H$180<Rencontres!I$6:I$180)*1) -> 0 | G13: =E13-F13-H13 -> 0 | H13: 6 | I13: =SUMIF(Rencontres!D$6:E$180,C13,Rencontres!E$6:E$180)+SUMIF(Rencontres!G$6:I$180,C13,Rencontres!I$6:I$180) -> 117 | J13: =SUMIF(Rencontres!D$6:F$180,C13,Rencontres!F$6:F$180)+SUMIF(Rencontres!G$6:H$180,C13,Rencontres!H$6:H$180) -> 198 | K13: =I13-J13 -> -81 | Q13: =(F13*3)+(G13*2)+(H13*1) -> 6
B18: Meilleure attaque : | C18: =IF(I5=MAX(I5:I13),$C$5,IF(I6=MAX(I6:I13),$C$6,IF(I7=MAX(I7:I13),$C$7,IF(I8=MAX(I8:I13),$C$8,IF(I9=MAX(I9:I13),$C$9,IF(I10=MAX(I10:I13),$C$10,IF(I11=MAX(I11:I13),$C$11,IF(I12=MAX(I12:I13),$C$12,$C$13)))))))) -> AL Palais sur Vienne
B20: Meilleure défense : | C20: =IF(J5=MIN(J5:J13),$C$5,IF(J6=MIN(J6:J13),$C$6,IF(J7=MIN(J7:J13),$C$7,IF(J8=MIN(J8:J13),$C$8,IF(J9=MIN(J9:J13),$C$9,IF(J10=MIN(J10:J13),$C$10,IF(J11=MIN(J11:J13),$C$11,IF(J12=MIN(J12:J13),$C$12,$C$13)))))))) -> JA Isle HB
