Workbook
Name JourAuto: OFFSET(BORD!$J$2,,'postes libres'!$C$3-2,COUNTA(BORD!$A$2:$A$245))
Name NumFonc: OFFSET(BORD!$A$2,,,COUNTA(BORD!$A$3:$A$245))
Name Ordjeudi: BORD!$T$2:$T$22
Name Ordlundi: BORD!$Q$2:$Q$22
Name Ordmardi: BORD!$R$2:$R$22
Name Ordmercredi: BORD!$S$2:$S$22
Name Ordsamedi: BORD!$V$2:$V$22
Name Ordvendredi: BORD!$U$2:$U$22
Name TabSem: 'postes libres'!$S$2:$S$8

Sheet CALCULETE
B3: NUMERO | D3: 20365
B5: NOM | D5: =VLOOKUP(D3,BORD!A:B,2,0) -> aa
B7: RESULTATS | D7: =VLOOKUP($D$3,BORD!A:F,6,0) -> 5
B8: Note du client | D8: =VLOOKUP($D$3,BORD!A:G,7,0) -> 8
B9: EQUIPE | D9: =VLOOKUP($D$3,BORD!A:D,4,0) -> scorpion
B10: Poste | D10: =VLOOKUP($D$3,BORD!A:H,8,0) -> F1
B11: Congé | D11: =VLOOKUP($D$3,BORD!A:I,9,0) -> jeudi

Sheet BORD
A2: Numero de fonctionnaire | B2: Nom | C2: secteur | D2: equipe | E2: activité | F2: RESULTATS | G2: note client | H2: Numero de poste | I2: Congé | J2: lundi | K2: mardi | L2: mercredi | M2: jeudi | N2: vendredi | O2: samedi | Q2: lundi | R2: mardi | S2: mercredi | T2: jeudi | U2: vendredi | V2: samedi
G3: =IF($E:$E="PA",IFERROR(VLOOKUP($A3,satisf44!$A:$B,2,0),0)+IFERROR(VLOOKUP($A3,satisf44!$D:$E,2,0),0),"")
A4: 20365 | B4: aa | C4: a | D4: scorpion | E4: PA | F4: =IF($E:$E="PA",IFERROR(VLOOKUP($A4,STATS44!$A:$B,2,0),0)+IFERROR(VLOOKUP($A4,STATS44!$D:$E,2,0),0),IFERROR(VLOOKUP($A4,STATS44!$D:$E,2,0),0)) -> 5 | G4: =IF($E:$E="PA",IFERROR(VLOOKUP($A4,satisf44!$A:$B,2,0),0)+IFERROR(VLOOKUP($A4,satisf44!$D:$E,2,0),0),IFERROR(VLOOKUP($A4,satisf44!$D:$E,2,0),0)) -> 8 | H4: F1 | I4: jeudi | M4: 1 | Q4: =IF(J4,COUNTIF(J$4:J4,1),"") | R4: =IF(K4,COUNTIF(K$4:K4,1),"") | S4: =IF(L4,COUNTIF(L$4:L4,1),"") | T4: =IF(M4,COUNTIF(M$4:M4,1),"") -> 1 | U4: =IF(N4,COUNTIF(N$4:N4,1),"") | V4: =IF(O4,COUNTIF(O$4:O4,1),"")
A5: 23067 | B5: bb | C5: a | D5: elephant | E5: Pro | F5: =IF($E:$E="PA",IFERROR(VLOOKUP($A5,STATS44!$A:$B,2,0),0)+IFERROR(VLOOKUP($A5,STATS44!$D:$E,2,0),0),IFERROR(VLOOKUP($A5,STATS44!$D:$E,2,0),0)) -> 5 | G5: =IF($E:$E="PA",IFERROR(VLOOKUP($A5,satisf44!$A:$B,2,0),0)+IFERROR(VLOOKUP($A5,satisf44!$D:$E,2,0),0),IFERROR(VLOOKUP($A5,satisf44!$D:$E,2,0),0)) -> 2 | H5: F2 | I5: Samedi | O5: 1 | Q5: =IF(J5,COUNTIF(J$4:J5,1),"") | R5: =IF(K5,COUNTIF(K$4:K5,1),"") | S5: =IF(L5,COUNTIF(L$4:L5,1),"") | T5: =IF(M5,COUNTIF(M$4:M5,1),"") | U5: =IF(N5,COUNTIF(N$4:N5,1),"") | V5: =IF(O5,COUNTIF(O$4:O5,1),"") -> 1
A6: =SUM(A5)+1 -> 23068 | B6: cc | C6: a | D6: requin | E6: PA | F6: =IF($E:$E="PA",IFERROR(VLOOKUP($A6,STATS44!$A:$B,2,0),0)+IFERROR(VLOOKUP($A6,STATS44!$D:$E,2,0),0),IFERROR(VLOOKUP($A6,STATS44!$D:$E,2,0),0)) -> 6 | G6: =IF($E:$E="PA",IFERROR(VLOOKUP($A6,satisf44!$A:$B,2,0),0)+IFERROR(VLOOKUP($A6,satisf44!$D:$E,2,0),0),IFERROR(VLOOKUP($A6,satisf44!$D:$E,2,0),0)) -> 3 | H6: F3 | I6: vendredi | J6: 1 | K6: 1 | L6: 1 | M6: 1 | N6: 1 | O6: 1 | Q6: =IF(J6,COUNTIF(J$4:J6,1),"") -> 1 | R6: =IF(K6,COUNTIF(K$4:K6,1),"") -> 1 | S6: =IF(L6,COUNTIF(L$4:L6,1),"") -> 1 | T6: =IF(M6,COUNTIF(M$4:M6,1),"") -> 2 | U6: =IF(N6,COUNTIF(N$4:N6,1),"") -> 1 | V6: =IF(O6,COUNTIF(O$4:O6,1),"") -> 2
A7: =SUM(A6)+1 -> 23069 | B7: dd | C7: a | D7: scorpion | E7: Pro | F7: =IF($E:$E="PA",IFERROR(VLOOKUP($A7,STATS44!$A:$B,2,0),0)+IFERROR(VLOOKUP($A7,STATS44!$D:$E,2,0),0),IFERROR(VLOOKUP($A7,STATS44!$D:$E,2,0),0)) -> 8 | G7: =IF($E:$E="PA",IFERROR(VLOOKUP($A7,satisf44!$A:$B,2,0),0)+IFERROR(VLOOKUP($A7,satisf44!$D:$E,2,0),0),IFERROR(VLOOKUP($A7,satisf44!$D:$E,2,0),0)) -> 4 | H7: P1 | I7: vendredi | N7: 1 | Q7: =IF(J7,COUNTIF(J$4:J7,1),"") | R7: =IF(K7,COUNTIF(K$4:K7,1),"") | S7: =IF(L7,COUNTIF(L$4:L7,1),"") | T7: =IF(M7,COUNTIF(M$4:M7,1),"") | U7: =IF(N7,COUNTIF(N$4:N7,1),"") -> 2 | V7: =IF(O7,COUNTIF(O$4:O7,1),"")
A8: =SUM(A7)+1 -> 23070 | B8: ee | C8: a | D8: scorpion | E8: PA | F8: =IF($E:$E="PA",IFERROR(VLOOKUP($A8,STATS44!$A:$B,2,0),0)+IFERROR(VLOOKUP($A8,STATS44!$D:$E,2,0),0),IFERROR(VLOOKUP($A8,STATS44!$D:$E,2,0),0)) -> 9 | G8: =IF($E:$E="PA",IFERROR(VLOOKUP($A8,satisf44!$A:$B,2,0),0)+IFERROR(VLOOKUP($A8,satisf44!$D:$E,2,0),0),IFERROR(VLOOKUP($A8,satisf44!$D:$E,2,0),0)) -> 5 | H8: P2 | I8: mercredi | L8: 1 | Q8: =IF(J8,COUNTIF(J$4:J8,1),"") | R8: =IF(K8,COUNTIF(K$4:K8,1),"") | S8: =IF(L8,COUNTIF(L$4:L8,1),"") -> 2 | T8: =IF(M8,COUNTIF(M$4:M8,1),"") | U8: =IF(N8,COUNTIF(N$4:N8,1),"") | V8: =IF(O8,COUNTIF(O$4:O8,1),"")
A9: =SUM(A8)+1 -> 23071 | B9: ff | C9: a | D9: elephant | E9: Pro | F9: =IF($E:$E="PA",IFERROR(VLOOKUP($A9,STATS44!$A:$B,2,0),0)+IFERROR(VLOOKUP($A9,STATS44!$D:$E,2,0),0),IFERROR(VLOOKUP($A9,STATS44!$D:$E,2,0),0)) -> 7 | G9: =IF($E:$E="PA",IFERROR(VLOOKUP($A9,satisf44!$A:$B,2,0),0)+IFERROR(VLOOKUP($A9,satisf44!$D:$E,2,0),0),IFERROR(VLOOKUP($A9,satisf44!$D:$E,2,0),0)) -> 6 | H9: P3 | I9: jeudi | M9: 1 | Q9: =IF(J9,COUNTIF(J$4:J9,1),"") | R9: =IF(K9,COUNTIF(K$4:K9,1),"") | S9: =IF(L9,COUNTIF(L$4:L9,1),"") | T9: =IF(M9,COUNTIF(M$4:M9,1),"") -> 3 | U9: =IF(N9,COUNTIF(N$4:N9,1),"") | V9: =IF(O9,COUNTIF(O$4:O9,1),"")
A10: =SUM(A9)+1 -> 23072 | B10: gg | C10: a | D10: elephant | E10: Pro | F10: =IF($E:$E="PA",IFERROR(VLOOKUP($A10,STATS44!$A:$B,2,0),0)+IFERROR(VLOOKUP($A10,STATS44!$D:$E,2,0),0),IFERROR(VLOOKUP($A10,STATS44!$D:$E,2,0),0)) -> 4 | G10: =IF($E:$E="PA",IFERROR(VLOOKUP($A10,satisf44!$A:$B,2,0),0)+IFERROR(VLOOKUP($A10,satisf44!$D:$E,2,0),0),IFERROR(VLOOKUP($A10,satisf44!$D:$E,2,0),0)) -> 7 | H10: P4 | I10: mardi | K10: 1 | Q10: =IF(J10,COUNTIF(J$4:J10,1),"") | R10: =IF(K10,COUNTIF(K$4:K10,1),"") -> 2 | S10: =IF(L10,COUNTIF(L$4:L10,1),"") | T10: =IF(M10,COUNTIF(M$4:M10,1),"") | U10: =IF(N10,COUNTIF(N$4:N10,1),"") | V10: =IF(O10,COUNTIF(O$4:O10,1),"")
A11: =SUM(A10)+1 -> 23073 | B11: gg | C11: a | D11: requin | E11: Pro | F11: =IF($E:$E="PA",IFERROR(VLOOKUP($A11,STATS44!$A:$B,2,0),0)+IFERROR(VLOOKUP($A11,STATS44!$D:$E,2,0),0),IFERROR(VLOOKUP($A11,STATS44!$D:$E,2,0),0)) -> 1 | G11: =IF($E:$E="PA",IFERROR(VLOOKUP($A11,satisf44!$A:$B,2,0),0)+IFERROR(VLOOKUP($A11,satisf44!$D:$E,2,0),0),IFERROR(VLOOKUP($A11,satisf44!$D:$E,2,0),0)) -> 8 | H11: F5 | I11: lundi | J11: 1 | K11: 1 | M11: 1 | N11: 1 | O11: 1 | Q11: =IF(J11,COUNTIF(J$4:J11,1),"") -> 2 | R11: =IF(K11,COUNTIF(K$4:K11,1),"") -> 3 | S11: =IF(L11,COUNTIF(L$4:L11,1),"") | T11: =IF(M11,COUNTIF(M$4:M11,1),"") -> 4 | U11: =IF(N11,COUNTIF(N$4:N11,1),"") -> 3 | V11: =IF(O11,COUNTIF(O$4:O11,1),"") -> 3
A12: =SUM(A11)+1 -> 23074 | B12: ii | C12: a | D12: requin | E12: Pro | F12: =IF($E:$E="PA",IFERROR(VLOOKUP($A12,STATS44!$A:$B,2,0),0)+IFERROR(VLOOKUP($A12,STATS44!$D:$E,2,0),0),IFERROR(VLOOKUP($A12,STATS44!$D:$E,2,0),0)) -> 5 | G12: =IF($E:$E="PA",IFERROR(VLOOKUP($A12,satisf44!$A:$B,2,0),0)+IFERROR(VLOOKUP($A12,satisf44!$D:$E,2,0),0),IFERROR(VLOOKUP($A12,satisf44!$D:$E,2,0),0)) -> 9 | H12: F4 | I12: Samedi | O12: 1 | Q12: =IF(J12,COUNTIF(J$4:J12,1),"") | R12: =IF(K12,COUNTIF(K$4:K12,1),"") | S12: =IF(L12,COUNTIF(L$4:L12,1),"") | T12: =IF(M12,COUNTIF(M$4:M12,1),"") | U12: =IF(N12,COUNTIF(N$4:N12,1),"") | V12: =IF(O12,COUNTIF(O$4:O12,1),"") -> 4
A13: =SUM(A12)+1 -> 23075 | B13: jj | C13: b | D13: requin | E13: PA | F13: =IF($E:$E="PA",IFERROR(VLOOKUP($A13,STATS44!$A:$B,2,0),0)+IFERROR(VLOOKUP($A13,STATS44!$D:$E,2,0),0),IFERROR(VLOOKUP($A13,STATS44!$D:$E,2,0),0)) -> 6 | G13: =IF($E:$E="PA",IFERROR(VLOOKUP($A13,satisf44!$A:$B,2,0),0)+IFERROR(VLOOKUP($A13,satisf44!$D:$E,2,0),0),IFERROR(VLOOKUP($A13,satisf44!$D:$E,2,0),0)) -> 10 | H13: P5 | I13: lundi | J13: 1 | Q13: =IF(J13,COUNTIF(J$4:J13,1),"") -> 3 | R13: =IF(K13,COUNTIF(K$4:K13,1),"") | S13: =IF(L13,COUNTIF(L$4:L13,1),"") | T13: =IF(M13,COUNTIF(M$4:M13,1),"") | U13: =IF(N13,COUNTIF(N$4:N13,1),"") | V13: =IF(O13,COUNTIF(O$4:O13,1),"")
A14: =SUM(A13)+1 -> 23076 | B14: kk | C14: b | D14: requin | E14: Pro | F14: =IF($E:$E="PA",IFERROR(VLOOKUP($A14,STATS44!$A:$B,2,0),0)+IFERROR(VLOOKUP($A14,STATS44!$D:$E,2,0),0),IFERROR(VLOOKUP($A14,STATS44!$D:$E,2,0),0)) -> 4 | G14: =IF($E:$E="PA",IFERROR(VLOOKUP($A14,satisf44!$A:$B,2,0),0)+IFERROR(VLOOKUP($A14,satisf44!$D:$E,2,0),0),IFERROR(VLOOKUP($A14,satisf44!$D:$E,2,0),0)) -> 10 | H14: P6 | I14: jeudi | M14: 1 | Q14: =IF(J14,COUNTIF(J$4:J14,1),"") | R14: =IF(K14,COUNTIF(K$4:K14,1),"") | S14: =IF(L14,COUNTIF(L$4:L14,1),"") | T14: =IF(M14,COUNTIF(M$4:M14,1),"") -> 5 | U14: =IF(N14,COUNTIF(N$4:N14,1),"") | V14: =IF(O14,COUNTIF(O$4:O14,1),"")
A15: =SUM(A14)+1 -> 23077 | B15: ll | C15: b | D15: requin | E15: Pro | F15: =IF($E:$E="PA",IFERROR(VLOOKUP($A15,STATS44!$A:$B,2,0),0)+IFERROR(VLOOKUP($A15,STATS44!$D:$E,2,0),0),IFERROR(VLOOKUP($A15,STATS44!$D:$E,2,0),0)) -> 9 | G15: =IF($E:$E="PA",IFERROR(VLOOKUP($A15,satisf44!$A:$B,2,0),0)+IFERROR(VLOOKUP($A15,satisf44!$D:$E,2,0),0),IFERROR(VLOOKUP($A15,satisf44!$D:$E,2,0),0)) -> 1 | H15: P7 | I15: Samedi | O15: 1 | Q15: =IF(J15,COUNTIF(J$4:J15,1),"") | R15: =IF(K15,COUNTIF(K$4:K15,1),"") | S15: =IF(L15,COUNTIF(L$4:L15,1),"") | T15: =IF(M15,COUNTIF(M$4:M15,1),"") | U15: =IF(N15,COUNTIF(N$4:N15,1),"") | V15: =IF(O15,COUNTIF(O$4:O15,1),"") -> 5
A16: =SUM(A15)+1 -> 23078 | B16: mm | C16: b | D16: requin | E16: PA | F16: =IF($E:$E="PA",IFERROR(VLOOKUP($A16,STATS44!$A:$B,2,0),0)+IFERROR(VLOOKUP($A16,STATS44!$D:$E,2,0),0),IFERROR(VLOOKUP($A16,STATS44!$D:$E,2,0),0)) -> 0 | G16: =IF($E:$E="PA",IFERROR(VLOOKUP($A16,satisf44!$A:$B,2,0),0)+IFERROR(VLOOKUP($A16,satisf44!$D:$E,2,0),0),IFERROR(VLOOKUP($A16,satisf44!$D:$E,2,0),0)) -> 0 | H16: P8 | I16: mercredi | L16: 1 | Q16: =IF(J16,COUNTIF(J$4:J16,1),"") | R16: =IF(K16,COUNTIF(K$4:K16,1),"") | S16: =IF(L16,COUNTIF(L$4:L16,1),"") -> 3 | T16: =IF(M16,COUNTIF(M$4:M16,1),"") | U16: =IF(N16,COUNTIF(N$4:N16,1),"") | V16: =IF(O16,COUNTIF(O$4:O16,1),"")
A17: =SUM(A16)+1 -> 23079 | B17: nn | C17: b | D17: elephant | E17: Pro | F17: =IF($E:$E="PA",IFERROR(VLOOKUP($A17,STATS44!$A:$B,2,0),0)+IFERROR(VLOOKUP($A17,STATS44!$D:$E,2,0),0),IFERROR(VLOOKUP($A17,STATS44!$D:$E,2,0),0)) -> 0 | G17: =IF($E:$E="PA",IFERROR(VLOOKUP($A17,satisf44!$A:$B,2,0),0)+IFERROR(VLOOKUP($A17,satisf44!$D:$E,2,0),0),IFERROR(VLOOKUP($A17,satisf44!$D:$E,2,0),0)) -> 0 | H17: P9 | I17: jeudi | M17: 1 | Q17: =IF(J17,COUNTIF(J$4:J17,1),"") | R17: =IF(K17,COUNTIF(K$4:K17,1),"") | S17: =IF(L17,COUNTIF(L$4:L17,1),"") | T17: =IF(M17,COUNTIF(M$4:M17,1),"") -> 6 | U17: =IF(N17,COUNTIF(N$4:N17,1),"") | V17: =IF(O17,COUNTIF(O$4:O17,1),"")
A18: =SUM(A17)+1 -> 23080 | B18: oo | C18: b | D18: elephant | E18: PA | F18: =IF($E:$E="PA",IFERROR(VLOOKUP($A18,STATS44!$A:$B,2,0),0)+IFERROR(VLOOKUP($A18,STATS44!$D:$E,2,0),0),IFERROR(VLOOKUP($A18,STATS44!$D:$E,2,0),0)) -> 0 | G18: =IF($E:$E="PA",IFERROR(VLOOKUP($A18,satisf44!$A:$B,2,0),0)+IFERROR(VLOOKUP($A18,satisf44!$D:$E,2,0),0),IFERROR(VLOOKUP($A18,satisf44!$D:$E,2,0),0)) -> 0 | H18: P10 | I18: mardi | K18: 1 | Q18: =IF(J18,COUNTIF(J$4:J18,1),"") | R18: =IF(K18,COUNTIF(K$4:K18,1),"") -> 4 | S18: =IF(L18,COUNTIF(L$4:L18,1),"") | T18: =IF(M18,COUNTIF(M$4:M18,1),"") | U18: =IF(N18,COUNTIF(N$4:N18,1),"") | V18: =IF(O18,COUNTIF(O$4:O18,1),"")
A19: =SUM(A18)+1 -> 23081 | B19: pp | C19: b | D19: scorpion | E19: Pro | F19: =IF($E:$E="PA",IFERROR(VLOOKUP($A19,STATS44!$A:$B,2,0),0)+IFERROR(VLOOKUP($A19,STATS44!$D:$E,2,0),0),IFERROR(VLOOKUP($A19,STATS44!$D:$E,2,0),0)) -> 0 | G19: =IF($E:$E="PA",IFERROR(VLOOKUP($A19,satisf44!$A:$B,2,0),0)+IFERROR(VLOOKUP($A19,satisf44!$D:$E,2,0),0),IFERROR(VLOOKUP($A19,satisf44!$D:$E,2,0),0)) -> 0 | H19: F6 | I19: lundi | J19: 1 | Q19: =IF(J19,COUNTIF(J$4:J19,1),"") -> 4 | R19: =IF(K19,COUNTIF(K$4:K19,1),"") | S19: =IF(L19,COUNTIF(L$4:L19,1),"") | T19: =IF(M19,COUNTIF(M$4:M19,1),"") | U19: =IF(N19,COUNTIF(N$4:N19,1),"") | V19: =IF(O19,COUNTIF(O$4:O19,1),"")
A20: =SUM(A19)+1 -> 23082 | B20: xx | C20: b | D20: scorpion | E20: PA | F20: =IF($E:$E="PA",IFERROR(VLOOKUP($A20,STATS44!$A:$B,2,0),0)+IFERROR(VLOOKUP($A20,STATS44!$D:$E,2,0),0),IFERROR(VLOOKUP($A20,STATS44!$D:$E,2,0),0)) -> 0 | G20: =IF($E:$E="PA",IFERROR(VLOOKUP($A20,satisf44!$A:$B,2,0),0)+IFERROR(VLOOKUP($A20,satisf44!$D:$E,2,0),0),IFERROR(VLOOKUP($A20,satisf44!$D:$E,2,0),0)) -> 0 | H20: F7 | I20: jeudi | M20: 1 | Q20: =IF(J20,COUNTIF(J$4:J20,1),"") | R20: =IF(K20,COUNTIF(K$4:K20,1),"") | S20: =IF(L20,COUNTIF(L$4:L20,1),"") | T20: =IF(M20,COUNTIF(M$4:M20,1),"") -> 7 | U20: =IF(N20,COUNTIF(N$4:N20,1),"") | V20: =IF(O20,COUNTIF(O$4:O20,1),"")
A21: =SUM(A20)+1 -> 23083 | B21: tt | C21: b | D21: elephant | E21: Pro | F21: =IF($E:$E="PA",IFERROR(VLOOKUP($A21,STATS44!$A:$B,2,0),0)+IFERROR(VLOOKUP($A21,STATS44!$D:$E,2,0),0),IFERROR(VLOOKUP($A21,STATS44!$D:$E,2,0),0)) -> 0 | G21: =IF($E:$E="PA",IFERROR(VLOOKUP($A21,satisf44!$A:$B,2,0),0)+IFERROR(VLOOKUP($A21,satisf44!$D:$E,2,0),0),IFERROR(VLOOKUP($A21,satisf44!$D:$E,2,0),0)) -> 0 | H21: F8 | I21: mardi | K21: 1 | Q21: =IF(J21,COUNTIF(J$4:J21,1),"") | R21: =IF(K21,COUNTIF(K$4:K21,1),"") -> 5 | S21: =IF(L21,COUNTIF(L$4:L21,1),"") | T21: =IF(M21,COUNTIF(M$4:M21,1),"") | U21: =IF(N21,COUNTIF(N$4:N21,1),"") | V21: =IF(O21,COUNTIF(O$4:O21,1),"")
J22: =SUM(J3:J21) -> 4 | K22: =SUM(K3:K21) -> 5 | L22: =SUM(L3:L21) -> 3 | M22: =SUM(M3:M21) -> 7 | N22: =SUM(N3:N21) -> 3 | O22: =SUM(O3:O21) -> 5
I24: Col I inutile si les congés | Q24: Col grises à masquer
I25: sont saisis successivement | Q25: (nommées en Gestionnaire)
I26: en Col de J à O | Q26: et étirables
J27: ex : lignes 6 et 11

Sheet STATS44
A1: 20365 | B1: 5 | D1: 23067 | E1: 5
A2: =SUM(A1)+1 -> 20366 | B2: 3 | D2: =SUM(D1)+1 -> 23068 | E2: 6
A3: =SUM(A2)+1 -> 20367 | B3: 2 | D3: =SUM(D2)+1 -> 23069 | E3: 8
A4: =SUM(A3)+1 -> 20368 | B4: 6 | D4: =SUM(D3)+1 -> 23070 | E4: 9
A5: =SUM(A4)+1 -> 20369 | B5: 4 | D5: =SUM(D4)+1 -> 23071 | E5: 7
A6: =SUM(A5)+1 -> 20370 | B6: 9 | D6: =SUM(D5)+1 -> 23072 | E6: 4
A7: =SUM(A6)+1 -> 20371 | B7: 4 | D7: =SUM(D6)+1 -> 23073 | E7: 1
A8: 23200 | B8: 3 | D8: =SUM(D7)+1 -> 23074 | E8: 5
A9: 23201 | B9: 5 | D9: =SUM(D8)+1 -> 23075 | E9: 6
A10: 23202 | B10: 0 | D10: =SUM(D9)+1 -> 23076 | E10: 4
D11: =SUM(D10)+1 -> 23077 | E11: 9
D12: 23200 | E12: 7
D13: 23201 | E13: 0
D14: 23202 | E14: 7
A16: 23203 | B16: 350 | D16: 23203 | E16: 250

Sheet satisf44
A1: 20365 | B1: 8 | D1: 23067 | E1: 2
A2: =SUM(A1)+1 -> 20366 | B2: 3 | D2: =SUM(D1)+1 -> 23068 | E2: 3
A3: =SUM(A2)+1 -> 20367 | B3: 6 | D3: =SUM(D2)+1 -> 23069 | E3: 4
A4: =SUM(A3)+1 -> 20368 | B4: 9 | D4: =SUM(D3)+1 -> 23070 | E4: 5
A5: =SUM(A4)+1 -> 20369 | B5: 8 | D5: =SUM(D4)+1 -> 23071 | E5: 6
A6: =SUM(A5)+1 -> 20370 | B6: 7 | D6: =SUM(D5)+1 -> 23072 | E6: 7
A7: =SUM(A6)+1 -> 20371 | B7: 10 | D7: =SUM(D6)+1 -> 23073 | E7: 8
A8: 23200 | B8: 6 | D8: =SUM(D7)+1 -> 23074 | E8: 9
A9: 23201 | B9: 7 | D9: =SUM(D8)+1 -> 23075 | E9: 10
A10: 23202 | B10: 8 | D10: =SUM(D9)+1 -> 23076 | E10: 10
D11: =SUM(D10)+1 -> 23077 | E11: 1
D12: 23200 | E12: 8
D13: 23201 | E13: 6
D14: 23202 | E14: 5
A16: 23203 | B16: 10 | D16: 23203 | E16: 10

Sheet postes libres
S1: TabSem
C2: =TODAY() -> 43068 | S2: dimanche
C3: =WEEKDAY(C2) -> 4 | S3: lundi
S4: mardi
S5: mercredi
B6: Postes Libres | S6: jeudi
B7: Aujourd'hui | S7: vendredi
B8: =INDEX(TabSem,C3) -> mercredi | S8: samedi
C10: CONTAR
C11: =IF($C$3=1,"200",OFFSET(BORD!$J$22,,C3-2)) -> 3
B14: Dispo : | C14: n° Fonct | D14: Poste | E14: Nom | G14: Dispo : | H14: mardi | I14: Poste | J14: Nom | L14: Dispo : | M14: n° Fonct | N14: Poste | O14: Nom
B15: (J Auto) | C15: =IFERROR(INDEX(BORD!$A$2:$V$21,MATCH(COUNTA($C$14:$C14),INDIRECT("Ord"&$B$8),0),1),"") -> 23068 | D15: =IFERROR(INDEX(BORD!$A$2:$V$21,MATCH(COUNTA($C$14:$C14),INDIRECT("Ord"&$B$8),0),8),"") -> F3 | E15: =IFERROR(INDEX(BORD!$A$2:$V$21,MATCH(COUNTA($C$14:$C14),INDIRECT("Ord"&$B$8),0),2),"") -> cc | G15: (choix Auto) | H15: =IFERROR(INDEX(BORD!$A$2:$V$21,MATCH(COUNTA($H$14:$H14),INDIRECT("Ord"&$H$14),0),1),"") -> 23068 | I15: =IFERROR(INDEX(BORD!$A$2:$V$21,MATCH(COUNTA($H$14:$H14),INDIRECT("Ord"&$H$14),0),8),"") -> F3 | J15: =IFERROR(INDEX(BORD!$A$2:$V$21,MATCH(COUNTA($H$14:$H14),INDIRECT("Ord"&$H$14),0),2),"") -> cc | L15: (J. Auto) | M15: {=IFERROR(OFFSET(BORD!$A$1,MATCH(0&1,COUNTIF(M$14:M14,NumFonc)&JourAuto,0),0),"")} -> 23068 | N15: {=IFERROR(OFFSET(BORD!$A$1,MATCH(0&1,COUNTIF(M$14:M14,NumFonc)&JourAuto,0),7),"")} -> F3 | O15: {=IFERROR(OFFSET(BORD!$A$1,MATCH(0&1,COUNTIF(M$14:M14,NumFonc)&JourAuto,0),1),"")} -> cc
C16: =IFERROR(INDEX(BORD!$A$2:$V$21,MATCH(COUNTA($C$14:$C15),INDIRECT("Ord"&$B$8),0),1),"") -> 23070 | D16: =IFERROR(INDEX(BORD!$A$2:$V$21,MATCH(COUNTA($C$14:$C15),INDIRECT("Ord"&$B$8),0),8),"") -> P2 | E16: =IFERROR(INDEX(BORD!$A$2:$V$21,MATCH(COUNTA($C$14:$C15),INDIRECT("Ord"&$B$8),0),2),"") -> ee | H16: =IFERROR(INDEX(BORD!$A$2:$V$21,MATCH(COUNTA($H$14:$H15),INDIRECT("Ord"&$H$14),0),1),"") -> 23072 | I16: =IFERROR(INDEX(BORD!$A$2:$V$21,MATCH(COUNTA($H$14:$H15),INDIRECT("Ord"&$H$14),0),8),"") -> P4 | J16: =IFERROR(INDEX(BORD!$A$2:$V$21,MATCH(COUNTA($H$14:$H15),INDIRECT("Ord"&$H$14),0),2),"") -> gg | L16: sans Col supl. | M16: {=IFERROR(OFFSET(BORD!$A$1,MATCH(0&1,COUNTIF(M$14:M15,NumFonc)&JourAuto,0),0),"")} -> 23070 | N16: {=IFERROR(OFFSET(BORD!$A$1,MATCH(0&1,COUNTIF(M$14:M15,NumFonc)&JourAuto,0),7),"")} -> P2 | O16: {=IFERROR(OFFSET(BORD!$A$1,MATCH(0&1,COUNTIF(M$14:M15,NumFonc)&JourAuto,0),1),"")} -> ee
C17: =IFERROR(INDEX(BORD!$A$2:$V$21,MATCH(COUNTA($C$14:$C16),INDIRECT("Ord"&$B$8),0),1),"") -> 23078 | D17: =IFERROR(INDEX(BORD!$A$2:$V$21,MATCH(COUNTA($C$14:$C16),INDIRECT("Ord"&$B$8),0),8),"") -> P8 | E17: =IFERROR(INDEX(BORD!$A$2:$V$21,MATCH(COUNTA($C$14:$C16),INDIRECT("Ord"&$B$8),0),2),"") -> mm | H17: =IFERROR(INDEX(BORD!$A$2:$V$21,MATCH(COUNTA($H$14:$H16),INDIRECT("Ord"&$H$14),0),1),"") -> 23073 | I17: =IFERROR(INDEX(BORD!$A$2:$V$21,MATCH(COUNTA($H$14:$H16),INDIRECT("Ord"&$H$14),0),8),"") -> F5 | J17: =IFERROR(INDEX(BORD!$A$2:$V$21,MATCH(COUNTA($H$14:$H16),INDIRECT("Ord"&$H$14),0),2),"") -> gg | L17: en Feuil BORD | M17: {=IFERROR(OFFSET(BORD!$A$1,MATCH(0&1,COUNTIF(M$14:M16,NumFonc)&JourAuto,0),0),"")} -> 23078 | N17: {=IFERROR(OFFSET(BORD!$A$1,MATCH(0&1,COUNTIF(M$14:M16,NumFonc)&JourAuto,0),7),"")} -> P8 | O17: {=IFERROR(OFFSET(BORD!$A$1,MATCH(0&1,COUNTIF(M$14:M16,NumFonc)&JourAuto,0),1),"")} -> mm
C18: =IFERROR(INDEX(BORD!$A$2:$V$21,MATCH(COUNTA($C$14:$C17),INDIRECT("Ord"&$B$8),0),1),"") | D18: =IFERROR(INDEX(BORD!$A$2:$V$21,MATCH(COUNTA($C$14:$C17),INDIRECT("Ord"&$B$8),0),8),"") | E18: =IFERROR(INDEX(BORD!$A$2:$V$21,MATCH(COUNTA($C$14:$C17),INDIRECT("Ord"&$B$8),0),2),"") | H18: =IFERROR(INDEX(BORD!$A$2:$V$21,MATCH(COUNTA($H$14:$H17),INDIRECT("Ord"&$H$14),0),1),"") -> 23080 | I18: =IFERROR(INDEX(BORD!$A$2:$V$21,MATCH(COUNTA($H$14:$H17),INDIRECT("Ord"&$H$14),0),8),"") -> P10 | J18: =IFERROR(INDEX(BORD!$A$2:$V$21,MATCH(COUNTA($H$14:$H17),INDIRECT("Ord"&$H$14),0),2),"") -> oo | M18: {=IFERROR(OFFSET(BORD!$A$1,MATCH(0&1,COUNTIF(M$14:M17,NumFonc)&JourAuto,0),0),"")} | N18: {=IFERROR(OFFSET(BORD!$A$1,MATCH(0&1,COUNTIF(M$14:M17,NumFonc)&JourAuto,0),7),"")} | O18: {=IFERROR(OFFSET(BORD!$A$1,MATCH(0&1,COUNTIF(M$14:M17,NumFonc)&JourAuto,0),1),"")}
C19: =IFERROR(INDEX(BORD!$A$2:$V$21,MATCH(COUNTA($C$14:$C18),INDIRECT("Ord"&$B$8),0),1),"") | D19: =IFERROR(INDEX(BORD!$A$2:$V$21,MATCH(COUNTA($C$14:$C18),INDIRECT("Ord"&$B$8),0),8),"") | E19: =IFERROR(INDEX(BORD!$A$2:$V$21,MATCH(COUNTA($C$14:$C18),INDIRECT("Ord"&$B$8),0),2),"") | H19: =IFERROR(INDEX(BORD!$A$2:$V$21,MATCH(COUNTA($H$14:$H18),INDIRECT("Ord"&$H$14),0),1),"") -> 23083 | I19: =IFERROR(INDEX(BORD!$A$2:$V$21,MATCH(COUNTA($H$14:$H18),INDIRECT("Ord"&$H$14),0),8),"") -> F8 | J19: =IFERROR(INDEX(BORD!$A$2:$V$21,MATCH(COUNTA($H$14:$H18),INDIRECT("Ord"&$H$14),0),2),"") -> tt | M19: {=IFERROR(OFFSET(BORD!$A$1,MATCH(0&1,COUNTIF(M$14:M18,NumFonc)&JourAuto,0),0),"")} | N19: {=IFERROR(OFFSET(BORD!$A$1,MATCH(0&1,COUNTIF(M$14:M18,NumFonc)&JourAuto,0),7),"")} | O19: {=IFERROR(OFFSET(BORD!$A$1,MATCH(0&1,COUNTIF(M$14:M18,NumFonc)&JourAuto,0),1),"")}
C20: =IFERROR(INDEX(BORD!$A$2:$V$21,MATCH(COUNTA($C$14:$C19),INDIRECT("Ord"&$B$8),0),1),"") | D20: =IFERROR(INDEX(BORD!$A$2:$V$21,MATCH(COUNTA($C$14:$C19),INDIRECT("Ord"&$B$8),0),8),"") | E20: =IFERROR(INDEX(BORD!$A$2:$V$21,MATCH(COUNTA($C$14:$C19),INDIRECT("Ord"&$B$8),0),2),"") | H20: =IFERROR(INDEX(BORD!$A$2:$V$21,MATCH(COUNTA($H$14:$H19),INDIRECT("Ord"&$H$14),0),1),"") | I20: =IFERROR(INDEX(BORD!$A$2:$V$21,MATCH(COUNTA($H$14:$H19),INDIRECT("Ord"&$H$14),0),8),"") | J20: =IFERROR(INDEX(BORD!$A$2:$V$21,MATCH(COUNTA($H$14:$H19),INDIRECT("Ord"&$H$14),0),2),"") | M20: {=IFERROR(OFFSET(BORD!$A$1,MATCH(0&1,COUNTIF(M$14:M19,NumFonc)&JourAuto,0),0),"")} | N20: {=IFERROR(OFFSET(BORD!$A$1,MATCH(0&1,COUNTIF(M$14:M19,NumFonc)&JourAuto,0),7),"")} | O20: {=IFERROR(OFFSET(BORD!$A$1,MATCH(0&1,COUNTIF(M$14:M19,NumFonc)&JourAuto,0),1),"")}
C21: =IFERROR(INDEX(BORD!$A$2:$V$21,MATCH(COUNTA($C$14:$C20),INDIRECT("Ord"&$B$8),0),1),"") | D21: =IFERROR(INDEX(BORD!$A$2:$V$21,MATCH(COUNTA($C$14:$C20),INDIRECT("Ord"&$B$8),0),8),"") | E21: =IFERROR(INDEX(BORD!$A$2:$V$21,MATCH(COUNTA($C$14:$C20),INDIRECT("Ord"&$B$8),0),2),"") | H21: =IFERROR(INDEX(BORD!$A$2:$V$21,MATCH(COUNTA($H$14:$H20),INDIRECT("Ord"&$H$14),0),1),"") | I21: =IFERROR(INDEX(BORD!$A$2:$V$21,MATCH(COUNTA($H$14:$H20),INDIRECT("Ord"&$H$14),0),8),"") | J21: =IFERROR(INDEX(BORD!$A$2:$V$21,MATCH(COUNTA($H$14:$H20),INDIRECT("Ord"&$H$14),0),2),"") | M21: {=IFERROR(OFFSET(BORD!$A$1,MATCH(0&1,COUNTIF(M$14:M20,NumFonc)&JourAuto,0),0),"")} | N21: {=IFERROR(OFFSET(BORD!$A$1,MATCH(0&1,COUNTIF(M$14:M20,NumFonc)&JourAuto,0),7),"")} | O21: {=IFERROR(OFFSET(BORD!$A$1,MATCH(0&1,COUNTIF(M$14:M20,NumFonc)&JourAuto,0),1),"")}
C22: =IFERROR(INDEX(BORD!$A$2:$V$21,MATCH(COUNTA($C$14:$C21),INDIRECT("Ord"&$B$8),0),1),"") | D22: =IFERROR(INDEX(BORD!$A$2:$V$21,MATCH(COUNTA($C$14:$C21),INDIRECT("Ord"&$B$8),0),8),"") | E22: =IFERROR(INDEX(BORD!$A$2:$V$21,MATCH(COUNTA($C$14:$C21),INDIRECT("Ord"&$B$8),0),2),"") | H22: =IFERROR(INDEX(BORD!$A$2:$V$21,MATCH(COUNTA($H$14:$H21),INDIRECT("Ord"&$H$14),0),1),"") | I22: =IFERROR(INDEX(BORD!$A$2:$V$21,MATCH(COUNTA($H$14:$H21),INDIRECT("Ord"&$H$14),0),8),"") | J22: =IFERROR(INDEX(BORD!$A$2:$V$21,MATCH(COUNTA($H$14:$H21),INDIRECT("Ord"&$H$14),0),2),"") | M22: {=IFERROR(OFFSET(BORD!$A$1,MATCH(0&1,COUNTIF(M$14:M21,NumFonc)&JourAuto,0),0),"")} | N22: {=IFERROR(OFFSET(BORD!$A$1,MATCH(0&1,COUNTIF(M$14:M21,NumFonc)&JourAuto,0),7),"")} | O22: {=IFERROR(OFFSET(BORD!$A$1,MATCH(0&1,COUNTIF(M$14:M21,NumFonc)&JourAuto,0),1),"")}
C23: =IFERROR(INDEX(BORD!$A$2:$V$21,MATCH(COUNTA($C$14:$C22),INDIRECT("Ord"&$B$8),0),1),"") | D23: =IFERROR(INDEX(BORD!$A$2:$V$21,MATCH(COUNTA($C$14:$C22),INDIRECT("Ord"&$B$8),0),8),"") | E23: =IFERROR(INDEX(BORD!$A$2:$V$21,MATCH(COUNTA($C$14:$C22),INDIRECT("Ord"&$B$8),0),2),"") | H23: =IFERROR(INDEX(BORD!$A$2:$V$21,MATCH(COUNTA($H$14:$H22),INDIRECT("Ord"&$H$14),0),1),"") | I23: =IFERROR(INDEX(BORD!$A$2:$V$21,MATCH(COUNTA($H$14:$H22),INDIRECT("Ord"&$H$14),0),8),"") | J23: =IFERROR(INDEX(BORD!$A$2:$V$21,MATCH(COUNTA($H$14:$H22),INDIRECT("Ord"&$H$14),0),2),"") | M23: {=IFERROR(OFFSET(BORD!$A$1,MATCH(0&1,COUNTIF(M$14:M22,NumFonc)&JourAuto,0),0),"")} | N23: {=IFERROR(OFFSET(BORD!$A$1,MATCH(0&1,COUNTIF(M$14:M22,NumFonc)&JourAuto,0),7),"")} | O23: {=IFERROR(OFFSET(BORD!$A$1,MATCH(0&1,COUNTIF(M$14:M22,NumFonc)&JourAuto,0),1),"")}
C24: =IFERROR(INDEX(BORD!$A$2:$V$21,MATCH(COUNTA($C$14:$C23),INDIRECT("Ord"&$B$8),0),1),"") | D24: =IFERROR(INDEX(BORD!$A$2:$V$21,MATCH(COUNTA($C$14:$C23),INDIRECT("Ord"&$B$8),0),8),"") | E24: =IFERROR(INDEX(BORD!$A$2:$V$21,MATCH(COUNTA($C$14:$C23),INDIRECT("Ord"&$B$8),0),2),"") | H24: =IFERROR(INDEX(BORD!$A$2:$V$21,MATCH(COUNTA($H$14:$H23),INDIRECT("Ord"&$H$14),0),1),"") | I24: =IFERROR(INDEX(BORD!$A$2:$V$21,MATCH(COUNTA($H$14:$H23),INDIRECT("Ord"&$H$14),0),8),"") | J24: =IFERROR(INDEX(BORD!$A$2:$V$21,MATCH(COUNTA($H$14:$H23),INDIRECT("Ord"&$H$14),0),2),"") | M24: {=IFERROR(OFFSET(BORD!$A$1,MATCH(0&1,COUNTIF(M$14:M23,NumFonc)&JourAuto,0),0),"")} | N24: {=IFERROR(OFFSET(BORD!$A$1,MATCH(0&1,COUNTIF(M$14:M23,NumFonc)&JourAuto,0),7),"")} | O24: {=IFERROR(OFFSET(BORD!$A$1,MATCH(0&1,COUNTIF(M$14:M23,NumFonc)&JourAuto,0),1),"")}
C25: =IFERROR(INDEX(BORD!$A$2:$V$21,MATCH(COUNTA($C$14:$C24),INDIRECT("Ord"&$B$8),0),1),"") | D25: =IFERROR(INDEX(BORD!$A$2:$V$21,MATCH(COUNTA($C$14:$C24),INDIRECT("Ord"&$B$8),0),8),"") | E25: =IFERROR(INDEX(BORD!$A$2:$V$21,MATCH(COUNTA($C$14:$C24),INDIRECT("Ord"&$B$8),0),2),"")
C26: =IFERROR(INDEX(BORD!$A$2:$V$21,MATCH(COUNTA($C$14:$C25),INDIRECT("Ord"&$B$8),0),1),"") | D26: =IFERROR(INDEX(BORD!$A$2:$V$21,MATCH(COUNTA($C$14:$C25),INDIRECT("Ord"&$B$8),0),8),"") | E26: =IFERROR(INDEX(BORD!$A$2:$V$21,MATCH(COUNTA($C$14:$C25),INDIRECT("Ord"&$B$8),0),2),"")
C27: =IFERROR(INDEX(BORD!$A$2:$V$21,MATCH(COUNTA($C$14:$C26),INDIRECT("Ord"&$B$8),0),1),"") | D27: =IFERROR(INDEX(BORD!$A$2:$V$21,MATCH(COUNTA($C$14:$C26),INDIRECT("Ord"&$B$8),0),8),"") | E27: =IFERROR(INDEX(BORD!$A$2:$V$21,MATCH(COUNTA($C$14:$C26),INDIRECT("Ord"&$B$8),0),2),"")
