Workbook

Sheet CALCULETE
B3: NUMERO | D3: 20365
B5: NOM | D5: =VLOOKUP(D3,BORD!A:B,2,0) -> aa
B7: RESULTATS | D7: =VLOOKUP($D$3,BORD!A:F,6,0) -> 5
B8: Note du client | D8: =VLOOKUP($D$3,BORD!A:G,7,0) -> 8
B9: EQUIPE | D9: =VLOOKUP($D$3,BORD!A:D,4,0) -> scorpion

Sheet BORD
A2: Numero de fonctionnaire | B2: Nom | C2: secteur | D2: equipe | E2: activité | F2: RESULTATS | G2: note client
G3: =IF($E:$E="PA",IFERROR(VLOOKUP($A3,satisf44!$A:$B,2,0),0)+IFERROR(VLOOKUP($A3,satisf44!$D:$E,2,0),0),"")
A4: 20365 | B4: aa | C4: a | D4: scorpion | E4: PA | F4: =IF($E:$E="PA",IFERROR(VLOOKUP($A4,STATS44!$A:$B,2,0),0)+IFERROR(VLOOKUP($A4,STATS44!$D:$E,2,0),0),IFERROR(VLOOKUP($A4,STATS44!$D:$E,2,0),0)) -> 5 | G4: =IF($E:$E="PA",IFERROR(VLOOKUP($A4,satisf44!$A:$B,2,0),0)+IFERROR(VLOOKUP($A4,satisf44!$D:$E,2,0),0),IFERROR(VLOOKUP($A4,satisf44!$D:$E,2,0),0)) -> 8
A5: 23067 | B5: bb | C5: a | D5: elephant | E5: Pro | F5: =IF($E:$E="PA",IFERROR(VLOOKUP($A5,STATS44!$A:$B,2,0),0)+IFERROR(VLOOKUP($A5,STATS44!$D:$E,2,0),0),IFERROR(VLOOKUP($A5,STATS44!$D:$E,2,0),0)) -> 5 | G5: =IF($E:$E="PA",IFERROR(VLOOKUP($A5,satisf44!$A:$B,2,0),0)+IFERROR(VLOOKUP($A5,satisf44!$D:$E,2,0),0),IFERROR(VLOOKUP($A5,satisf44!$D:$E,2,0),0)) -> 2
A6: =SUM(A5)+1 -> 23068 | B6: cc | C6: a | D6: requin | E6: PA | F6: =IF($E:$E="PA",IFERROR(VLOOKUP($A6,STATS44!$A:$B,2,0),0)+IFERROR(VLOOKUP($A6,STATS44!$D:$E,2,0),0),IFERROR(VLOOKUP($A6,STATS44!$D:$E,2,0),0)) -> 6 | G6: =IF($E:$E="PA",IFERROR(VLOOKUP($A6,satisf44!$A:$B,2,0),0)+IFERROR(VLOOKUP($A6,satisf44!$D:$E,2,0),0),IFERROR(VLOOKUP($A6,satisf44!$D:$E,2,0),0)) -> 3
A7: =SUM(A6)+1 -> 23069 | B7: dd | C7: a | D7: scorpion | E7: Pro | F7: =IF($E:$E="PA",IFERROR(VLOOKUP($A7,STATS44!$A:$B,2,0),0)+IFERROR(VLOOKUP($A7,STATS44!$D:$E,2,0),0),IFERROR(VLOOKUP($A7,STATS44!$D:$E,2,0),0)) -> 8 | G7: =IF($E:$E="PA",IFERROR(VLOOKUP($A7,satisf44!$A:$B,2,0),0)+IFERROR(VLOOKUP($A7,satisf44!$D:$E,2,0),0),IFERROR(VLOOKUP($A7,satisf44!$D:$E,2,0),0)) -> 4
A8: =SUM(A7)+1 -> 23070 | B8: ee | C8: a | D8: scorpion | E8: PA | F8: =IF($E:$E="PA",IFERROR(VLOOKUP($A8,STATS44!$A:$B,2,0),0)+IFERROR(VLOOKUP($A8,STATS44!$D:$E,2,0),0),IFERROR(VLOOKUP($A8,STATS44!$D:$E,2,0),0)) -> 9 | G8: =IF($E:$E="PA",IFERROR(VLOOKUP($A8,satisf44!$A:$B,2,0),0)+IFERROR(VLOOKUP($A8,satisf44!$D:$E,2,0),0),IFERROR(VLOOKUP($A8,satisf44!$D:$E,2,0),0)) -> 5
A9: =SUM(A8)+1 -> 23071 | B9: ff | C9: a | D9: elephant | E9: Pro | F9: =IF($E:$E="PA",IFERROR(VLOOKUP($A9,STATS44!$A:$B,2,0),0)+IFERROR(VLOOKUP($A9,STATS44!$D:$E,2,0),0),IFERROR(VLOOKUP($A9,STATS44!$D:$E,2,0),0)) -> 7 | G9: =IF($E:$E="PA",IFERROR(VLOOKUP($A9,satisf44!$A:$B,2,0),0)+IFERROR(VLOOKUP($A9,satisf44!$D:$E,2,0),0),IFERROR(VLOOKUP($A9,satisf44!$D:$E,2,0),0)) -> 6
A10: =SUM(A9)+1 -> 23072 | B10: gg | C10: a | D10: elephant | E10: Pro | F10: =IF($E:$E="PA",IFERROR(VLOOKUP($A10,STATS44!$A:$B,2,0),0)+IFERROR(VLOOKUP($A10,STATS44!$D:$E,2,0),0),IFERROR(VLOOKUP($A10,STATS44!$D:$E,2,0),0)) -> 4 | G10: =IF($E:$E="PA",IFERROR(VLOOKUP($A10,satisf44!$A:$B,2,0),0)+IFERROR(VLOOKUP($A10,satisf44!$D:$E,2,0),0),IFERROR(VLOOKUP($A10,satisf44!$D:$E,2,0),0)) -> 7
A11: =SUM(A10)+1 -> 23073 | B11: gg | C11: a | D11: requin | E11: Pro | F11: =IF($E:$E="PA",IFERROR(VLOOKUP($A11,STATS44!$A:$B,2,0),0)+IFERROR(VLOOKUP($A11,STATS44!$D:$E,2,0),0),IFERROR(VLOOKUP($A11,STATS44!$D:$E,2,0),0)) -> 1 | G11: =IF($E:$E="PA",IFERROR(VLOOKUP($A11,satisf44!$A:$B,2,0),0)+IFERROR(VLOOKUP($A11,satisf44!$D:$E,2,0),0),IFERROR(VLOOKUP($A11,satisf44!$D:$E,2,0),0)) -> 8
A12: =SUM(A11)+1 -> 23074 | B12: ii | C12: a | D12: requin | E12: Pro | F12: =IF($E:$E="PA",IFERROR(VLOOKUP($A12,STATS44!$A:$B,2,0),0)+IFERROR(VLOOKUP($A12,STATS44!$D:$E,2,0),0),IFERROR(VLOOKUP($A12,STATS44!$D:$E,2,0),0)) -> 5 | G12: =IF($E:$E="PA",IFERROR(VLOOKUP($A12,satisf44!$A:$B,2,0),0)+IFERROR(VLOOKUP($A12,satisf44!$D:$E,2,0),0),IFERROR(VLOOKUP($A12,satisf44!$D:$E,2,0),0)) -> 9
A13: =SUM(A12)+1 -> 23075 | B13: jj | C13: b | D13: requin | E13: PA | F13: =IF($E:$E="PA",IFERROR(VLOOKUP($A13,STATS44!$A:$B,2,0),0)+IFERROR(VLOOKUP($A13,STATS44!$D:$E,2,0),0),IFERROR(VLOOKUP($A13,STATS44!$D:$E,2,0),0)) -> 6 | G13: =IF($E:$E="PA",IFERROR(VLOOKUP($A13,satisf44!$A:$B,2,0),0)+IFERROR(VLOOKUP($A13,satisf44!$D:$E,2,0),0),IFERROR(VLOOKUP($A13,satisf44!$D:$E,2,0),0)) -> 10
A14: =SUM(A13)+1 -> 23076 | B14: kk | C14: b | D14: requin | E14: Pro | F14: =IF($E:$E="PA",IFERROR(VLOOKUP($A14,STATS44!$A:$B,2,0),0)+IFERROR(VLOOKUP($A14,STATS44!$D:$E,2,0),0),IFERROR(VLOOKUP($A14,STATS44!$D:$E,2,0),0)) -> 4 | G14: =IF($E:$E="PA",IFERROR(VLOOKUP($A14,satisf44!$A:$B,2,0),0)+IFERROR(VLOOKUP($A14,satisf44!$D:$E,2,0),0),IFERROR(VLOOKUP($A14,satisf44!$D:$E,2,0),0)) -> 10
A15: =SUM(A14)+1 -> 23077 | B15: ll | C15: b | D15: requin | E15: Pro | F15: =IF($E:$E="PA",IFERROR(VLOOKUP($A15,STATS44!$A:$B,2,0),0)+IFERROR(VLOOKUP($A15,STATS44!$D:$E,2,0),0),IFERROR(VLOOKUP($A15,STATS44!$D:$E,2,0),0)) -> 9 | G15: =IF($E:$E="PA",IFERROR(VLOOKUP($A15,satisf44!$A:$B,2,0),0)+IFERROR(VLOOKUP($A15,satisf44!$D:$E,2,0),0),IFERROR(VLOOKUP($A15,satisf44!$D:$E,2,0),0)) -> 1
A16: =SUM(A15)+1 -> 23078 | B16: mm | C16: b | D16: requin | E16: PA | F16: =IF($E:$E="PA",IFERROR(VLOOKUP($A16,STATS44!$A:$B,2,0),0)+IFERROR(VLOOKUP($A16,STATS44!$D:$E,2,0),0),IFERROR(VLOOKUP($A16,STATS44!$D:$E,2,0),0)) -> 0 | G16: =IF($E:$E="PA",IFERROR(VLOOKUP($A16,satisf44!$A:$B,2,0),0)+IFERROR(VLOOKUP($A16,satisf44!$D:$E,2,0),0),IFERROR(VLOOKUP($A16,satisf44!$D:$E,2,0),0)) -> 0
A17: =SUM(A16)+1 -> 23079 | B17: nn | C17: b | D17: elephant | E17: Pro | F17: =IF($E:$E="PA",IFERROR(VLOOKUP($A17,STATS44!$A:$B,2,0),0)+IFERROR(VLOOKUP($A17,STATS44!$D:$E,2,0),0),IFERROR(VLOOKUP($A17,STATS44!$D:$E,2,0),0)) -> 0 | G17: =IF($E:$E="PA",IFERROR(VLOOKUP($A17,satisf44!$A:$B,2,0),0)+IFERROR(VLOOKUP($A17,satisf44!$D:$E,2,0),0),IFERROR(VLOOKUP($A17,satisf44!$D:$E,2,0),0)) -> 0
... A21: =SUM(A20)+1 -> 23083 | B21: tt | C21: b | D21: elephant | E21: Pro | F21: =IF($E:$E="PA",IFERROR(VLOOKUP($A21,STATS44!$A:$B,2,0),0)+IFERROR(VLOOKUP($A21,STATS44!$D:$E,2,0),0),IFERROR(VLOOKUP($A21,STATS44!$D:$E,2,0),0)) -> 0 | G21: =IF($E:$E="PA",IFERROR(VLOOKUP($A21,satisf44!$A:$B,2,0),0)+IFERROR(VLOOKUP($A21,satisf44!$D:$E,2,0),0),IFERROR(VLOOKUP($A21,satisf44!$D:$E,2,0),0)) -> 0
A22: 23200 | D22: SOURIS | E22: PA | F22: =IF($E:$E="PA",IFERROR(VLOOKUP($A22,STATS44!$A:$B,2,0),0)+IFERROR(VLOOKUP($A22,STATS44!$D:$E,2,0),0),IFERROR(VLOOKUP($A22,STATS44!$D:$E,2,0),0)) -> 10 | G22: =IF($E:$E="PA",IFERROR(VLOOKUP($A22,satisf44!$A:$B,2,0),0)+IFERROR(VLOOKUP($A22,satisf44!$D:$E,2,0),0),IFERROR(VLOOKUP($A22,satisf44!$D:$E,2,0),0)) -> 14
A23: 23201 | D23: SOURIS | E23: PRO | F23: =IF($E:$E="PA",IFERROR(VLOOKUP($A23,STATS44!$A:$B,2,0),0)+IFERROR(VLOOKUP($A23,STATS44!$D:$E,2,0),0),IFERROR(VLOOKUP($A23,STATS44!$D:$E,2,0),0)) -> 0 | G23: =IF($E:$E="PA",IFERROR(VLOOKUP($A23,satisf44!$A:$B,2,0),0)+IFERROR(VLOOKUP($A23,satisf44!$D:$E,2,0),0),IFERROR(VLOOKUP($A23,satisf44!$D:$E,2,0),0)) -> 6 | J23: vu que j'ai recopié les formules je sais pas pourquoi il y a erreur J'ai viré les textes "pa" & "pro" en lignes 16 de feuilles STAT et satisf
A24: 23202 | D24: SOURIS | E24: pro | F24: =IF($E:$E="PA",IFERROR(VLOOKUP($A24,STATS44!$A:$B,2,0),0)+IFERROR(VLOOKUP($A24,STATS44!$D:$E,2,0),0),IFERROR(VLOOKUP($A24,STATS44!$D:$E,2,0),0)) -> 7 | G24: =IF($E:$E="PA",IFERROR(VLOOKUP($A24,satisf44!$A:$B,2,0),0)+IFERROR(VLOOKUP($A24,satisf44!$D:$E,2,0),0),IFERROR(VLOOKUP($A24,satisf44!$D:$E,2,0),0)) -> 5
A25: 23203 | D25: dinamite | E25: pa | F25: =IF($E:$E="PA",IFERROR(VLOOKUP($A25,STATS44!$A:$B,2,0),0)+IFERROR(VLOOKUP($A25,STATS44!$D:$E,2,0),0),IFERROR(VLOOKUP($A25,STATS44!$D:$E,2,0),0)) -> 600 | G25: =IF($E:$E="PA",IFERROR(VLOOKUP($A25,satisf44!$A:$B,2,0),0)+IFERROR(VLOOKUP($A25,satisf44!$D:$E,2,0),0),IFERROR(VLOOKUP($A25,satisf44!$D:$E,2,0),0)) -> 20
A28: en simplifié : | B28: Col F = SI Col E=PA ----> STAT col B+E (PA+PRO), sinon : STAT col E (PRO)
B29: Col G = SI Col E=PA ----> satisf col B+E (PA+PRO), sinon : satisf col E (PRO)
B31: 1 seule personne sur 2 équipes ?

Sheet STATS44
A1: 20365 | B1: 5 | D1: 23067 | E1: 5
A2: =SUM(A1)+1 -> 20366 | B2: 3 | D2: =SUM(D1)+1 -> 23068 | E2: 6
A3: =SUM(A2)+1 -> 20367 | B3: 2 | D3: =SUM(D2)+1 -> 23069 | E3: 8
A4: =SUM(A3)+1 -> 20368 | B4: 6 | D4: =SUM(D3)+1 -> 23070 | E4: 9
A5: =SUM(A4)+1 -> 20369 | B5: 4 | D5: =SUM(D4)+1 -> 23071 | E5: 7
A6: =SUM(A5)+1 -> 20370 | B6: 9 | D6: =SUM(D5)+1 -> 23072 | E6: 4
A7: =SUM(A6)+1 -> 20371 | B7: 4 | D7: =SUM(D6)+1 -> 23073 | E7: 1
A8: 23200 | B8: 3 | D8: =SUM(D7)+1 -> 23074 | E8: 5
A9: 23201 | B9: 5 | D9: =SUM(D8)+1 -> 23075 | E9: 6
A10: 23202 | B10: 0 | D10: =SUM(D9)+1 -> 23076 | E10: 4
D11: =SUM(D10)+1 -> 23077 | E11: 9
D12: 23200 | E12: 7
D13: 23201 | E13: 0
D14: 23202 | E14: 7
A16: 23203 | B16: 350 | D16: 23203 | E16: 250

Sheet satisf44
A1: 20365 | B1: 8 | D1: 23067 | E1: 2
A2: =SUM(A1)+1 -> 20366 | B2: 3 | D2: =SUM(D1)+1 -> 23068 | E2: 3
A3: =SUM(A2)+1 -> 20367 | B3: 6 | D3: =SUM(D2)+1 -> 23069 | E3: 4
A4: =SUM(A3)+1 -> 20368 | B4: 9 | D4: =SUM(D3)+1 -> 23070 | E4: 5
A5: =SUM(A4)+1 -> 20369 | B5: 8 | D5: =SUM(D4)+1 -> 23071 | E5: 6
A6: =SUM(A5)+1 -> 20370 | B6: 7 | D6: =SUM(D5)+1 -> 23072 | E6: 7
A7: =SUM(A6)+1 -> 20371 | B7: 10 | D7: =SUM(D6)+1 -> 23073 | E7: 8
A8: 23200 | B8: 6 | D8: =SUM(D7)+1 -> 23074 | E8: 9
A9: 23201 | B9: 7 | D9: =SUM(D8)+1 -> 23075 | E9: 10
A10: 23202 | B10: 8 | D10: =SUM(D9)+1 -> 23076 | E10: 10
D11: =SUM(D10)+1 -> 23077 | E11: 1
D12: 23200 | E12: 8
D13: 23201 | E13: 6
D14: 23202 | E14: 5
A16: 23203 | B16: 10 | D16: 23203 | E16: 10
