Workbook
Name Récap: Classements!$B$35:$F$35

Sheet Pesées
B2: Pesée de 16h | I2: Total pesée
B3: Secteur A | D3: Secteur B | F3: Secteur C | I3: Secteur A | K3: Secteur B | M3: Secteur C
B4: 10.56 | C4: Poste 1 | D4: 11.125 | E4: Poste 9 | F4: 7.342 | G4: Poste 17 | I4: =B4+B15+B26 -> 10.56 | J4: Poste 1 | K4: =D4+D15+D26 -> 11.125 | L4: Poste 9 | M4: =F4+F15+F26 -> 7.342 | N4: Poste 17
B5: 6.342 | C5: Poste 2 | D5: 4.235 | E5: Poste 10 | F5: 8.342 | G5: Poste 18 | I5: =B5+B16+B27 -> 6.342 | J5: Poste 2 | K5: =D5+D16+D27 -> 4.235 | L5: Poste 10 | M5: =F5+F16+F27 -> 8.342 | N5: Poste 18
B6: 4.786 | C6: Poste 3 | D6: 8.231 | E6: Poste 11 | F6: 4.567 | G6: Poste 19 | I6: =B6+B17+B28 -> 4.786 | J6: Poste 3 | K6: =D6+D17+D28 -> 8.231 | L6: Poste 11 | M6: =F6+F17+F28 -> 4.567 | N6: Poste 19
B7: 7.342 | C7: Poste 4 | D7: 0.453 | E7: Poste 12 | F7: 0 | G7: Poste 20 | I7: =B7+B18+B29 -> 7.342 | J7: Poste 4 | K7: =D7+D18+D29 -> 0.453 | L7: Poste 12 | M7: =F7+F18+F29 -> 0 | N7: Poste 20
B8: 4.21 | C8: Poste 5 | D8: 10.6 | E8: Poste 13 | F8: 1.145 | G8: Poste 21 | I8: =B8+B19+B30 -> 4.21 | J8: Poste 5 | K8: =D8+D19+D30 -> 10.6 | L8: Poste 13 | M8: =F8+F19+F30 -> 1.145 | N8: Poste 21
B9: 8.345 | C9: Poste 6 | D9: 0.5 | E9: Poste 14 | F9: 2.135 | G9: Poste 22 | I9: =B9+B20+B31 -> 8.345 | J9: Poste 6 | K9: =D9+D20+D31 -> 0.5 | L9: Poste 14 | M9: =F9+F20+F31 -> 2.135 | N9: Poste 22
B10: 0 | C10: Poste 7 | D10: 2.45 | E10: Poste 15 | F10: 0 | G10: Poste 23 | I10: =B10+B21+B32 -> 0 | J10: Poste 7 | K10: =D10+D21+D32 -> 2.45 | L10: Poste 15 | M10: =F10+F21+F32 -> 0 | N10: Poste 23
B11: 2.768 | C11: Poste 8 | D11: 9.324 | E11: Poste 16 | F11: 5.678 | G11: Poste 24 | I11: =B11+B22+B33 -> 2.768 | J11: Poste 8 | K11: =D11+D22+D33 -> 9.324 | L11: Poste 16 | M11: =F11+F22+F33 -> 5.678 | N11: Poste 24
B13: Pesée de 19h
B14: Secteur A | D14: Secteur B | F14: Secteur C
C15: Poste 1 | E15: Poste 9 | G15: Poste 17
C16: Poste 2 | E16: Poste 10 | G16: Poste 18
C17: Poste 3 | E17: Poste 11 | G17: Poste 19
C18: Poste 4 | E18: Poste 12 | G18: Poste 20
C19: Poste 5 | E19: Poste 13 | G19: Poste 21
C20: Poste 6 | E20: Poste 14 | G20: Poste 22
C21: Poste 7 | E21: Poste 15 | G21: Poste 23
C22: Poste 8 | E22: Poste 16 | G22: Poste 24
B24: Pesée de 00h
B25: Secteur A | D25: Secteur B | F25: Secteur C
C26: Poste 1 | E26: Poste 9 | G26: Poste 17
C27: Poste 2 | E27: Poste 10 | G27: Poste 18
C28: Poste 3 | E28: Poste 11 | G28: Poste 19
C29: Poste 4 | E29: Poste 12 | G29: Poste 20
C30: Poste 5 | E30: Poste 13 | G30: Poste 21
C31: Poste 6 | E31: Poste 14 | G31: Poste 22
C32: Poste 7 | E32: Poste 15 | G32: Poste 23
C33: Poste 8 | E33: Poste 16 | G33: Poste 24

Sheet Classements
B2: Classement par secteur | E2: Classement Général
B3: Secteur A | E3: 1er | F3: =IF(G3>0,IFERROR(OFFSET($B$35,INT((ROW()-3)/3),MATCH(G3,OFFSET($B$35:$G$35,INT((ROW()-3)/3),0),0)),OFFSET($B$35,INT((ROW()-3)/3)+1,MATCH(G3,OFFSET($B$35:$G$35,INT((ROW()-3)/3)+1,0),0))),"") -> Poste 9 | G3: =IF(LARGE($B$35:$F$35,1)<>0,LARGE($B$35:$F$35,1),LARGE($B$36:$F$36,1)) -> 11.125
B4: =LARGE(Pesées!$I$4:$I$11,1) -> 10.56 | C4: =IF(B4>0,INDEX(Pesées!$I$4:$J$11,MATCH(B4,Pesées!$I$4:$I$11,0),2),"") -> Poste 1 | E4: =IF(G4=0,"",IF(G4<>G3,I4,E3)) -> 2ème | F4: =IF(G4>0,IFERROR(OFFSET($B$35,INT((ROW()-3)/3),MATCH(G4,OFFSET($B$35:$G$35,INT((ROW()-3)/3),0),0)),OFFSET($B$35,INT((ROW()-3)/3)+1,MATCH(G4,OFFSET($B$35:$G$35,INT((ROW()-3)/3)+1,0),0))),"") -> Poste 1 | G4: =IF(LARGE($B$35:$F$35,2)<>0,LARGE($B$35:$F$35,2),LARGE($B$36:$F$36,1)) -> 10.56 | I4: 2ème
B5: =LARGE(Pesées!$I$4:$I$11,2) -> 8.345 | C5: =IF(B5>0,INDEX(Pesées!$I$4:$J$11,MATCH(B5,Pesées!$I$4:$I$11,0),2),"") -> Poste 6 | E5: =IF(G5=0,"",IF(G5<>G4,I5,E4)) -> 3ème | F5: =IF(G5>0,IFERROR(OFFSET($B$35,INT((ROW()-3)/3),MATCH(G5,OFFSET($B$35:$G$35,INT((ROW()-3)/3),0),0)),OFFSET($B$35,INT((ROW()-3)/3)+1,MATCH(G5,OFFSET($B$35:$G$35,INT((ROW()-3)/3)+1,0),0))),"") -> Poste 18 | G5: =IF(LARGE($B$35:$F$35,3)<>0,LARGE($B$35:$F$35,3),LARGE($B$36:$F$36,1)) -> 8.342 | I5: 3ème
B6: =LARGE(Pesées!$I$4:$I$11,3) -> 7.342 | C6: =IF(B6>0,INDEX(Pesées!$I$4:$J$11,MATCH(B6,Pesées!$I$4:$I$11,0),2),"") -> Poste 4 | E6: =IF(G6=0,"",IF(G6<>G5,I6,E5)) -> 4ème | F6: =IF(G6>0,IFERROR(OFFSET($B$35,INT((ROW()-3)/3),MATCH(G6,OFFSET($B$35:$G$35,INT((ROW()-3)/3),0),0)),OFFSET($B$35,INT((ROW()-3)/3)+1,MATCH(G6,OFFSET($B$35:$G$35,INT((ROW()-3)/3)+1,0),0))),"") -> Poste 13 | G6: =IF(LARGE($B$36:$F$36,1)<>0,LARGE($B$36:$F$36,1),LARGE($B$37:$F$37,1)) -> 10.6 | I6: 4ème
B7: =LARGE(Pesées!$I$4:$I$11,4) -> 6.342 | C7: =IF(B7>0,INDEX(Pesées!$I$4:$J$11,MATCH(B7,Pesées!$I$4:$I$11,0),2),"") -> Poste 2 | E7: =IF(G7=0,"",IF(G7<>G6,I7,E6)) -> 5ème | F7: =IF(G7>0,IFERROR(OFFSET($B$35,INT((ROW()-3)/3),MATCH(G7,OFFSET($B$35:$G$35,INT((ROW()-3)/3),0),0)),OFFSET($B$35,INT((ROW()-3)/3)+1,MATCH(G7,OFFSET($B$35:$G$35,INT((ROW()-3)/3)+1,0),0))),"") -> Poste 6 | G7: =IF(LARGE($B$36:$F$36,2)<>0,LARGE($B$36:$F$36,2),LARGE($B$37:$F$37,1)) -> 8.345 | I7: 5ème
B8: =LARGE(Pesées!$I$4:$I$11,5) -> 4.786 | C8: =IF(B8>0,INDEX(Pesées!$I$4:$J$11,MATCH(B8,Pesées!$I$4:$I$11,0),2),"") -> Poste 3 | E8: =IF(G8=0,"",IF(G8<>G7,I8,E7)) -> 6ème | F8: =IF(G8>0,IFERROR(OFFSET($B$35,INT((ROW()-3)/3),MATCH(G8,OFFSET($B$35:$G$35,INT((ROW()-3)/3),0),0)),OFFSET($B$35,INT((ROW()-3)/3)+1,MATCH(G8,OFFSET($B$35:$G$35,INT((ROW()-3)/3)+1,0),0))),"") -> Poste 17 | G8: =IF(LARGE($B$36:$F$36,3)<>0,LARGE($B$36:$F$36,3),LARGE($B$37:$F$37,1)) -> 7.342 | I8: 6ème
B9: =LARGE(Pesées!$I$4:$I$11,6) -> 4.21 | C9: =IF(B9>0,INDEX(Pesées!$I$4:$J$11,MATCH(B9,Pesées!$I$4:$I$11,0),2),"") -> Poste 5 | E9: =IF(G9=0,"",IF(G9<>G8,I9,E8)) -> 7ème | F9: =IF(G9>0,IFERROR(OFFSET($B$35,INT((ROW()-3)/3),MATCH(G9,OFFSET($B$35:$G$35,INT((ROW()-3)/3),0),0)),OFFSET($B$35,INT((ROW()-3)/3)+1,MATCH(G9,OFFSET($B$35:$G$35,INT((ROW()-3)/3)+1,0),0))),"") -> Poste 16 | G9: =IF(LARGE($B$37:$F$37,1)<>0,LARGE($B$37:$F$37,1),LARGE($B$38:$F$38,1)) -> 9.324 | I9: 7ème
B10: =LARGE(Pesées!$I$4:$I$11,7) -> 2.768 | C10: =IF(B10>0,INDEX(Pesées!$I$4:$J$11,MATCH(B10,Pesées!$I$4:$I$11,0),2),"") -> Poste 8 | E10: =IF(G10=0,"",IF(G10<>G9,I10,E9)) -> 8ème | F10: =IF(G10>0,IFERROR(OFFSET($B$35,INT((ROW()-3)/3),MATCH(G10,OFFSET($B$35:$G$35,INT((ROW()-3)/3),0),0)),OFFSET($B$35,INT((ROW()-3)/3)+1,MATCH(G10,OFFSET($B$35:$G$35,INT((ROW()-3)/3)+1,0),0))),"") -> Poste 4 | G10: =IF(LARGE($B$37:$F$37,2)<>0,LARGE($B$37:$F$37,2),LARGE($B$38:$F$38,1)) -> 7.342 | I10: 8ème
B11: =LARGE(Pesées!$I$4:$I$11,8) -> 0 | C11: =IF(B11>0,INDEX(Pesées!$I$4:$J$11,MATCH(B11,Pesées!$I$4:$I$11,0),2),"") | E11: =IF(G11=0,"",IF(G11<>G10,I11,E10)) -> 9ème | F11: =IF(G11>0,IFERROR(OFFSET($B$35,INT((ROW()-3)/3),MATCH(G11,OFFSET($B$35:$G$35,INT((ROW()-3)/3),0),0)),OFFSET($B$35,INT((ROW()-3)/3)+1,MATCH(G11,OFFSET($B$35:$G$35,INT((ROW()-3)/3)+1,0),0))),"") -> Poste 24 | G11: =IF(LARGE($B$37:$F$37,3)<>0,LARGE($B$37:$F$37,3),LARGE($B$38:$F$38,1)) -> 5.678 | I11: 9ème
E12: =IF(G12=0,"",IF(G12<>G11,I12,E11)) -> 10ème | F12: =IF(G12>0,IFERROR(OFFSET($B$35,INT((ROW()-3)/3),MATCH(G12,OFFSET($B$35:$G$35,INT((ROW()-3)/3),0),0)),OFFSET($B$35,INT((ROW()-3)/3)+1,MATCH(G12,OFFSET($B$35:$G$35,INT((ROW()-3)/3)+1,0),0))),"") -> Poste 11 | G12: =IF(LARGE($B$38:$F$38,1)<>0,LARGE($B$38:$F$38,1),LARGE($B$39:$F$39,1)) -> 8.231 | I12: 10ème
B13: Secteur B | E13: =IF(G13=0,"",IF(G13<>G12,I13,E12)) -> 11ème | F13: =IF(G13>0,IFERROR(OFFSET($B$35,INT((ROW()-3)/3),MATCH(G13,OFFSET($B$35:$G$35,INT((ROW()-3)/3),0),0)),OFFSET($B$35,INT((ROW()-3)/3)+1,MATCH(G13,OFFSET($B$35:$G$35,INT((ROW()-3)/3)+1,0),0))),"") -> Poste 2 | G13: =IF(LARGE($B$38:$F$38,2)<>0,LARGE($B$38:$F$38,2),LARGE($B$39:$F$39,1)) -> 6.342 | I13: 11ème
B14: =LARGE(Pesées!$K$4:$K$11,1) -> 11.125 | C14: =IF(B14>0,INDEX(Pesées!$K$4:$L$11,MATCH(B14,Pesées!$K$4:$K$11,0),2),"") -> Poste 9 | E14: =IF(G14=0,"",IF(G14<>G13,I14,E13)) -> 12ème | F14: =IF(G14>0,IFERROR(OFFSET($B$35,INT((ROW()-3)/3),MATCH(G14,OFFSET($B$35:$G$35,INT((ROW()-3)/3),0),0)),OFFSET($B$35,INT((ROW()-3)/3)+1,MATCH(G14,OFFSET($B$35:$G$35,INT((ROW()-3)/3)+1,0),0))),"") -> Poste 19 | G14: =IF(LARGE($B$38:$F$38,3)<>0,LARGE($B$38:$F$38,3),LARGE($B$39:$F$39,1)) -> 4.567 | I14: 12ème
B15: =LARGE(Pesées!$K$4:$K$11,2) -> 10.6 | C15: =IF(B15>0,INDEX(Pesées!$K$4:$L$11,MATCH(B15,Pesées!$K$4:$K$11,0),2),"") -> Poste 13 | E15: =IF(G15=0,"",IF(G15<>G14,I15,E14)) -> 13ème | F15: =IF(G15>0,IFERROR(OFFSET($B$35,INT((ROW()-3)/3),MATCH(G15,OFFSET($B$35:$G$35,INT((ROW()-3)/3),0),0)),OFFSET($B$35,INT((ROW()-3)/3)+1,MATCH(G15,OFFSET($B$35:$G$35,INT((ROW()-3)/3)+1,0),0))),"") -> Poste 3 | G15: =IF(LARGE($B$39:$F$39,1)<>0,LARGE($B$39:$F$39,1),LARGE($B$40:$F$40,1)) -> 4.786 | I15: 13ème
B16: =LARGE(Pesées!$K$4:$K$11,3) -> 9.324 | C16: =IF(B16>0,INDEX(Pesées!$K$4:$L$11,MATCH(B16,Pesées!$K$4:$K$11,0),2),"") -> Poste 16 | E16: =IF(G16=0,"",IF(G16<>G15,I16,E15)) -> 14ème | F16: =IF(G16>0,IFERROR(OFFSET($B$35,INT((ROW()-3)/3),MATCH(G16,OFFSET($B$35:$G$35,INT((ROW()-3)/3),0),0)),OFFSET($B$35,INT((ROW()-3)/3)+1,MATCH(G16,OFFSET($B$35:$G$35,INT((ROW()-3)/3)+1,0),0))),"") -> Poste 10 | G16: =IF(LARGE($B$39:$F$39,2)<>0,LARGE($B$39:$F$39,2),LARGE($B$40:$F$40,1)) -> 4.235 | I16: 14ème
B17: =LARGE(Pesées!$K$4:$K$11,4) -> 8.231 | C17: =IF(B17>0,INDEX(Pesées!$K$4:$L$11,MATCH(B17,Pesées!$K$4:$K$11,0),2),"") -> Poste 11 | E17: =IF(G17=0,"",IF(G17<>G16,I17,E16)) -> 15ème | F17: =IF(G17>0,IFERROR(OFFSET($B$35,INT((ROW()-3)/3),MATCH(G17,OFFSET($B$35:$G$35,INT((ROW()-3)/3),0),0)),OFFSET($B$35,INT((ROW()-3)/3)+1,MATCH(G17,OFFSET($B$35:$G$35,INT((ROW()-3)/3)+1,0),0))),"") -> Poste 22 | G17: =IF(LARGE($B$39:$F$39,3)<>0,LARGE($B$39:$F$39,3),LARGE($B$40:$F$40,1)) -> 2.135 | I17: 15ème
B18: =LARGE(Pesées!$K$4:$K$11,5) -> 4.235 | C18: =IF(B18>0,INDEX(Pesées!$K$4:$L$11,MATCH(B18,Pesées!$K$4:$K$11,0),2),"") -> Poste 10 | E18: =IF(G18=0,"",IF(G18<>G17,I18,E17)) -> 16ème | F18: =IF(G18>0,IFERROR(OFFSET($B$35,INT((ROW()-3)/3),MATCH(G18,OFFSET($B$35:$G$35,INT((ROW()-3)/3),0),0)),OFFSET($B$35,INT((ROW()-3)/3)+1,MATCH(G18,OFFSET($B$35:$G$35,INT((ROW()-3)/3)+1,0),0))),"") -> Poste 5 | G18: =IF(LARGE($B$40:$F$40,1)<>0,LARGE($B$40:$F$40,1),LARGE($B$41:$F$41,1)) -> 4.21 | I18: 16ème
B19: =LARGE(Pesées!$K$4:$K$11,6) -> 2.45 | C19: =IF(B19>0,INDEX(Pesées!$K$4:$L$11,MATCH(B19,Pesées!$K$4:$K$11,0),2),"") -> Poste 15 | E19: =IF(G19=0,"",IF(G19<>G18,I19,E18)) -> 17ème | F19: =IF(G19>0,IFERROR(OFFSET($B$35,INT((ROW()-3)/3),MATCH(G19,OFFSET($B$35:$G$35,INT((ROW()-3)/3),0),0)),OFFSET($B$35,INT((ROW()-3)/3)+1,MATCH(G19,OFFSET($B$35:$G$35,INT((ROW()-3)/3)+1,0),0))),"") -> Poste 15 | G19: =IF(LARGE($B$40:$F$40,2)<>0,LARGE($B$40:$F$40,2),LARGE($B$41:$F$41,1)) -> 2.45 | I19: 17ème
B20: =LARGE(Pesées!$K$4:$K$11,7) -> 0.5 | C20: =IF(B20>0,INDEX(Pesées!$K$4:$L$11,MATCH(B20,Pesées!$K$4:$K$11,0),2),"") -> Poste 14 | E20: =IF(G20=0,"",IF(G20<>G19,I20,E19)) -> 18ème | F20: =IF(G20>0,IFERROR(OFFSET($B$35,INT((ROW()-3)/3),MATCH(G20,OFFSET($B$35:$G$35,INT((ROW()-3)/3),0),0)),OFFSET($B$35,INT((ROW()-3)/3)+1,MATCH(G20,OFFSET($B$35:$G$35,INT((ROW()-3)/3)+1,0),0))),"") -> Poste 21 | G20: =IF(LARGE($B$40:$F$40,3)<>0,LARGE($B$40:$F$40,3),LARGE($B$41:$F$41,1)) -> 1.145 | I20: 18ème
B21: =LARGE(Pesées!$K$4:$K$11,8) -> 0.453 | C21: =IF(B21>0,INDEX(Pesées!$K$4:$L$11,MATCH(B21,Pesées!$K$4:$K$11,0),2),"") -> Poste 12 | E21: =IF(G21=0,"",IF(G21<>G20,I21,E20)) -> 19ème | F21: =IF(G21>0,IFERROR(OFFSET($B$35,INT((ROW()-3)/3),MATCH(G21,OFFSET($B$35:$G$35,INT((ROW()-3)/3),0),0)),OFFSET($B$35,INT((ROW()-3)/3)+1,MATCH(G21,OFFSET($B$35:$G$35,INT((ROW()-3)/3)+1,0),0))),"") -> Poste 8 | G21: =IF(LARGE($B$41:$F$41,1)<>0,LARGE($B$41:$F$41,1),LARGE($B$42:$F$42,1)) -> 2.768 | I21: 19ème
E22: =IF(G22=0,"",IF(G22<>G21,I22,E21)) -> 20ème | F22: =IF(G22>0,IFERROR(OFFSET($B$35,INT((ROW()-3)/3),MATCH(G22,OFFSET($B$35:$G$35,INT((ROW()-3)/3),0),0)),OFFSET($B$35,INT((ROW()-3)/3)+1,MATCH(G22,OFFSET($B$35:$G$35,INT((ROW()-3)/3)+1,0),0))),"") -> Poste 14 | G22: =IF(LARGE($B$41:$F$41,2)<>0,LARGE($B$41:$F$41,2),LARGE($B$42:$F$42,1)) -> 0.5 | I22: 20ème
B23: Secteur C | E23: =IF(G23=0,"",IF(G23<>G22,I23,E22)) -> 21ème | F23: =IF(G23>0,IFERROR(OFFSET($B$35,INT((ROW()-3)/3),MATCH(G23,OFFSET($B$35:$G$35,INT((ROW()-3)/3),0),0)),OFFSET($B$35,INT((ROW()-3)/3)+1,MATCH(G23,OFFSET($B$35:$G$35,INT((ROW()-3)/3)+1,0),0))),"") -> Poste 12 | G23: =IF(LARGE($B$41:$F$41,3)<>0,LARGE($B$41:$F$41,3),LARGE($B$42:$F$42,1)) -> 0.453 | I23: 21ème
B24: =LARGE(Pesées!$M$4:$M$11,1) -> 8.342 | C24: =IF(B24>0,INDEX(Pesées!$M$4:$N$11,MATCH(B24,Pesées!$M$4:$M$11,0),2),"") -> Poste 18 | E24: =IF(G24=0,"",IF(G24<>G23,I24,E23)) | F24: =IF(G24>0,IFERROR(OFFSET($B$35,INT((ROW()-3)/3),MATCH(G24,OFFSET($B$35:$G$35,INT((ROW()-3)/3),0),0)),OFFSET($B$35,INT((ROW()-3)/3)+1,MATCH(G24,OFFSET($B$35:$G$35,INT((ROW()-3)/3)+1,0),0))),"") | G24: =IF(OR(LARGE($B$42:$F$42,1)=G21,LARGE($B$42:$F$42,1)=G22,LARGE($B$42:$F$42,1)=G23),LARGE($B$41:$F$41,3),LARGE($B$42:$F$42,1)) -> 0 | I24: 22ème
B25: =LARGE(Pesées!$M$4:$M$11,2) -> 7.342 | C25: =IF(B25>0,INDEX(Pesées!$M$4:$N$11,MATCH(B25,Pesées!$M$4:$M$11,0),2),"") -> Poste 17 | E25: =IF(G25=0,"",IF(G25<>G24,I25,E24)) | F25: =IF(G25>0,IFERROR(OFFSET($B$35,INT((ROW()-3)/3),MATCH(G25,OFFSET($B$35:$G$35,INT((ROW()-3)/3),0),0)),OFFSET($B$35,INT((ROW()-3)/3)+1,MATCH(G25,OFFSET($B$35:$G$35,INT((ROW()-3)/3)+1,0),0))),"") | G25: =IF(OR(LARGE($B$42:$F$42,2)=G22,LARGE($B$42:$F$42,2)=G23,LARGE($B$42:$F$42,2)=G24),LARGE($B$41:$F$41,3),LARGE($B$42:$F$42,2)) -> 0 | I25: 23ème
B26: =LARGE(Pesées!$M$4:$M$11,3) -> 5.678 | C26: =IF(B26>0,INDEX(Pesées!$M$4:$N$11,MATCH(B26,Pesées!$M$4:$M$11,0),2),"") -> Poste 24 | E26: =IF(G26=0,"",IF(G26<>G25,I26,E25)) | F26: =IF(G26>0,IFERROR(OFFSET($B$35,INT((ROW()-3)/3),MATCH(G26,OFFSET($B$35:$G$35,INT((ROW()-3)/3),0),0)),OFFSET($B$35,INT((ROW()-3)/3)+1,MATCH(G26,OFFSET($B$35:$G$35,INT((ROW()-3)/3)+1,0),0))),"") | G26: =LARGE(B42:F42,3) -> 0 | I26: 24ème
B27: =LARGE(Pesées!$M$4:$M$11,4) -> 4.567 | C27: =IF(B27>0,INDEX(Pesées!$M$4:$N$11,MATCH(B27,Pesées!$M$4:$M$11,0),2),"") -> Poste 19
B28: =LARGE(Pesées!$M$4:$M$11,5) -> 2.135 | C28: =IF(B28>0,INDEX(Pesées!$M$4:$N$11,MATCH(B28,Pesées!$M$4:$M$11,0),2),"") -> Poste 22
B29: =LARGE(Pesées!$M$4:$M$11,6) -> 1.145 | C29: =IF(B29>0,INDEX(Pesées!$M$4:$N$11,MATCH(B29,Pesées!$M$4:$M$11,0),2),"") -> Poste 21
B30: =LARGE(Pesées!$M$4:$M$11,7) -> 0 | C30: =IF(B30>0,INDEX(Pesées!$M$4:$N$11,MATCH(B30,Pesées!$M$4:$M$11,0),2),"")
B31: =LARGE(Pesées!$M$4:$M$11,8) -> 0 | C31: =IF(B31>0,INDEX(Pesées!$M$4:$N$11,MATCH(B31,Pesées!$M$4:$M$11,0),2),"")
B34: Secteur A | D34: Secteur B | F34: Secteur C
B35: =B4 -> 10.56 | C35: =C4 -> Poste 1 | D35: =B14 -> 11.125 | E35: =C14 -> Poste 9 | F35: =B24 -> 8.342 | G35: =C24 -> Poste 18
B36: =B5 -> 8.345 | C36: =C5 -> Poste 6 | D36: =B15 -> 10.6 | E36: =C15 -> Poste 13 | F36: =B25 -> 7.342 | G36: =C25 -> Poste 17
B37: =B6 -> 7.342 | C37: =C6 -> Poste 4 | D37: =B16 -> 9.324 | E37: =C16 -> Poste 16 | F37: =B26 -> 5.678 | G37: =C26 -> Poste 24
B38: =B7 -> 6.342 | C38: =C7 -> Poste 2 | D38: =B17 -> 8.231 | E38: =C17 -> Poste 11 | F38: =B27 -> 4.567 | G38: =C27 -> Poste 19
B39: =B8 -> 4.786 | C39: =C8 -> Poste 3 | D39: =B18 -> 4.235 | E39: =C18 -> Poste 10 | F39: =B28 -> 2.135 | G39: =C28 -> Poste 22
B40: =B9 -> 4.21 | C40: =C9 -> Poste 5 | D40: =B19 -> 2.45 | E40: =C19 -> Poste 15 | F40: =B29 -> 1.145 | G40: =C29 -> Poste 21
B41: =B10 -> 2.768 | C41: =C10 -> Poste 8 | D41: =B20 -> 0.5 | E41: =C20 -> Poste 14 | F41: =B30 -> 0 | G41: =C30
B42: =B11 -> 0 | C42: =C11 | D42: =B21 -> 0.453 | E42: =C21 -> Poste 12 | F42: =B31 -> 0 | G42: =C31
