Workbook
Name TabSem: 'postes libres'!$S$9:$S$15

Sheet CALCULETE
B3: NUMERO | D3: 20365
B5: NOM | D5: =VLOOKUP(D3,BORD!A:B,2,0) -> aa
B7: RESULTATS | D7: =VLOOKUP($D$3,BORD!A:F,6,0) -> 5
B8: Note du client | D8: =VLOOKUP($D$3,BORD!A:G,7,0) -> 8
B9: EQUIPE | D9: =VLOOKUP($D$3,BORD!A:D,4,0) -> scorpion
B10: Poste | D10: =VLOOKUP($D$3,BORD!A:H,8,0) -> F1
B11: Congé | D11: =VLOOKUP($D$3,BORD!A:I,9,0) -> jeudi

Sheet BORD
A2: Numero de fonctionnaire | B2: Nom | C2: secteur | D2: equipe | E2: activité | F2: RESULTATS | G2: note client | H2: Numero de poste | I2: Congé | J2: lundi | L2: mardi | N2: mercredi | P2: jeudi | R2: vendredi | T2: samedi
G3: =IF($E:$E="PA",IFERROR(VLOOKUP($A3,satisf44!$A:$B,2,0),0)+IFERROR(VLOOKUP($A3,satisf44!$D:$E,2,0),0),"")
A4: 20365 | B4: aa | C4: a | D4: scorpion | E4: PA | F4: =IF($E:$E="PA",IFERROR(VLOOKUP($A4,STATS44!$A:$B,2,0),0)+IFERROR(VLOOKUP($A4,STATS44!$D:$E,2,0),0),IFERROR(VLOOKUP($A4,STATS44!$D:$E,2,0),0)) -> 5 | G4: =IF($E:$E="PA",IFERROR(VLOOKUP($A4,satisf44!$A:$B,2,0),0)+IFERROR(VLOOKUP($A4,satisf44!$D:$E,2,0),0),IFERROR(VLOOKUP($A4,satisf44!$D:$E,2,0),0)) -> 8 | H4: F1 | I4: jeudi | K4: =IF(J4,COUNTIF(J$4:J4,1),"") | M4: =IF(L4,COUNTIF(L$4:L4,1),"") | O4: =IF(N4,COUNTIF(N$4:N4,1),"") | P4: 1 | Q4: =IF(P4,COUNTIF(P$4:P4,1),"") -> 1 | S4: =IF(R4,COUNTIF(R$4:R4,1),"") | U4: =IF(T4,COUNTIF(T$4:T4,1),"")
A5: 23067 | B5: bb | C5: a | D5: elephant | E5: Pro | F5: =IF($E:$E="PA",IFERROR(VLOOKUP($A5,STATS44!$A:$B,2,0),0)+IFERROR(VLOOKUP($A5,STATS44!$D:$E,2,0),0),IFERROR(VLOOKUP($A5,STATS44!$D:$E,2,0),0)) -> 5 | G5: =IF($E:$E="PA",IFERROR(VLOOKUP($A5,satisf44!$A:$B,2,0),0)+IFERROR(VLOOKUP($A5,satisf44!$D:$E,2,0),0),IFERROR(VLOOKUP($A5,satisf44!$D:$E,2,0),0)) -> 2 | H5: F2 | I5: Samedi | K5: =IF(J5,COUNTIF(J$4:J5,1),"") | M5: =IF(L5,COUNTIF(L$4:L5,1),"") | O5: =IF(N5,COUNTIF(N$4:N5,1),"") | Q5: =IF(P5,COUNTIF(P$4:P5,1),"") | S5: =IF(R5,COUNTIF(R$4:R5,1),"") | T5: 1 | U5: =IF(T5,COUNTIF(T$4:T5,1),"") -> 1
A6: =SUM(A5)+1 -> 23068 | B6: cc | C6: a | D6: requin | E6: PA | F6: =IF($E:$E="PA",IFERROR(VLOOKUP($A6,STATS44!$A:$B,2,0),0)+IFERROR(VLOOKUP($A6,STATS44!$D:$E,2,0),0),IFERROR(VLOOKUP($A6,STATS44!$D:$E,2,0),0)) -> 6 | G6: =IF($E:$E="PA",IFERROR(VLOOKUP($A6,satisf44!$A:$B,2,0),0)+IFERROR(VLOOKUP($A6,satisf44!$D:$E,2,0),0),IFERROR(VLOOKUP($A6,satisf44!$D:$E,2,0),0)) -> 3 | H6: F3 | I6: vendredi | K6: =IF(J6,COUNTIF(J$4:J6,1),"") | M6: =IF(L6,COUNTIF(L$4:L6,1),"") | O6: =IF(N6,COUNTIF(N$4:N6,1),"") | Q6: =IF(P6,COUNTIF(P$4:P6,1),"") | R6: 1 | S6: =IF(R6,COUNTIF(R$4:R6,1),"") -> 1 | U6: =IF(T6,COUNTIF(T$4:T6,1),"")
A7: =SUM(A6)+1 -> 23069 | B7: dd | C7: a | D7: scorpion | E7: Pro | F7: =IF($E:$E="PA",IFERROR(VLOOKUP($A7,STATS44!$A:$B,2,0),0)+IFERROR(VLOOKUP($A7,STATS44!$D:$E,2,0),0),IFERROR(VLOOKUP($A7,STATS44!$D:$E,2,0),0)) -> 8 | G7: =IF($E:$E="PA",IFERROR(VLOOKUP($A7,satisf44!$A:$B,2,0),0)+IFERROR(VLOOKUP($A7,satisf44!$D:$E,2,0),0),IFERROR(VLOOKUP($A7,satisf44!$D:$E,2,0),0)) -> 4 | H7: P1 | I7: vendredi | K7: =IF(J7,COUNTIF(J$4:J7,1),"") | M7: =IF(L7,COUNTIF(L$4:L7,1),"") | O7: =IF(N7,COUNTIF(N$4:N7,1),"") | Q7: =IF(P7,COUNTIF(P$4:P7,1),"") | R7: 1 | S7: =IF(R7,COUNTIF(R$4:R7,1),"") -> 2 | U7: =IF(T7,COUNTIF(T$4:T7,1),"")
A8: =SUM(A7)+1 -> 23070 | B8: ee | C8: a | D8: scorpion | E8: PA | F8: =IF($E:$E="PA",IFERROR(VLOOKUP($A8,STATS44!$A:$B,2,0),0)+IFERROR(VLOOKUP($A8,STATS44!$D:$E,2,0),0),IFERROR(VLOOKUP($A8,STATS44!$D:$E,2,0),0)) -> 9 | G8: =IF($E:$E="PA",IFERROR(VLOOKUP($A8,satisf44!$A:$B,2,0),0)+IFERROR(VLOOKUP($A8,satisf44!$D:$E,2,0),0),IFERROR(VLOOKUP($A8,satisf44!$D:$E,2,0),0)) -> 5 | H8: P2 | I8: mercredi | K8: =IF(J8,COUNTIF(J$4:J8,1),"") | M8: =IF(L8,COUNTIF(L$4:L8,1),"") | N8: 1 | O8: =IF(N8,COUNTIF(N$4:N8,1),"") -> 1 | Q8: =IF(P8,COUNTIF(P$4:P8,1),"") | S8: =IF(R8,COUNTIF(R$4:R8,1),"") | U8: =IF(T8,COUNTIF(T$4:T8,1),"")
A9: =SUM(A8)+1 -> 23071 | B9: ff | C9: a | D9: elephant | E9: Pro | F9: =IF($E:$E="PA",IFERROR(VLOOKUP($A9,STATS44!$A:$B,2,0),0)+IFERROR(VLOOKUP($A9,STATS44!$D:$E,2,0),0),IFERROR(VLOOKUP($A9,STATS44!$D:$E,2,0),0)) -> 7 | G9: =IF($E:$E="PA",IFERROR(VLOOKUP($A9,satisf44!$A:$B,2,0),0)+IFERROR(VLOOKUP($A9,satisf44!$D:$E,2,0),0),IFERROR(VLOOKUP($A9,satisf44!$D:$E,2,0),0)) -> 6 | H9: P3 | I9: jeudi | K9: =IF(J9,COUNTIF(J$4:J9,1),"") | M9: =IF(L9,COUNTIF(L$4:L9,1),"") | O9: =IF(N9,COUNTIF(N$4:N9,1),"") | P9: 1 | Q9: =IF(P9,COUNTIF(P$4:P9,1),"") -> 2 | S9: =IF(R9,COUNTIF(R$4:R9,1),"") | U9: =IF(T9,COUNTIF(T$4:T9,1),"")
A10: =SUM(A9)+1 -> 23072 | B10: gg | C10: a | D10: elephant | E10: Pro | F10: =IF($E:$E="PA",IFERROR(VLOOKUP($A10,STATS44!$A:$B,2,0),0)+IFERROR(VLOOKUP($A10,STATS44!$D:$E,2,0),0),IFERROR(VLOOKUP($A10,STATS44!$D:$E,2,0),0)) -> 4 | G10: =IF($E:$E="PA",IFERROR(VLOOKUP($A10,satisf44!$A:$B,2,0),0)+IFERROR(VLOOKUP($A10,satisf44!$D:$E,2,0),0),IFERROR(VLOOKUP($A10,satisf44!$D:$E,2,0),0)) -> 7 | H10: P4 | I10: mardi | K10: =IF(J10,COUNTIF(J$4:J10,1),"") | L10: 1 | M10: =IF(L10,COUNTIF(L$4:L10,1),"") -> 1 | O10: =IF(N10,COUNTIF(N$4:N10,1),"") | Q10: =IF(P10,COUNTIF(P$4:P10,1),"") | S10: =IF(R10,COUNTIF(R$4:R10,1),"") | U10: =IF(T10,COUNTIF(T$4:T10,1),"")
A11: =SUM(A10)+1 -> 23073 | B11: gg | C11: a | D11: requin | E11: Pro | F11: =IF($E:$E="PA",IFERROR(VLOOKUP($A11,STATS44!$A:$B,2,0),0)+IFERROR(VLOOKUP($A11,STATS44!$D:$E,2,0),0),IFERROR(VLOOKUP($A11,STATS44!$D:$E,2,0),0)) -> 1 | G11: =IF($E:$E="PA",IFERROR(VLOOKUP($A11,satisf44!$A:$B,2,0),0)+IFERROR(VLOOKUP($A11,satisf44!$D:$E,2,0),0),IFERROR(VLOOKUP($A11,satisf44!$D:$E,2,0),0)) -> 8 | H11: F5 | I11: lundi | J11: 1 | K11: =IF(J11,COUNTIF(J$4:J11,1),"") -> 1 | M11: =IF(L11,COUNTIF(L$4:L11,1),"") | O11: =IF(N11,COUNTIF(N$4:N11,1),"") | Q11: =IF(P11,COUNTIF(P$4:P11,1),"") | S11: =IF(R11,COUNTIF(R$4:R11,1),"") | U11: =IF(T11,COUNTIF(T$4:T11,1),"")
A12: =SUM(A11)+1 -> 23074 | B12: ii | C12: a | D12: requin | E12: Pro | F12: =IF($E:$E="PA",IFERROR(VLOOKUP($A12,STATS44!$A:$B,2,0),0)+IFERROR(VLOOKUP($A12,STATS44!$D:$E,2,0),0),IFERROR(VLOOKUP($A12,STATS44!$D:$E,2,0),0)) -> 5 | G12: =IF($E:$E="PA",IFERROR(VLOOKUP($A12,satisf44!$A:$B,2,0),0)+IFERROR(VLOOKUP($A12,satisf44!$D:$E,2,0),0),IFERROR(VLOOKUP($A12,satisf44!$D:$E,2,0),0)) -> 9 | H12: F4 | I12: Samedi | K12: =IF(J12,COUNTIF(J$4:J12,1),"") | M12: =IF(L12,COUNTIF(L$4:L12,1),"") | O12: =IF(N12,COUNTIF(N$4:N12,1),"") | Q12: =IF(P12,COUNTIF(P$4:P12,1),"") | S12: =IF(R12,COUNTIF(R$4:R12,1),"") | T12: 1 | U12: =IF(T12,COUNTIF(T$4:T12,1),"") -> 2
A13: =SUM(A12)+1 -> 23075 | B13: jj | C13: b | D13: requin | E13: PA | F13: =IF($E:$E="PA",IFERROR(VLOOKUP($A13,STATS44!$A:$B,2,0),0)+IFERROR(VLOOKUP($A13,STATS44!$D:$E,2,0),0),IFERROR(VLOOKUP($A13,STATS44!$D:$E,2,0),0)) -> 6 | G13: =IF($E:$E="PA",IFERROR(VLOOKUP($A13,satisf44!$A:$B,2,0),0)+IFERROR(VLOOKUP($A13,satisf44!$D:$E,2,0),0),IFERROR(VLOOKUP($A13,satisf44!$D:$E,2,0),0)) -> 10 | H13: P5 | I13: lundi | J13: 1 | K13: =IF(J13,COUNTIF(J$4:J13,1),"") -> 2 | M13: =IF(L13,COUNTIF(L$4:L13,1),"") | O13: =IF(N13,COUNTIF(N$4:N13,1),"") | Q13: =IF(P13,COUNTIF(P$4:P13,1),"") | S13: =IF(R13,COUNTIF(R$4:R13,1),"") | U13: =IF(T13,COUNTIF(T$4:T13,1),"")
A14: =SUM(A13)+1 -> 23076 | B14: kk | C14: b | D14: requin | E14: Pro | F14: =IF($E:$E="PA",IFERROR(VLOOKUP($A14,STATS44!$A:$B,2,0),0)+IFERROR(VLOOKUP($A14,STATS44!$D:$E,2,0),0),IFERROR(VLOOKUP($A14,STATS44!$D:$E,2,0),0)) -> 4 | G14: =IF($E:$E="PA",IFERROR(VLOOKUP($A14,satisf44!$A:$B,2,0),0)+IFERROR(VLOOKUP($A14,satisf44!$D:$E,2,0),0),IFERROR(VLOOKUP($A14,satisf44!$D:$E,2,0),0)) -> 10 | H14: P6 | I14: jeudi | K14: =IF(J14,COUNTIF(J$4:J14,1),"") | M14: =IF(L14,COUNTIF(L$4:L14,1),"") | O14: =IF(N14,COUNTIF(N$4:N14,1),"") | P14: 1 | Q14: =IF(P14,COUNTIF(P$4:P14,1),"") -> 3 | S14: =IF(R14,COUNTIF(R$4:R14,1),"") | U14: =IF(T14,COUNTIF(T$4:T14,1),"")
A15: =SUM(A14)+1 -> 23077 | B15: ll | C15: b | D15: requin | E15: Pro | F15: =IF($E:$E="PA",IFERROR(VLOOKUP($A15,STATS44!$A:$B,2,0),0)+IFERROR(VLOOKUP($A15,STATS44!$D:$E,2,0),0),IFERROR(VLOOKUP($A15,STATS44!$D:$E,2,0),0)) -> 9 | G15: =IF($E:$E="PA",IFERROR(VLOOKUP($A15,satisf44!$A:$B,2,0),0)+IFERROR(VLOOKUP($A15,satisf44!$D:$E,2,0),0),IFERROR(VLOOKUP($A15,satisf44!$D:$E,2,0),0)) -> 1 | H15: P7 | I15: Samedi | K15: =IF(J15,COUNTIF(J$4:J15,1),"") | M15: =IF(L15,COUNTIF(L$4:L15,1),"") | O15: =IF(N15,COUNTIF(N$4:N15,1),"") | Q15: =IF(P15,COUNTIF(P$4:P15,1),"") | S15: =IF(R15,COUNTIF(R$4:R15,1),"") | T15: 1 | U15: =IF(T15,COUNTIF(T$4:T15,1),"") -> 3
A16: =SUM(A15)+1 -> 23078 | B16: mm | C16: b | D16: requin | E16: PA | F16: =IF($E:$E="PA",IFERROR(VLOOKUP($A16,STATS44!$A:$B,2,0),0)+IFERROR(VLOOKUP($A16,STATS44!$D:$E,2,0),0),IFERROR(VLOOKUP($A16,STATS44!$D:$E,2,0),0)) -> 0 | G16: =IF($E:$E="PA",IFERROR(VLOOKUP($A16,satisf44!$A:$B,2,0),0)+IFERROR(VLOOKUP($A16,satisf44!$D:$E,2,0),0),IFERROR(VLOOKUP($A16,satisf44!$D:$E,2,0),0)) -> 0 | H16: P8 | I16: mercredi | K16: =IF(J16,COUNTIF(J$4:J16,1),"") | M16: =IF(L16,COUNTIF(L$4:L16,1),"") | N16: 1 | O16: =IF(N16,COUNTIF(N$4:N16,1),"") -> 2 | Q16: =IF(P16,COUNTIF(P$4:P16,1),"") | S16: =IF(R16,COUNTIF(R$4:R16,1),"") | U16: =IF(T16,COUNTIF(T$4:T16,1),"")
A17: =SUM(A16)+1 -> 23079 | B17: nn | C17: b | D17: elephant | E17: Pro | F17: =IF($E:$E="PA",IFERROR(VLOOKUP($A17,STATS44!$A:$B,2,0),0)+IFERROR(VLOOKUP($A17,STATS44!$D:$E,2,0),0),IFERROR(VLOOKUP($A17,STATS44!$D:$E,2,0),0)) -> 0 | G17: =IF($E:$E="PA",IFERROR(VLOOKUP($A17,satisf44!$A:$B,2,0),0)+IFERROR(VLOOKUP($A17,satisf44!$D:$E,2,0),0),IFERROR(VLOOKUP($A17,satisf44!$D:$E,2,0),0)) -> 0 | H17: P9 | I17: jeudi | K17: =IF(J17,COUNTIF(J$4:J17,1),"") | M17: =IF(L17,COUNTIF(L$4:L17,1),"") | O17: =IF(N17,COUNTIF(N$4:N17,1),"") | P17: 1 | Q17: =IF(P17,COUNTIF(P$4:P17,1),"") -> 4 | S17: =IF(R17,COUNTIF(R$4:R17,1),"") | U17: =IF(T17,COUNTIF(T$4:T17,1),"")
A18: =SUM(A17)+1 -> 23080 | B18: oo | C18: b | D18: elephant | E18: PA | F18: =IF($E:$E="PA",IFERROR(VLOOKUP($A18,STATS44!$A:$B,2,0),0)+IFERROR(VLOOKUP($A18,STATS44!$D:$E,2,0),0),IFERROR(VLOOKUP($A18,STATS44!$D:$E,2,0),0)) -> 0 | G18: =IF($E:$E="PA",IFERROR(VLOOKUP($A18,satisf44!$A:$B,2,0),0)+IFERROR(VLOOKUP($A18,satisf44!$D:$E,2,0),0),IFERROR(VLOOKUP($A18,satisf44!$D:$E,2,0),0)) -> 0 | H18: P10 | I18: mardi | K18: =IF(J18,COUNTIF(J$4:J18,1),"") | L18: 1 | M18: =IF(L18,COUNTIF(L$4:L18,1),"") -> 2 | O18: =IF(N18,COUNTIF(N$4:N18,1),"") | Q18: =IF(P18,COUNTIF(P$4:P18,1),"") | S18: =IF(R18,COUNTIF(R$4:R18,1),"") | U18: =IF(T18,COUNTIF(T$4:T18,1),"")
A19: =SUM(A18)+1 -> 23081 | B19: pp | C19: b | D19: scorpion | E19: Pro | F19: =IF($E:$E="PA",IFERROR(VLOOKUP($A19,STATS44!$A:$B,2,0),0)+IFERROR(VLOOKUP($A19,STATS44!$D:$E,2,0),0),IFERROR(VLOOKUP($A19,STATS44!$D:$E,2,0),0)) -> 0 | G19: =IF($E:$E="PA",IFERROR(VLOOKUP($A19,satisf44!$A:$B,2,0),0)+IFERROR(VLOOKUP($A19,satisf44!$D:$E,2,0),0),IFERROR(VLOOKUP($A19,satisf44!$D:$E,2,0),0)) -> 0 | H19: F6 | I19: lundi | J19: 1 | K19: =IF(J19,COUNTIF(J$4:J19,1),"") -> 3 | M19: =IF(L19,COUNTIF(L$4:L19,1),"") | O19: =IF(N19,COUNTIF(N$4:N19,1),"") | Q19: =IF(P19,COUNTIF(P$4:P19,1),"") | S19: =IF(R19,COUNTIF(R$4:R19,1),"") | U19: =IF(T19,COUNTIF(T$4:T19,1),"")
A20: =SUM(A19)+1 -> 23082 | B20: xx | C20: b | D20: scorpion | E20: PA | F20: =IF($E:$E="PA",IFERROR(VLOOKUP($A20,STATS44!$A:$B,2,0),0)+IFERROR(VLOOKUP($A20,STATS44!$D:$E,2,0),0),IFERROR(VLOOKUP($A20,STATS44!$D:$E,2,0),0)) -> 0 | G20: =IF($E:$E="PA",IFERROR(VLOOKUP($A20,satisf44!$A:$B,2,0),0)+IFERROR(VLOOKUP($A20,satisf44!$D:$E,2,0),0),IFERROR(VLOOKUP($A20,satisf44!$D:$E,2,0),0)) -> 0 | H20: F7 | I20: jeudi | K20: =IF(J20,COUNTIF(J$4:J20,1),"") | M20: =IF(L20,COUNTIF(L$4:L20,1),"") | O20: =IF(N20,COUNTIF(N$4:N20,1),"") | P20: 1 | Q20: =IF(P20,COUNTIF(P$4:P20,1),"") -> 5 | S20: =IF(R20,COUNTIF(R$4:R20,1),"") | U20: =IF(T20,COUNTIF(T$4:T20,1),"")
A21: =SUM(A20)+1 -> 23083 | B21: tt | C21: b | D21: elephant | E21: Pro | F21: =IF($E:$E="PA",IFERROR(VLOOKUP($A21,STATS44!$A:$B,2,0),0)+IFERROR(VLOOKUP($A21,STATS44!$D:$E,2,0),0),IFERROR(VLOOKUP($A21,STATS44!$D:$E,2,0),0)) -> 0 | G21: =IF($E:$E="PA",IFERROR(VLOOKUP($A21,satisf44!$A:$B,2,0),0)+IFERROR(VLOOKUP($A21,satisf44!$D:$E,2,0),0),IFERROR(VLOOKUP($A21,satisf44!$D:$E,2,0),0)) -> 0 | H21: F8 | I21: mardi | K21: =IF(J21,COUNTIF(J$4:J21,1),"") | L21: 1 | M21: =IF(L21,COUNTIF(L$4:L21,1),"") -> 3 | O21: =IF(N21,COUNTIF(N$4:N21,1),"") | Q21: =IF(P21,COUNTIF(P$4:P21,1),"") | S21: =IF(R21,COUNTIF(R$4:R21,1),"") | U21: =IF(T21,COUNTIF(T$4:T21,1),"")
A22: 23200 | D22: SOURIS | E22: PA | F22: =IF($E:$E="PA",IFERROR(VLOOKUP($A22,STATS44!$A:$B,2,0),0)+IFERROR(VLOOKUP($A22,STATS44!$D:$E,2,0),0),IFERROR(VLOOKUP($A22,STATS44!$D:$E,2,0),0)) -> 10 | G22: =IF($E:$E="PA",IFERROR(VLOOKUP($A22,satisf44!$A:$B,2,0),0)+IFERROR(VLOOKUP($A22,satisf44!$D:$E,2,0),0),IFERROR(VLOOKUP($A22,satisf44!$D:$E,2,0),0)) -> 14 | J22: =SUM(J3:J21) -> 3 | L22: =SUM(L3:L21) -> 3 | N22: =SUM(N3:N21) -> 2 | P22: =SUM(P3:P21) -> 5 | R22: =SUM(R3:R21) -> 2 | T22: =SUM(T3:T21) -> 3
A23: 23201 | D23: SOURIS | E23: PRO | F23: =IF($E:$E="PA",IFERROR(VLOOKUP($A23,STATS44!$A:$B,2,0),0)+IFERROR(VLOOKUP($A23,STATS44!$D:$E,2,0),0),IFERROR(VLOOKUP($A23,STATS44!$D:$E,2,0),0)) -> 0 | G23: =IF($E:$E="PA",IFERROR(VLOOKUP($A23,satisf44!$A:$B,2,0),0)+IFERROR(VLOOKUP($A23,satisf44!$D:$E,2,0),0),IFERROR(VLOOKUP($A23,satisf44!$D:$E,2,0),0)) -> 6
A24: 23202 | D24: SOURIS | E24: pro | F24: =IF($E:$E="PA",IFERROR(VLOOKUP($A24,STATS44!$A:$B,2,0),0)+IFERROR(VLOOKUP($A24,STATS44!$D:$E,2,0),0),IFERROR(VLOOKUP($A24,STATS44!$D:$E,2,0),0)) -> 7 | G24: =IF($E:$E="PA",IFERROR(VLOOKUP($A24,satisf44!$A:$B,2,0),0)+IFERROR(VLOOKUP($A24,satisf44!$D:$E,2,0),0),IFERROR(VLOOKUP($A24,satisf44!$D:$E,2,0),0)) -> 5 | M24: Les colonnes grisées sont à masquer
A25: 23203 | D25: dinamite | E25: pa | F25: =IF($E:$E="PA",IFERROR(VLOOKUP($A25,STATS44!$A:$B,2,0),0)+IFERROR(VLOOKUP($A25,STATS44!$D:$E,2,0),0),IFERROR(VLOOKUP($A25,STATS44!$D:$E,2,0),0)) -> 600 | G25: =IF($E:$E="PA",IFERROR(VLOOKUP($A25,satisf44!$A:$B,2,0),0)+IFERROR(VLOOKUP($A25,satisf44!$D:$E,2,0),0),IFERROR(VLOOKUP($A25,satisf44!$D:$E,2,0),0)) -> 20 | L25: {=IFERROR(INDEX($A$4:$U$21,MATCH(0&"jeudi"&COUNTA(L$24:L24)+1,$G$4:$G$21&$I$4:$I$21&Q$4:Q$21,0),1),"")} | M25: Elles servent à compter le nombre successif de doublons
B26: PROCV =RECHERCHV ET SE=IF | L26: {=IFERROR(INDEX($A$4:$U$21,MATCH(0&"jeudi"&COUNTA(L$24:L25)+1,$G$4:$G$21&$I$4:$I$21&Q$4:Q$21,0),1),"")} | N26: afin de ne pas arrêter chaque recherche au 1er trouvé
L27: {=IFERROR(INDEX($A$4:$U$21,MATCH(0&"jeudi"&COUNTA(L$24:L26)+1,$G$4:$G$21&$I$4:$I$21&Q$4:Q$21,0),1),"")}

Sheet STATS44
A1: 20365 | B1: 5 | D1: 23067 | E1: 5
A2: =SUM(A1)+1 -> 20366 | B2: 3 | D2: =SUM(D1)+1 -> 23068 | E2: 6
A3: =SUM(A2)+1 -> 20367 | B3: 2 | D3: =SUM(D2)+1 -> 23069 | E3: 8
A4: =SUM(A3)+1 -> 20368 | B4: 6 | D4: =SUM(D3)+1 -> 23070 | E4: 9
A5: =SUM(A4)+1 -> 20369 | B5: 4 | D5: =SUM(D4)+1 -> 23071 | E5: 7
A6: =SUM(A5)+1 -> 20370 | B6: 9 | D6: =SUM(D5)+1 -> 23072 | E6: 4
A7: =SUM(A6)+1 -> 20371 | B7: 4 | D7: =SUM(D6)+1 -> 23073 | E7: 1
A8: 23200 | B8: 3 | D8: =SUM(D7)+1 -> 23074 | E8: 5
A9: 23201 | B9: 5 | D9: =SUM(D8)+1 -> 23075 | E9: 6
A10: 23202 | B10: 0 | D10: =SUM(D9)+1 -> 23076 | E10: 4
D11: =SUM(D10)+1 -> 23077 | E11: 9
D12: 23200 | E12: 7
D13: 23201 | E13: 0
D14: 23202 | E14: 7
A16: 23203 | B16: 350 | D16: 23203 | E16: 250

Sheet satisf44
A1: 20365 | B1: 8 | D1: 23067 | E1: 2
A2: =SUM(A1)+1 -> 20366 | B2: 3 | D2: =SUM(D1)+1 -> 23068 | E2: 3
A3: =SUM(A2)+1 -> 20367 | B3: 6 | D3: =SUM(D2)+1 -> 23069 | E3: 4
A4: =SUM(A3)+1 -> 20368 | B4: 9 | D4: =SUM(D3)+1 -> 23070 | E4: 5
A5: =SUM(A4)+1 -> 20369 | B5: 8 | D5: =SUM(D4)+1 -> 23071 | E5: 6
A6: =SUM(A5)+1 -> 20370 | B6: 7 | D6: =SUM(D5)+1 -> 23072 | E6: 7
A7: =SUM(A6)+1 -> 20371 | B7: 10 | D7: =SUM(D6)+1 -> 23073 | E7: 8
A8: 23200 | B8: 6 | D8: =SUM(D7)+1 -> 23074 | E8: 9
A9: 23201 | B9: 7 | D9: =SUM(D8)+1 -> 23075 | E9: 10
A10: 23202 | B10: 8 | D10: =SUM(D9)+1 -> 23076 | E10: 10
D11: =SUM(D10)+1 -> 23077 | E11: 1
D12: 23200 | E12: 8
D13: 23201 | E13: 6
D14: 23202 | E14: 5
A16: 23203 | B16: 10 | D16: 23203 | E16: 10

Sheet postes libres
C2: =TODAY() -> 43064
C3: =WEEKDAY(C2) -> 7
B6: Postes Libres
B7: Aujourd'hui
B8: =TODAY() -> 43064
S9: lundi
C10: =IF("lundi",COUNT(BORD!J3:J21)) -> #VALUE! | S10: mardi
C11: =IF($C$3=1,"Dimanche",IF($C$3=2,"Lundi",IF($C$3=3,"Mardi",IF($C$3=4,"Mercredi",IF($C$3=5,"Jeudi",IF($C$3=6,"Vendredi",IF($C$3=7,"Samedi",NAQ))))))) -> Samedi | S11: mercredi
C12: =IF(B8=lundi,COUNT(BORD!J3:J21),IF(B8=Mardi,COUNT(BORD!L4:L21),IF(B8=mercredi,COUNT(BORD!N3:N21),IF(B8=jeudi,COUNT(BORD!P3:P21),IF(B8=vendredi,COUNT(BORD!R3:R21),IF(B8=samedi,COUNT(BORD!T3:T21))))))) -> #NAME? | S12: jeudi
C13: CONTAR | S13: vendredi
C14: =IF($C$3=1,"200",OFFSET(BORD!$J$22,,(C3-2)*2)) -> 3 | S14: Samedi
C15: =IF(C11=lundi,BORD!J22),IF(C11=Mardi,BORD!L22),IF(C11=mercredi,BORD!N22),IF(C11=jeudi,BORD!P22),IF(C11=vendredi,BORD!R22),IF(C11=samedi,BORD!T22) -> #NAME? | S15: Dimanche
B19: Dispo : | C19: jeudi | G19: Dispo : | H19: vendredi | L19: Dispo : | M19: Samedi
B20: (fixe) | C20: {=IFERROR(INDEX(BORD!$A$4:$U$21,MATCH($C$19&COUNTA($C$19:$C19),BORD!$I$4:$I$21&BORD!Q$4:Q$21,0),1),"")} -> 20365 | D20: {=IFERROR(INDEX(BORD!$A$4:$U$21,MATCH($C$19&COUNTA($C$19:$C19),BORD!$I$4:$I$21&BORD!$Q$4:$Q$21,0),8),"")} -> F1 | E20: {=IFERROR(INDEX(BORD!$A$4:$U$21,MATCH($C$19&COUNTA($C$19:$C19),BORD!$I$4:$I$21&BORD!$Q$4:$Q$21,0),2),"")} -> aa | G20: (Auto) | H20: {=IFERROR(INDEX(BORD!$A$4:$U$21,MATCH($H$19&COUNTA($H$19:$H19),BORD!$I$4:$I$21&OFFSET(BORD!$J$4,0,(MATCH($H$19,TabSem,0)*2)-1,18,1),0),1),"")} -> 23068 | I20: {=IFERROR(INDEX(BORD!$A$4:$U$21,MATCH($H$19&COUNTA($H$19:$H19),BORD!$I$4:$I$21&OFFSET(BORD!$J$4,0,(MATCH($H$19,TabSem,0)*2)-1,18,1),0),8),"")} -> F3 | J20: {=IFERROR(INDEX(BORD!$A$4:$U$21,MATCH($H$19&COUNTA($H$19:$H19),BORD!$I$4:$I$21&OFFSET(BORD!$J$4,0,(MATCH($H$19,TabSem,0)*2)-1,18,1),0),2),"")} -> cc | L20: (fixe) | M20: {=IFERROR(INDEX(BORD!$A$4:$U$21,MATCH($M$19&COUNTA($M$19:$M19),BORD!$I$4:$I$21&BORD!U$4:U$21,0),1),"")} -> 23067 | N20: {=IFERROR(INDEX(BORD!$A$4:$U$21,MATCH($M$19&COUNTA($M$19:$M19),BORD!$I$4:$I$21&BORD!$U$4:$U$21,0),8),"")} -> F2 | O20: {=IFERROR(INDEX(BORD!$A$4:$U$21,MATCH($M$19&COUNTA($M$19:$M19),BORD!$I$4:$I$21&BORD!$U$4:$U$21,0),2),"")} -> bb
C21: {=IFERROR(INDEX(BORD!$A$4:$U$21,MATCH($C$19&COUNTA($C$19:$C20),BORD!$I$4:$I$21&BORD!Q$4:Q$21,0),1),"")} -> 23071 | D21: {=IFERROR(INDEX(BORD!$A$4:$U$21,MATCH($C$19&COUNTA($C$19:$C20),BORD!$I$4:$I$21&BORD!$Q$4:$Q$21,0),8),"")} -> P3 | E21: {=IFERROR(INDEX(BORD!$A$4:$U$21,MATCH($C$19&COUNTA($C$19:$C20),BORD!$I$4:$I$21&BORD!$Q$4:$Q$21,0),2),"")} -> ff | H21: {=IFERROR(INDEX(BORD!$A$4:$U$21,MATCH($H$19&COUNTA($H$19:$H20),BORD!$I$4:$I$21&OFFSET(BORD!$J$4,0,(MATCH($H$19,TabSem,0)*2)-1,18,1),0),1),"")} -> 23069 | I21: {=IFERROR(INDEX(BORD!$A$4:$U$21,MATCH($H$19&COUNTA($H$19:$H20),BORD!$I$4:$I$21&OFFSET(BORD!$J$4,0,(MATCH($H$19,TabSem,0)*2)-1,18,1),0),8),"")} -> P1 | J21: {=IFERROR(INDEX(BORD!$A$4:$U$21,MATCH($H$19&COUNTA($H$19:$H20),BORD!$I$4:$I$21&OFFSET(BORD!$J$4,0,(MATCH($H$19,TabSem,0)*2)-1,18,1),0),2),"")} -> dd | M21: {=IFERROR(INDEX(BORD!$A$4:$U$21,MATCH($M$19&COUNTA($M$19:$M20),BORD!$I$4:$I$21&BORD!U$4:U$21,0),1),"")} -> 23074 | N21: {=IFERROR(INDEX(BORD!$A$4:$U$21,MATCH($M$19&COUNTA($M$19:$M20),BORD!$I$4:$I$21&BORD!$U$4:$U$21,0),8),"")} -> F4 | O21: {=IFERROR(INDEX(BORD!$A$4:$U$21,MATCH($M$19&COUNTA($M$19:$M20),BORD!$I$4:$I$21&BORD!$U$4:$U$21,0),2),"")} -> ii
C22: {=IFERROR(INDEX(BORD!$A$4:$U$21,MATCH($C$19&COUNTA($C$19:$C21),BORD!$I$4:$I$21&BORD!Q$4:Q$21,0),1),"")} -> 23076 | D22: {=IFERROR(INDEX(BORD!$A$4:$U$21,MATCH($C$19&COUNTA($C$19:$C21),BORD!$I$4:$I$21&BORD!$Q$4:$Q$21,0),8),"")} -> P6 | E22: {=IFERROR(INDEX(BORD!$A$4:$U$21,MATCH($C$19&COUNTA($C$19:$C21),BORD!$I$4:$I$21&BORD!$Q$4:$Q$21,0),2),"")} -> kk | H22: {=IFERROR(INDEX(BORD!$A$4:$U$21,MATCH($H$19&COUNTA($H$19:$H21),BORD!$I$4:$I$21&OFFSET(BORD!$J$4,0,(MATCH($H$19,TabSem,0)*2)-1,18,1),0),1),"")} | I22: {=IFERROR(INDEX(BORD!$A$4:$U$21,MATCH($H$19&COUNTA($H$19:$H21),BORD!$I$4:$I$21&OFFSET(BORD!$J$4,0,(MATCH($H$19,TabSem,0)*2)-1,18,1),0),8),"")} | J22: {=IFERROR(INDEX(BORD!$A$4:$U$21,MATCH($H$19&COUNTA($H$19:$H21),BORD!$I$4:$I$21&OFFSET(BORD!$J$4,0,(MATCH($H$19,TabSem,0)*2)-1,18,1),0),2),"")} | M22: {=IFERROR(INDEX(BORD!$A$4:$U$21,MATCH($M$19&COUNTA($M$19:$M21),BORD!$I$4:$I$21&BORD!U$4:U$21,0),1),"")} -> 23077 | N22: {=IFERROR(INDEX(BORD!$A$4:$U$21,MATCH($M$19&COUNTA($M$19:$M21),BORD!$I$4:$I$21&BORD!$U$4:$U$21,0),8),"")} -> P7 | O22: {=IFERROR(INDEX(BORD!$A$4:$U$21,MATCH($M$19&COUNTA($M$19:$M21),BORD!$I$4:$I$21&BORD!$U$4:$U$21,0),2),"")} -> ll
C23: {=IFERROR(INDEX(BORD!$A$4:$U$21,MATCH($C$19&COUNTA($C$19:$C22),BORD!$I$4:$I$21&BORD!Q$4:Q$21,0),1),"")} -> 23079 | D23: {=IFERROR(INDEX(BORD!$A$4:$U$21,MATCH($C$19&COUNTA($C$19:$C22),BORD!$I$4:$I$21&BORD!$Q$4:$Q$21,0),8),"")} -> P9 | E23: {=IFERROR(INDEX(BORD!$A$4:$U$21,MATCH($C$19&COUNTA($C$19:$C22),BORD!$I$4:$I$21&BORD!$Q$4:$Q$21,0),2),"")} -> nn | H23: {=IFERROR(INDEX(BORD!$A$4:$U$21,MATCH($H$19&COUNTA($H$19:$H22),BORD!$I$4:$I$21&OFFSET(BORD!$J$4,0,(MATCH($H$19,TabSem,0)*2)-1,18,1),0),1),"")} | I23: {=IFERROR(INDEX(BORD!$A$4:$U$21,MATCH($H$19&COUNTA($H$19:$H22),BORD!$I$4:$I$21&OFFSET(BORD!$J$4,0,(MATCH($H$19,TabSem,0)*2)-1,18,1),0),8),"")} | J23: {=IFERROR(INDEX(BORD!$A$4:$U$21,MATCH($H$19&COUNTA($H$19:$H22),BORD!$I$4:$I$21&OFFSET(BORD!$J$4,0,(MATCH($H$19,TabSem,0)*2)-1,18,1),0),2),"")} | M23: {=IFERROR(INDEX(BORD!$A$4:$U$21,MATCH($M$19&COUNTA($M$19:$M22),BORD!$I$4:$I$21&BORD!U$4:U$21,0),1),"")} | N23: {=IFERROR(INDEX(BORD!$A$4:$U$21,MATCH($M$19&COUNTA($M$19:$M22),BORD!$I$4:$I$21&BORD!$U$4:$U$21,0),8),"")} | O23: {=IFERROR(INDEX(BORD!$A$4:$U$21,MATCH($M$19&COUNTA($M$19:$M22),BORD!$I$4:$I$21&BORD!$U$4:$U$21,0),2),"")}
C24: {=IFERROR(INDEX(BORD!$A$4:$U$21,MATCH($C$19&COUNTA($C$19:$C23),BORD!$I$4:$I$21&BORD!Q$4:Q$21,0),1),"")} -> 23082 | D24: {=IFERROR(INDEX(BORD!$A$4:$U$21,MATCH($C$19&COUNTA($C$19:$C23),BORD!$I$4:$I$21&BORD!$Q$4:$Q$21,0),8),"")} -> F7 | E24: {=IFERROR(INDEX(BORD!$A$4:$U$21,MATCH($C$19&COUNTA($C$19:$C23),BORD!$I$4:$I$21&BORD!$Q$4:$Q$21,0),2),"")} -> xx | H24: {=IFERROR(INDEX(BORD!$A$4:$U$21,MATCH($H$19&COUNTA($H$19:$H23),BORD!$I$4:$I$21&OFFSET(BORD!$J$4,0,(MATCH($H$19,TabSem,0)*2)-1,18,1),0),1),"")} | I24: {=IFERROR(INDEX(BORD!$A$4:$U$21,MATCH($H$19&COUNTA($H$19:$H23),BORD!$I$4:$I$21&OFFSET(BORD!$J$4,0,(MATCH($H$19,TabSem,0)*2)-1,18,1),0),8),"")} | J24: {=IFERROR(INDEX(BORD!$A$4:$U$21,MATCH($H$19&COUNTA($H$19:$H23),BORD!$I$4:$I$21&OFFSET(BORD!$J$4,0,(MATCH($H$19,TabSem,0)*2)-1,18,1),0),2),"")} | M24: {=IFERROR(INDEX(BORD!$A$4:$U$21,MATCH($M$19&COUNTA($M$19:$M23),BORD!$I$4:$I$21&BORD!U$4:U$21,0),1),"")} | N24: {=IFERROR(INDEX(BORD!$A$4:$U$21,MATCH($M$19&COUNTA($M$19:$M23),BORD!$I$4:$I$21&BORD!$U$4:$U$21,0),8),"")} | O24: {=IFERROR(INDEX(BORD!$A$4:$U$21,MATCH($M$19&COUNTA($M$19:$M23),BORD!$I$4:$I$21&BORD!$U$4:$U$21,0),2),"")}
C25: {=IFERROR(INDEX(BORD!$A$4:$U$21,MATCH($C$19&COUNTA($C$19:$C24),BORD!$I$4:$I$21&BORD!Q$4:Q$21,0),1),"")} | D25: {=IFERROR(INDEX(BORD!$A$4:$U$21,MATCH($C$19&COUNTA($C$19:$C24),BORD!$I$4:$I$21&BORD!$Q$4:$Q$21,0),8),"")} | E25: {=IFERROR(INDEX(BORD!$A$4:$U$21,MATCH($C$19&COUNTA($C$19:$C24),BORD!$I$4:$I$21&BORD!$Q$4:$Q$21,0),2),"")} | H25: {=IFERROR(INDEX(BORD!$A$4:$U$21,MATCH($H$19&COUNTA($H$19:$H24),BORD!$I$4:$I$21&OFFSET(BORD!$J$4,0,(MATCH($H$19,TabSem,0)*2)-1,18,1),0),1),"")} | I25: {=IFERROR(INDEX(BORD!$A$4:$U$21,MATCH($H$19&COUNTA($H$19:$H24),BORD!$I$4:$I$21&OFFSET(BORD!$J$4,0,(MATCH($H$19,TabSem,0)*2)-1,18,1),0),8),"")} | J25: {=IFERROR(INDEX(BORD!$A$4:$U$21,MATCH($H$19&COUNTA($H$19:$H24),BORD!$I$4:$I$21&OFFSET(BORD!$J$4,0,(MATCH($H$19,TabSem,0)*2)-1,18,1),0),2),"")} | M25: {=IFERROR(INDEX(BORD!$A$4:$U$21,MATCH($M$19&COUNTA($M$19:$M24),BORD!$I$4:$I$21&BORD!U$4:U$21,0),1),"")} | N25: {=IFERROR(INDEX(BORD!$A$4:$U$21,MATCH($M$19&COUNTA($M$19:$M24),BORD!$I$4:$I$21&BORD!$U$4:$U$21,0),8),"")} | O25: {=IFERROR(INDEX(BORD!$A$4:$U$21,MATCH($M$19&COUNTA($M$19:$M24),BORD!$I$4:$I$21&BORD!$U$4:$U$21,0),2),"")}
