Workbook

Sheet Tableau visualisation globale
A9: Ref/Co | B9: Date de dépôt dossier | C9: Nom Client | D9: Prénom Client | E9: Colonne1 | F9: Colonne2 | G9: Colonne3 | H9: Colonne4 | I9: Colonne5
A10: YSONG | B10: 40708 | C10: ANTOINETTE | D10: Roland | E10: =VLOOKUP(C10,'Détails financiers'!$D$6:$M$1000,10,0) -> DEFAVORABLE*
A11: SRAB | B11: 40676 | C11: BELIA | D11: Alexis | E11: =VLOOKUP(C11,'Détails financiers'!$D$6:$M$1000,10,0) -> NON DEPOSE*
A12: SRAB | B12: 40708 | C12: BASSIEN | D12: Frantz | E12: =VLOOKUP(C12,'Détails financiers'!$D$6:$M$1000,10,0) -> 0
A13: SRAB | B13: 40711 | C13: BAZIR | D13: Jean | E13: =VLOOKUP(C13,'Détails financiers'!$D$6:$M$1000,10,0) -> DEFAVORABLE*
A14: MMOR | B14: 40835 | C14: BERNARD | D14: Claude | E14: =VLOOKUP(C14,'Détails financiers'!$D$6:$M$1000,10,0) -> NON DEPOSE*
A15: MMOR | B15: 40868 | C15: BALADINE | D15: Ruddy | E15: =VLOOKUP(C15,'Détails financiers'!$D$6:$M$1000,10,0) -> FAVORABLE
A16: MMOR | B16: 41263 | C16: BALADINE | D16: Hyacinthe | E16: =VLOOKUP(C16,'Détails financiers'!$D$6:$M$1000,10,0) -> FAVORABLE
A17: CCAR | B17: 40735 | C17: ANTOINE | D17: Max | E17: =VLOOKUP(C17,'Détails financiers'!$D$6:$M$1000,10,0) -> 0
A18: CCAR | B18: 40813 | C18: BAJOT | D18: Léandre | E18: =VLOOKUP(C18,'Détails financiers'!$D$6:$M$1000,10,0) -> 0
E85: ='Détails financiers'!M81 -> 0
E86: ='Détails financiers'!M82 -> 0
E87: ='Détails financiers'!M83 -> 0
E88: ='Détails financiers'!M84 -> 0
E89: ='Détails financiers'!M85 -> 0
E90: ='Détails financiers'!M86 -> 0
E91: ='Détails financiers'!M87 -> 0
E92: ='Détails financiers'!M88 -> 0
E93: ='Détails financiers'!M89 -> 0
E94: ='Détails financiers'!M90 -> 0
E95: ='Détails financiers'!M91 -> 0
E96: ='Détails financiers'!M92 -> 0
... E107: ='Détails financiers'!M103 -> 0

Sheet Cheklist + Détails  Dossier
A4: FILTRE 1 | B4: FILTRE 2 | C4: FILTRE 3 | D4: Nom Client | E4: Prénom Client | F4: PRODUIT SIGNE | G4: Montant OP | H4: Colonne1 | I4: Colonne2 | J4: Colonne3 | K4: Colonne4 | L4: Colonne5 | M4: Colonne6 | N4: Colonne7 | O4: Colonne8 | P4: Colonne9 | Q4: Colonne10 | R4: Colonne11 | S4: Colonne12 | T4: Colonne13 | U4: Colonne14 | V4: Colonne15 | W4: Colonne16 | X4: Colonne17 | Y4: Colonne18 | Z4: Colonne19
A5: ='Tableau visualisation globale'!B11 -> 40676 | B5: ='Tableau visualisation globale'!A11 -> SRAB | C5: ='Tableau visualisation globale'!E11 -> NON DEPOSE* | D5: ='Tableau visualisation globale'!C11 -> BELIA | E5: ='Tableau visualisation globale'!D11 -> Alexis | F5: SAFE 2 | G5: 31494.55 | H5: X | J5: X | K5: X | L5: X | M5: X | T5: X | V5: X | W5: X
A6: ='Tableau visualisation globale'!B12 -> 40708 | B6: ='Tableau visualisation globale'!A12 -> SRAB | C6: ='Tableau visualisation globale'!E12 -> 0 | D6: ='Tableau visualisation globale'!C12 -> BASSIEN | E6: ='Tableau visualisation globale'!D12 -> Frantz | F6: Produit détail | G6: 3301.91 | H6: X | J6: X | K6: X | L6: X | N6: X | O6: X | P6: X | Q6: X | R6: X
A7: ='Tableau visualisation globale'!B10 -> 40708 | B7: ='Tableau visualisation globale'!A10 -> YSONG | C7: ='Tableau visualisation globale'!E10 -> DEFAVORABLE* | D7: ='Tableau visualisation globale'!C10 -> ANTOINETTE | E7: ='Tableau visualisation globale'!D10 -> Roland | F7: PREMIUM + | G7: 37915.15 | I7: X | J7: X | K7: X | L7: X | M7: X | O7: X | P7: X | Q7: X | R7: X | V7: X | W7: X | X7: X | Y7: X | Z7: X
A8: ='Tableau visualisation globale'!B13 -> 40711 | B8: ='Tableau visualisation globale'!A13 -> SRAB | C8: ='Tableau visualisation globale'!E13 -> DEFAVORABLE* | D8: ='Tableau visualisation globale'!C13 -> BAZIR | E8: ='Tableau visualisation globale'!D13 -> Jean | F8: PREMIUM + | G8: 37915.15 | H8: X | I8: X | J8: X | K8: X | L8: X | M8: X | N8: X | O8: X | P8: X | Q8: X | R8: X | T8: X | V8: X | X8: X | Y8: X | Z8: X
A9: ='Tableau visualisation globale'!B17 -> 40735 | B9: ='Tableau visualisation globale'!A17 -> CCAR | C9: ='Tableau visualisation globale'!E17 -> 0 | D9: ='Tableau visualisation globale'!C17 -> ANTOINE | E9: ='Tableau visualisation globale'!D17 -> Max | F9: CES 300 | G9: 2633.15 | H9: X | P9: X | Q9: X | R9: X | T9: X | U9: X | Y9: X
A10: ='Tableau visualisation globale'!B18 -> 40813 | B10: ='Tableau visualisation globale'!A18 -> CCAR | C10: ='Tableau visualisation globale'!E18 -> 0 | D10: ='Tableau visualisation globale'!C18 -> BAJOT | E10: ='Tableau visualisation globale'!D18 -> Léandre | F10: PREMIUM HL | G10: 34753.75 | H10: X | I10: X | J10: X | K10: X | L10: X | M10: X | N10: X | O10: X | P10: X | Q10: X | R10: X | S10: X | U10: X | Z10: X
A11: ='Tableau visualisation globale'!B14 -> 40835 | B11: ='Tableau visualisation globale'!A14 -> MMOR | C11: ='Tableau visualisation globale'!E14 -> NON DEPOSE* | D11: ='Tableau visualisation globale'!C14 -> BERNARD | E11: ='Tableau visualisation globale'!D14 -> Claude | F11: PREMIUM HL | G11: 36753.75 | H11: X | I11: X | J11: X | K11: X | L11: X | M11: X | N11: X | T11: X | U11: X | V11: X | X11: X | Z11: X
A12: ='Tableau visualisation globale'!B15 -> 40868 | B12: ='Tableau visualisation globale'!A15 -> MMOR | C12: ='Tableau visualisation globale'!E15 -> FAVORABLE | D12: ='Tableau visualisation globale'!C15 -> BALADINE | E12: ='Tableau visualisation globale'!D15 -> Ruddy | F12: PREMIUM + | G12: 37915.15 | H12: X | I12: X | J12: X | K12: X | L12: X | M12: X | N12: X | O12: X | P12: X | Q12: X | R12: X | S12: X | T12: X | U12: X | V12: X | W12: X | X12: X | Y12: X | Z12: X
A13: ='Tableau visualisation globale'!B16 -> 41263 | B13: ='Tableau visualisation globale'!A16 -> MMOR | C13: ='Tableau visualisation globale'!E16 -> FAVORABLE | D13: ='Tableau visualisation globale'!C16 -> BALADINE | E13: ='Tableau visualisation globale'!D16 -> Hyacinthe | F13: PREMIUM + SP | G13: 53301.31 | H13: X | I13: X | J13: X | K13: X | L13: X | M13: X | N13: X | S13: X | T13: X | U13: X | V13: X | X13: X | Y13: X | Z13: X
A14: ='Tableau visualisation globale'!B19 -> 0 | B14: ='Tableau visualisation globale'!A19 -> 0 | C14: ='Tableau visualisation globale'!E19 -> 0 | D14: ='Tableau visualisation globale'!C19 -> 0 | E14: ='Tableau visualisation globale'!D19 -> 0
A15: ='Tableau visualisation globale'!B20 -> 0 | B15: ='Tableau visualisation globale'!A20 -> 0 | C15: ='Tableau visualisation globale'!E20 -> 0 | D15: ='Tableau visualisation globale'!C20 -> 0 | E15: ='Tableau visualisation globale'!D20 -> 0
A16: ='Tableau visualisation globale'!B21 -> 0 | B16: ='Tableau visualisation globale'!A21 -> 0 | C16: ='Tableau visualisation globale'!E21 -> 0 | D16: ='Tableau visualisation globale'!C21 -> 0 | E16: ='Tableau visualisation globale'!D21 -> 0
A17: ='Tableau visualisation globale'!B22 -> 0 | B17: ='Tableau visualisation globale'!A22 -> 0 | C17: ='Tableau visualisation globale'!E22 -> 0 | D17: ='Tableau visualisation globale'!C22 -> 0 | E17: ='Tableau visualisation globale'!D22 -> 0
A18: ='Tableau visualisation globale'!B23 -> 0 | B18: ='Tableau visualisation globale'!A23 -> 0 | C18: ='Tableau visualisation globale'!E23 -> 0 | D18: ='Tableau visualisation globale'!C23 -> 0 | E18: ='Tableau visualisation globale'!D23 -> 0
A19: ='Tableau visualisation globale'!B24 -> 0 | B19: ='Tableau visualisation globale'!A24 -> 0 | C19: ='Tableau visualisation globale'!E24 -> 0 | D19: ='Tableau visualisation globale'!C24 -> 0 | E19: ='Tableau visualisation globale'!D24 -> 0
A20: ='Tableau visualisation globale'!B25 -> 0 | B20: ='Tableau visualisation globale'!A25 -> 0 | C20: ='Tableau visualisation globale'!E25 -> 0 | D20: ='Tableau visualisation globale'!C25 -> 0 | E20: ='Tableau visualisation globale'!D25 -> 0
A21: ='Tableau visualisation globale'!B26 -> 0 | B21: ='Tableau visualisation globale'!A26 -> 0 | C21: ='Tableau visualisation globale'!E26 -> 0 | D21: ='Tableau visualisation globale'!C26 -> 0 | E21: ='Tableau visualisation globale'!D26 -> 0
A22: ='Tableau visualisation globale'!B27 -> 0 | B22: ='Tableau visualisation globale'!A27 -> 0 | C22: ='Tableau visualisation globale'!E27 -> 0 | D22: ='Tableau visualisation globale'!C27 -> 0 | E22: ='Tableau visualisation globale'!D27 -> 0
A23: ='Tableau visualisation globale'!B28 -> 0 | B23: ='Tableau visualisation globale'!A28 -> 0 | C23: ='Tableau visualisation globale'!E28 -> 0 | D23: ='Tableau visualisation globale'!C28 -> 0 | E23: ='Tableau visualisation globale'!D28 -> 0
A24: ='Tableau visualisation globale'!B29 -> 0 | B24: ='Tableau visualisation globale'!A29 -> 0 | C24: ='Tableau visualisation globale'!E29 -> 0 | D24: ='Tableau visualisation globale'!C29 -> 0 | E24: ='Tableau visualisation globale'!D29 -> 0
A25: ='Tableau visualisation globale'!B30 -> 0 | B25: ='Tableau visualisation globale'!A30 -> 0 | C25: ='Tableau visualisation globale'!E30 -> 0 | D25: ='Tableau visualisation globale'!C30 -> 0 | E25: ='Tableau visualisation globale'!D30 -> 0
... A249: ='Tableau visualisation globale'!B254 -> 0 | B249: ='Tableau visualisation globale'!A254 -> 0 | C249: ='Tableau visualisation globale'!E254 -> 0 | D249: ='Tableau visualisation globale'!C254 -> 0 | E249: ='Tableau visualisation globale'!D254 -> 0

Sheet Détails financiers
A5: FILTRE 1 | B5: FILTRE 2 | C5: dépôt dossier | D5: Nom Client | E5: Prénom Client | F5: Colonne1 | G5: Colonne2 | H5: Colonne3 | I5: Colonne4 | J5: Colonne5 | K5: Colonne6 | L5: Colonne7 | M5: Avis banque : | N5: Colonne8
C6: ='Tableau visualisation globale'!B14 -> 40835 | D6: ='Tableau visualisation globale'!C14 -> BERNARD | E6: ='Tableau visualisation globale'!D14 -> Claude | F6: ='Cheklist + Détails Dossier'!G9 -> 2633.15 | M6: NON DEPOSE*
C7: ='Tableau visualisation globale'!B11 -> 40676 | D7: ='Tableau visualisation globale'!C11 -> BELIA | E7: ='Tableau visualisation globale'!D11 -> Alexis | F7: ='Cheklist + Détails Dossier'!G6 -> 3301.91 | M7: NON DEPOSE*
C8: ='Tableau visualisation globale'!B13 -> 40711 | D8: ='Tableau visualisation globale'!C13 -> BAZIR | E8: ='Tableau visualisation globale'!D13 -> Jean | F8: ='Cheklist + Détails Dossier'!G8 -> 37915.15 | M8: DEFAVORABLE*
C9: ='Tableau visualisation globale'!B12 -> 40708 | D9: ='Tableau visualisation globale'!C12 -> BASSIEN | E9: ='Tableau visualisation globale'!D12 -> Frantz | F9: ='Cheklist + Détails Dossier'!G7 -> 37915.15
C10: ='Tableau visualisation globale'!B15 -> 40868 | D10: ='Tableau visualisation globale'!C15 -> BALADINE | E10: ='Tableau visualisation globale'!D15 -> Ruddy | F10: ='Cheklist + Détails Dossier'!G10 -> 34753.75 | M10: FAVORABLE
C11: ='Tableau visualisation globale'!B16 -> 41263 | D11: ='Tableau visualisation globale'!C16 -> BALADINE | E11: ='Tableau visualisation globale'!D16 -> Hyacinthe | F11: ='Cheklist + Détails Dossier'!G11 -> 36753.75 | M11: ANNULEE*
C12: ='Tableau visualisation globale'!B18 -> 40813 | D12: ='Tableau visualisation globale'!C18 -> BAJOT | E12: ='Tableau visualisation globale'!D18 -> Léandre | F12: ='Cheklist + Détails Dossier'!G13 -> 53301.31
C13: ='Tableau visualisation globale'!B10 -> 40708 | D13: ='Tableau visualisation globale'!C10 -> ANTOINETTE | E13: ='Tableau visualisation globale'!D10 -> Roland | F13: ='Cheklist + Détails Dossier'!G5 -> 31494.55 | M13: DEFAVORABLE*
C14: ='Tableau visualisation globale'!B17 -> 40735 | D14: ='Tableau visualisation globale'!C17 -> ANTOINE | E14: ='Tableau visualisation globale'!D17 -> Max | F14: ='Cheklist + Détails Dossier'!G12 -> 37915.15
C15: ='Tableau visualisation globale'!B19 -> 0 | D15: ='Tableau visualisation globale'!C19 -> 0 | E15: ='Tableau visualisation globale'!D19 -> 0 | F15: ='Cheklist + Détails Dossier'!G14 -> 0
C16: ='Tableau visualisation globale'!B20 -> 0 | D16: ='Tableau visualisation globale'!C20 -> 0 | E16: ='Tableau visualisation globale'!D20 -> 0 | F16: ='Cheklist + Détails Dossier'!G15 -> 0
C17: ='Tableau visualisation globale'!B21 -> 0 | D17: ='Tableau visualisation globale'!C21 -> 0 | E17: ='Tableau visualisation globale'!D21 -> 0 | F17: ='Cheklist + Détails Dossier'!G16 -> 0
C18: ='Tableau visualisation globale'!B22 -> 0 | D18: ='Tableau visualisation globale'!C22 -> 0 | E18: ='Tableau visualisation globale'!D22 -> 0 | F18: ='Cheklist + Détails Dossier'!G17 -> 0
C19: ='Tableau visualisation globale'!B23 -> 0 | D19: ='Tableau visualisation globale'!C23 -> 0 | E19: ='Tableau visualisation globale'!D23 -> 0 | F19: ='Cheklist + Détails Dossier'!G18 -> 0
C20: ='Tableau visualisation globale'!B24 -> 0 | D20: ='Tableau visualisation globale'!C24 -> 0 | E20: ='Tableau visualisation globale'!D24 -> 0 | F20: ='Cheklist + Détails Dossier'!G19 -> 0
C21: ='Tableau visualisation globale'!B25 -> 0 | D21: ='Tableau visualisation globale'!C25 -> 0 | E21: ='Tableau visualisation globale'!D25 -> 0 | F21: ='Cheklist + Détails Dossier'!G20 -> 0
C22: ='Tableau visualisation globale'!B26 -> 0 | D22: ='Tableau visualisation globale'!C26 -> 0 | E22: ='Tableau visualisation globale'!D26 -> 0 | F22: ='Cheklist + Détails Dossier'!G21 -> 0
C23: ='Tableau visualisation globale'!B27 -> 0 | D23: ='Tableau visualisation globale'!C27 -> 0 | E23: ='Tableau visualisation globale'!D27 -> 0 | F23: ='Cheklist + Détails Dossier'!G22 -> 0
C24: ='Tableau visualisation globale'!B28 -> 0 | D24: ='Tableau visualisation globale'!C28 -> 0 | E24: ='Tableau visualisation globale'!D28 -> 0 | F24: ='Cheklist + Détails Dossier'!G23 -> 0
C25: ='Tableau visualisation globale'!B29 -> 0 | D25: ='Tableau visualisation globale'!C29 -> 0 | E25: ='Tableau visualisation globale'!D29 -> 0 | F25: ='Cheklist + Détails Dossier'!G24 -> 0
C26: ='Tableau visualisation globale'!B30 -> 0 | D26: ='Tableau visualisation globale'!C30 -> 0 | E26: ='Tableau visualisation globale'!D30 -> 0 | F26: ='Cheklist + Détails Dossier'!G25 -> 0
... C365: ='Tableau visualisation globale'!B369 -> 0 | D365: ='Tableau visualisation globale'!C369 -> 0 | E365: ='Tableau visualisation globale'!D369 -> 0 | F365: ='Cheklist + Détails Dossier'!G364 -> 0
