Workbook
Name Base: OFFSET(planning!$A$2:$H$2,,,COUNTA(planning!$A:$A)-1)
Name essai: OFFSET([1]planning!$A$2:$H$2,,,COUNTA([1]planning!$A:$A)-1)
Name rr: OFFSET([1]planning!$A$2:$H$2,,,COUNTA([1]planning!$A:$A)-1)
Name uu: OFFSET([1]planning!$A$2:$H$2,,,COUNTA([1]planning!$A:$A)-1)

Sheet planning
A1: type de production | B1: client | C1: cadence p/h | D1: unité | E1: nbre jour | F1: quantité à produire | G1: employés | H1: diviseur | I1: credit 120 jour/4 semaines | J1: priorité | K1: outils monté | L1: prévision | N1: semaine en cours | O1: moyen humain
A2: chape crochet x | B2: CRO | C2: 3500 | D2: Unit | E2: =(F2/C2)/7 -> 0 | F2: 0 | H2: 1 | I2: charge de travail | N2: aliette | O2: =SUMIF(G2:G42,N2,E2:E41) -> 0
A3: assemblage boucle vélo | B3: LV | C3: 550 | D3: Unit | E3: =(F3/C3)/7 -> 1.2987013 | F3: 5000 | H3: 1 | I3: =SUM(E2:E508) -> 143.99752 | J3: oui | K3: oui | N3: valérie | O3: =SUMIF(G3:G43,N3,E3:E42) -> 1.4285714
A4: godet semi libre | B4: BRI | C4: 2500 | D4: Unit | E4: =(F4/C4)/7 -> 0.6 | F4: 10500 | H4: 1 | N4: sandrine | O4: =SUMIF(G4:G60,N4,E4:E60) -> 12.030075
A5: godet eclat poudre soleil | B5: BRI | C5: 6000 | D5: Unit | E5: =(F5/C5)/7 -> 0.71428571 | F5: 30000 | H5: 1 | N5: ghislaine | O5: =SUMIF(G5:G60,N5,E5:E60) -> 3.75
A6: capot équipé | B6: TEX | C6: 28 | D6: Unit | E6: =(F6/C6)/7 -> 8.4183673 | F6: 1650 | H6: 1 | N6: florence | O6: =SUMIF(G2:G60,N6,E2:E60) -> 0 | Q6: =DECALER(planning!$A$2:$H$2;;;NBVAL(planning!$A:$A)-1)
A7: assemblage roulé ba 16 | B7: INO | C7: 800 | E7: =(F7/C7)/7 -> 0 | H7: 1 | N7: marie laure | O7: =SUMIF(G2:G60,N7,E2:E60) -> 7.0714286
A8: assemblage ardillon ba 16 | B8: INO | C8: 1000 | E8: =(F8/C8)/7 -> 0 | H8: 1
A9: assemblage roulé ba 18 | B9: INO | C9: 800 | E9: =(F9/C9)/7 -> 0 | H9: 1
A10: assemblage ardillon ba18 | B10: INO | C10: 1000 | E10: =(F10/C10)/7 -> 0 | H10: 1
A11: assemblage roulé ba 20 | B11: INO | C11: 800 | E11: =(F11/C11)/7 -> 3.75 | F11: 21000 | G11: ghislaine | H11: 1 | J11: non | K11: non | L11: aliette
A12: assemblage ardillon ba 20 | B12: INO | C12: 1000 | E12: =(F12/C12)/7 -> 3 | F12: 21000 | H12: 1 | J12: non | K12: oui | L12: aliette | O12: =SUM(O2:O9) -> 24.280075 | P12: pour 25
A13: assemblage roulé ba 22 | B13: INO | C13: 800 | E13: =(F13/C13)/7 -> 0 | H13: 1 | J13: non | K13: non
A14: assemblage ardillon ba 22 | B14: INO | C14: 1000 | E14: =(F14/C14)/7 -> 0 | H14: 1
A15: profil u découpe | B15: WEST | C15: 800 | E15: =(F15/C15)/7 -> 0.71428571 | F15: 4000 | H15: 1 | J15: non | K15: non | L15: sandrine
A16: godet tolériane | B16: BRI | C16: 5000 | E16: =(F16/C16)/7 -> 0 | F16: 0 | H16: 1 | J16: non | K16: non
A17: entretoise sll4+clips | B17: HAL | C17: 100 | E17: =(F17/C17)/7 -> 7.0714286 | F17: 4950 | G17: marie laure | H17: 2 | J17: oui | K17: oui | L17: marie laure
A18: assemblage anche sampic | B18: SAM | C18: 180 | E18: =(F18/C18)/7 -> 7.9365079 | F18: 10000 | H18: 1 | J18: non | K18: non
A19: assemblage ardillon br25 | B19: LV | C19: 1000 | E19: =(F19/C19)/7 -> 2.1428571 | F19: 15000 | H19: 1 | J19: non | K19: non
A20: assemblage roulé br25 | B20: LV | C20: 800 | E20: =(F20/C20)/7 -> 0.89285714 | F20: 5000 | H20: 1 | J20: non | K20: non
A21: assemblage ardillon 30 x 10 | B21: LV | C21: 850 | E21: =(F21/C21)/7 -> 0 | F21: 0 | H21: 1 | J21: non | K21: non
A22: assemblage roulé br20 | B22: LV | C22: 800 | E22: =(F22/C22)/7 -> 0.89285714 | F22: 5000 | H22: 1 | J22: oui | K22: oui | L22: aliette
A23: assemblage ardillon br20 | B23: LV | C23: 1000 | E23: =(F23/C23)/7 -> 0.71428571 | F23: 5000 | H23: 1 | J23: non | K23: non | L23: sandrine
A24: cadre 40/20 matricage | B24: LV | C24: 800 | E24: =(F24/C24)/7 -> 0 | F24: 0 | H24: 1 | K24: oui | L24: marie laure
A25: cadre 20/15 | B25: LV | C25: 3500 | E25: =(F25/C25)/7 -> 4.0816327 | F25: 100000 | H25: 1 | J25: oui | K25: non | L25: valérie | N25: oui
A26: gravure murakami | B26: LV | C26: 500 | E26: =(F26/C26)/7 -> 5.7142857 | F26: 20000 | H26: 2 | J26: oui | K26: oui | L26: florence | N26: non
A27: assemblage pégase | B27: LV | C27: 200 | E27: =(F27/C27)/7 -> 0 | F27: 0 | H27: 1 | J27: non | K27: non
A28: assemblage renfort enchappe | B28: LV | C28: 250 | E28: =(F28/C28)/7 -> 0.57142857 | F28: 1000 | H28: 1 | J28: oui | K28: non
A29: accroche assiette | B29: CRO | C29: 100 | E29: =(F29/C29)/7 -> 2.8571429 | F29: 2000 | H29: 1 | J29: non | K29: non
A30: gravure rivet | B30: LV | C30: 1000 | E30: =(F30/C30)/7 -> 1.4285714 | F30: 10000 | G30: valérie | H30: 1 | J30: non | K30: oui
A31: découpe en 2 crèche sifflet | B31: SAM | C31: 2000 | E31: =(F31/C31)/7 -> 0 | F31: 0 | H31: 0.5 | J31: non | K31: oui
A32: plaque inventeur pm | B32: LV | C32: 600 | E32: =(F32/C32)/7 -> 2.3809524 | F32: 10000 | H32: 1 | J32: non | K32: oui | L32: ghislaine
A33: rail ouvert coté 1 | B33: TEX | C33: 70 | D33: Barre | E33: =(F33/C33)/7 -> 7.5102041 | F33: 3680 | H33: 14 | J33: oui | K33: oui
A34: rail ouvert fond | B34: TEX | C34: 75 | D34: Barre | E34: =(F34/C34)/7 -> 7.0095238 | F34: 3680 | H34: 1 | J34: oui | K34: non | L34: florence | Q34: Unit | R34: http://forum.excel-pratique.com/excel/gestion-de-feuilles-t27767.html
A35: assemblage clips chaussure | B35: GOE | C35: 200 | E35: =(F35/C35)/7 -> 2.1428571 | F35: 3000 | H35: 1 | J35: non | K35: non | L35: marie laure | Q35: Barre
A36: découpe E plate | B36: DIGIT | C36: 9500 | D36: Unit | E36: =(F36/C36)/7 -> 12.030075 | F36: 800000 | G36: sandrine | H36: 1 | J36: non | K36: oui | L36: sandrine | Q36: Mètre
A37: vernis | E37: 3 | H37: 1 | J37: non | K37: non
A38: cambrage tube | B38: GOE | C38: 660 | E38: =(F38/C38)/7 -> 0 | F38: 0 | H38: 1 | J38: oui | K38: oui
A39: gravure crèche | B39: SAM | C39: 900 | E39: =(F39/C39)/7 -> 0.15873016 | F39: 1000 | H39: 1 | J39: oui | K39: oui
A40: rail ouvert coté 2 | B40: TEX | C40: 80 | D40: Barre | E40: =(F40/C40)/7 -> 6.5714286 | F40: 3680 | H40: 15 | J40: oui | K40: oui
...

Sheet suivi sandrine
A1: type de production | B1: date | C1: heure de début | D1: heure de fin | E1: durée opération(h) | F1: compteur départ | G1: compteur fin | H1: nbre de pièce | I1: cadence p/h | J1: diviseur | L1: activité annexe | O1: =planning!A2 -> chape crochet x
A2: soufflage godet | B2: 40910 | C2: 0.33333333 | D2: 0.41666667 | E2: =D2-C2+IF(C2>D2,1) -> 0.083333333 | F2: 0 | G2: 12000 | H2: =G2-F2 -> 12000 | I2: =IF(OR(VALUE(E2)=0,VALUE(J2)=0),"",(H2*60/(E2*1440))/J2) -> 6000 | J2: =IF(A2="",1,VLOOKUP(A2,Base,8,FALSE)) -> 1 | O2: =planning!A3 -> assemblage boucle vélo
A3: assemblage ardillon 30 x 10 | B3: 40910 | C3: 0.41666667 | D3: 0.44791667 | E3: =D3-C3+IF(C3>D3,1) -> 0.03125 | F3: 0 | G3: 550 | H3: =G3-F3 -> 550 | I3: =IF(OR(VALUE(E3)=0,ISERROR(J3),VALUE(J3)=0),"",(H3*60/(E3*1440))/J3) -> 733.33333 | J3: =IF(A3="",1,VLOOKUP(A3,Base,8,FALSE)) -> 1 | L3: 30 x 10 | O3: =planning!A4 -> godet semi libre
B4: 40910 | C4: 0.44791667 | D4: 0.5 | E4: =D4-C4+IF(C4>D4,1) -> 0.052083333 | F4: 0 | G4: 0 | H4: =G4-F4 -> 0 | I4: =IF(OR(VALUE(E4)=0,ISERROR(J4),VALUE(J4)=0),"",(H4*60/(E4*1440))/J4) -> 0 | J4: =IF(A4="",1,VLOOKUP(A4,Base,8,FALSE)) -> 1 | O4: =planning!A5 -> godet eclat poudre soleil
I5: =IF(OR(VALUE(E5)=0,ISERROR(J5),VALUE(J5)=0),"",(H5*60/(E5*1440))/J5) | J5: =IF(A5="",1,VLOOKUP(A5,Base,8,FALSE)) -> 1 | L5: absente après midi | O5: =planning!A6 -> capot équipé
A6: assemblage ardillon 30 x 10 | B6: 40911 | C6: 0.33333333 | D6: 0.5 | E6: =D6-C6+IF(C6>D6,1) -> 0.16666667 | F6: 564 | G6: 4000 | H6: =G6-F6 -> 3436 | I6: =IF(OR(VALUE(E6)=0,ISERROR(J6),VALUE(J6)=0),"",(H6*60/(E6*1440))/J6) -> 859 | J6: =IF(A6="",1,VLOOKUP(A6,Base,8,FALSE)) -> 1 | L6: 30x10 | O6: =planning!A7 -> assemblage roulé ba 16
A7: assemblage ardillon 30 x 10 | B7: 40911 | C7: 0.54166667 | D7: 0.60138889 | E7: =D7-C7+IF(C7>D7,1) -> 0.059722222 | F7: 0 | G7: 1200 | H7: =G7-F7 -> 1200 | I7: =IF(OR(VALUE(E7)=0,ISERROR(J7),VALUE(J7)=0),"",(H7*60/(E7*1440))/J7) -> 837.2093 | J7: =IF(A7="",1,VLOOKUP(A7,Base,8,FALSE)) -> 1 | O7: =planning!A8 -> assemblage ardillon ba 16
A8: flan équerre halton | B8: 40911 | C8: 0.60208333 | D8: 0.6875 | E8: =D8-C8+IF(C8>D8,1) -> 0.085416667 | F8: 300 | G8: 9700 | H8: =G8-F8 -> 9400 | I8: =IF(OR(VALUE(E8)=0,ISERROR(J8),VALUE(J8)=0),"",(H8*60/(E8*1440))/J8) -> 4585.3659 | J8: =IF(A8="",1,VLOOKUP(A8,Base,8,FALSE)) -> 1 | O8: =planning!A9 -> assemblage roulé ba 18
A9: assemblage ardillon br20 | B9: 40912 | C9: 0.33333333 | D9: 0.5 | E9: =D9-C9+IF(C9>D9,1) -> 0.16666667 | F9: 0 | G9: 4689 | H9: =G9-F9 -> 4689 | I9: =IF(OR(VALUE(E9)=0,ISERROR(J9),VALUE(J9)=0),"",(H9*60/(E9*1440))/J9) -> 1172.25 | J9: =IF(A9="",1,VLOOKUP(A9,Base,8,FALSE)) -> 1 | O9: =planning!A10 -> assemblage ardillon ba18
A10: assemblage ardillon br20 | B10: 40912 | C10: 0.54166667 | D10: 0.59375 | E10: =D10-C10+IF(C10>D10,1) -> 0.052083333 | F10: 4689 | G10: 6000 | H10: =G10-F10 -> 1311 | I10: =IF(OR(VALUE(E10)=0,ISERROR(J10),VALUE(J10)=0),"",(H10*60/(E10*1440))/J10) -> 1048.8 | J10: =IF(A10="",1,VLOOKUP(A10,Base,8,FALSE)) -> 1 | L10: of terminé | O10: =planning!A11 -> assemblage roulé ba 20
A11: cambrage tube | B11: 40912 | C11: 0.59375 | D11: 0.65625 | E11: =D11-C11+IF(C11>D11,1) -> 0.0625 | F11: 8000 | G11: 9000 | H11: =G11-F11 -> 1000 | I11: =IF(OR(VALUE(E11)=0,ISERROR(J11),VALUE(J11)=0),"",(H11*60/(E11*1440))/J11) -> 666.66667 | J11: =IF(A11="",1,VLOOKUP(A11,Base,8,FALSE)) -> 1 | O11: =planning!A12 -> assemblage ardillon ba 20
A12: assemblage ardillon br20 | B12: 40912 | C12: 0.65625 | D12: 0.6875 | E12: =D12-C12+IF(C12>D12,1) -> 0.03125 | F12: 0 | G12: 870 | H12: =G12-F12 -> 870 | I12: =IF(OR(VALUE(E12)=0,ISERROR(J12),VALUE(J12)=0),"",(H12*60/(E12*1440))/J12) -> 1160 | J12: =IF(A12="",1,VLOOKUP(A12,Base,8,FALSE)) -> 1 | O12: =planning!A13 -> assemblage roulé ba 22
A13: assemblage ardillon br20 | B13: 40913 | C13: 0.33333333 | D13: 0.35416667 | E13: =D13-C13+IF(C13>D13,1) -> 0.020833333 | F13: 870 | G13: 1434 | H13: =G13-F13 -> 564 | I13: =IF(OR(VALUE(E13)=0,ISERROR(J13),VALUE(J13)=0),"",(H13*60/(E13*1440))/J13) -> 1128 | J13: =IF(A13="",1,VLOOKUP(A13,Base,8,FALSE)) -> 1 | O13: =planning!A14 -> assemblage ardillon ba 22
A14: rail ouvert fond | B14: 40913 | C14: 0.35416667 | D14: 0.5 | E14: =D14-C14+IF(C14>D14,1) -> 0.14583333 | F14: 0 | G14: 260 | H14: =G14-F14 -> 260 | I14: =IF(OR(VALUE(E14)=0,ISERROR(J14),VALUE(J14)=0),"",(H14*60/(E14*1440))/J14) -> 74.285714 | J14: =IF(A14="",1,VLOOKUP(A14,Base,8,FALSE)) -> 1 | O14: =planning!A15 -> profil u découpe
A15: rail ouvert fond | B15: 40913 | C15: 0.54166667 | D15: 0.6875 | E15: =D15-C15+IF(C15>D15,1) -> 0.14583333 | F15: 260 | G15: 509 | H15: =G15-F15 -> 249 | I15: =IF(OR(VALUE(E15)=0,ISERROR(J15),VALUE(J15)=0),"",(H15*60/(E15*1440))/J15) -> 71.142857 | J15: =IF(A15="",1,VLOOKUP(A15,Base,8,FALSE)) -> 1 | O15: =planning!A16 -> godet tolériane
A16: rail ouvert fond | B16: 40914 | C16: 0.33333333 | D16: 0.5 | E16: =D16-C16+IF(C16>D16,1) -> 0.16666667 | F16: 509 | G16: 815 | H16: =G16-F16 -> 306 | I16: =IF(OR(VALUE(E16)=0,ISERROR(J16),VALUE(J16)=0),"",(H16*60/(E16*1440))/J16) -> 76.5 | J16: =IF(A16="",1,VLOOKUP(A16,Base,8,FALSE)) -> 1 | O16: =planning!A17 -> entretoise sll4+clips
A17: rail ouvert fond | B17: 40914 | C17: 0.54166667 | D17: 0.64583333 | E17: =D17-C17+IF(C17>D17,1) -> 0.10416667 | F17: 815 | G17: 1010 | H17: =G17-F17 -> 195 | I17: =IF(OR(VALUE(E17)=0,ISERROR(J17),VALUE(J17)=0),"",(H17*60/(E17*1440))/J17) -> 78 | J17: =IF(A17="",1,VLOOKUP(A17,Base,8,FALSE)) -> 1 | O17: =planning!A18 -> assemblage anche sampic
A18: rail ouvert fond | B18: 40917 | C18: 0.33333333 | D18: 0.5 | E18: =D18-C18+IF(C18>D18,1) -> 0.16666667 | F18: 1010 | G18: 1310 | H18: =G18-F18 -> 300 | I18: =IF(OR(VALUE(E18)=0,ISERROR(J18),VALUE(J18)=0),"",(H18*60/(E18*1440))/J18) -> 75 | J18: =IF(A18="",1,VLOOKUP(A18,Base,8,FALSE)) -> 1 | O18: =planning!A19 -> assemblage ardillon br25
A19: assemblage roulé br25 | B19: 40917 | C19: 0.54166667 | D19: 0.60416667 | E19: =D19-C19+IF(C19>D19,1) -> 0.0625 | F19: 0 | G19: 1000 | H19: =G19-F19 -> 1000 | I19: =IF(OR(VALUE(E19)=0,ISERROR(J19),VALUE(J19)=0),"",(H19*60/(E19*1440))/J19) -> 666.66667 | J19: =IF(A19="",1,VLOOKUP(A19,Base,8,FALSE)) -> 1 | O19: =planning!A20 -> assemblage roulé br25
A20: assemblage ardillon br25 | B20: 40917 | C20: 0.60416667 | D20: 0.63888889 | E20: =D20-C20+IF(C20>D20,1) -> 0.034722222 | F20: 0 | G20: 1000 | H20: =G20-F20 -> 1000 | I20: =IF(OR(VALUE(E20)=0,ISERROR(J20),VALUE(J20)=0),"",(H20*60/(E20*1440))/J20) -> 1200 | J20: =IF(A20="",1,VLOOKUP(A20,Base,8,FALSE)) -> 1 | O20: =planning!A21 -> assemblage ardillon 30 x 10
A21: rail ouvert fond | B21: 40917 | C21: 0.63888889 | D21: 0.6875 | E21: =D21-C21+IF(C21>D21,1) -> 0.048611111 | F21: 300 | G21: 383 | H21: =G21-F21 -> 83 | I21: =IF(OR(VALUE(E21)=0,ISERROR(J21),VALUE(J21)=0),"",(H21*60/(E21*1440))/J21) -> 71.142857 | J21: =IF(A21="",1,VLOOKUP(A21,Base,8,FALSE)) -> 1 | O21: =planning!A22 -> assemblage roulé br20
A22: rail ouvert fond | B22: 40918 | C22: 0.33333333 | D22: 0.36805556 | E22: =D22-C22+IF(C22>D22,1) -> 0.034722222 | F22: 383 | G22: 444 | H22: =G22-F22 -> 61 | I22: =IF(OR(VALUE(E22)=0,ISERROR(J22),VALUE(J22)=0),"",(H22*60/(E22*1440))/J22) -> 73.2 | J22: =IF(A22="",1,VLOOKUP(A22,Base,8,FALSE)) -> 1 | O22: =planning!A23 -> assemblage ardillon br20
... A24: rail ouvert fond | B24: 40918 | C24: 0.5625 | D24: 0.6875 | E24: =D24-C24+IF(C24>D24,1) -> 0.125 | F24: 240 | G24: 452 | H24: =G24-F24 -> 212 | I24: =IF(OR(VALUE(E24)=0,ISERROR(J24),VALUE(J24)=0),"",(H24*60/(E24*1440))/J24) -> 70.666667 | J24: =IF(A24="",1,VLOOKUP(A24,Base,8,FALSE)) -> 1 | O24: =planning!A25 -> cadre 20/15
A25: rail ouvert fond | B25: 40919 | C25: 0.33333333 | D25: 0.4375 | E25: =D25-C25+IF(C25>D25,1) -> 0.10416667 | F25: 452 | G25: 645 | H25: =G25-F25 -> 193 | I25: =IF(OR(VALUE(E25)=0,ISERROR(J25),VALUE(J25)=0),"",(H25*60/(E25*1440))/J25) -> 77.2 | J25: =IF(A25="",1,VLOOKUP(A25,Base,8,FALSE)) -> 1 | L25: Fin OF | O25: =planning!A26 -> gravure murakami
A26: divers | B26: 40919 | C26: 0.4375 | D26: 0.47916667 | E26: =D26-C26+IF(C26>D26,1) -> 0.041666667 | H26: =G26-F26 -> 0 | I26: =IF(OR(VALUE(E26)=0,ISERROR(J26),VALUE(J26)=0),"",(H26*60/(E26*1440))/J26) -> 0 | J26: =IF(A26="",1,VLOOKUP(A26,Base,8,FALSE)) -> 1 | L26: contrôle rivet | O26: =planning!A27 -> assemblage pégase
A27: assemblage anche sampic | B27: 40919 | C27: 0.47916667 | D27: 0.48958333 | E27: =D27-C27+IF(C27>D27,1) -> 0.010416667 | F27: 0 | G27: 45 | H27: =G27-F27 -> 45 | I27: =IF(OR(VALUE(E27)=0,ISERROR(J27),VALUE(J27)=0),"",(H27*60/(E27*1440))/J27) -> 180 | J27: =IF(A27="",1,VLOOKUP(A27,Base,8,FALSE)) -> 1 | L27: pb avec outil anche 615 | O27: =planning!A28 -> assemblage renfort enchappe
A28: entretoise bora Ø 3,2 | B28: 40919 | C28: 0.49305556 | D28: 0.5 | E28: =D28-C28+IF(C28>D28,1) -> 0.0069444444 | F28: 0 | G28: 21 | H28: =G28-F28 -> 21 | I28: =IF(OR(VALUE(E28)=0,ISERROR(J28),VALUE(J28)=0),"",(H28*60/(E28*1440))/J28) -> 126 | J28: =IF(A28="",1,VLOOKUP(A28,Base,8,FALSE)) -> 1 | O28: =planning!A29 -> accroche assiette
A29: entretoise bora Ø 3,2 | B29: 40919 | C29: 0.5625 | D29: 0.66319444 | E29: =D29-C29+IF(C29>D29,1) -> 0.10069444 | F29: 21 | G29: 1172 | H29: =G29-F29 -> 1151 | I29: =IF(OR(VALUE(E29)=0,ISERROR(J29),VALUE(J29)=0),"",(H29*60/(E29*1440))/J29) -> 476.27586 | J29: =IF(A29="",1,VLOOKUP(A29,Base,8,FALSE)) -> 1 | L29: casse outil | O29: =planning!A30 -> gravure rivet
A30: entretoise bora Ø 4,2 | B30: 40919 | C30: 0.66319444 | D30: 0.6875 | E30: =D30-C30+IF(C30>D30,1) -> 0.024305556 | F30: 0 | G30: 350 | H30: =G30-F30 -> 350 | I30: =IF(OR(VALUE(E30)=0,ISERROR(J30),VALUE(J30)=0),"",(H30*60/(E30*1440))/J30) -> 600 | J30: =IF(A30="",1,VLOOKUP(A30,Base,8,FALSE)) -> 1 | O30: =planning!A31 -> découpe en 2 crèche sifflet
A31: entretoise bora Ø 4,2 | B31: 40920 | C31: 0.33333333 | D31: 0.38541667 | E31: =D31-C31+IF(C31>D31,1) -> 0.052083333 | F31: 350 | G31: 1175 | H31: =G31-F31 -> 825 | I31: =IF(OR(VALUE(E31)=0,ISERROR(J31),VALUE(J31)=0),"",(H31*60/(E31*1440))/J31) -> 660 | J31: =IF(A31="",1,VLOOKUP(A31,Base,8,FALSE)) -> 1 | O31: =planning!A32 -> plaque inventeur pm
A32: entretoise bora Ø 3,2 | B32: 40920 | C32: 0.38541667 | D32: 0.44097222 | E32: =D32-C32+IF(C32>D32,1) -> 0.055555556 | F32: 1172 | G32: 1995 | H32: =G32-F32 -> 823 | I32: =IF(OR(VALUE(E32)=0,ISERROR(J32),VALUE(J32)=0),"",(H32*60/(E32*1440))/J32) -> 617.25 | J32: =IF(A32="",1,VLOOKUP(A32,Base,8,FALSE)) -> 1 | O32: =planning!A33 -> rail ouvert coté 1
A33: entretoise bora Ø 4,2 | B33: 40920 | C33: 0.44097222 | D33: 0.49305556 | E33: =D33-C33+IF(C33>D33,1) -> 0.052083333 | F33: 1175 | G33: 1995 | H33: =G33-F33 -> 820 | I33: =IF(OR(VALUE(E33)=0,ISERROR(J33),VALUE(J33)=0),"",(H33*60/(E33*1440))/J33) -> 656 | J33: =IF(A33="",1,VLOOKUP(A33,Base,8,FALSE)) -> 1 | O33: =planning!A34 -> rail ouvert fond
A34: découpe E plate | B34: 40920 | C34: 0.49652778 | D34: 0.5 | E34: =D34-C34+IF(C34>D34,1) -> 0.0034722222 | F34: 0 | G34: 333 | H34: =G34-F34 -> 333 | I34: =IF(OR(VALUE(E34)=0,ISERROR(J34),VALUE(J34)=0),"",(H34*60/(E34*1440))/J34) -> 3996 | J34: =IF(A34="",1,VLOOKUP(A34,Base,8,FALSE)) -> 1 | O34: =planning!A35 -> assemblage clips chaussure
A35: découpe E plate | B35: 40920 | C35: 0.5625 | D35: 0.6875 | E35: =D35-C35+IF(C35>D35,1) -> 0.125 | F35: 333 | G35: 30170 | H35: =G35-F35 -> 29837 | I35: =IF(OR(VALUE(E35)=0,ISERROR(J35),VALUE(J35)=0),"",(H35*60/(E35*1440))/J35) -> 9945.6667 | J35: =IF(A35="",1,VLOOKUP(A35,Base,8,FALSE)) -> 1 | O35: =planning!A36 -> découpe E plate
A36: découpe E plate | B36: 40921 | C36: 0.33333333 | D36: 0.47222222 | E36: =D36-C36+IF(C36>D36,1) -> 0.13888889 | F36: 30170 | G36: 60600 | H36: =G36-F36 -> 30430 | I36: =IF(OR(VALUE(E36)=0,ISERROR(J36),VALUE(J36)=0),"",(H36*60/(E36*1440))/J36) -> 9129 | J36: =IF(A36="",1,VLOOKUP(A36,Base,8,FALSE)) -> 1 | O36: =planning!A37 -> vernis
B37: 40921 | E37: =D37-C37+IF(C37>D37,1) -> 0 | I37: =IF(OR(VALUE(E37)=0,ISERROR(J37),VALUE(J37)=0),"",(H37*60/(E37*1440))/J37) | J37: =IF(A37="",1,VLOOKUP(A37,Base,8,FALSE)) -> 1 | O37: =planning!A38 -> cambrage tube
E38: =D38-C38+IF(C38>D38,1) -> 0 | I38: =IF(OR(VALUE(E38)=0,ISERROR(J38),VALUE(J38)=0),"",(H38*60/(E38*1440))/J38) | J38: =IF(A38="",1,VLOOKUP(A38,Base,8,FALSE)) -> 1 | O38: =planning!A39 -> gravure crèche
I39: =IF(OR(VALUE(E39)=0,ISERROR(J39),VALUE(J39)=0),"",(H39*60/(E39*1440))/J39) | J39: =IF(A39="",1,VLOOKUP(A39,Base,8,FALSE)) -> 1 | O39: =planning!A40 -> rail ouvert coté 2
I40: =IF(OR(VALUE(E40)=0,ISERROR(J40),VALUE(J40)=0),"",(H40*60/(E40*1440))/J40) | J40: =IF(A40="",1,VLOOKUP(A40,Base,8,FALSE)) -> 1 | O40: =planning!A41 -> soufflage godet
I41: =IF(OR(VALUE(E41)=0,ISERROR(J41),VALUE(J41)=0),"",(H41*60/(E41*1440))/J41) | J41: =IF(A41="",1,VLOOKUP(A41,Base,8,FALSE)) -> 1 | O41: =planning!A42 -> divers
...
