Workbook
Name Base: OFFSET(planning!$A$2:$H$2,,,COUNTA(planning!$A:$A)-1)
Name essai: OFFSET([1]planning!$A$2:$H$2,,,COUNTA([1]planning!$A:$A)-1)

Sheet planning
A1: type de production | B1: client | C1: cadence p/h | D1: unité | E1: nbre jour | F1: quantité à produire | G1: employés | H1: diviseur | I1: stock | J1: infos | K1: priorité | L1: outils monté | M1: prévisions | N1: semaine en cours | O1: moyen humain | Q1: credit 120 jour/4 semaines
A2: découpe flan U | B2: WEST | C2: 3500 | E2: =(F2/C2)/7 -> 0 | F2: 0 | H2: 1 | O2: =SUMIF(G2:G267,N2,E2:E267) -> 0 | Q2: charge de travail( en jour)
A3: profil u cambrage | B3: WEST | C3: 600 | E3: =(F3/C3)/7 -> 0.47619048 | F3: 2000 | H3: 1 | N3: valérie | O3: =SUMIF(G3:G142,N3,E3:E140) -> 0 | Q3: =SUM(E2:E623) -> 142.69848
T4: oui | U4: barre
A5: godet semi libre | B5: BRI | C5: 1700 | E5: =(F5/C5)/7 -> 2.6470588 | F5: 31500 | H5: 1 | J5: avril | O5: =SUMIF(G5:G152,N5,E5:E152) -> 0 | Q5: nb semaines pour 1 pers | T5: non | U5: mètre
A6: godet eclat poudre soleil | B6: BRI | C6: 5000 | E6: =(F6/C6)/7 -> 0 | F6: 0 | H6: 1 | O6: =SUMIF(G6:G152,N6,E6:E152) -> 0 | Q6: =Q3/5 -> 28.539697 | U6: unité
A7: godet tolériane | B7: BRI | C7: 5000 | E7: =(F7/C7)/7 -> 1 | F7: 35000 | H7: 1 | J7: avril | Q7: charge de production( en semaine)
A8: godet mat touch | B8: BRI | C8: 5000 | E8: =(F8/C8)/7 -> 0 | F8: 0 | H8: 1 | Q8: =Q6/6 -> 4.7566161
A9: godet FAP 5C long | B9: BRI | C9: 5000 | E9: =(F9/C9)/7 -> 0.91428571 | F9: 32000 | H9: 1 | J9: mars+avril | O9: =SUMIF(G2:G152,N51,E2:E152) -> 0 | V9: sandrine
A10: godet FAP 5C court | B10: BRI | C10: 7000 | E10: =(F10/C10)/7 -> 0 | F10: 0 | H10: 1 | V10: aliette
A11: godet xxtrème | B11: BRI | C11: 3500 | E11: =(F11/C11)/7 -> 0 | F11: 0 | H11: 1 | V11: ghislaine
A12: godet 50 x 50 | B12: BRI | C12: 5000 | E12: =(F12/C12)/7 -> 0 | F12: 0 | H12: 1 | V12: marie laure
A13: godet teint 48,5 x 43,5 | B13: BRI | C13: 4000 | E13: =(F13/C13)/7 -> 0 | F13: 0 | H13: 1 | V13: valérie
A14: godet eyes brow | B14: BRI | C14: 6000 | E14: =(F14/C14)/7 -> 0 | F14: 0 | H14: 1 | O14: =SUMIF(G2:G152,N35,E2:E152) -> 0 | V14: florence
A15: soufflage godet | B15: BRI | C15: 6000 | E15: =(F15/C15)/7 -> 0 | F15: 0 | H15: 1 | V15: intérim 1
B16: BRI
V17: intérim 2
A18: rail ouvert coté 1 | B18: TEX | C18: 70 | D18: mètre | E18: =(F18/C18)/7 -> 7.5102041 | F18: 3680 | H18: 14 | Q18: =DECALER(planning!$A$2:$H$2;;;NBVAL(planning!$A:$A)-1) | V18: andré
A19: rail ouvert coté 2 | B19: TEX | C19: 80 | E19: =(F19/C19)/7 -> 0 | F19: 0 | H19: 15
A20: rail ouvert fond | B20: TEX | C20: 85 | E20: =(F20/C20)/7 -> 0 | F20: 0 | H20: 1
A21: clip de cisaillement | B21: TEX | C21: 50 | E21: =(F21/C21)/7 -> 0 | F21: 0 | H21: 1
A22: clip coulisse | B22: TEX | C22: 3500 | E22: =(F22/C22)/7 -> 5.5510204 | F22: 136000 | H22: 1
A23: encoche embase | B23: TEX | C23: 800 | E23: =(F23/C23)/7 -> 0 | F23: 0 | H23: 1
A24: embouti capot | B24: TEX | C24: 800 | E24: =(F24/C24)/7 -> 0 | F24: 0 | H24: 1
A25: tournage tube capot | B25: TEX | C25: 130 | E25: =(F25/C25)/7 -> 0 | F25: 0 | H25: 1
A26: assemblage capot + embase | B26: TEX | C26: 280 | E26: =(F26/C26)/7 -> 0.51020408 | F26: 1000 | H26: 1
A27: capot équipé lumiéres | B27: TEX | C27: 800 | E27: =(F27/C27)/7 -> 0 | F27: 0 | H27: 1
A28: capot équipé encoche | B28: TEX | C28: 800 | E28: =(F28/C28)/7 -> 0 | F28: 0 | H28: 1
A29: capot équipé trou 1 | B29: TEX | C29: 800 | E29: =(F29/C29)/7 -> 0 | F29: 0 | H29: 1
A30: capot équipé trou 2 | B30: TEX
A31: capot équipé redressage | B31: TEX | C31: 800 | E31: =(F31/C31)/7 -> 0 | F31: 0 | H31: 1
A32: capot équipé sertissage perle | B32: TEX | C32: 800 | E32: =(F32/C32)/7 -> 0 | F32: 0 | H32: 1
A33: capot équipé présertissage | B33: TEX | C33: 800 | E33: =(F33/C33)/7 -> 0 | F33: 0 | H33: 1
A34: capot équipé sertissage rivet | B34: TEX | C34: 800 | E34: =(F34/C34)/7 -> 0 | F34: 0 | H34: 1
A35: capot équipé taraudage | B35: TEX | C35: 28 | E35: =(F35/C35)/7 -> 6.8877551 | F35: 1350 | H35: 1 | J35: tout à faire | N35: florence
A36: axe oreille soudure | B36: TEX | C36: 800 | E36: =(F36/C36)/7 -> 0 | F36: 0 | H36: 1
A37: axe oreille gravure | B37: TEX | C37: 800 | E37: =(F37/C37)/7 -> 0 | F37: 0 | H37: 1
A38: assemblage embase W | B38: TEX | C38: 600 | E38: =(F38/C38)/7 -> 0 | F38: 0 | H38: 1
A39: soudure embase W | B39: TEX | C39: 400 | E39: =(F39/C39)/7 -> 0 | F39: 0 | H39: 1
A40: support module coté | B40: TEX | C40: 800 | E40: =(F40/C40)/7 -> 0 | F40: 0 | H40: 1
...

Sheet suivi op1
A1: type de production | B1: date | C1: heure de début | D1: heure de fin | E1: durée opération(h) | F1: compteur départ | G1: compteur fin | H1: nbre de pièce | I1: cadence p/h | J1: diviseur | L1: activité annexe
A2: colerette 153 soudure | E2: =D2-C2+IF(C2>D2,1) -> 0 | F2: 0 | G2: 0 | H2: =G2-F2 -> 0 | I2: =IF(OR(VALUE(E2)=0,ISERROR(J2),VALUE(J2)=0),"",(H2*60/(E2*1440))/J2) | J2: =IF(A2="",1,VLOOKUP(A2,Base,8,FALSE)) -> 1 | K2: =IF(ISERROR(VLOOKUP(A2,Base,3,FALSE)),"",IF(VLOOKUP(A2,Base,3,FALSE)>I2,0,1)) -> 1 | O2: =planning!A2 -> découpe flan U
A3: volet 153 poiçonnage | E3: =D3-C3+IF(C3>D3,1) -> 0 | F3: 0 | G3: 0 | H3: =G3-F3 -> 0 | I3: =IF(OR(VALUE(E3)=0,ISERROR(J3),VALUE(J3)=0),"",(H3*60/(E3*1440))/J3) | J3: =IF(A3="",1,VLOOKUP(A3,Base,8,FALSE)) -> 1 | K3: =IF(ISERROR(VLOOKUP(A3,Base,3,FALSE)),"",IF(VLOOKUP(A3,Base,3,FALSE)>I3,0,1)) -> 1 | O3: =planning!A3 -> profil u cambrage
A4: volet 153 cambrage 1 | E4: =D4-C4+IF(C4>D4,1) -> 0 | F4: 0 | G4: 0 | H4: =G4-F4 -> 0 | I4: =IF(OR(VALUE(E4)=0,ISERROR(J4),VALUE(J4)=0),"",(H4*60/(E4*1440))/J4) -> #N/A | J4: =IF(A4="",1,VLOOKUP(A4,Base,8,FALSE)) -> #N/A | K4: =IF(ISERROR(VLOOKUP(A4,Base,3,FALSE)),"",IF(VLOOKUP(A4,Base,3,FALSE)>I4,0,1)) | O4: =planning!A4 -> 0
E5: =D5-C5+IF(C5>D5,1) -> 0 | F5: 0 | G5: 0 | H5: =G5-F5 -> 0 | I5: =IF(OR(VALUE(E5)=0,ISERROR(J5),VALUE(J5)=0),"",(H5*60/(E5*1440))/J5) | J5: =IF(A5="",1,VLOOKUP(A5,Base,8,FALSE)) -> 1 | K5: =IF(ISERROR(VLOOKUP(A5,Base,3,FALSE)),"",IF(VLOOKUP(A5,Base,3,FALSE)>I5,0,1)) | O5: =planning!A5 -> godet semi libre
E6: =D6-C6+IF(C6>D6,1) -> 0 | F6: 0 | G6: 0 | H6: =G6-F6 -> 0 | I6: =IF(OR(VALUE(E6)=0,ISERROR(J6),VALUE(J6)=0),"",(H6*60/(E6*1440))/J6) | J6: =IF(A6="",1,VLOOKUP(A6,Base,8,FALSE)) -> 1 | K6: =IF(ISERROR(VLOOKUP(A6,Base,3,FALSE)),"",IF(VLOOKUP(A6,Base,3,FALSE)>I6,0,1)) | O6: =planning!A6 -> godet eclat poudre soleil
E7: =D7-C7+IF(C7>D7,1) -> 0 | F7: 0 | G7: 0 | H7: =G7-F7 -> 0 | I7: =IF(OR(VALUE(E7)=0,ISERROR(J7),VALUE(J7)=0),"",(H7*60/(E7*1440))/J7) | J7: =IF(A7="",1,VLOOKUP(A7,Base,8,FALSE)) -> 1 | K7: =IF(ISERROR(VLOOKUP(A7,Base,3,FALSE)),"",IF(VLOOKUP(A7,Base,3,FALSE)>I7,0,1)) | O7: =planning!A7 -> godet tolériane
E8: =D8-C8+IF(C8>D8,1) -> 0 | F8: 0 | G8: 0 | H8: =G8-F8 -> 0 | I8: =IF(OR(VALUE(E8)=0,ISERROR(J8),VALUE(J8)=0),"",(H8*60/(E8*1440))/J8) | J8: =IF(A8="",1,VLOOKUP(A8,Base,8,FALSE)) -> 1 | K8: =IF(ISERROR(VLOOKUP(A8,Base,3,FALSE)),"",IF(VLOOKUP(A8,Base,3,FALSE)>I8,0,1)) | O8: =planning!A8 -> godet mat touch
E9: =D9-C9+IF(C9>D9,1) -> 0 | F9: 0 | G9: 0 | H9: =G9-F9 -> 0 | I9: =IF(OR(VALUE(E9)=0,ISERROR(J9),VALUE(J9)=0),"",(H9*60/(E9*1440))/J9) | J9: =IF(A9="",1,VLOOKUP(A9,Base,8,FALSE)) -> 1 | K9: =IF(ISERROR(VLOOKUP(A9,Base,3,FALSE)),"",IF(VLOOKUP(A9,Base,3,FALSE)>I9,0,1)) | O9: =planning!A9 -> godet FAP 5C long
E10: =D10-C10+IF(C10>D10,1) -> 0 | F10: 0 | G10: 0 | H10: =G10-F10 -> 0 | I10: =IF(OR(VALUE(E10)=0,ISERROR(J10),VALUE(J10)=0),"",(H10*60/(E10*1440))/J10) | J10: =IF(A10="",1,VLOOKUP(A10,Base,8,FALSE)) -> 1 | K10: =IF(ISERROR(VLOOKUP(A10,Base,3,FALSE)),"",IF(VLOOKUP(A10,Base,3,FALSE)>I10,0,1)) | O10: =planning!A10 -> godet FAP 5C court
E11: =D11-C11+IF(C11>D11,1) -> 0 | F11: 0 | G11: 0 | H11: =G11-F11 -> 0 | I11: =IF(OR(VALUE(E11)=0,ISERROR(J11),VALUE(J11)=0),"",(H11*60/(E11*1440))/J11) | J11: =IF(A11="",1,VLOOKUP(A11,Base,8,FALSE)) -> 1 | K11: =IF(ISERROR(VLOOKUP(A11,Base,3,FALSE)),"",IF(VLOOKUP(A11,Base,3,FALSE)>I11,0,1)) | O11: =planning!A11 -> godet xxtrème
E12: =D12-C12+IF(C12>D12,1) -> 0 | F12: 0 | G12: 0 | H12: =G12-F12 -> 0 | I12: =IF(OR(VALUE(E12)=0,ISERROR(J12),VALUE(J12)=0),"",(H12*60/(E12*1440))/J12) | J12: =IF(A12="",1,VLOOKUP(A12,Base,8,FALSE)) -> 1 | K12: =IF(ISERROR(VLOOKUP(A12,Base,3,FALSE)),"",IF(VLOOKUP(A12,Base,3,FALSE)>I12,0,1)) | O12: =planning!A12 -> godet 50 x 50
E13: =D13-C13+IF(C13>D13,1) -> 0 | F13: 0 | G13: 0 | H13: =G13-F13 -> 0 | I13: =IF(OR(VALUE(E13)=0,ISERROR(J13),VALUE(J13)=0),"",(H13*60/(E13*1440))/J13) | J13: =IF(A13="",1,VLOOKUP(A13,Base,8,FALSE)) -> 1 | K13: =IF(ISERROR(VLOOKUP(A13,Base,3,FALSE)),"",IF(VLOOKUP(A13,Base,3,FALSE)>I13,0,1)) | O13: =planning!A13 -> godet teint 48,5 x 43,5
E14: =D14-C14+IF(C14>D14,1) -> 0 | F14: 0 | G14: 0 | H14: =G14-F14 -> 0 | I14: =IF(OR(VALUE(E14)=0,ISERROR(J14),VALUE(J14)=0),"",(H14*60/(E14*1440))/J14) | J14: =IF(A14="",1,VLOOKUP(A14,Base,8,FALSE)) -> 1 | K14: =IF(ISERROR(VLOOKUP(A14,Base,3,FALSE)),"",IF(VLOOKUP(A14,Base,3,FALSE)>I14,0,1)) | O14: =planning!A14 -> godet eyes brow
E15: =D15-C15+IF(C15>D15,1) -> 0 | F15: 0 | G15: 0 | H15: =G15-F15 -> 0 | I15: =IF(OR(VALUE(E15)=0,ISERROR(J15),VALUE(J15)=0),"",(H15*60/(E15*1440))/J15) | J15: =IF(A15="",1,VLOOKUP(A15,Base,8,FALSE)) -> 1 | K15: =IF(ISERROR(VLOOKUP(A15,Base,3,FALSE)),"",IF(VLOOKUP(A15,Base,3,FALSE)>I15,0,1)) | O15: =planning!A15 -> soufflage godet
E16: =D16-C16+IF(C16>D16,1) -> 0 | F16: 0 | G16: 0 | H16: =G16-F16 -> 0 | I16: =IF(OR(VALUE(E16)=0,ISERROR(J16),VALUE(J16)=0),"",(H16*60/(E16*1440))/J16) | J16: =IF(A16="",1,VLOOKUP(A16,Base,8,FALSE)) -> 1 | K16: =IF(ISERROR(VLOOKUP(A16,Base,3,FALSE)),"",IF(VLOOKUP(A16,Base,3,FALSE)>I16,0,1)) | O16: =planning!A16 -> 0
... E77: =D77-C77+IF(C77>D77,1) -> 0 | F77: 0 | G77: 0 | H77: =G77-F77 -> 0 | I77: =IF(OR(VALUE(E77)=0,ISERROR(J77),VALUE(J77)=0),"",(H77*60/(E77*1440))/J77) | J77: =IF(A77="",1,VLOOKUP(A77,Base,8,FALSE)) -> 1 | K77: =IF(ISERROR(VLOOKUP(A77,Base,3,FALSE)),"",IF(VLOOKUP(A77,Base,3,FALSE)>I77,0,1)) | O77: =planning!A77 -> gravure murakami
H78: =G78-F78 -> 0 | I78: =IF(OR(VALUE(E78)=0,ISERROR(J78),VALUE(J78)=0),"",(H78*60/(E78*1440))/J78) | J78: =IF(A78="",1,VLOOKUP(A78,Base,8,FALSE)) -> 1 | K78: =IF(ISERROR(VLOOKUP(A78,Base,3,FALSE)),"",IF(VLOOKUP(A78,Base,3,FALSE)>I78,0,1)) | O78: =planning!A78 -> découpe murakami
H79: =G79-F79 -> 0 | O79: =planning!A79 -> assemblage renfort enchappe
O80: =planning!A80 -> piggy strapp boucle+attache
O81: =planning!A81 -> piggy strapp sertissage pions
O82: =planning!A82 -> découpe flan piggy strapp
O83: =planning!A83 -> flan piggy strap tournette
O84: =planning!A84 -> flan piggy strap ouverture
O85: =planning!A85 -> flan piggy strap égalisation
O86: =planning!A86 -> 1/2 de 12 coupé
O87: =planning!A87 -> CAB découpe flan
O88: =planning!A88 -> CAB ajour
O89: =planning!A89 -> CAB matricage
O90: =planning!A90 -> CAB cambrage
O91: =planning!A91 -> dé 1/2 rond de 8 dec
... O399: =planning!A399 -> 0
