Workbook
Name Base: OFFSET(planning!$A$2:$H$2,,,COUNTA(planning!$A:$A)-1)
Name essai: OFFSET([1]planning!$A$2:$H$2,,,COUNTA([1]planning!$A:$A)-1)

Sheet planning
A1: type de production | B1: client | C1: cadence p/h | D1: unité | E1: nbre jour | F1: quantité à produire | G1: employés | H1: diviseur | I1: stock | J1: infos | K1: priorité | L1: outils monté | M1: prévisions | N1: semaine en cours | O1: moyen humain | Q1: credit 120 jour/4 semaines
A2: découpe flan U | B2: WEST | C2: 3500 | E2: =(F2/C2)/7 -> 0 | F2: 0 | H2: 1 | O2: =SUMIF(G2:G267,N2,E2:E267) -> 0 | Q2: charge de travail( en jour)
A3: profil u cambrage | B3: WEST | C3: 600 | E3: =(F3/C3)/7 -> 0.47619048 | F3: 2000 | H3: 1 | N3: valérie | O3: =SUMIF(G3:G142,N3,E3:E140) -> 0 | Q3: =SUM(E2:E623) -> 142.69848
T4: oui | U4: barre
A5: godet semi libre | B5: BRI | C5: 1700 | E5: =(F5/C5)/7 -> 2.6470588 | F5: 31500 | H5: 1 | J5: avril | O5: =SUMIF(G5:G152,N5,E5:E152) -> 0 | Q5: nb semaines pour 1 pers | T5: non | U5: mètre
A6: godet eclat poudre soleil | B6: BRI | C6: 5000 | E6: =(F6/C6)/7 -> 0 | F6: 0 | H6: 1 | O6: =SUMIF(G6:G152,N6,E6:E152) -> 0 | Q6: =Q3/5 -> 28.539697 | U6: unité
A7: godet tolériane | B7: BRI | C7: 5000 | E7: =(F7/C7)/7 -> 1 | F7: 35000 | H7: 1 | J7: avril | Q7: charge de production( en semaine)
A8: godet mat touch | B8: BRI | C8: 5000 | E8: =(F8/C8)/7 -> 0 | F8: 0 | H8: 1 | Q8: =Q6/6 -> 4.7566161
A9: godet FAP 5C long | B9: BRI | C9: 5000 | E9: =(F9/C9)/7 -> 0.91428571 | F9: 32000 | H9: 1 | J9: mars+avril | O9: =SUMIF(G2:G152,N51,E2:E152) -> 0 | V9: sandrine
A10: godet FAP 5C court | B10: BRI | C10: 7000 | E10: =(F10/C10)/7 -> 0 | F10: 0 | H10: 1 | V10: aliette
A11: godet xxtrème | B11: BRI | C11: 3500 | E11: =(F11/C11)/7 -> 0 | F11: 0 | H11: 1 | V11: ghislaine
A12: godet 50 x 50 | B12: BRI | C12: 5000 | E12: =(F12/C12)/7 -> 0 | F12: 0 | H12: 1 | V12: marie laure
A13: godet teint 48,5 x 43,5 | B13: BRI | C13: 4000 | E13: =(F13/C13)/7 -> 0 | F13: 0 | H13: 1 | V13: valérie
A14: godet eyes brow | B14: BRI | C14: 6000 | E14: =(F14/C14)/7 -> 0 | F14: 0 | H14: 1 | O14: =SUMIF(G2:G152,N35,E2:E152) -> 0 | V14: florence
A15: soufflage godet | B15: BRI | C15: 6000 | E15: =(F15/C15)/7 -> 0 | F15: 0 | H15: 1 | V15: intérim 1
B16: BRI
V17: intérim 2
A18: rail ouvert coté 1 | B18: TEX | C18: 70 | D18: mètre | E18: =(F18/C18)/7 -> 7.5102041 | F18: 3680 | H18: 14 | Q18: =DECALER(planning!$A$2:$H$2;;;NBVAL(planning!$A:$A)-1) | V18: andré
A19: rail ouvert coté 2 | B19: TEX | C19: 80 | E19: =(F19/C19)/7 -> 0 | F19: 0 | H19: 15
A20: rail ouvert fond | B20: TEX | C20: 85 | E20: =(F20/C20)/7 -> 0 | F20: 0 | H20: 1
A21: clip de cisaillement | B21: TEX | C21: 50 | E21: =(F21/C21)/7 -> 0 | F21: 0 | H21: 1
A22: clip coulisse | B22: TEX | C22: 3500 | E22: =(F22/C22)/7 -> 5.5510204 | F22: 136000 | H22: 1
A23: encoche embase | B23: TEX | C23: 800 | E23: =(F23/C23)/7 -> 0 | F23: 0 | H23: 1
A24: embouti capot | B24: TEX | C24: 800 | E24: =(F24/C24)/7 -> 0 | F24: 0 | H24: 1
A25: tournage tube capot | B25: TEX | C25: 130 | E25: =(F25/C25)/7 -> 0 | F25: 0 | H25: 1
A26: assemblage capot + embase | B26: TEX | C26: 280 | E26: =(F26/C26)/7 -> 0.51020408 | F26: 1000 | H26: 1
A27: capot équipé lumiéres | B27: TEX | C27: 800 | E27: =(F27/C27)/7 -> 0 | F27: 0 | H27: 1
A28: capot équipé encoche | B28: TEX | C28: 800 | E28: =(F28/C28)/7 -> 0 | F28: 0 | H28: 1
A29: capot équipé trou 1 | B29: TEX | C29: 800 | E29: =(F29/C29)/7 -> 0 | F29: 0 | H29: 1
A30: capot équipé trou 2 | B30: TEX
A31: capot équipé redressage | B31: TEX | C31: 800 | E31: =(F31/C31)/7 -> 0 | F31: 0 | H31: 1
A32: capot équipé sertissage perle | B32: TEX | C32: 800 | E32: =(F32/C32)/7 -> 0 | F32: 0 | H32: 1
A33: capot équipé présertissage | B33: TEX | C33: 800 | E33: =(F33/C33)/7 -> 0 | F33: 0 | H33: 1
A34: capot équipé sertissage rivet | B34: TEX | C34: 800 | E34: =(F34/C34)/7 -> 0 | F34: 0 | H34: 1
A35: capot équipé taraudage | B35: TEX | C35: 28 | E35: =(F35/C35)/7 -> 6.8877551 | F35: 1350 | H35: 1 | J35: tout à faire | N35: florence
A36: axe oreille soudure | B36: TEX | C36: 800 | E36: =(F36/C36)/7 -> 0 | F36: 0 | H36: 1
A37: axe oreille gravure | B37: TEX | C37: 800 | E37: =(F37/C37)/7 -> 0 | F37: 0 | H37: 1
A38: assemblage embase W | B38: TEX | C38: 600 | E38: =(F38/C38)/7 -> 0 | F38: 0 | H38: 1
A39: soudure embase W | B39: TEX | C39: 400 | E39: =(F39/C39)/7 -> 0 | F39: 0 | H39: 1
A40: support module coté | B40: TEX | C40: 800 | E40: =(F40/C40)/7 -> 0 | F40: 0 | H40: 1
A41: support module fond | B41: TEX | C41: 800 | E41: =(F41/C41)/7 -> 0 | F41: 0 | H41: 1
A42: cem découpe flan | B42: TEX | C42: 800 | E42: =(F42/C42)/7 -> 0 | F42: 0 | H42: 1
A43: flan patte extincteur | B43: TEX | C43: 800 | E43: =(F43/C43)/7 -> 0 | F43: 0 | H43: 1
A44: cambrage patte extincteur | B44: TEX | C44: 800 | E44: =(F44/C44)/7 -> 0 | F44: 0 | H44: 1
A45: soudure embase k | B45: TEX | C45: 800 | E45: =(F45/C45)/7 -> 0 | F45: 0 | H45: 1
A46: reprise embase k | B46: TEX | C46: 800 | E46: =(F46/C46)/7 -> 0 | F46: 0 | H46: 4
A47: cambrage patte extincteur | B47: TEX | C47: 800 | E47: 0 | F47: 0 | H47: 1
A48: nettoyage rail | B48: TEX
B49: TEX
A51: assemblage roulé ba 16 | B51: INO | C51: 800 | E51: =(F51/C51)/7 -> 0 | F51: 0 | H51: 1 | N51: marie laure
A52: assemblage ardillon ba 16 | B52: INO | C52: 1000 | E52: =(F52/C52)/7 -> 0 | F52: 0 | H52: 1
A53: assemblage roulé ba 18 | B53: INO | C53: 800 | E53: =(F53/C53)/7 -> 0 | F53: 0 | H53: 1
A54: assemblage ardillon ba18 | B54: INO | C54: 1000 | E54: =(F54/C54)/7 -> 0 | F54: 0 | H54: 1
A55: assemblage roulé ba 20 | B55: INO | C55: 800 | E55: =(F55/C55)/7 -> 0 | F55: 0 | H55: 1
A56: assemblage ardillon ba 20 | B56: INO | C56: 1000 | E56: =(F56/C56)/7 -> 1.9285714 | F56: 13500 | H56: 1
A57: assemblage roulé ba 22 | B57: INO | C57: 800 | E57: =(F57/C57)/7 -> 0 | F57: 0 | H57: 1
A58: assemblage ardillon ba 22 | B58: INO | C58: 1000 | E58: =(F58/C58)/7 -> 0.14285714 | F58: 1000 | H58: 1
B59: INO
B60: INO
A62: assemblage roulé br 16 | B62: LV | C62: 800 | E62: =(F62/C62)/7 -> 0 | F62: 0 | H62: 1
A63: assemblage ardillon br 16 | B63: LV | C63: 1000 | E63: =(F63/C63)/7 -> 0 | F63: 0 | H63: 1
A64: assemblage roulé br20 | B64: LV | C64: 800 | E64: =(F64/C64)/7 -> 2.6785714 | F64: 15000 | H64: 1
A65: assemblage ardillon br20 | B65: LV | C65: 1000 | E65: =(F65/C65)/7 -> 2.1428571 | F65: 15000 | H65: 1
A66: assemblage roulé br25 | B66: LV | C66: 800 | E66: =(F66/C66)/7 -> 0.53571429 | F66: 3000 | H66: 1
A67: assemblage ardillon br25 | B67: LV | C67: 1000 | E67: =(F67/C67)/7 -> 0.71428571 | F67: 5000 | H67: 1
A68: assemblage ardillon 30 x 10 | B68: LV | C68: 850 | E68: =(F68/C68)/7 -> 0.33613445 | F68: 2000 | H68: 1
A69: assemblage boucle vélo | B69: LV | C69: 550 | E69: =(F69/C69)/7 -> 1.2987013 | F69: 5000 | H69: 1
A70: gravure rivet | B70: LV | C70: 1000 | E70: =(F70/C70)/7 -> 1.4285714 | F70: 10000 | H70: 1 | I70: oui
A71: tirette erode GM | B71: LV | C71: 800 | E71: =(F71/C71)/7 -> 0 | F71: 0 | H71: 2
A72: Tirette erode PM | B72: LV | C72: 800 | E72: =(F72/C72)/7 -> 0 | F72: 0 | H72: 1
A73: cadre 40/20 découpe | B73: LV | C73: 800 | E73: =(F73/C73)/7 -> 0 | F73: 0 | H73: 1
A74: cadre 40/20 matricage | B74: LV | C74: 800 | E74: =(F74/C74)/7 -> 0 | F74: 0 | H74: 1
A75: boucle de serrage 40/20 | B75: LV | C75: 800 | E75: =(F75/C75)/7 -> 0 | F75: 0 | H75: 1
A76: cadre 20/15 | B76: LV | C76: 3000 | E76: =(F76/C76)/7 -> 3.8095238 | F76: 80000 | H76: 1
A77: gravure murakami | B77: LV | C77: 450 | E77: =(F77/C77)/7 -> 6.3492063 | F77: 20000 | H77: 2
A78: découpe murakami | B78: LV | C78: 2500 | E78: =(F78/C78)/7 -> 1.1428571 | F78: 20000 | H78: 1
A79: assemblage renfort enchappe | B79: LV | C79: 250 | E79: =(F79/C79)/7 -> 0.57142857 | F79: 1000 | H79: 1
A80: piggy strapp boucle+attache | B80: LV | C80: 500 | E80: =(F80/C80)/7 -> 0 | F80: 0 | H80: 1
A81: piggy strapp sertissage pions | B81: LV | C81: 200 | E81: =(F81/C81)/7 -> 0.35714286 | F81: 500 | H81: 1 | J81: attention plus de plot avant fin mars (stock 500)
A82: découpe flan piggy strapp | B82: LV | C82: 800 | E82: =(F82/C82)/7 -> 0 | F82: 0 | H82: 1
A83: flan piggy strap tournette | B83: LV | C83: 800 | E83: =(F83/C83)/7 -> 0 | F83: 0 | H83: 1
A84: flan piggy strap ouverture | B84: LV | C84: 800 | E84: =(F84/C84)/7 -> 0 | F84: 0 | H84: 1
A85: flan piggy strap égalisation | B85: LV | C85: 800 | E85: =(F85/C85)/7 -> 0 | F85: 0 | H85: 1
A86: 1/2 de 12 coupé | B86: LV | C86: 800 | E86: =(F86/C86)/7 -> 0 | F86: 0 | H86: 1
A87: CAB découpe flan | B87: LV | C87: 800 | E87: =(F87/C87)/7 -> 0 | F87: 0 | H87: 1
A88: CAB ajour | B88: LV | C88: 800 | E88: =(F88/C88)/7 -> 0.89285714 | F88: 5000 | H88: 1 | I88: oui
A89: CAB matricage | B89: LV | C89: 800 | E89: =(F89/C89)/7 -> 0.53571429 | F89: 3000 | H89: 1
A90: CAB cambrage | B90: LV | C90: 800 | E90: =(F90/C90)/7 -> 0 | F90: 0 | H90: 1
A91: dé 1/2 rond de 8 dec | B91: LV | C91: 800 | E91: =(F91/C91)/7 -> 0 | F91: 0 | H91: 1
A92: agraffe découpe | B92: LV | C92: 800 | E92: =(F92/C92)/7 -> 0 | F92: 0 | H92: 1
A93: équerre cloche découpe | B93: LV | C93: 800 | E93: =(F93/C93)/7 -> 0 | F93: 0 | H93: 1
A94: équerre cloche matricage | B94: LV | C94: 800 | E94: =(F94/C94)/7 -> 0 | F94: 0 | H94: 1
A95: équerre cloche soudure | B95: LV | C95: 800 | E95: =(F95/C95)/7 -> 0 | F95: 0 | H95: 1
A96: équerre cloche cambrage | B96: LV | C96: 800 | E96: =(F96/C96)/7 -> 0 | F96: 0 | H96: 1
A97: cadre de reglage découpe | B97: LV | C97: 800 | E97: =(F97/C97)/7 -> 0 | F97: 0 | H97: 1
A98: cadre de reglage arrasage | B98: LV | C98: 800 | E98: =(F98/C98)/7 -> 0 | F98: 0 | H98: 1
A104: plaque inventeur ppm | B104: LASC | C104: 600 | E104: =(F104/C104)/7 -> 0 | F104: 0 | H104: 1
A105: plaque inventeur pm | B105: LASC | C105: 600 | E105: =(F105/C105)/7 -> 9.5238095 | F105: 40000 | H105: 1
A106: plaque st valentin | B106: LASC | C106: 2500 | E106: =(F106/C106)/7 -> 0.57142857 | F106: 10000 | H106: 1
A107: pontet lasco | B107: LASC | C107: 1200 | E107: =(F107/C107)/7 -> 0 | F107: 0 | H107: 1 | J107: 120000
...

Sheet suivi op1
A1: type de production | B1: date | C1: heure de début | D1: heure de fin | E1: durée opération(h) | F1: compteur départ | G1: compteur fin | H1: nbre de pièce | I1: cadence p/h | J1: diviseur | L1: activité annexe
A2: colerette 153 soudure | E2: =D2-C2+IF(C2>D2,1) -> 0 | F2: 0 | G2: 0 | H2: =G2-F2 -> 0 | I2: =IF(OR(VALUE(E2)=0,ISERROR(J2),VALUE(J2)=0),"",(H2*60/(E2*1440))/J2) | J2: =IF(A2="",1,VLOOKUP(A2,Base,8,FALSE)) -> 1 | K2: =IF(ISERROR(VLOOKUP(A2,Base,3,FALSE)),"",IF(VLOOKUP(A2,Base,3,FALSE)>I2,0,1)) -> 1 | O2: =planning!A2 -> découpe flan U
A3: volet 153 poiçonnage | E3: =D3-C3+IF(C3>D3,1) -> 0 | F3: 0 | G3: 0 | H3: =G3-F3 -> 0 | I3: =IF(OR(VALUE(E3)=0,ISERROR(J3),VALUE(J3)=0),"",(H3*60/(E3*1440))/J3) | J3: =IF(A3="",1,VLOOKUP(A3,Base,8,FALSE)) -> 1 | K3: =IF(ISERROR(VLOOKUP(A3,Base,3,FALSE)),"",IF(VLOOKUP(A3,Base,3,FALSE)>I3,0,1)) -> 1 | O3: =planning!A3 -> profil u cambrage
A4: volet 153 cambrage 1 | E4: =D4-C4+IF(C4>D4,1) -> 0 | F4: 0 | G4: 0 | H4: =G4-F4 -> 0 | I4: =IF(OR(VALUE(E4)=0,ISERROR(J4),VALUE(J4)=0),"",(H4*60/(E4*1440))/J4) -> #N/A | J4: =IF(A4="",1,VLOOKUP(A4,Base,8,FALSE)) -> #N/A | K4: =IF(ISERROR(VLOOKUP(A4,Base,3,FALSE)),"",IF(VLOOKUP(A4,Base,3,FALSE)>I4,0,1)) | O4: =planning!A4 -> 0
E5: =D5-C5+IF(C5>D5,1) -> 0 | F5: 0 | G5: 0 | H5: =G5-F5 -> 0 | I5: =IF(OR(VALUE(E5)=0,ISERROR(J5),VALUE(J5)=0),"",(H5*60/(E5*1440))/J5) | J5: =IF(A5="",1,VLOOKUP(A5,Base,8,FALSE)) -> 1 | K5: =IF(ISERROR(VLOOKUP(A5,Base,3,FALSE)),"",IF(VLOOKUP(A5,Base,3,FALSE)>I5,0,1)) | O5: =planning!A5 -> godet semi libre
E6: =D6-C6+IF(C6>D6,1) -> 0 | F6: 0 | G6: 0 | H6: =G6-F6 -> 0 | I6: =IF(OR(VALUE(E6)=0,ISERROR(J6),VALUE(J6)=0),"",(H6*60/(E6*1440))/J6) | J6: =IF(A6="",1,VLOOKUP(A6,Base,8,FALSE)) -> 1 | K6: =IF(ISERROR(VLOOKUP(A6,Base,3,FALSE)),"",IF(VLOOKUP(A6,Base,3,FALSE)>I6,0,1)) | O6: =planning!A6 -> godet eclat poudre soleil
E7: =D7-C7+IF(C7>D7,1) -> 0 | F7: 0 | G7: 0 | H7: =G7-F7 -> 0 | I7: =IF(OR(VALUE(E7)=0,ISERROR(J7),VALUE(J7)=0),"",(H7*60/(E7*1440))/J7) | J7: =IF(A7="",1,VLOOKUP(A7,Base,8,FALSE)) -> 1 | K7: =IF(ISERROR(VLOOKUP(A7,Base,3,FALSE)),"",IF(VLOOKUP(A7,Base,3,FALSE)>I7,0,1)) | O7: =planning!A7 -> godet tolériane
E8: =D8-C8+IF(C8>D8,1) -> 0 | F8: 0 | G8: 0 | H8: =G8-F8 -> 0 | I8: =IF(OR(VALUE(E8)=0,ISERROR(J8),VALUE(J8)=0),"",(H8*60/(E8*1440))/J8) | J8: =IF(A8="",1,VLOOKUP(A8,Base,8,FALSE)) -> 1 | K8: =IF(ISERROR(VLOOKUP(A8,Base,3,FALSE)),"",IF(VLOOKUP(A8,Base,3,FALSE)>I8,0,1)) | O8: =planning!A8 -> godet mat touch
E9: =D9-C9+IF(C9>D9,1) -> 0 | F9: 0 | G9: 0 | H9: =G9-F9 -> 0 | I9: =IF(OR(VALUE(E9)=0,ISERROR(J9),VALUE(J9)=0),"",(H9*60/(E9*1440))/J9) | J9: =IF(A9="",1,VLOOKUP(A9,Base,8,FALSE)) -> 1 | K9: =IF(ISERROR(VLOOKUP(A9,Base,3,FALSE)),"",IF(VLOOKUP(A9,Base,3,FALSE)>I9,0,1)) | O9: =planning!A9 -> godet FAP 5C long
E10: =D10-C10+IF(C10>D10,1) -> 0 | F10: 0 | G10: 0 | H10: =G10-F10 -> 0 | I10: =IF(OR(VALUE(E10)=0,ISERROR(J10),VALUE(J10)=0),"",(H10*60/(E10*1440))/J10) | J10: =IF(A10="",1,VLOOKUP(A10,Base,8,FALSE)) -> 1 | K10: =IF(ISERROR(VLOOKUP(A10,Base,3,FALSE)),"",IF(VLOOKUP(A10,Base,3,FALSE)>I10,0,1)) | O10: =planning!A10 -> godet FAP 5C court
E11: =D11-C11+IF(C11>D11,1) -> 0 | F11: 0 | G11: 0 | H11: =G11-F11 -> 0 | I11: =IF(OR(VALUE(E11)=0,ISERROR(J11),VALUE(J11)=0),"",(H11*60/(E11*1440))/J11) | J11: =IF(A11="",1,VLOOKUP(A11,Base,8,FALSE)) -> 1 | K11: =IF(ISERROR(VLOOKUP(A11,Base,3,FALSE)),"",IF(VLOOKUP(A11,Base,3,FALSE)>I11,0,1)) | O11: =planning!A11 -> godet xxtrème
E12: =D12-C12+IF(C12>D12,1) -> 0 | F12: 0 | G12: 0 | H12: =G12-F12 -> 0 | I12: =IF(OR(VALUE(E12)=0,ISERROR(J12),VALUE(J12)=0),"",(H12*60/(E12*1440))/J12) | J12: =IF(A12="",1,VLOOKUP(A12,Base,8,FALSE)) -> 1 | K12: =IF(ISERROR(VLOOKUP(A12,Base,3,FALSE)),"",IF(VLOOKUP(A12,Base,3,FALSE)>I12,0,1)) | O12: =planning!A12 -> godet 50 x 50
E13: =D13-C13+IF(C13>D13,1) -> 0 | F13: 0 | G13: 0 | H13: =G13-F13 -> 0 | I13: =IF(OR(VALUE(E13)=0,ISERROR(J13),VALUE(J13)=0),"",(H13*60/(E13*1440))/J13) | J13: =IF(A13="",1,VLOOKUP(A13,Base,8,FALSE)) -> 1 | K13: =IF(ISERROR(VLOOKUP(A13,Base,3,FALSE)),"",IF(VLOOKUP(A13,Base,3,FALSE)>I13,0,1)) | O13: =planning!A13 -> godet teint 48,5 x 43,5
E14: =D14-C14+IF(C14>D14,1) -> 0 | F14: 0 | G14: 0 | H14: =G14-F14 -> 0 | I14: =IF(OR(VALUE(E14)=0,ISERROR(J14),VALUE(J14)=0),"",(H14*60/(E14*1440))/J14) | J14: =IF(A14="",1,VLOOKUP(A14,Base,8,FALSE)) -> 1 | K14: =IF(ISERROR(VLOOKUP(A14,Base,3,FALSE)),"",IF(VLOOKUP(A14,Base,3,FALSE)>I14,0,1)) | O14: =planning!A14 -> godet eyes brow
E15: =D15-C15+IF(C15>D15,1) -> 0 | F15: 0 | G15: 0 | H15: =G15-F15 -> 0 | I15: =IF(OR(VALUE(E15)=0,ISERROR(J15),VALUE(J15)=0),"",(H15*60/(E15*1440))/J15) | J15: =IF(A15="",1,VLOOKUP(A15,Base,8,FALSE)) -> 1 | K15: =IF(ISERROR(VLOOKUP(A15,Base,3,FALSE)),"",IF(VLOOKUP(A15,Base,3,FALSE)>I15,0,1)) | O15: =planning!A15 -> soufflage godet
E16: =D16-C16+IF(C16>D16,1) -> 0 | F16: 0 | G16: 0 | H16: =G16-F16 -> 0 | I16: =IF(OR(VALUE(E16)=0,ISERROR(J16),VALUE(J16)=0),"",(H16*60/(E16*1440))/J16) | J16: =IF(A16="",1,VLOOKUP(A16,Base,8,FALSE)) -> 1 | K16: =IF(ISERROR(VLOOKUP(A16,Base,3,FALSE)),"",IF(VLOOKUP(A16,Base,3,FALSE)>I16,0,1)) | O16: =planning!A16 -> 0
... E77: =D77-C77+IF(C77>D77,1) -> 0 | F77: 0 | G77: 0 | H77: =G77-F77 -> 0 | I77: =IF(OR(VALUE(E77)=0,ISERROR(J77),VALUE(J77)=0),"",(H77*60/(E77*1440))/J77) | J77: =IF(A77="",1,VLOOKUP(A77,Base,8,FALSE)) -> 1 | K77: =IF(ISERROR(VLOOKUP(A77,Base,3,FALSE)),"",IF(VLOOKUP(A77,Base,3,FALSE)>I77,0,1)) | O77: =planning!A77 -> gravure murakami
H78: =G78-F78 -> 0 | I78: =IF(OR(VALUE(E78)=0,ISERROR(J78),VALUE(J78)=0),"",(H78*60/(E78*1440))/J78) | J78: =IF(A78="",1,VLOOKUP(A78,Base,8,FALSE)) -> 1 | K78: =IF(ISERROR(VLOOKUP(A78,Base,3,FALSE)),"",IF(VLOOKUP(A78,Base,3,FALSE)>I78,0,1)) | O78: =planning!A78 -> découpe murakami
H79: =G79-F79 -> 0 | O79: =planning!A79 -> assemblage renfort enchappe
O80: =planning!A80 -> piggy strapp boucle+attache
O81: =planning!A81 -> piggy strapp sertissage pions
O82: =planning!A82 -> découpe flan piggy strapp
O83: =planning!A83 -> flan piggy strap tournette
O84: =planning!A84 -> flan piggy strap ouverture
O85: =planning!A85 -> flan piggy strap égalisation
O86: =planning!A86 -> 1/2 de 12 coupé
O87: =planning!A87 -> CAB découpe flan
O88: =planning!A88 -> CAB ajour
O89: =planning!A89 -> CAB matricage
O90: =planning!A90 -> CAB cambrage
O91: =planning!A91 -> dé 1/2 rond de 8 dec
... O399: =planning!A399 -> 0
