Workbook

Sheet planning
A1: type de production | B1: client | C1: cadence p/h | D1: unité | E1: nbre jour | F1: quantité à produire | G1: employés
A2: chape crochet x | C2: 3500 | D2: Unit | E2: =(F2/C2)/7 -> 0 | F2: 0 | M2: aliette
A3: assemblage boucle vélo | C3: 535 | D3: Unit | E3: =(F3/C3)/7 -> 1.3351135 | F3: 5000 | M3: valérie
A4: godet semi libre | C4: 2500 | D4: Unit | E4: =(F4/C4)/7 -> 0 | F4: 0 | M4: sandrine
A5: godet eclat poudre soleil | C5: 6000 | E5: =(F5/C5)/7 -> 0 | F5: 0 | M5: ghislaine
A6: capot équipé | C6: 28 | E6: =(F6/C6)/7 -> 0 | F6: 0 | M6: florence
A7: assemblage roulé ba 16 | C7: 800 | E7: =(F7/C7)/7 -> 0 | M7: marie laure
A8: assemblage ardillon ba 16 | C8: 1000 | E8: =(F8/C8)/7 -> 0
A9: assemblage roulé ba 18 | C9: 800 | E9: =(F9/C9)/7 -> 0
A10: assemblage ardillon ba18 | C10: 1000 | E10: =(F10/C10)/7 -> 0
A11: assemblage roulé ba 20 | C11: 800 | E11: =(F11/C11)/7 -> 0 | F11: 0
A12: assemblage ardillon ba 20 | C12: 1000 | E12: =(F12/C12)/7 -> 0 | F12: 0
A13: assemblage roulé ba 22 | C13: 800 | E13: =(F13/C13)/7 -> 0
A14: assemblage ardillon ba 22 | C14: 1000 | E14: =(F14/C14)/7 -> 0
A15: profil u | C15: 800 | E15: =(F15/C15)/7 -> 1.7857143 | F15: 10000
A16: godet tolériane | C16: 5000 | E16: =(F16/C16)/7 -> 0.91428571 | F16: 32000
A17: entretoise sll4+clips | C17: 100 | E17: =(F17/C17)/7 -> 8.7142857 | F17: 6100 | G17: marie laure
A18: assemblage anche sampic | C18: 200 | E18: =(F18/C18)/7 -> 0 | F18: 0
A19: assemblage ardillon br25 | C19: 1000 | E19: =(F19/C19)/7 -> 2.1428571 | F19: 15000
A20: assemblage roulé br25 | C20: 800 | E20: =(F20/C20)/7 -> 0.89285714 | F20: 5000 | G20: sandrine
A21: assemblage ardillon 30 x 10 | C21: 850 | E21: =(F21/C21)/7 -> 0 | F21: 0
A22: assemblage roulé br20 | C22: 800 | E22: =(F22/C22)/7 -> 0.89285714 | F22: 5000
A23: assemblage ardillon br20 | C23: 1000 | E23: =(F23/C23)/7 -> 0.71428571 | F23: 5000
A24: cadre 40/20 matricage | C24: 800 | E24: =(F24/C24)/7 -> 0 | F24: 0
A25: cadre 20/15 | C25: 3500 | E25: =(F25/C25)/7 -> 4.0816327 | F25: 100000 | G25: valérie | M25: oui
A26: gravure murakami | C26: 500 | E26: =(F26/C26)/7 -> 5.7142857 | F26: 20000 | M26: non
A27: assemblage pégase | C27: 200 | E27: =(F27/C27)/7 -> 0 | F27: 0
A28: assemblage renfort enchappe | C28: 300 | E28: =(F28/C28)/7 -> 0.47619048 | F28: 1000
A29: accroche assiette | C29: 100 | E29: =(F29/C29)/7 -> 2.8571429 | F29: 2000
A30: gravure rivet | C30: 850 | E30: =(F30/C30)/7 -> 2.5210084 | F30: 15000
A31: découpe en 2 crèche sifflet | C31: 2000 | E31: =(F31/C31)/7 -> 0 | F31: 0
A32: plaque inventeur pm | C32: 170 | E32: =(F32/C32)/7 -> 8.4033613 | F32: 10000 | G32: ghislaine
A33: rail ouvert coté 1 | C33: 70 | D33: Barre | E33: =(F33/C33)/7 -> 0 | F33: 0
A34: rail ouvert fond | C34: 75 | D34: Barre | E34: =(F34/C34)/7 -> 1.9047619 | F34: 1000 | P34: Unit
A35: assemblage clips | C35: 200 | E35: =(F35/C35)/7 -> 2.1428571 | F35: 3000 | P35: Barre
A36: découpe E plate | C36: 200000 | D36: Unit | E36: =(F36/C36)/7 -> 14.285714 | F36: 20000000 | P36: Mètre
A37: vernis | E37: 5 | G37: florence
A38: cambrage tube | C38: 660 | E38: =(F38/C38)/7 -> 0 | F38: 0
A39: gravure crèche | C39: 900 | E39: =(F39/C39)/7 -> 0.15873016 | F39: 1000
A40: rail ouvert coté 2 | C40: 80 | D40: Barre | E40: =(F40/C40)/7 -> 0 | F40: 0
...

Sheet suivi 
A1: type de production | B1: date | C1: heure de début | D1: heure de fin | E1: durée opération(h) | F1: compteur départ | G1: compteur fin | H1: nbre de pièce | I1: cadence | M1: =planning!A2 -> chape crochet x
A2: assemblage pégase | B2: 40910 | C2: 0.33333333 | D2: 0.42361111 | E2: =D2-C2+IF(C2>D2,1) -> 0.090277778 | F2: 175 | G2: 593 | H2: =G2-F2 -> 418 | I2: =H2*60/(E2*1440) -> 192.92308 | M2: =planning!A3 -> assemblage boucle vélo
A3: rail ouvert coté 1 | B3: 40910 | C3: 0.42361111 | D3: 0.5 | E3: =D3-C3+IF(C3>D3,1) -> 0.076388889 | F3: 17800 | G3: 19400 | H3: =G3-F3 -> 1600 | I3: =H3*60/(E3*1440) -> 872.72727 | M3: =planning!A4 -> godet semi libre
A4: rail ouvert coté 1 | B4: 40910 | C4: 0.5625 | D4: 0.6875 | E4: =D4-C4+IF(C4>D4,1) -> 0.125 | F4: 19400 | G4: 22471 | H4: =G4-F4 -> 3071 | I4: =H4*60/(E4*1440) -> 1023.6667 | M4: =planning!A5 -> godet eclat poudre soleil
A5: rail ouvert coté 1 | B5: 40911 | C5: 0.33333333 | D5: 0.5 | E5: =D5-C5+IF(C5>D5,1) -> 0.16666667 | F5: 22471 | G5: 26140 | H5: =G5-F5 -> 3669 | I5: =H5*60/(E5*1440) -> 917.25 | M5: =planning!A6 -> capot équipé
A6: rail ouvert coté 1 | B6: 40911 | C6: 0.5625 | D6: 0.6875 | E6: =D6-C6+IF(C6>D6,1) -> 0.125 | F6: 26140 | G6: 29140 | H6: =G6-F6 -> 3000 | I6: =H6*60/(E6*1440) -> 1000 | M6: =planning!A7 -> assemblage roulé ba 16
A7: rail ouvert coté 2 | B7: 40912 | C7: 0.33333333 | D7: 0.5 | E7: =D7-C7+IF(C7>D7,1) -> 0.16666667 | F7: 0 | G7: 5027 | H7: =G7-F7 -> 5027 | I7: =H7*60/(E7*1440) -> 1256.75 | M7: =planning!A8 -> assemblage ardillon ba 16
A8: rail ouvert coté 2 | B8: 40912 | C8: 0.5625 | D8: 0.6875 | E8: =D8-C8+IF(C8>D8,1) -> 0.125 | F8: 5027 | G8: 9013 | H8: =G8-F8 -> 3986 | I8: =H8*60/(E8*1440) -> 1328.6667 | M8: =planning!A9 -> assemblage roulé ba 18
A9: rail ouvert coté 2 | B9: 40913 | C9: 0.33333333 | D9: 0.5 | E9: =D9-C9+IF(C9>D9,1) -> 0.16666667 | F9: 9013 | G9: 14400 | H9: =G9-F9 -> 5387 | I9: =H9*60/(E9*1440) -> 1346.75 | M9: =planning!A10 -> assemblage ardillon ba18
A10: rail ouvert coté 2 | B10: 40913 | C10: 0.5625 | D10: 0.6875 | E10: =D10-C10+IF(C10>D10,1) -> 0.125 | F10: 14400 | G10: 18900 | H10: =G10-F10 -> 4500 | I10: =H10*60/(E10*1440) -> 1500 | M10: =planning!A11 -> assemblage roulé ba 20
A11: rail ouvert coté 2 | B11: 40914 | C11: 0.33333333 | D11: 0.5 | E11: =D11-C11+IF(C11>D11,1) -> 0.16666667 | F11: 18900 | G11: 24366 | H11: =G11-F11 -> 5466 | I11: =H11*60/(E11*1440) -> 1366.5 | M11: =planning!A12 -> assemblage ardillon ba 20
A12: rail ouvert coté 2 | B12: 40914 | C12: 0.54166667 | D12: 0.64583333 | E12: =D12-C12+IF(C12>D12,1) -> 0.10416667 | F12: 24366 | G12: 27444 | H12: =G12-F12 -> 3078 | I12: =H12*60/(E12*1440) -> 1231.2 | M12: =planning!A13 -> assemblage roulé ba 22
A13: rail ouvert coté 2 | B13: 40917 | C13: 0.33333333 | D13: 0.40972222 | E13: =D13-C13+IF(C13>D13,1) -> 0.076388889 | F13: 27444 | G13: 30116 | H13: =G13-F13 -> 2672 | I13: =H13*60/(E13*1440) -> 1457.4545 | M13: =planning!A14 -> assemblage ardillon ba 22
... A15: plaque inventeur pm | B15: 40917 | C15: 0.5625 | D15: 0.6875 | E15: =D15-C15+IF(C15>D15,1) -> 0.125 | F15: 339 | G15: 2257 | H15: =G15-F15 -> 1918 | I15: =H15*60/(E15*1440) -> 639.33333 | M15: =planning!A16 -> godet tolériane
A16: plaque inventeur pm | B16: 40918 | C16: 0.33333333 | D16: 0.5 | E16: =D16-C16+IF(C16>D16,1) -> 0.16666667 | F16: 2257 | H16: =G16-F16 -> -2257 | I16: =H16*60/(E16*1440) -> -564.25 | M16: =planning!A17 -> entretoise sll4+clips
M17: =planning!A18 -> assemblage anche sampic
M18: =planning!A19 -> assemblage ardillon br25
C19: I7 est une cadence horaire | M19: =planning!A20 -> assemblage roulé br25
C20: suivant le type de production | M20: =planning!A21 -> assemblage ardillon 30 x 10
B21: ici | C21: A7 (rail ouvert coté 2)la valeur de I7 est à diviser par une valeur (ici 2) | M21: =planning!A22 -> assemblage roulé br20
B22: mais | C22: si en A7 j'avais produit des rails ouvert coté 1 alors I7 est à diviser par 3 | M22: =planning!A23 -> assemblage ardillon br20
M23: =planning!A24 -> cadre 40/20 matricage
C24: je souhaite conditionner le resultat en I en fonction du type de production (menu déroulant en A) | M24: =planning!A25 -> cadre 20/15
C25: la liste du type de production se retrouve sur la feuille planning | M25: =planning!A26 -> gravure murakami
M26: =[0]!D15dsdsd -> #NAME?
M27: =planning!A28 -> assemblage renfort enchappe
M28: =planning!A29 -> accroche assiette
M29: =planning!A30 -> gravure rivet
M30: =planning!A31 -> découpe en 2 crèche sifflet
M31: =planning!A32 -> plaque inventeur pm
M32: =planning!A33 -> rail ouvert coté 1
M33: =planning!A34 -> rail ouvert fond
M34: =planning!A35 -> assemblage clips
M35: =planning!A36 -> découpe E plate
M36: =planning!A37 -> vernis
M37: =planning!A38 -> cambrage tube
M38: =planning!A39 -> gravure crèche
... M52: =planning!A53 -> 0
M53: =planning!A86 -> 0
M54: =planning!A55 -> 0
...
