Workbook

Sheet Feuil1
A1: J an | B1: Gare | C1: Article | D1: xA | E1: top1000 | F1: Désignation article | G1: Qté PIC | H1: PIC URG | I1: DONT VOR | J1: Pic AUTRE | K1: nb lignes cdes client | L1: Nb URG | M1: Nb AUTRE | N1: En crs | O1: En fab | P1: Bloq.dep | Q1: Stock | R1: Dt MG04-8 | S1: Retard | T1: Anc. cpte | U1: Délai | V1: Commentaire 1 | W1: Ges | X1: Cause initiale | Y1: MAJ C.I. | Z1: Auteur C.I. | AA1: Evolution | AB1: MAJ Evo | AC1: Evo Auteur | AD1: Délai du Délai | AE1: MAJ D.D. | AF1: Auteur D.D. | AG1: Criticité | AH1: MAJ Crit | AI1: Auteur Crit | AJ1: Commentaire 2 | AK1: Commentaire 3 | AL1: Commentaire 4 | AM1: Commentaire 5 | AN1: Team ? | AO1: pic_new ? | AP1: délai ? | AQ1: délai valable ? | AR1: Infos | AS1: Etat ZVPI | AT1: Responsibility | AU1: Cause | AV1: Week
A2: 17 | B2: G0 | C2: 712560 | D2: CA | F2: JOINT CIRC.PLAT 26,5X32X2-CUIVRE | G2: 2214 | H2: 0 | I2: 0 | J2: 2034 | K2: 9 | L2: 0 | M2: 1 | N2: 0 | O2: 0 | P2: 280 | Q2: 1106 | R2: 966 | S2: 0 | T2: 76812.00 | U2: 42086 | V2: FB 04.03: 4000 p le 19/03 + 23/04 | W2: 32 | X2: 52 - Consos imprévisibles | Y2: 42067 | Z2: F.BURCICA R395634 | AB2: 00.00.0000 | AE2: 00.00.0000 | AG2: Moyenne (environ 1 mois) | AH2: 42067 | AI2: F.BURCICA R395634 | AN2: CABS | AP2: o | AQ2: Délai valable | AR2: Infos clients | AS2: 1 - Délai(s) valide(s) | AT2: 5x - Others | AU2: 52 | AV2: 11
A3: 7 | B3: G4 | C3: 7400983828 | F3: VIS H EMB M10X150 L25 8.8 FE/ZN8 | G3: 870 | H3: 0 | I3: 0 | J3: 870 | K3: 1 | L3: 0 | M3: 1 | N3: 0 | O3: 0 | P3: 0 | Q3: 150 | R3: 0 | S3: 525 | T3: 21887.PP00 | U3: 42054 | W3: 72 | Y3: 00.00.0000 | AB3: 00.00.0000 | AE3: 00.00.0000 | AH3: 00.00.0000 | AN3: GENT | AP3: o | AQ3: Délai dépassé | AR3: Pas d'infos | AS3: 3 - ZVPI(s) à mettre à jour | AT3: undefine | AU3: undefine | AV3: 11
A4: 13 | B4: G8 | C4: 7421380403 | D4: AA | E4: X | F4: PREFILTRE R60 | G4: 1728 | H4: 78 | I4: 0 | J4: 690 | K4: 26 | L4: 1 | M4: 1 | N4: 0 | O4: 0 | P4: 300 | Q4: 0 | R4: 0 | S4: 1440 | T4: 76208.PP00 | U4: 42076 | W4: 77 | X4: 52 - Consos imprévisibles | Y4: 42074 | Z4: T.VERSTRAETEN RB91228 | AB4: 00.00.0000 | AE4: 00.00.0000 | AH4: 00.00.0000 | AN4: GENT | AP4: o | AQ4: Délai valable | AR4: Infos clients | AS4: 1 - Délai(s) valide(s) | AT4: 5x - Others | AU4: 52 | AV4: 11
A5: 63 | B5: G0 | C5: 5010412490 | F5: SEGMENT DE PISTON-EP-3,5 | G5: 609 | H5: 0 | I5: 0 | J5: 609 | K5: 1 | L5: 0 | M5: 1 | N5: 0 | O5: 0 | P5: 0 | Q5: 583 | R5: 507 | S5: 0 | T5: 70343.04 | U5: 42076 | V5: 464 pces shipped on 06.03.2015 | W5: 14 | X5: 52 - Consos imprévisibles | Y5: 42055 | Z5: C.DERRIEN A146081 | AA5: Cas soldé - Attente livraison | AB5: 42073 | AC5: C.GUIGUE R074602 | AE5: 00.00.0000 | AH5: 00.00.0000 | AJ5: CG on 10.03.2015 | AN5: DVL | AP5: o | AQ5: Délai valable | AR5: Infos clients | AS5: 1 - Délai(s) valide(s) | AT5: 5x - Others | AU5: 52 | AV5: 11
A6: 115 | B6: G0 | C6: 5010284467 | F6: JOINT DE SOUPAPE | G6: 576 | H6: 24 | I6: 0 | J6: 540 | K6: 3 | L6: 1 | M6: 1 | N6: 0 | O6: 0 | P6: 2 | Q6: 0 | R6: 0 | S6: 0 | T6: 75094.PP | U6: 00.00.0000 | V6: demande ha v.p.le 18/11 | W6: 13 | X6: 02 - DA pour MEP contrat HA | Y6: 41961 | Z6: V.PROVOLO R072569 | AA6: Pas d'évolution de la situation | AB6: 42065 | AC6: V.PROVOLO R072569 | AE6: 00.00.0000 | AH6: 00.00.0000 | AN6: DVL | AP6: n | AQ6: Pas de délai | AR6: Infos clients | AS6: 2 - Commentaire(s) sans délai | AT6: 0x - Purchasing | AU6: 02 | AV6: 11
A7: 3 | B7: G8 | C7: 7420998809 | D7: AA | E7: X | F7: CARTOUCHE FILTRANTE HUILE | G7: 373 | H7: 0 | I7: 0 | J7: 348 | K7: 7 | L7: 0 | M7: 1 | N7: 31 | O7: 0 | P7: 372 | Q7: 372 | R7: 0 | S7: 0 | T7: 04457.00 | U7: 42075 | W7: 13 | Y7: 00.00.0000 | AB7: 00.00.0000 | AE7: 00.00.0000 | AH7: 00.00.0000 | AN7: DVL | AP7: o | AQ7: Délai valable | AR7: Pas d'infos | AS7: 1 - Délai(s) valide(s) | AT7: undefine | AU7: undefine | AV7: 11
A8: 63 | B8: G0 | C8: 5000694608 | F8: SEGMENT RACLEUR-EP-4 | G8: 314 | H8: 41 | I8: 0 | J8: 273 | K8: 2 | L8: 1 | M8: 1 | N8: 0 | O8: 100 | P8: 6 | Q8: 379 | R8: 379 | S8: 0 | T8: 85319.PP00 | U8: 42076 | W8: 14 | Y8: 00.00.0000 | AB8: 00.00.0000 | AE8: 00.00.0000 | AH8: 00.00.0000 | AN8: DVL | AP8: o | AQ8: Délai valable | AR8: Pas d'infos | AS8: 1 - Délai(s) valide(s) | AT8: undefine | AU8: undefine | AV8: 11
A9: 92 | B9: G2 | C9: 7421515329 | D9: BA | F9: DOUILLE D'INJECTEUR | G9: 291 | H9: 49 | I9: 0 | J9: 188 | K9: 27 | L9: 13 | M9: 1 | N9: 0 | O9: 0 | P9: 20 | Q9: 1 | R9: 0 | S9: 101 | T9: 78525.01 | U9: 00.00.0000 | W9: 66 | X9: 39 - Autres causes "Gestion" | Y9: 42066 | Z9: B.Lahotian RP44853 | AA9: 11 - Retard sur Prog Appro | AB9: 42074 | AC9: B.Lahotian RP44853 | AE9: 00.00.0000 | AG9: Moyenne (environ 1 mois) | AH9: 42066 | AI9: B.Lahotian RP44853 | AN9: GOTH | AP9: n | AQ9: Pas de délai | AR9: Infos clients | AS9: 2 - Commentaire(s) sans délai | AT9: 3x - VPL | AU9: 39 | AV9: 11
A10: 58 | B10: E3 | C10: 7420495935 | D10: AA | F10: JOINT CULASSE | G10: 194 | H10: 4 | I10: 0 | J10: 146 | K10: 21 | L10: 1 | M10: 1 | N10: 10 | O10: 0 | P10: 20 | Q10: 0 | R10: 0 | S10: 420 | T10: 71626.01 | U10: 42058 | W10: 66 | X10: 11 - Retard sur Prog Appro | Y10: 42026 | Z10: B.Lahotian RP44853 | AA10: 12 - Problème capacité | AB10: 42073 | AC10: B.Lahotian RP44853 | AE10: 00.00.0000 | AG10: Faible (environ 2 semaines) | AH10: 42073 | AI10: B.Lahotian RP44853 | AN10: GOTH | AP10: o | AQ10: Délai dépassé | AR10: Infos clients | AS10: 3 - ZVPI(s) à mettre à jour | AT10: 1x - Supplier | AU10: 11 | AV10: 11
A11: 52 | B11: 30 | C11: 7422559481 | F11: INSTRUCTIONS DE MONTAGE | G11: 120 | H11: 0 | I11: 0 | J11: 120 | K11: 1 | L11: 0 | M11: 1 | N11: 0 | O11: 0 | P11: 0 | Q11: 0 | R11: 0 | S11: 0 | T11: 71849.PP00 | U11: 42111 | W11: 91 | X11: A déterminer | Y11: 42067 | Z11: E.PERRET A167966 | AB11: 00.00.0000 | AE11: 00.00.0000 | AH11: 00.00.0000 | AN11: TSC | AP11: o | AQ11: Délai valable | AR11: Infos clients | AS11: 1 - Délai(s) valide(s) | AT11: undefine | AU11: undefine | AV11: 11
A12: 389 | B12: G0 | C12: 5003065046 | F12: JOINT TORIQUE 100X3 -4810 B3 E3 | G12: 118 | H12: 6 | I12: 0 | J12: 90 | K12: 12 | L12: 3 | M12: 1 | N12: 0 | O12: 0 | P12: 2 | Q12: 10 | R12: 10 | S12: 0 | T12: 05654.11 | U12: 00.00.0000 | V12: PPAP order towards week 1419 | W12: 64 | X12: 52 - Consos imprévisibles | Y12: 41599 | Z12: N.EN-NAJI E13952 | AA12: 29 - Autres cas Doc Techn | AB12: 42062 | AC12: N.EN-NAJI E13952 | AD12: unknown | AE12: 42062 | AF12: N.EN-NAJI E13952 | AG12: Majeure (aucune visibilité) | AH12: 42062 | AI12: N.EN-NAJI E13952 | AJ12: 140123: waiting for approval of new reference number, new price, | AK12: case sent again to new buyer/ 150304 NE | AN12: GOTH | AP12: n | AQ12: Pas de délai | AR12: Infos clients | AS12: 2 - Commentaire(s) sans délai | AT12: 5x - Others | AU12: 52 | AV12: 11
A13: 37 | B13: G4 | C13: 5010240400 | D13: AA | E13: X | F13: CARTOUCHE FILRE A HUILE | G13: 360 | H13: 0 | I13: 0 | J13: 72 | K13: 15 | L13: 0 | M13: 1 | N13: 560 | O13: 0 | P13: 32 | Q13: 8 | R13: 0 | S13: 160 | T13: 04457.00 | U13: 00.00.0000 | V13: attente delai v.p.le 09/03 | W13: 13 | X13: 41 - Incident transport (ponctuel) | Y13: 42072 | Z13: V.PROVOLO R072569 | AB13: 00.00.0000 | AE13: 00.00.0000 | AH13: 00.00.0000 | AN13: DVL | AP13: n | AQ13: Pas de délai | AR13: Infos clients | AS13: 1 - Délai(s) valide(s) | AT13: 4x - Carriage | AU13: 41 | AV13: 11
A14: 2 | B14: G2 | C14: 7422428201 | D14: AA | F14: BOUCHON | G14: 60 | H14: 0 | I14: 0 | J14: 60 | K14: 1 | L14: 0 | M14: 1 | N14: 0 | O14: 0 | P14: 0 | Q14: 0 | R14: 0 | S14: 0 | T14: 78041.PP00 | U14: 42101 | W14: 60 | Y14: 00.00.0000 | AB14: 00.00.0000 | AE14: 00.00.0000 | AH14: 00.00.0000 | AN14: GOTH | AO14: New | AP14: o | AQ14: Délai valable | AR14: Pas d'infos | AS14: 1 - Délai(s) valide(s) | AT14: undefine | AU14: undefine | AV14: 11
A15: 52 | B15: G2 | C15: 7422428250 | F15: AXE-GUIDE | G15: 60 | H15: 0 | I15: 0 | J15: 60 | K15: 1 | L15: 0 | M15: 1 | N15: 0 | O15: 0 | P15: 0 | Q15: 0 | R15: 0 | S15: 130 | T15: 82077.PP00 | U15: 00.00.0000 | V15: michael relance l'acheteur cb 21/01 | W15: 91 | X15: 36 - 1ère demande client | Y15: 41996 | Z15: E.PERRET A167966 | AB15: 42033 | AC15: E.PERRET A167966 | AE15: 42025 | AF15: C.BRON R392388 | AH15: 42025 | AI15: C.BRON R392388 | AJ15: EP 29/01 Relance Fr, expé 09/02 | AK15: EP 10/03 Relance solde | AN15: TSC | AP15: n | AQ15: Pas de délai | AR15: Infos inutilisables | AS15: 3 - ZVPI(s) à mettre à jour | AT15: 3x - VPL | AU15: 36 | AV15: 11
A16: 1 | B16: G2 | C16: 7421764961 | D16: AA | F16: FILTRE A COMBUSTIBLE | G16: 82 | H16: 0 | I16: 0 | J16: 58 | K16: 8 | L16: 0 | M16: 1 | N16: 180 | O16: 0 | P16: 215 | Q16: 62 | R16: 0 | S16: 0 | T16: 76208.PP00 | U16: 00.00.0000 | W16: 77 | Y16: 00.00.0000 | AB16: 00.00.0000 | AE16: 00.00.0000 | AH16: 00.00.0000 | AN16: GENT | AO16: New | AP16: n | AQ16: Pas de délai | AR16: Pas d'infos | AS16: 4 - ZVPI(s) non traitée(s) | AT16: undefine | AU16: undefine | AV16: 11
A17: 52 | B17: G2 | C17: 7422428196 | D17: AA | F17: BOUCHON | G17: 55 | H17: 0 | I17: 0 | J17: 55 | K17: 1 | L17: 0 | M17: 1 | N17: 0 | O17: 0 | P17: 0 | Q17: 5 | R17: 0 | S17: 155 | T17: 78041.PP00 | U17: 42076 | V17: . | W17: 60 | X17: 52 - Consos imprévisibles | Y17: 42048 | Z17: A.JOHANSSON A055017 | AA17: Cas soldé - Attente livraison | AB17: 42062 | AC17: A.JOHANSSON A055017 | AD17: sous 24h | AE17: 42062 | AF17: A.JOHANSSON A055017 | AG17: Faible (environ 2 semaines) | AH17: 42062 | AI17: A.JOHANSSON A055017 | AN17: GOTH | AP17: o | AQ17: Délai valable | AR17: Infos clients | AS17: 1 - Délai(s) valide(s) | AT17: 5x - Others | AU17: 52 | AV17: 11
A18: 3 | B18: G2 | C18: 7420794356 | F18: JOINT COLLECTEUR ADM | G18: 54 | H18: 0 | I18: 0 | J18: 54 | K18: 1 | L18: 0 | M18: 1 | N18: 0 | O18: 0 | P18: 0 | Q18: 6 | R18: 0 | S18: 1 | T18: 78525.PP02 | U18: 00.00.0000 | W18: 71 | Y18: 00.00.0000 | AB18: 00.00.0000 | AE18: 00.00.0000 | AH18: 00.00.0000 | AN18: GENT | AP18: n | AQ18: Pas de délai | AR18: Pas d'infos | AS18: 4 - ZVPI(s) non traitée(s) | AT18: undefine | AU18: undefine | AV18: 11
A19: 1 | B19: G0 | C19: 5000667791 | F19: SEGMENT ETANCHEITE | G19: 50 | H19: 0 | I19: 0 | J19: 50 | K19: 1 | L19: 0 | M19: 1 | N19: 0 | O19: 0 | P19: 1 | Q19: 123 | R19: 90 | S19: 0 | T19: 85319.PP00 | U19: 42090 | W19: 14 | Y19: 00.00.0000 | AB19: 00.00.0000 | AE19: 00.00.0000 | AH19: 00.00.0000 | AN19: DVL | AO19: New | AP19: o | AQ19: Délai valable | AR19: Pas d'infos | AS19: 1 - Délai(s) valide(s) | AT19: undefine | AU19: undefine | AV19: 11
A20: 7 | B20: G2 | C20: 7421857436 | D20: AA | F20: JEU DE FILTRE A HUILE | G20: 81 | H20: 0 | I20: 0 | J20: 50 | K20: 12 | L20: 0 | M20: 1 | N20: 800 | O20: 0 | P20: 79 | Q20: 0 | R20: 0 | S20: 100 | T20: 73891.PP00 | U20: 00.00.0000 | W20: 94 | Y20: 00.00.0000 | AB20: 00.00.0000 | AE20: 00.00.0000 | AH20: 00.00.0000 | AN20: TSC | AP20: n | AQ20: Pas de délai | AR20: Pas d'infos | AS20: 1 - Délai(s) valide(s) | AT20: undefine | AU20: undefine | AV20: 11
A21: 0 | B21: G0 | C21: 7401698135 | F21: LUBRIFIANT PACKNINGSOLJA T 10ML | G21: 48 | H21: 0 | I21: 0 | J21: 48 | K21: 1 | L21: 0 | M21: 1 | N21: 0 | O21: 0 | P21: 0 | Q21: 12 | R21: 12 | S21: 610 | T21: 78525.01 | U21: 41991 | W21: 66 | Y21: 00.00.0000 | AB21: 00.00.0000 | AE21: 00.00.0000 | AH21: 00.00.0000 | AN21: GOTH | AO21: New | AP21: o | AQ21: Délai dépassé | AR21: Pas d'infos | AS21: 3 - ZVPI(s) à mettre à jour | AT21: undefine | AU21: undefine | AV21: 11
A22: 59 | B22: G2 | C22: 7420850506 | D22: BA | F22: JOINT COLLECTEUR D'ADMISSION | G22: 57 | H22: 0 | I22: 0 | J22: 43 | K22: 9 | L22: 0 | M22: 1 | N22: 0 | O22: 0 | P22: 23 | Q22: 3 | R22: 0 | S22: 400 | T22: 71700.01 | U22: 42073 | V22: 150220: 200-06 and 200-07 delayed, | W22: 65 | X22: 11 - Retard sur Prog Appro | Y22: 42055 | Z22: E.GRONDAL YIP0019 | AA22: Cas soldé - Attente livraison | AB22: 42072 | AC22: E.GRONDAL YIP0019 | AE22: 42065 | AF22: E.GRONDAL YIP0019 | AG22: Très faible (moins de 1 semaine) | AH22: 42072 | AI22: E.GRONDAL YIP0019 | AJ22: checking with supplier/EG | AK22: 150224: checking with supplier again/EG 150302: chasing supplier for answer/EG | AL22: 150305: transfer from Gent will be done, ETA with 100 pce 10/03 is conf/EG | AN22: GOTH | AP22: o | AQ22: Délai dépassé | AR22: Infos clients | AS22: 3 - ZVPI(s) à mettre à jour | AT22: 1x - Supplier | AU22: 11 | AV22: 11
A23: 63 | B23: 98 | C23: 5010295362 | F23: PISTON | G23: 42 | H23: 0 | I23: 0 | J23: 42 | K23: 1 | L23: 0 | M23: 1 | N23: 0 | O23: 0 | P23: 0 | Q23: 0 | R23: 0 | S23: 0 | T23: 75069.PP00 | U23: 00.00.0000 | V23: NO more longer delivered | W23: 14 | X23: 29 - Autres cas Doc Techn | Y23: 41928 | Z23: C.GUIGUE R074602 | AB23: 00.00.0000 | AE23: 00.00.0000 | AH23: 00.00.0000 | AJ23: CG on 16.10.2014 | AN23: DVL | AP23: n | AQ23: Pas de délai | AR23: Infos inutilisables | AS23: 3 - ZVPI(s) à mettre à jour | AT23: 2x - Technical | AU23: 29 | AV23: 11
A24: 10 | B24: G0 | C24: 7422282198 | F24: INJECTEUR POUR MOTEUR HDE11 | G24: 40 | H24: 0 | I24: 0 | J24: 40 | K24: 1 | L24: 0 | M24: 1 | N24: 0 | O24: 0 | P24: 0 | Q24: 20 | R24: 20 | S24: 26 | T24: 71417.PP00 | U24: 00.00.0000 | W24: 41 | X24: 52 - Consos imprévisibles | Y24: 42074 | Z24: S.Bärgård E123011 | AB24: 00.00.0000 | AD24: sous 24h | AE24: 42074 | AF24: S.Bärgård E123011 | AG24: Faible (environ 2 semaines) | AH24: 42074 | AI24: S.Bärgård E123011 | AN24: ELSK | AP24: n | AQ24: Pas de délai | AR24: Infos clients | AS24: 2 - Commentaire(s) sans délai | AT24: 5x - Others | AU24: 52 | AV24: 11
A25: 2 | B25: G0 | C25: 5010389423 | F25: ENTRETOISE L=50 15X38 ACIER SSS | G25: 39 | H25: 0 | I25: 0 | J25: 39 | K25: 1 | L25: 0 | M25: 1 | N25: 0 | O25: 0 | P25: 0 | Q25: 1 | R25: 1 | S25: 0 | T25: 49970.01 | U25: 42150 | W25: 13 | Y25: 00.00.0000 | AB25: 00.00.0000 | AE25: 00.00.0000 | AH25: 00.00.0000 | AN25: DVL | AO25: New | AP25: o | AQ25: Délai valable | AR25: Pas d'infos | AS25: 1 - Délai(s) valide(s) | AT25: undefine | AU25: undefine | AV25: 11
A26: 58 | B26: 98 | C26: 5000686964 | F26: PISTON CLASSE"B" | G26: 39 | H26: 0 | I26: 0 | J26: 39 | K26: 1 | L26: 0 | M26: 1 | N26: 0 | O26: 0 | P26: 0 | Q26: 1 | R26: 0 | S26: 0 | T26: 02989.03 | U26: 42086 | W26: 17 | X26: 52 - Consos imprévisibles | Y26: 42044 | Z26: N.GENIES R387722 | AB26: 00.00.0000 | AE26: 00.00.0000 | AH26: 00.00.0000 | AN26: DVL | AP26: o | AQ26: Délai valable | AR26: Infos inutilisables | AS26: 1 - Délai(s) valide(s) | AT26: 5x - Others | AU26: 52 | AV26: 11
A27: 72 | B27: 98 | C27: 5010284496 | F27: PISTON MOTEUR | G27: 38 | H27: 0 | I27: 0 | J27: 38 | K27: 1 | L27: 0 | M27: 1 | N27: 0 | O27: 0 | P27: 0 | Q27: 4 | R27: 0 | S27: 42 | T27: 75094.00 | U27: 00.00.0000 | V27: attente delai v.p.le 06/01 | W27: 13 | X27: 11 - Retard sur Prog Appro | Y27: 42010 | Z27: V.PROVOLO R072569 | AA27: Pas d'évolution de la situation | AB27: 42069 | AC27: V.PROVOLO R072569 | AE27: 00.00.0000 | AH27: 00.00.0000 | AN27: DVL | AP27: n | AQ27: Pas de délai | AR27: Infos clients | AS27: 2 - Commentaire(s) sans délai | AT27: 1x - Supplier | AU27: 11 | AV27: 11
A28: 7 | B28: G0 | C28: 7421990552 | F28: FILTRE A HUILE OPTIDRIVER BV | G28: 38 | H28: 0 | I28: 0 | J28: 38 | K28: 1 | L28: 0 | M28: 1 | N28: 0 | O28: 0 | P28: 1 | Q28: 302 | R28: 302 | S28: 0 | T28: 74816.04 | U28: 42079 | W28: 16 | Y28: 00.00.0000 | AB28: 00.00.0000 | AE28: 00.00.0000 | AH28: 00.00.0000 | AN28: DVL | AP28: o | AQ28: Délai valable | AR28: Pas d'infos | AS28: 1 - Délai(s) valide(s) | AT28: undefine | AU28: undefine | AV28: 11
A29: 0 | B29: G4 | C29: 5001836681 | F29: KIT ETANCHEITE ELECTRO VALVE | G29: 37 | H29: 0 | I29: 0 | J29: 37 | K29: 1 | L29: 0 | M29: 1 | N29: 0 | O29: 0 | P29: 1 | Q29: 23 | R29: 0 | S29: 0 | T29: 46794.04 | U29: 42088 | W29: 37 | Y29: 00.00.0000 | AB29: 00.00.0000 | AE29: 00.00.0000 | AH29: 00.00.0000 | AN29: CABS | AO29: New | AP29: o | AQ29: Délai valable | AR29: Pas d'infos | AS29: 1 - Délai(s) valide(s) | AT29: undefine | AU29: undefine | AV29: 11
A30: 45 | B30: G0 | C30: 7485135409 | F30: FRICTION EMBRAYAGE 280MT D84 | G30: 35 | H30: 0 | I30: 0 | J30: 35 | K30: 1 | L30: 0 | M30: 1 | N30: 0 | O30: 6 | P30: 2 | Q30: 7 | R30: 5 | S30: 216 | T30: 78668.01 | U30: 00.00.0000 | V30: FB10.03 - mail to supp | W30: 32 | X30: 11 - Retard sur Prog Appro | Y30: 41947 | Z30: a.chalmendrier R438398 | AA30: 11 - Retard sur Prog Appro | AB30: 42074 | AC30: F.BURCICA R395634 | AD30: aucune visibilité | AE30: 42074 | AF30: F.BURCICA R395634 | AG30: Majeure (aucune visibilité) | AH30: 42074 | AI30: F.BURCICA R395634 | AJ30: le founisseur dit que pn 7422020877 est remplacé par 7421580923 - | AK30: pr nous c'est l'inverse. | AN30: CABS | AP30: n | AQ30: Pas de délai | AR30: Infos clients | AS30: 2 - Commentaire(s) sans délai | AT30: 1x - Supplier | AU30: 11 | AV30: 11
A31: 9 | B31: G2 | C31: 7488890305 | D31: AA | F31: CABLE USB DE COMMUNICATION DES DIAGNOSTI | G31: 38 | H31: 8 | I31: 0 | J31: 30 | K31: 8 | L31: 7 | M31: 1 | N31: 20 | O31: 0 | P31: 5 | Q31: 0 | R31: 0 | S31: 0 | T31: 73853.PP00 | U31: 42072 | V31: 150306: Waiting for confirmation | W31: 60 | X31: 52 - Consos imprévisibles | Y31: 42069 | Z31: A.JOHANSSON A055017 | AB31: 00.00.0000 | AD31: sous 24h | AE31: 42069 | AF31: A.JOHANSSON A055017 | AG31: Très faible (moins de 1 semaine) | AH31: 42069 | AI31: A.JOHANSSON A055017 | AJ31: to cover the rest of the backorders/AJ | AN31: GOTH | AP31: o | AQ31: Délai dépassé | AR31: Infos clients | AS31: 3 - ZVPI(s) à mettre à jour | AT31: 5x - Others | AU31: 52 | AV31: 11
A32: 9 | B32: G2 | C32: 5001872836 | F32: ADAPTATEUR EURO2 ET EURO 3 | G32: 27 | H32: 0 | I32: 0 | J32: 27 | K32: 1 | L32: 0 | M32: 1 | N32: 0 | O32: 0 | P32: 1 | Q32: 3 | R32: 0 | S32: 0 | T32: 03006.01 | U32: 42079 | V32: CD 4/3 | W32: 15 | X32: 52 - Consos imprévisibles | Y32: 42067 | Z32: C.DERRIEN A146081 | AA32: Cas soldé - Attente livraison | AB32: 42072 | AC32: C.DERRIEN A146081 | AE32: 00.00.0000 | AH32: 00.00.0000 | AN32: DVL | AP32: o | AQ32: Délai valable | AR32: Infos clients | AS32: 1 - Délai(s) valide(s) | AT32: 5x - Others | AU32: 52 | AV32: 11
A33: 9 | B33: 12 | C33: 7488890300 | F33: UNITE DE COMMUNICATION | G33: 26 | H33: 0 | I33: 0 | J33: 26 | K33: 1 | L33: 0 | M33: 1 | N33: 20 | O33: 0 | P33: 3 | Q33: 4 | R33: 0 | S33: 5 | T33: 71649.PP00 | U33: 42072 | W33: 60 | Y33: 00.00.0000 | AB33: 00.00.0000 | AE33: 00.00.0000 | AH33: 00.00.0000 | AN33: GOTH | AP33: o | AQ33: Délai dépassé | AR33: Pas d'infos | AS33: 3 - ZVPI(s) à mettre à jour | AT33: undefine | AU33: undefine | AV33: 11
A34: 6 | B34: G2 | C34: 5010575398 | F34: BIELLE DIRECTION LEMFORDER400330 | G34: 24 | H34: 0 | I34: 0 | J34: 24 | K34: 1 | L34: 0 | M34: 1 | N34: 0 | O34: 0 | P34: 0 | Q34: 0 | R34: 0 | S34: 0 | T34: 74417.02 | U34: 42096 | W34: 40 | X34: 52 - Consos imprévisibles | Y34: 42072 | Z34: S.DAFEROVIC A041719 | AA34: Cas soldé - Attente livraison | AB34: 42073 | AC34: S.DAFEROVIC A041719 | AE34: 00.00.0000 | AG34: Moyenne (environ 1 mois) | AH34: 42072 | AI34: S.DAFEROVIC A041719 | AN34: ELSK | AP34: o | AQ34: Délai valable | AR34: Infos clients | AS34: 1 - Délai(s) valide(s) | AT34: 5x - Others | AU34: 52 | AV34: 11
A35: 55 | B35: G2 | C35: 7422295738 | F35: BUSE REFROIDISSEMENT D'HUILE | G35: 31 | H35: 0 | I35: 0 | J35: 24 | K35: 4 | L35: 0 | M35: 1 | N35: 0 | O35: 0 | P35: 2 | Q35: 0 | R35: 0 | S35: 480 | T35: 70779.PP00 | U35: 42076 | V35: 150227 Confirmed by supplier/bon | W35: 68 | X35: 52 - Consos imprévisibles | Y35: 42062 | Z35: B.OLSSON A021955 | AB35: 00.00.0000 | AD35: sous 2 semaine | AE35: 42062 | AF35: B.OLSSON A021955 | AG35: Moyenne (environ 1 mois) | AH35: 42062 | AI35: B.OLSSON A021955 | AN35: GOTH | AP35: o | AQ35: Délai valable | AR35: Infos clients | AS35: 1 - Délai(s) valide(s) | AT35: 5x - Others | AU35: 52 | AV35: 11
A36: 92 | B36: 30 | C36: 7422254576 | F36: INJECTEUR AUTOMATIQUE | G36: 23 | H36: 0 | I36: 0 | J36: 23 | K36: 1 | L36: 0 | M36: 1 | N36: 0 | O36: 0 | P36: 0 | Q36: 0 | R36: 0 | S36: 31 | T36: 71417.PP00 | U36: 42076 | V36: EP 09/12 Demande anticipation au Fr | W36: 90 | X36: 36 - 1ère demande client | Y36: 41982 | Z36: E.PERRET A167966 | AB36: 00.00.0000 | AE36: 00.00.0000 | AH36: 00.00.0000 | AJ36: MD 14/01 rajout de pces pr solder les BO + rel frs pr confirmer délais | AK36: MD 02/02 délai confirmé par frs | AN36: TSC | AP36: o | AQ36: Délai valable | AR36: Infos inutilisables | AS36: 1 - Délai(s) valide(s) | AT36: 3x - VPL | AU36: 36 | AV36: 11
A37: 0 | B37: G0 | C37: 5010248022 | F37: JOINT RETOUR-HUI-TURBO | G37: 22 | H37: 0 | I37: 0 | J37: 20 | K37: 2 | L37: 0 | M37: 1 | N37: 0 | O37: 0 | P37: 2 | Q37: 50 | R37: 50 | S37: 0 | T37: 10003.PP00 | U37: 42076 | W37: 14 | Y37: 00.00.0000 | AB37: 00.00.0000 | AE37: 00.00.0000 | AH37: 00.00.0000 | AN37: DVL | AO37: New | AP37: o | AQ37: Délai valable | AR37: Pas d'infos | AS37: 1 - Délai(s) valide(s) | AT37: undefine | AU37: undefine | AV37: 11
A38: 9 | B38: G2 | C38: 7420559834 | D38: BA | F38: JOINT FIBRE MD5/7 | G38: 93 | H38: 2 | I38: 0 | J38: 20 | K38: 29 | L38: 1 | M38: 1 | N38: 325 | O38: 0 | P38: 28 | Q38: 0 | R38: 0 | S38: 0 | T38: 71570.PP00 | U38: 42073 | W38: 71 | Y38: 00.00.0000 | AB38: 00.00.0000 | AE38: 00.00.0000 | AH38: 00.00.0000 | AN38: GENT | AP38: o | AQ38: Délai dépassé | AR38: Pas d'infos | AS38: 1 - Délai(s) valide(s) | AT38: undefine | AU38: undefine | AV38: 11
A39: 6 | B39: G2 | C39: 7400946304 | F39: RONDELLE | G39: 18 | H39: 0 | I39: 0 | J39: 18 | K39: 1 | L39: 0 | M39: 1 | N39: 0 | O39: 0 | P39: 1 | Q39: 6 | R39: 0 | S39: 0 | T39: 48819.PP00 | U39: 42090 | W39: 89 | Y39: 00.00.0000 | AB39: 00.00.0000 | AE39: 00.00.0000 | AH39: 00.00.0000 | AN39: TSC | AP39: o | AQ39: Délai valable | AR39: Pas d'infos | AS39: 1 - Délai(s) valide(s) | AT39: undefine | AU39: undefine | AV39: 11
A40: 2 | B40: G2 | C40: 5010227149 | F40: POIGNEE DE TIRAGE | G40: 17 | H40: 0 | I40: 0 | J40: 17 | K40: 1 | L40: 0 | M40: 1 | N40: 0 | O40: 0 | P40: 3 | Q40: 23 | R40: 0 | S40: 0 | T40: 37701.15 | U40: 42094 | W40: 35 | Y40: 00.00.0000 | AB40: 00.00.0000 | AE40: 00.00.0000 | AH40: 00.00.0000 | AN40: CABS | AO40: New | AP40: o | AQ40: Délai valable | AR40: Pas d'infos | AS40: 1 - Délai(s) valide(s) | AT40: undefine | AU40: undefine | AV40: 11
...

Sheet Top 10
A1: Top 10 | B1: Article | C1: Désignation article | D1: Pic AUTRE | F1: Top 10 | G1: Article | H1: Désignation article | I1: avec Week >> | J1: 11 | L1: Article | O1: Top 10 | P1: Article | Q1: Désignation article | R1: Pic AUTRE
A2: 1 | B2: =INDEX(Feuil1!$C$2:$C$403,MATCH($D2,Feuil1!$J$2:$J$403,0)) -> 7400949329 | C2: =INDEX(Feuil1!$F$2:$F$403,MATCH($D2,Feuil1!$J$2:$J$403,0)) -> JOINT CUIVRE RECT 24X29X2 | D2: =MAX(Feuil1!$J$2:$J$403) -> 3294 | F2: 1 | G2: =INDEX(Feuil1!$C$2:$C$403,MATCH($I2,Feuil1!$J$2:$J$403,0)) -> 712560 | H2: =INDEX(Feuil1!$F$2:$F$403,MATCH($I2,Feuil1!$J$2:$J$403,0)) -> JOINT CIRC.PLAT 26,5X32X2-CUIVRE | I2: {=MAX(IF((Feuil1!$AV$2:$AV$403='Top 10'!$J$1)*(Feuil1!$J$2:$J$403<>""),Feuil1!$J$2:$J$403))} -> 2034 | L2: 712560 | M2: =SUMIFS(Feuil1!$J:$J,Feuil1!C:C,'Top 10'!L2) -> 6170 | O2: 1 | P2: =INDEX($L:$L,MATCH($R2,$M:$M,0)) -> 712560 | Q2: =INDEX(Feuil1!$F:$F,MATCH($L2,Feuil1!$C:$C,0)) -> JOINT CIRC.PLAT 26,5X32X2-CUIVRE | R2: =MAX($M$2:$M$136) -> 6170
A3: 2 | B3: =INDEX(Feuil1!$C$2:$C$403,MATCH($D3,Feuil1!$J$2:$J$403,0)) -> 7400949329 | C3: =INDEX(Feuil1!$F$2:$F$403,MATCH($D3,Feuil1!$J$2:$J$403,0)) -> JOINT CUIVRE RECT 24X29X2 | D3: {=MAX(IF(Feuil1!$J$2:$J$403<$D2,Feuil1!$J$2:$J$403))} -> 2046 | F3: 2 | G3: =INDEX(Feuil1!$C$2:$C$403,MATCH($I3,Feuil1!$J$2:$J$403,0)) -> 7400983828 | H3: =INDEX(Feuil1!$F$2:$F$403,MATCH($I3,Feuil1!$J$2:$J$403,0)) -> VIS H EMB M10X150 L25 8.8 FE/ZN8 | I3: {=MAX(IF((Feuil1!$AV$2:$AV$403='Top 10'!$J$1)*(Feuil1!$J$2:$J$403<$I2),Feuil1!$J$2:$J$403))} -> 870 | L3: 7400983828 | M3: =SUMIFS(Feuil1!$J:$J,Feuil1!C:C,'Top 10'!L3) -> 3310 | O3: 2 | P3: =INDEX($L:$L,MATCH($R3,$M:$M,0)) -> 7400949329 | Q3: =INDEX(Feuil1!$F:$F,MATCH($L3,Feuil1!$C:$C,0)) -> VIS H EMB M10X150 L25 8.8 FE/ZN8 | R3: {=MAX(IF($M$2:$M$136<$R2,$M$2:$M$136))} -> 5340
A4: 3 | B4: =INDEX(Feuil1!$C$2:$C$403,MATCH($D4,Feuil1!$J$2:$J$403,0)) -> 712560 | C4: =INDEX(Feuil1!$F$2:$F$403,MATCH($D4,Feuil1!$J$2:$J$403,0)) -> JOINT CIRC.PLAT 26,5X32X2-CUIVRE | D4: {=MAX(IF(Feuil1!$J$2:$J$403<$D3,Feuil1!$J$2:$J$403))} -> 2034 | F4: 3 | G4: =INDEX(Feuil1!$C$2:$C$403,MATCH($I4,Feuil1!$J$2:$J$403,0)) -> 7421380403 | H4: =INDEX(Feuil1!$F$2:$F$403,MATCH($I4,Feuil1!$J$2:$J$403,0)) -> PREFILTRE R60 | I4: {=MAX(IF((Feuil1!$AV$2:$AV$403='Top 10'!$J$1)*(Feuil1!$J$2:$J$403<$I3),Feuil1!$J$2:$J$403))} -> 690 | L4: 7421380403 | M4: =SUMIFS(Feuil1!$J:$J,Feuil1!C:C,'Top 10'!L4) -> 2370 | O4: 3 | P4: =INDEX($L:$L,MATCH($R4,$M:$M,0)) -> 7400983828 | Q4: =INDEX(Feuil1!$F:$F,MATCH($L4,Feuil1!$C:$C,0)) -> PREFILTRE R60 | R4: {=MAX(IF($M$2:$M$136<$R3,$M$2:$M$136))} -> 3310
A5: 4 | B5: =INDEX(Feuil1!$C$2:$C$403,MATCH($D5,Feuil1!$J$2:$J$403,0)) -> 7420998806 | C5: =INDEX(Feuil1!$F$2:$F$403,MATCH($D5,Feuil1!$J$2:$J$403,0)) -> CARTOUCHE FILTRANTE GO DXI5/7 | D5: {=MAX(IF(Feuil1!$J$2:$J$403<$D4,Feuil1!$J$2:$J$403))} -> 1080 | F5: 4 | G5: =INDEX(Feuil1!$C$2:$C$403,MATCH($I5,Feuil1!$J$2:$J$403,0)) -> 5010412490 | H5: =INDEX(Feuil1!$F$2:$F$403,MATCH($I5,Feuil1!$J$2:$J$403,0)) -> SEGMENT DE PISTON-EP-3,5 | I5: {=MAX(IF((Feuil1!$AV$2:$AV$403='Top 10'!$J$1)*(Feuil1!$J$2:$J$403<$I4),Feuil1!$J$2:$J$403))} -> 609 | L5: 5010412490 | M5: =SUMIFS(Feuil1!$J:$J,Feuil1!C:C,'Top 10'!L5) -> 1827 | O5: 4 | P5: =INDEX($L:$L,MATCH($R5,$M:$M,0)) -> 5010284467 | Q5: =INDEX(Feuil1!$F:$F,MATCH($L5,Feuil1!$C:$C,0)) -> SEGMENT DE PISTON-EP-3,5 | R5: {=MAX(IF($M$2:$M$136<$R4,$M$2:$M$136))} -> 2780
A6: 5 | B6: =INDEX(Feuil1!$C$2:$C$403,MATCH($D6,Feuil1!$J$2:$J$403,0)) -> 7421380472 | C6: =INDEX(Feuil1!$F$2:$F$403,MATCH($D6,Feuil1!$J$2:$J$403,0)) -> PREFILTRE GAZOLE | D6: {=MAX(IF(Feuil1!$J$2:$J$403<$D5,Feuil1!$J$2:$J$403))} -> 1056 | F6: 5 | G6: =INDEX(Feuil1!$C$2:$C$403,MATCH($I6,Feuil1!$J$2:$J$403,0)) -> 5010284467 | H6: =INDEX(Feuil1!$F$2:$F$403,MATCH($I6,Feuil1!$J$2:$J$403,0)) -> JOINT DE SOUPAPE | I6: {=MAX(IF((Feuil1!$AV$2:$AV$403='Top 10'!$J$1)*(Feuil1!$J$2:$J$403<$I5),Feuil1!$J$2:$J$403))} -> 540 | L6: 5010284467 | M6: =SUMIFS(Feuil1!$J:$J,Feuil1!C:C,'Top 10'!L6) -> 2780 | O6: 5 | P6: =INDEX($L:$L,MATCH($R6,$M:$M,0)) -> 7421380403 | Q6: =INDEX(Feuil1!$F:$F,MATCH($L6,Feuil1!$C:$C,0)) -> JOINT DE SOUPAPE | R6: {=MAX(IF($M$2:$M$136<$R5,$M$2:$M$136))} -> 2370
A7: 6 | B7: =INDEX(Feuil1!$C$2:$C$403,MATCH($D7,Feuil1!$J$2:$J$403,0)) -> 7400983828 | C7: =INDEX(Feuil1!$F$2:$F$403,MATCH($D7,Feuil1!$J$2:$J$403,0)) -> VIS H EMB M10X150 L25 8.8 FE/ZN8 | D7: {=MAX(IF(Feuil1!$J$2:$J$403<$D6,Feuil1!$J$2:$J$403))} -> 870 | F7: 6 | G7: =INDEX(Feuil1!$C$2:$C$403,MATCH($I7,Feuil1!$J$2:$J$403,0)) -> 7420998809 | H7: =INDEX(Feuil1!$F$2:$F$403,MATCH($I7,Feuil1!$J$2:$J$403,0)) -> CARTOUCHE FILTRANTE HUILE | I7: {=MAX(IF((Feuil1!$AV$2:$AV$403='Top 10'!$J$1)*(Feuil1!$J$2:$J$403<$I6),Feuil1!$J$2:$J$403))} -> 348 | L7: 7420998809 | M7: =SUMIFS(Feuil1!$J:$J,Feuil1!C:C,'Top 10'!L7) -> 1469 | O7: 6 | P7: =INDEX($L:$L,MATCH($R7,$M:$M,0)) -> 5010412490 | Q7: =INDEX(Feuil1!$F:$F,MATCH($L7,Feuil1!$C:$C,0)) -> CARTOUCHE FILTRANTE HUILE | R7: {=MAX(IF($M$2:$M$136<$R6,$M$2:$M$136))} -> 1827
A8: 7 | B8: =INDEX(Feuil1!$C$2:$C$403,MATCH($D8,Feuil1!$J$2:$J$403,0)) -> 7421380403 | C8: =INDEX(Feuil1!$F$2:$F$403,MATCH($D8,Feuil1!$J$2:$J$403,0)) -> PREFILTRE R60 | D8: {=MAX(IF(Feuil1!$J$2:$J$403<$D7,Feuil1!$J$2:$J$403))} -> 690 | F8: 7 | G8: =INDEX(Feuil1!$C$2:$C$403,MATCH($I8,Feuil1!$J$2:$J$403,0)) -> 5000694608 | H8: =INDEX(Feuil1!$F$2:$F$403,MATCH($I8,Feuil1!$J$2:$J$403,0)) -> SEGMENT RACLEUR-EP-4 | I8: {=MAX(IF((Feuil1!$AV$2:$AV$403='Top 10'!$J$1)*(Feuil1!$J$2:$J$403<$I7),Feuil1!$J$2:$J$403))} -> 273 | L8: 5000694608 | M8: =SUMIFS(Feuil1!$J:$J,Feuil1!C:C,'Top 10'!L8) -> 1067 | O8: 7 | P8: =INDEX($L:$L,MATCH($R8,$M:$M,0)) -> 7420998806 | Q8: =INDEX(Feuil1!$F:$F,MATCH($L8,Feuil1!$C:$C,0)) -> SEGMENT RACLEUR-EP-4 | R8: {=MAX(IF($M$2:$M$136<$R7,$M$2:$M$136))} -> 1642
A9: 8 | B9: =INDEX(Feuil1!$C$2:$C$403,MATCH($D9,Feuil1!$J$2:$J$403,0)) -> 5010412490 | C9: =INDEX(Feuil1!$F$2:$F$403,MATCH($D9,Feuil1!$J$2:$J$403,0)) -> SEGMENT DE PISTON-EP-3,5 | D9: {=MAX(IF(Feuil1!$J$2:$J$403<$D8,Feuil1!$J$2:$J$403))} -> 609 | F9: 8 | G9: =INDEX(Feuil1!$C$2:$C$403,MATCH($I9,Feuil1!$J$2:$J$403,0)) -> 7421515329 | H9: =INDEX(Feuil1!$F$2:$F$403,MATCH($I9,Feuil1!$J$2:$J$403,0)) -> DOUILLE D'INJECTEUR | I9: {=MAX(IF((Feuil1!$AV$2:$AV$403='Top 10'!$J$1)*(Feuil1!$J$2:$J$403<$I8),Feuil1!$J$2:$J$403))} -> 188 | L9: 7421515329 | M9: =SUMIFS(Feuil1!$J:$J,Feuil1!C:C,'Top 10'!L9) -> 693 | O9: 8 | P9: =INDEX($L:$L,MATCH($R9,$M:$M,0)) -> 7420998809 | Q9: =INDEX(Feuil1!$F:$F,MATCH($L9,Feuil1!$C:$C,0)) -> DOUILLE D'INJECTEUR | R9: {=MAX(IF($M$2:$M$136<$R8,$M$2:$M$136))} -> 1469
A10: 9 | B10: =INDEX(Feuil1!$C$2:$C$403,MATCH($D10,Feuil1!$J$2:$J$403,0)) -> 5010284467 | C10: =INDEX(Feuil1!$F$2:$F$403,MATCH($D10,Feuil1!$J$2:$J$403,0)) -> JOINT DE SOUPAPE | D10: {=MAX(IF(Feuil1!$J$2:$J$403<$D9,Feuil1!$J$2:$J$403))} -> 580 | F10: 9 | G10: =INDEX(Feuil1!$C$2:$C$403,MATCH($I10,Feuil1!$J$2:$J$403,0)) -> 7420495935 | H10: =INDEX(Feuil1!$F$2:$F$403,MATCH($I10,Feuil1!$J$2:$J$403,0)) -> JOINT CULASSE | I10: {=MAX(IF((Feuil1!$AV$2:$AV$403='Top 10'!$J$1)*(Feuil1!$J$2:$J$403<$I9),Feuil1!$J$2:$J$403))} -> 146 | L10: 7420495935 | M10: =SUMIFS(Feuil1!$J:$J,Feuil1!C:C,'Top 10'!L10) -> 543 | O10: 9 | P10: =INDEX($L:$L,MATCH($R10,$M:$M,0)) -> 5000694608 | Q10: =INDEX(Feuil1!$F:$F,MATCH($L10,Feuil1!$C:$C,0)) -> JOINT CULASSE | R10: {=MAX(IF($M$2:$M$136<$R9,$M$2:$M$136))} -> 1067
A11: 10 | B11: =INDEX(Feuil1!$C$2:$C$403,MATCH($D11,Feuil1!$J$2:$J$403,0)) -> 7420998806 | C11: =INDEX(Feuil1!$F$2:$F$403,MATCH($D11,Feuil1!$J$2:$J$403,0)) -> CARTOUCHE FILTRANTE GO DXI5/7 | D11: {=MAX(IF(Feuil1!$J$2:$J$403<$D10,Feuil1!$J$2:$J$403))} -> 562 | F11: 10 | G11: =INDEX(Feuil1!$C$2:$C$403,MATCH($I11,Feuil1!$J$2:$J$403,0)) -> 7422559481 | H11: =INDEX(Feuil1!$F$2:$F$403,MATCH($I11,Feuil1!$J$2:$J$403,0)) -> INSTRUCTIONS DE MONTAGE | I11: {=MAX(IF((Feuil1!$AV$2:$AV$403='Top 10'!$J$1)*(Feuil1!$J$2:$J$403<$I10),Feuil1!$J$2:$J$403))} -> 120 | L11: 7422559481 | M11: =SUMIFS(Feuil1!$J:$J,Feuil1!C:C,'Top 10'!L11) -> 771 | O11: 10 | P11: =INDEX($L:$L,MATCH($R11,$M:$M,0)) -> 7421380472 | Q11: =INDEX(Feuil1!$F:$F,MATCH($L11,Feuil1!$C:$C,0)) -> INSTRUCTIONS DE MONTAGE | R11: {=MAX(IF($M$2:$M$136<$R10,$M$2:$M$136))} -> 1056
L12: 5003065046 | M12: =SUMIFS(Feuil1!$J:$J,Feuil1!C:C,'Top 10'!L12) -> 450
C13: formule à max sur feuil1 résultat NOK car une ref peut apparaitre plusieurs en feuil1 | L13: 5010240400 | M13: =SUMIFS(Feuil1!$J:$J,Feuil1!C:C,'Top 10'!L13) -> 216 | Q13: Formule Max faite sur la NB.SI.ens de ttes les refs en feuil1
L14: 7422428201 | M14: =SUMIFS(Feuil1!$J:$J,Feuil1!C:C,'Top 10'!L14) -> 340
L15: 7422428250 | M15: =SUMIFS(Feuil1!$J:$J,Feuil1!C:C,'Top 10'!L15) -> 180
L16: 7421764961 | M16: =SUMIFS(Feuil1!$J:$J,Feuil1!C:C,'Top 10'!L16) -> 174
L17: 7422428196 | M17: =SUMIFS(Feuil1!$J:$J,Feuil1!C:C,'Top 10'!L17) -> 286
L18: 7420794356 | M18: =SUMIFS(Feuil1!$J:$J,Feuil1!C:C,'Top 10'!L18) -> 162
L19: 5000667791 | M19: =SUMIFS(Feuil1!$J:$J,Feuil1!C:C,'Top 10'!L19) -> 150
L20: 7421857436 | M20: =SUMIFS(Feuil1!$J:$J,Feuil1!C:C,'Top 10'!L20) -> 150
L21: 7401698135 | M21: =SUMIFS(Feuil1!$J:$J,Feuil1!C:C,'Top 10'!L21) -> 144
L22: 7420850506 | M22: =SUMIFS(Feuil1!$J:$J,Feuil1!C:C,'Top 10'!L22) -> 129
L23: 5010295362 | M23: =SUMIFS(Feuil1!$J:$J,Feuil1!C:C,'Top 10'!L23) -> 210
L24: 7422282198 | M24: =SUMIFS(Feuil1!$J:$J,Feuil1!C:C,'Top 10'!L24) -> 186
L25: 5010389423 | M25: =SUMIFS(Feuil1!$J:$J,Feuil1!C:C,'Top 10'!L25) -> 195
... L112: 7421700305 | M112: =SUMIFS(Feuil1!$J:$J,Feuil1!C:C,'Top 10'!L112) -> 1
L113: Article | M113: =SUMIFS(Feuil1!$J:$J,Feuil1!C:C,'Top 10'!L113) -> 0
L114: 5010323502 | M114: =SUMIFS(Feuil1!$J:$J,Feuil1!C:C,'Top 10'!L114) -> 440
L115: 5010284211 | M115: =SUMIFS(Feuil1!$J:$J,Feuil1!C:C,'Top 10'!L115) -> 389
L116: 5005330183 | M116: =SUMIFS(Feuil1!$J:$J,Feuil1!C:C,'Top 10'!L116) -> 228
L117: 5003065197 | M117: =SUMIFS(Feuil1!$J:$J,Feuil1!C:C,'Top 10'!L117) -> 225
L118: 7400992025 | M118: =SUMIFS(Feuil1!$J:$J,Feuil1!C:C,'Top 10'!L118) -> 202
L119: 7420820662 | M119: =SUMIFS(Feuil1!$J:$J,Feuil1!C:C,'Top 10'!L119) -> 175
L120: 7422428199 | M120: =SUMIFS(Feuil1!$J:$J,Feuil1!C:C,'Top 10'!L120) -> 120
L121: 7421764981 | M121: =SUMIFS(Feuil1!$J:$J,Feuil1!C:C,'Top 10'!L121) -> 96
L122: 7400644243 | M122: =SUMIFS(Feuil1!$J:$J,Feuil1!C:C,'Top 10'!L122) -> 86
L123: 5010450709 | M123: =SUMIFS(Feuil1!$J:$J,Feuil1!C:C,'Top 10'!L123) -> 65
L124: 7422428241 | M124: =SUMIFS(Feuil1!$J:$J,Feuil1!C:C,'Top 10'!L124) -> 58
L125: 7420584639 | M125: =SUMIFS(Feuil1!$J:$J,Feuil1!C:C,'Top 10'!L125) -> 49
... L136: 5010258698 | M136: =SUMIFS(Feuil1!$J:$J,Feuil1!C:C,'Top 10'!L136) -> 1

Sheet TCD
A3: Article | B3: Désignation article | C3: .Pic Autre
A4: 712560 | B4: JOINT CIRC.PLAT 26,5X32X2-CUIVRE | C4: 7570
A5: 7421380403 | B5: PREFILTRE R60 | C5: 5484
A6: 7400949329 | B6: JOINT CUIVRE RECT 24X29X2 | C6: 5340
A7: 7400983828 | B7: VIS H EMB M10X150 L25 8.8 FE/ZN8 | C7: 3310
A8: 5010284467 | B8: JOINT DE SOUPAPE | C8: 2966
A9: 7420998806 | B9: CARTOUCHE FILTRANTE GO DXI5/7 | C9: 2412
A10: 5010412490 | B10: SEGMENT DE PISTON-EP-3,5 | C10: 1827
A11: 7420998809 | B11: CARTOUCHE FILTRANTE HUILE | C11: 1584
A12: 5000694608 | B12: SEGMENT RACLEUR-EP-4 | C12: 1190
A13: 7421515329 | B13: DOUILLE D'INJECTEUR | C13: 1096
A14: Total général | C14: 32779
