Workbook

Sheet Feuil1
A1: J an | B1: Gare | C1: Article | D1: xA | E1: top1000 | F1: Désignation article | G1: Qté PIC | H1: PIC URG | I1: DONT VOR | J1: Pic AUTRE | K1: nb lignes cdes client | L1: Nb URG | M1: Nb AUTRE | N1: En crs | O1: En fab | P1: Bloq.dep | Q1: Stock | R1: Dt MG04-8 | S1: Retard | T1: Anc. cpte | U1: Délai | V1: Commentaire 1 | W1: Ges | X1: Cause initiale | Y1: MAJ C.I. | Z1: Auteur C.I. | AA1: Evolution | AB1: MAJ Evo | AC1: Evo Auteur | AD1: Délai du Délai | AE1: MAJ D.D. | AF1: Auteur D.D. | AG1: Criticité | AH1: MAJ Crit | AI1: Auteur Crit | AJ1: Commentaire 2 | AK1: Commentaire 3 | AL1: Commentaire 4 | AM1: Commentaire 5 | AN1: Team ? | AO1: pic_new ? | AP1: délai ? | AQ1: délai valable ? | AR1: Infos | AS1: Etat ZVPI | AT1: Responsibility | AU1: Cause | AV1: Week
A2: 17 | B2: G0 | C2: 712560 | D2: CA | F2: JOINT CIRC.PLAT 26,5X32X2-CUIVRE | G2: 2214 | H2: 0 | I2: 0 | J2: 2034 | K2: 9 | L2: 0 | M2: 1 | N2: 0 | O2: 0 | P2: 280 | Q2: 1106 | R2: 966 | S2: 0 | T2: 76812.00 | U2: 42086 | V2: FB 04.03: 4000 p le 19/03 + 23/04 | W2: 32 | X2: 52 - Consos imprévisibles | Y2: 42067 | Z2: F.BURCICA R395634 | AB2: 00.00.0000 | AE2: 00.00.0000 | AG2: Moyenne (environ 1 mois) | AH2: 42067 | AI2: F.BURCICA R395634 | AN2: CABS | AP2: o | AQ2: Délai valable | AR2: Infos clients | AS2: 1 - Délai(s) valide(s) | AT2: 5x - Others | AU2: 52 | AV2: 11
A3: 7 | B3: G4 | C3: 7400983828 | F3: VIS H EMB M10X150 L25 8.8 FE/ZN8 | G3: 870 | H3: 0 | I3: 0 | J3: 870 | K3: 1 | L3: 0 | M3: 1 | N3: 0 | O3: 0 | P3: 0 | Q3: 150 | R3: 0 | S3: 525 | T3: 21887.PP00 | U3: 42054 | W3: 72 | Y3: 00.00.0000 | AB3: 00.00.0000 | AE3: 00.00.0000 | AH3: 00.00.0000 | AN3: GENT | AP3: o | AQ3: Délai dépassé | AR3: Pas d'infos | AS3: 3 - ZVPI(s) à mettre à jour | AT3: undefine | AU3: undefine | AV3: 11
A4: 13 | B4: G8 | C4: 7421380403 | D4: AA | E4: X | F4: PREFILTRE R60 | G4: 1728 | H4: 78 | I4: 0 | J4: 690 | K4: 26 | L4: 1 | M4: 1 | N4: 0 | O4: 0 | P4: 300 | Q4: 0 | R4: 0 | S4: 1440 | T4: 76208.PP00 | U4: 42076 | W4: 77 | X4: 52 - Consos imprévisibles | Y4: 42074 | Z4: T.VERSTRAETEN RB91228 | AB4: 00.00.0000 | AE4: 00.00.0000 | AH4: 00.00.0000 | AN4: GENT | AP4: o | AQ4: Délai valable | AR4: Infos clients | AS4: 1 - Délai(s) valide(s) | AT4: 5x - Others | AU4: 52 | AV4: 11
A5: 63 | B5: G0 | C5: 5010412490 | F5: SEGMENT DE PISTON-EP-3,5 | G5: 609 | H5: 0 | I5: 0 | J5: 609 | K5: 1 | L5: 0 | M5: 1 | N5: 0 | O5: 0 | P5: 0 | Q5: 583 | R5: 507 | S5: 0 | T5: 70343.04 | U5: 42076 | V5: 464 pces shipped on 06.03.2015 | W5: 14 | X5: 52 - Consos imprévisibles | Y5: 42055 | Z5: C.DERRIEN A146081 | AA5: Cas soldé - Attente livraison | AB5: 42073 | AC5: C.GUIGUE R074602 | AE5: 00.00.0000 | AH5: 00.00.0000 | AJ5: CG on 10.03.2015 | AN5: DVL | AP5: o | AQ5: Délai valable | AR5: Infos clients | AS5: 1 - Délai(s) valide(s) | AT5: 5x - Others | AU5: 52 | AV5: 11
A6: 115 | B6: G0 | C6: 5010284467 | F6: JOINT DE SOUPAPE | G6: 576 | H6: 24 | I6: 0 | J6: 540 | K6: 3 | L6: 1 | M6: 1 | N6: 0 | O6: 0 | P6: 2 | Q6: 0 | R6: 0 | S6: 0 | T6: 75094.PP | U6: 00.00.0000 | V6: demande ha v.p.le 18/11 | W6: 13 | X6: 02 - DA pour MEP contrat HA | Y6: 41961 | Z6: V.PROVOLO R072569 | AA6: Pas d'évolution de la situation | AB6: 42065 | AC6: V.PROVOLO R072569 | AE6: 00.00.0000 | AH6: 00.00.0000 | AN6: DVL | AP6: n | AQ6: Pas de délai | AR6: Infos clients | AS6: 2 - Commentaire(s) sans délai | AT6: 0x - Purchasing | AU6: 02 | AV6: 11
A7: 3 | B7: G8 | C7: 7420998809 | D7: AA | E7: X | F7: CARTOUCHE FILTRANTE HUILE | G7: 373 | H7: 0 | I7: 0 | J7: 348 | K7: 7 | L7: 0 | M7: 1 | N7: 31 | O7: 0 | P7: 372 | Q7: 372 | R7: 0 | S7: 0 | T7: 04457.00 | U7: 42075 | W7: 13 | Y7: 00.00.0000 | AB7: 00.00.0000 | AE7: 00.00.0000 | AH7: 00.00.0000 | AN7: DVL | AP7: o | AQ7: Délai valable | AR7: Pas d'infos | AS7: 1 - Délai(s) valide(s) | AT7: undefine | AU7: undefine | AV7: 11
A8: 63 | B8: G0 | C8: 5000694608 | F8: SEGMENT RACLEUR-EP-4 | G8: 314 | H8: 41 | I8: 0 | J8: 273 | K8: 2 | L8: 1 | M8: 1 | N8: 0 | O8: 100 | P8: 6 | Q8: 379 | R8: 379 | S8: 0 | T8: 85319.PP00 | U8: 42076 | W8: 14 | Y8: 00.00.0000 | AB8: 00.00.0000 | AE8: 00.00.0000 | AH8: 00.00.0000 | AN8: DVL | AP8: o | AQ8: Délai valable | AR8: Pas d'infos | AS8: 1 - Délai(s) valide(s) | AT8: undefine | AU8: undefine | AV8: 11
A9: 92 | B9: G2 | C9: 7421515329 | D9: BA | F9: DOUILLE D'INJECTEUR | G9: 291 | H9: 49 | I9: 0 | J9: 188 | K9: 27 | L9: 13 | M9: 1 | N9: 0 | O9: 0 | P9: 20 | Q9: 1 | R9: 0 | S9: 101 | T9: 78525.01 | U9: 00.00.0000 | W9: 66 | X9: 39 - Autres causes "Gestion" | Y9: 42066 | Z9: B.Lahotian RP44853 | AA9: 11 - Retard sur Prog Appro | AB9: 42074 | AC9: B.Lahotian RP44853 | AE9: 00.00.0000 | AG9: Moyenne (environ 1 mois) | AH9: 42066 | AI9: B.Lahotian RP44853 | AN9: GOTH | AP9: n | AQ9: Pas de délai | AR9: Infos clients | AS9: 2 - Commentaire(s) sans délai | AT9: 3x - VPL | AU9: 39 | AV9: 11
A10: 58 | B10: E3 | C10: 7420495935 | D10: AA | F10: JOINT CULASSE | G10: 194 | H10: 4 | I10: 0 | J10: 146 | K10: 21 | L10: 1 | M10: 1 | N10: 10 | O10: 0 | P10: 20 | Q10: 0 | R10: 0 | S10: 420 | T10: 71626.01 | U10: 42058 | W10: 66 | X10: 11 - Retard sur Prog Appro | Y10: 42026 | Z10: B.Lahotian RP44853 | AA10: 12 - Problème capacité | AB10: 42073 | AC10: B.Lahotian RP44853 | AE10: 00.00.0000 | AG10: Faible (environ 2 semaines) | AH10: 42073 | AI10: B.Lahotian RP44853 | AN10: GOTH | AP10: o | AQ10: Délai dépassé | AR10: Infos clients | AS10: 3 - ZVPI(s) à mettre à jour | AT10: 1x - Supplier | AU10: 11 | AV10: 11
A11: 52 | B11: 30 | C11: 7422559481 | F11: INSTRUCTIONS DE MONTAGE | G11: 120 | H11: 0 | I11: 0 | J11: 120 | K11: 1 | L11: 0 | M11: 1 | N11: 0 | O11: 0 | P11: 0 | Q11: 0 | R11: 0 | S11: 0 | T11: 71849.PP00 | U11: 42111 | W11: 91 | X11: A déterminer | Y11: 42067 | Z11: E.PERRET A167966 | AB11: 00.00.0000 | AE11: 00.00.0000 | AH11: 00.00.0000 | AN11: TSC | AP11: o | AQ11: Délai valable | AR11: Infos clients | AS11: 1 - Délai(s) valide(s) | AT11: undefine | AU11: undefine | AV11: 11
A12: 389 | B12: G0 | C12: 5003065046 | F12: JOINT TORIQUE 100X3 -4810 B3 E3 | G12: 118 | H12: 6 | I12: 0 | J12: 90 | K12: 12 | L12: 3 | M12: 1 | N12: 0 | O12: 0 | P12: 2 | Q12: 10 | R12: 10 | S12: 0 | T12: 05654.11 | U12: 00.00.0000 | V12: PPAP order towards week 1419 | W12: 64 | X12: 52 - Consos imprévisibles | Y12: 41599 | Z12: N.EN-NAJI E13952 | AA12: 29 - Autres cas Doc Techn | AB12: 42062 | AC12: N.EN-NAJI E13952 | AD12: unknown | AE12: 42062 | AF12: N.EN-NAJI E13952 | AG12: Majeure (aucune visibilité) | AH12: 42062 | AI12: N.EN-NAJI E13952 | AJ12: 140123: waiting for approval of new reference number, new price, | AK12: case sent again to new buyer/ 150304 NE | AN12: GOTH | AP12: n | AQ12: Pas de délai | AR12: Infos clients | AS12: 2 - Commentaire(s) sans délai | AT12: 5x - Others | AU12: 52 | AV12: 11
A13: 37 | B13: G4 | C13: 5010240400 | D13: AA | E13: X | F13: CARTOUCHE FILRE A HUILE | G13: 360 | H13: 0 | I13: 0 | J13: 72 | K13: 15 | L13: 0 | M13: 1 | N13: 560 | O13: 0 | P13: 32 | Q13: 8 | R13: 0 | S13: 160 | T13: 04457.00 | U13: 00.00.0000 | V13: attente delai v.p.le 09/03 | W13: 13 | X13: 41 - Incident transport (ponctuel) | Y13: 42072 | Z13: V.PROVOLO R072569 | AB13: 00.00.0000 | AE13: 00.00.0000 | AH13: 00.00.0000 | AN13: DVL | AP13: n | AQ13: Pas de délai | AR13: Infos clients | AS13: 1 - Délai(s) valide(s) | AT13: 4x - Carriage | AU13: 41 | AV13: 11
A14: 2 | B14: G2 | C14: 7422428201 | D14: AA | F14: BOUCHON | G14: 60 | H14: 0 | I14: 0 | J14: 60 | K14: 1 | L14: 0 | M14: 1 | N14: 0 | O14: 0 | P14: 0 | Q14: 0 | R14: 0 | S14: 0 | T14: 78041.PP00 | U14: 42101 | W14: 60 | Y14: 00.00.0000 | AB14: 00.00.0000 | AE14: 00.00.0000 | AH14: 00.00.0000 | AN14: GOTH | AO14: New | AP14: o | AQ14: Délai valable | AR14: Pas d'infos | AS14: 1 - Délai(s) valide(s) | AT14: undefine | AU14: undefine | AV14: 11
A15: 52 | B15: G2 | C15: 7422428250 | F15: AXE-GUIDE | G15: 60 | H15: 0 | I15: 0 | J15: 60 | K15: 1 | L15: 0 | M15: 1 | N15: 0 | O15: 0 | P15: 0 | Q15: 0 | R15: 0 | S15: 130 | T15: 82077.PP00 | U15: 00.00.0000 | V15: michael relance l'acheteur cb 21/01 | W15: 91 | X15: 36 - 1ère demande client | Y15: 41996 | Z15: E.PERRET A167966 | AB15: 42033 | AC15: E.PERRET A167966 | AE15: 42025 | AF15: C.BRON R392388 | AH15: 42025 | AI15: C.BRON R392388 | AJ15: EP 29/01 Relance Fr, expé 09/02 | AK15: EP 10/03 Relance solde | AN15: TSC | AP15: n | AQ15: Pas de délai | AR15: Infos inutilisables | AS15: 3 - ZVPI(s) à mettre à jour | AT15: 3x - VPL | AU15: 36 | AV15: 11
A16: 1 | B16: G2 | C16: 7421764961 | D16: AA | F16: FILTRE A COMBUSTIBLE | G16: 82 | H16: 0 | I16: 0 | J16: 58 | K16: 8 | L16: 0 | M16: 1 | N16: 180 | O16: 0 | P16: 215 | Q16: 62 | R16: 0 | S16: 0 | T16: 76208.PP00 | U16: 00.00.0000 | W16: 77 | Y16: 00.00.0000 | AB16: 00.00.0000 | AE16: 00.00.0000 | AH16: 00.00.0000 | AN16: GENT | AO16: New | AP16: n | AQ16: Pas de délai | AR16: Pas d'infos | AS16: 4 - ZVPI(s) non traitée(s) | AT16: undefine | AU16: undefine | AV16: 11
A17: 52 | B17: G2 | C17: 7422428196 | D17: AA | F17: BOUCHON | G17: 55 | H17: 0 | I17: 0 | J17: 55 | K17: 1 | L17: 0 | M17: 1 | N17: 0 | O17: 0 | P17: 0 | Q17: 5 | R17: 0 | S17: 155 | T17: 78041.PP00 | U17: 42076 | V17: . | W17: 60 | X17: 52 - Consos imprévisibles | Y17: 42048 | Z17: A.JOHANSSON A055017 | AA17: Cas soldé - Attente livraison | AB17: 42062 | AC17: A.JOHANSSON A055017 | AD17: sous 24h | AE17: 42062 | AF17: A.JOHANSSON A055017 | AG17: Faible (environ 2 semaines) | AH17: 42062 | AI17: A.JOHANSSON A055017 | AN17: GOTH | AP17: o | AQ17: Délai valable | AR17: Infos clients | AS17: 1 - Délai(s) valide(s) | AT17: 5x - Others | AU17: 52 | AV17: 11
A18: 3 | B18: G2 | C18: 7420794356 | F18: JOINT COLLECTEUR ADM | G18: 54 | H18: 0 | I18: 0 | J18: 54 | K18: 1 | L18: 0 | M18: 1 | N18: 0 | O18: 0 | P18: 0 | Q18: 6 | R18: 0 | S18: 1 | T18: 78525.PP02 | U18: 00.00.0000 | W18: 71 | Y18: 00.00.0000 | AB18: 00.00.0000 | AE18: 00.00.0000 | AH18: 00.00.0000 | AN18: GENT | AP18: n | AQ18: Pas de délai | AR18: Pas d'infos | AS18: 4 - ZVPI(s) non traitée(s) | AT18: undefine | AU18: undefine | AV18: 11
A19: 1 | B19: G0 | C19: 5000667791 | F19: SEGMENT ETANCHEITE | G19: 50 | H19: 0 | I19: 0 | J19: 50 | K19: 1 | L19: 0 | M19: 1 | N19: 0 | O19: 0 | P19: 1 | Q19: 123 | R19: 90 | S19: 0 | T19: 85319.PP00 | U19: 42090 | W19: 14 | Y19: 00.00.0000 | AB19: 00.00.0000 | AE19: 00.00.0000 | AH19: 00.00.0000 | AN19: DVL | AO19: New | AP19: o | AQ19: Délai valable | AR19: Pas d'infos | AS19: 1 - Délai(s) valide(s) | AT19: undefine | AU19: undefine | AV19: 11
A20: 7 | B20: G2 | C20: 7421857436 | D20: AA | F20: JEU DE FILTRE A HUILE | G20: 81 | H20: 0 | I20: 0 | J20: 50 | K20: 12 | L20: 0 | M20: 1 | N20: 800 | O20: 0 | P20: 79 | Q20: 0 | R20: 0 | S20: 100 | T20: 73891.PP00 | U20: 00.00.0000 | W20: 94 | Y20: 00.00.0000 | AB20: 00.00.0000 | AE20: 00.00.0000 | AH20: 00.00.0000 | AN20: TSC | AP20: n | AQ20: Pas de délai | AR20: Pas d'infos | AS20: 1 - Délai(s) valide(s) | AT20: undefine | AU20: undefine | AV20: 11
A21: 0 | B21: G0 | C21: 7401698135 | F21: LUBRIFIANT PACKNINGSOLJA T 10ML | G21: 48 | H21: 0 | I21: 0 | J21: 48 | K21: 1 | L21: 0 | M21: 1 | N21: 0 | O21: 0 | P21: 0 | Q21: 12 | R21: 12 | S21: 610 | T21: 78525.01 | U21: 41991 | W21: 66 | Y21: 00.00.0000 | AB21: 00.00.0000 | AE21: 00.00.0000 | AH21: 00.00.0000 | AN21: GOTH | AO21: New | AP21: o | AQ21: Délai dépassé | AR21: Pas d'infos | AS21: 3 - ZVPI(s) à mettre à jour | AT21: undefine | AU21: undefine | AV21: 11
A22: 59 | B22: G2 | C22: 7420850506 | D22: BA | F22: JOINT COLLECTEUR D'ADMISSION | G22: 57 | H22: 0 | I22: 0 | J22: 43 | K22: 9 | L22: 0 | M22: 1 | N22: 0 | O22: 0 | P22: 23 | Q22: 3 | R22: 0 | S22: 400 | T22: 71700.01 | U22: 42073 | V22: 150220: 200-06 and 200-07 delayed, | W22: 65 | X22: 11 - Retard sur Prog Appro | Y22: 42055 | Z22: E.GRONDAL YIP0019 | AA22: Cas soldé - Attente livraison | AB22: 42072 | AC22: E.GRONDAL YIP0019 | AE22: 42065 | AF22: E.GRONDAL YIP0019 | AG22: Très faible (moins de 1 semaine) | AH22: 42072 | AI22: E.GRONDAL YIP0019 | AJ22: checking with supplier/EG | AK22: 150224: checking with supplier again/EG 150302: chasing supplier for answer/EG | AL22: 150305: transfer from Gent will be done, ETA with 100 pce 10/03 is conf/EG | AN22: GOTH | AP22: o | AQ22: Délai dépassé | AR22: Infos clients | AS22: 3 - ZVPI(s) à mettre à jour | AT22: 1x - Supplier | AU22: 11 | AV22: 11
A23: 63 | B23: 98 | C23: 5010295362 | F23: PISTON | G23: 42 | H23: 0 | I23: 0 | J23: 42 | K23: 1 | L23: 0 | M23: 1 | N23: 0 | O23: 0 | P23: 0 | Q23: 0 | R23: 0 | S23: 0 | T23: 75069.PP00 | U23: 00.00.0000 | V23: NO more longer delivered | W23: 14 | X23: 29 - Autres cas Doc Techn | Y23: 41928 | Z23: C.GUIGUE R074602 | AB23: 00.00.0000 | AE23: 00.00.0000 | AH23: 00.00.0000 | AJ23: CG on 16.10.2014 | AN23: DVL | AP23: n | AQ23: Pas de délai | AR23: Infos inutilisables | AS23: 3 - ZVPI(s) à mettre à jour | AT23: 2x - Technical | AU23: 29 | AV23: 11
A24: 10 | B24: G0 | C24: 7422282198 | F24: INJECTEUR POUR MOTEUR HDE11 | G24: 40 | H24: 0 | I24: 0 | J24: 40 | K24: 1 | L24: 0 | M24: 1 | N24: 0 | O24: 0 | P24: 0 | Q24: 20 | R24: 20 | S24: 26 | T24: 71417.PP00 | U24: 00.00.0000 | W24: 41 | X24: 52 - Consos imprévisibles | Y24: 42074 | Z24: S.Bärgård E123011 | AB24: 00.00.0000 | AD24: sous 24h | AE24: 42074 | AF24: S.Bärgård E123011 | AG24: Faible (environ 2 semaines) | AH24: 42074 | AI24: S.Bärgård E123011 | AN24: ELSK | AP24: n | AQ24: Pas de délai | AR24: Infos clients | AS24: 2 - Commentaire(s) sans délai | AT24: 5x - Others | AU24: 52 | AV24: 11
A25: 2 | B25: G0 | C25: 5010389423 | F25: ENTRETOISE L=50 15X38 ACIER SSS | G25: 39 | H25: 0 | I25: 0 | J25: 39 | K25: 1 | L25: 0 | M25: 1 | N25: 0 | O25: 0 | P25: 0 | Q25: 1 | R25: 1 | S25: 0 | T25: 49970.01 | U25: 42150 | W25: 13 | Y25: 00.00.0000 | AB25: 00.00.0000 | AE25: 00.00.0000 | AH25: 00.00.0000 | AN25: DVL | AO25: New | AP25: o | AQ25: Délai valable | AR25: Pas d'infos | AS25: 1 - Délai(s) valide(s) | AT25: undefine | AU25: undefine | AV25: 11
A26: 58 | B26: 98 | C26: 5000686964 | F26: PISTON CLASSE"B" | G26: 39 | H26: 0 | I26: 0 | J26: 39 | K26: 1 | L26: 0 | M26: 1 | N26: 0 | O26: 0 | P26: 0 | Q26: 1 | R26: 0 | S26: 0 | T26: 02989.03 | U26: 42086 | W26: 17 | X26: 52 - Consos imprévisibles | Y26: 42044 | Z26: N.GENIES R387722 | AB26: 00.00.0000 | AE26: 00.00.0000 | AH26: 00.00.0000 | AN26: DVL | AP26: o | AQ26: Délai valable | AR26: Infos inutilisables | AS26: 1 - Délai(s) valide(s) | AT26: 5x - Others | AU26: 52 | AV26: 11
A27: 72 | B27: 98 | C27: 5010284496 | F27: PISTON MOTEUR | G27: 38 | H27: 0 | I27: 0 | J27: 38 | K27: 1 | L27: 0 | M27: 1 | N27: 0 | O27: 0 | P27: 0 | Q27: 4 | R27: 0 | S27: 42 | T27: 75094.00 | U27: 00.00.0000 | V27: attente delai v.p.le 06/01 | W27: 13 | X27: 11 - Retard sur Prog Appro | Y27: 42010 | Z27: V.PROVOLO R072569 | AA27: Pas d'évolution de la situation | AB27: 42069 | AC27: V.PROVOLO R072569 | AE27: 00.00.0000 | AH27: 00.00.0000 | AN27: DVL | AP27: n | AQ27: Pas de délai | AR27: Infos clients | AS27: 2 - Commentaire(s) sans délai | AT27: 1x - Supplier | AU27: 11 | AV27: 11
A28: 7 | B28: G0 | C28: 7421990552 | F28: FILTRE A HUILE OPTIDRIVER BV | G28: 38 | H28: 0 | I28: 0 | J28: 38 | K28: 1 | L28: 0 | M28: 1 | N28: 0 | O28: 0 | P28: 1 | Q28: 302 | R28: 302 | S28: 0 | T28: 74816.04 | U28: 42079 | W28: 16 | Y28: 00.00.0000 | AB28: 00.00.0000 | AE28: 00.00.0000 | AH28: 00.00.0000 | AN28: DVL | AP28: o | AQ28: Délai valable | AR28: Pas d'infos | AS28: 1 - Délai(s) valide(s) | AT28: undefine | AU28: undefine | AV28: 11
A29: 0 | B29: G4 | C29: 5001836681 | F29: KIT ETANCHEITE ELECTRO VALVE | G29: 37 | H29: 0 | I29: 0 | J29: 37 | K29: 1 | L29: 0 | M29: 1 | N29: 0 | O29: 0 | P29: 1 | Q29: 23 | R29: 0 | S29: 0 | T29: 46794.04 | U29: 42088 | W29: 37 | Y29: 00.00.0000 | AB29: 00.00.0000 | AE29: 00.00.0000 | AH29: 00.00.0000 | AN29: CABS | AO29: New | AP29: o | AQ29: Délai valable | AR29: Pas d'infos | AS29: 1 - Délai(s) valide(s) | AT29: undefine | AU29: undefine | AV29: 11
A30: 45 | B30: G0 | C30: 7485135409 | F30: FRICTION EMBRAYAGE 280MT D84 | G30: 35 | H30: 0 | I30: 0 | J30: 35 | K30: 1 | L30: 0 | M30: 1 | N30: 0 | O30: 6 | P30: 2 | Q30: 7 | R30: 5 | S30: 216 | T30: 78668.01 | U30: 00.00.0000 | V30: FB10.03 - mail to supp | W30: 32 | X30: 11 - Retard sur Prog Appro | Y30: 41947 | Z30: a.chalmendrier R438398 | AA30: 11 - Retard sur Prog Appro | AB30: 42074 | AC30: F.BURCICA R395634 | AD30: aucune visibilité | AE30: 42074 | AF30: F.BURCICA R395634 | AG30: Majeure (aucune visibilité) | AH30: 42074 | AI30: F.BURCICA R395634 | AJ30: le founisseur dit que pn 7422020877 est remplacé par 7421580923 - | AK30: pr nous c'est l'inverse. | AN30: CABS | AP30: n | AQ30: Pas de délai | AR30: Infos clients | AS30: 2 - Commentaire(s) sans délai | AT30: 1x - Supplier | AU30: 11 | AV30: 11
A31: 9 | B31: G2 | C31: 7488890305 | D31: AA | F31: CABLE USB DE COMMUNICATION DES DIAGNOSTI | G31: 38 | H31: 8 | I31: 0 | J31: 30 | K31: 8 | L31: 7 | M31: 1 | N31: 20 | O31: 0 | P31: 5 | Q31: 0 | R31: 0 | S31: 0 | T31: 73853.PP00 | U31: 42072 | V31: 150306: Waiting for confirmation | W31: 60 | X31: 52 - Consos imprévisibles | Y31: 42069 | Z31: A.JOHANSSON A055017 | AB31: 00.00.0000 | AD31: sous 24h | AE31: 42069 | AF31: A.JOHANSSON A055017 | AG31: Très faible (moins de 1 semaine) | AH31: 42069 | AI31: A.JOHANSSON A055017 | AJ31: to cover the rest of the backorders/AJ | AN31: GOTH | AP31: o | AQ31: Délai dépassé | AR31: Infos clients | AS31: 3 - ZVPI(s) à mettre à jour | AT31: 5x - Others | AU31: 52 | AV31: 11
A32: 9 | B32: G2 | C32: 5001872836 | F32: ADAPTATEUR EURO2 ET EURO 3 | G32: 27 | H32: 0 | I32: 0 | J32: 27 | K32: 1 | L32: 0 | M32: 1 | N32: 0 | O32: 0 | P32: 1 | Q32: 3 | R32: 0 | S32: 0 | T32: 03006.01 | U32: 42079 | V32: CD 4/3 | W32: 15 | X32: 52 - Consos imprévisibles | Y32: 42067 | Z32: C.DERRIEN A146081 | AA32: Cas soldé - Attente livraison | AB32: 42072 | AC32: C.DERRIEN A146081 | AE32: 00.00.0000 | AH32: 00.00.0000 | AN32: DVL | AP32: o | AQ32: Délai valable | AR32: Infos clients | AS32: 1 - Délai(s) valide(s) | AT32: 5x - Others | AU32: 52 | AV32: 11
A33: 9 | B33: 12 | C33: 7488890300 | F33: UNITE DE COMMUNICATION | G33: 26 | H33: 0 | I33: 0 | J33: 26 | K33: 1 | L33: 0 | M33: 1 | N33: 20 | O33: 0 | P33: 3 | Q33: 4 | R33: 0 | S33: 5 | T33: 71649.PP00 | U33: 42072 | W33: 60 | Y33: 00.00.0000 | AB33: 00.00.0000 | AE33: 00.00.0000 | AH33: 00.00.0000 | AN33: GOTH | AP33: o | AQ33: Délai dépassé | AR33: Pas d'infos | AS33: 3 - ZVPI(s) à mettre à jour | AT33: undefine | AU33: undefine | AV33: 11
A34: 6 | B34: G2 | C34: 5010575398 | F34: BIELLE DIRECTION LEMFORDER400330 | G34: 24 | H34: 0 | I34: 0 | J34: 24 | K34: 1 | L34: 0 | M34: 1 | N34: 0 | O34: 0 | P34: 0 | Q34: 0 | R34: 0 | S34: 0 | T34: 74417.02 | U34: 42096 | W34: 40 | X34: 52 - Consos imprévisibles | Y34: 42072 | Z34: S.DAFEROVIC A041719 | AA34: Cas soldé - Attente livraison | AB34: 42073 | AC34: S.DAFEROVIC A041719 | AE34: 00.00.0000 | AG34: Moyenne (environ 1 mois) | AH34: 42072 | AI34: S.DAFEROVIC A041719 | AN34: ELSK | AP34: o | AQ34: Délai valable | AR34: Infos clients | AS34: 1 - Délai(s) valide(s) | AT34: 5x - Others | AU34: 52 | AV34: 11
A35: 55 | B35: G2 | C35: 7422295738 | F35: BUSE REFROIDISSEMENT D'HUILE | G35: 31 | H35: 0 | I35: 0 | J35: 24 | K35: 4 | L35: 0 | M35: 1 | N35: 0 | O35: 0 | P35: 2 | Q35: 0 | R35: 0 | S35: 480 | T35: 70779.PP00 | U35: 42076 | V35: 150227 Confirmed by supplier/bon | W35: 68 | X35: 52 - Consos imprévisibles | Y35: 42062 | Z35: B.OLSSON A021955 | AB35: 00.00.0000 | AD35: sous 2 semaine | AE35: 42062 | AF35: B.OLSSON A021955 | AG35: Moyenne (environ 1 mois) | AH35: 42062 | AI35: B.OLSSON A021955 | AN35: GOTH | AP35: o | AQ35: Délai valable | AR35: Infos clients | AS35: 1 - Délai(s) valide(s) | AT35: 5x - Others | AU35: 52 | AV35: 11
A36: 92 | B36: 30 | C36: 7422254576 | F36: INJECTEUR AUTOMATIQUE | G36: 23 | H36: 0 | I36: 0 | J36: 23 | K36: 1 | L36: 0 | M36: 1 | N36: 0 | O36: 0 | P36: 0 | Q36: 0 | R36: 0 | S36: 31 | T36: 71417.PP00 | U36: 42076 | V36: EP 09/12 Demande anticipation au Fr | W36: 90 | X36: 36 - 1ère demande client | Y36: 41982 | Z36: E.PERRET A167966 | AB36: 00.00.0000 | AE36: 00.00.0000 | AH36: 00.00.0000 | AJ36: MD 14/01 rajout de pces pr solder les BO + rel frs pr confirmer délais | AK36: MD 02/02 délai confirmé par frs | AN36: TSC | AP36: o | AQ36: Délai valable | AR36: Infos inutilisables | AS36: 1 - Délai(s) valide(s) | AT36: 3x - VPL | AU36: 36 | AV36: 11
A37: 0 | B37: G0 | C37: 5010248022 | F37: JOINT RETOUR-HUI-TURBO | G37: 22 | H37: 0 | I37: 0 | J37: 20 | K37: 2 | L37: 0 | M37: 1 | N37: 0 | O37: 0 | P37: 2 | Q37: 50 | R37: 50 | S37: 0 | T37: 10003.PP00 | U37: 42076 | W37: 14 | Y37: 00.00.0000 | AB37: 00.00.0000 | AE37: 00.00.0000 | AH37: 00.00.0000 | AN37: DVL | AO37: New | AP37: o | AQ37: Délai valable | AR37: Pas d'infos | AS37: 1 - Délai(s) valide(s) | AT37: undefine | AU37: undefine | AV37: 11
A38: 9 | B38: G2 | C38: 7420559834 | D38: BA | F38: JOINT FIBRE MD5/7 | G38: 93 | H38: 2 | I38: 0 | J38: 20 | K38: 29 | L38: 1 | M38: 1 | N38: 325 | O38: 0 | P38: 28 | Q38: 0 | R38: 0 | S38: 0 | T38: 71570.PP00 | U38: 42073 | W38: 71 | Y38: 00.00.0000 | AB38: 00.00.0000 | AE38: 00.00.0000 | AH38: 00.00.0000 | AN38: GENT | AP38: o | AQ38: Délai dépassé | AR38: Pas d'infos | AS38: 1 - Délai(s) valide(s) | AT38: undefine | AU38: undefine | AV38: 11
A39: 6 | B39: G2 | C39: 7400946304 | F39: RONDELLE | G39: 18 | H39: 0 | I39: 0 | J39: 18 | K39: 1 | L39: 0 | M39: 1 | N39: 0 | O39: 0 | P39: 1 | Q39: 6 | R39: 0 | S39: 0 | T39: 48819.PP00 | U39: 42090 | W39: 89 | Y39: 00.00.0000 | AB39: 00.00.0000 | AE39: 00.00.0000 | AH39: 00.00.0000 | AN39: TSC | AP39: o | AQ39: Délai valable | AR39: Pas d'infos | AS39: 1 - Délai(s) valide(s) | AT39: undefine | AU39: undefine | AV39: 11
A40: 2 | B40: G2 | C40: 5010227149 | F40: POIGNEE DE TIRAGE | G40: 17 | H40: 0 | I40: 0 | J40: 17 | K40: 1 | L40: 0 | M40: 1 | N40: 0 | O40: 0 | P40: 3 | Q40: 23 | R40: 0 | S40: 0 | T40: 37701.15 | U40: 42094 | W40: 35 | Y40: 00.00.0000 | AB40: 00.00.0000 | AE40: 00.00.0000 | AH40: 00.00.0000 | AN40: CABS | AO40: New | AP40: o | AQ40: Délai valable | AR40: Pas d'infos | AS40: 1 - Délai(s) valide(s) | AT40: undefine | AU40: undefine | AV40: 11
A41: 9 | B41: G2 | C41: 7488890253 | D41: AA | F41: CABLE | G41: 16 | H41: 0 | I41: 0 | J41: 16 | K41: 1 | L41: 0 | M41: 1 | N41: 0 | O41: 0 | P41: 7 | Q41: 14 | R41: 0 | S41: 12 | T41: 73853.PP00 | U41: 42072 | W41: 60 | X41: 52 - Consos imprévisibles | Y41: 42069 | Z41: A.JOHANSSON A055017 | AB41: 00.00.0000 | AD41: sous 24h | AE41: 42069 | AF41: A.JOHANSSON A055017 | AG41: Très faible (moins de 1 semaine) | AH41: 42069 | AI41: A.JOHANSSON A055017 | AN41: GOTH | AP41: o | AQ41: Délai dépassé | AR41: Infos clients | AS41: 3 - ZVPI(s) à mettre à jour | AT41: 5x - Others | AU41: 52 | AV41: 11
A42: 7 | B42: G2 | C42: 7421519716 | D42: AA | F42: FILTRE | G42: 48 | H42: 23 | I42: 0 | J42: 14 | K42: 10 | L42: 2 | M42: 1 | N42: 0 | O42: 0 | P42: 31 | Q42: 0 | R42: 0 | S42: 0 | T42: 79865.PP00 | U42: 42075 | W42: 61 | X42: A déterminer | Y42: 42073 | Z42: P.WEDERBRAND YI09199 | AB42: 00.00.0000 | AD42: unknown | AE42: 42073 | AF42: P.WEDERBRAND YI09199 | AG42: Moyenne (environ 1 mois) | AH42: 42073 | AI42: P.WEDERBRAND YI09199 | AN42: GOTH | AP42: o | AQ42: Délai valable | AR42: Infos clients | AS42: 1 - Délai(s) valide(s) | AT42: undefine | AU42: undefine | AV42: 11
A43: 24 | B43: G2 | C43: 5000695921 | F43: ENTRETOISE 77X44,4X30,5 | G43: 13 | H43: 0 | I43: 0 | J43: 13 | K43: 1 | L43: 0 | M43: 1 | N43: 0 | O43: 0 | P43: 0 | Q43: 1 | R43: 0 | S43: 0 | T43: 03114.PP00 | U43: 42083 | V43: 30 p Vendredi 20 Mars GR | W43: 10 | X43: A déterminer | Y43: 42058 | Z43: G.RIVOIRE R069163 | AB43: 00.00.0000 | AE43: 00.00.0000 | AH43: 00.00.0000 | AN43: DVL | AP43: o | AQ43: Délai valable | AR43: Infos inutilisables | AS43: 1 - Délai(s) valide(s) | AT43: undefine | AU43: undefine | AV43: 11
A44: 15 | B44: G2 | C44: 7420578500 | F44: SEGMENT DE PISTON ETANCHEITE | G44: 13 | H44: 0 | I44: 0 | J44: 13 | K44: 1 | L44: 0 | M44: 1 | N44: 0 | O44: 0 | P44: 0 | Q44: 107 | R44: 0 | S44: 0 | T44: 71133.PP00 | U44: 00.00.0000 | W44: 14 | X44: 33 - Réception | Y44: 42073 | Z44: C.GUIGUE R074602 | AB44: 00.00.0000 | AE44: 00.00.0000 | AH44: 00.00.0000 | AN44: DVL | AP44: n | AQ44: Pas de délai | AR44: Infos clients | AS44: 2 - Commentaire(s) sans délai | AT44: 3x - VPL | AU44: 33 | AV44: 11
A45: 136 | B45: G2 | C45: 7421374805 | F45: FAISCEAU ELECTRIQUE | G45: 13 | H45: 0 | I45: 0 | J45: 13 | K45: 1 | L45: 0 | M45: 1 | N45: 0 | O45: 0 | P45: 1 | Q45: 2 | R45: 0 | S45: 50 | T45: 05423.PP00 | U45: 42047 | W45: 88 | Y45: 00.00.0000 | AB45: 00.00.0000 | AE45: 00.00.0000 | AH45: 00.00.0000 | AN45: TSC | AP45: o | AQ45: Délai dépassé | AR45: Pas d'infos | AS45: 3 - ZVPI(s) à mettre à jour | AT45: undefine | AU45: undefine | AV45: 11
A46: 7 | B46: 30 | C46: 5001866493 | D46: AA | F46: JEU DE JOINTS -SUP- **406** | G46: 18 | H46: 0 | I46: 0 | J46: 11 | K46: 3 | L46: 0 | M46: 1 | N46: 0 | O46: 0 | P46: 19 | Q46: 19 | R46: 0 | S46: 0 | U46: 42076 | V46: 80 kits in manufacturing | W46: 14 | X46: 52 - Consos imprévisibles | Y46: 42072 | Z46: C.GUIGUE R074602 | AB46: 00.00.0000 | AE46: 00.00.0000 | AH46: 00.00.0000 | AJ46: CG on 09.03.2015 | AN46: DVL | AP46: o | AQ46: Délai valable | AR46: Infos clients | AS46: 1 - Délai(s) valide(s) | AT46: 5x - Others | AU46: 52 | AV46: 11
A47: 345 | B47: 32 | C47: 5600584787 | F47: LOT DE DIFFERENTIEL | G47: 10 | H47: 0 | I47: 0 | J47: 10 | K47: 1 | L47: 0 | M47: 1 | N47: 0 | O47: 0 | P47: 0 | Q47: 0 | R47: 0 | S47: 0 | T47: 76971.PP02 | U47: 00.00.0000 | V47: pour kit // pas de dde de transfert | W47: 11 | X47: 59 - Autres causes | Y47: 41432 | Z47: M.CHEVALIER R392457 | AA47: 09 - Autres cas Achats | AB47: 42055 | AC47: M.CHEVALIER R392457 | AD47: aucune visibilité | AE47: 42055 | AF47: M.CHEVALIER R392457 | AG47: Majeure (aucune visibilité) | AH47: 42055 | AI47: M.CHEVALIER R392457 | AJ47: Achat: Sylvain Lagrand SA demandée le 01/10 JL // Ref en attente d'etre fermée | AN47: DVL | AP47: n | AQ47: Pas de délai | AR47: Infos inutilisables | AS47: 3 - ZVPI(s) à mettre à jour | AT47: 5x - Others | AU47: 59 | AV47: 11
A48: 161 | B48: G2 | C48: 5000295773 | F48: BOUCHON NU POUR 5001829966 | G48: 10 | H48: 0 | I48: 0 | J48: 10 | K48: 1 | L48: 0 | M48: 1 | N48: 0 | O48: 0 | P48: 0 | Q48: 0 | R48: 0 | S48: 0 | T48: 08001.PP00 | U48: 00.00.0000 | W48: 17 | X48: 39 - Autres causes "Gestion" | Y48: 41919 | Z48: N.GENIES R387722 | AB48: 00.00.0000 | AE48: 00.00.0000 | AG48: Majeure (aucune visibilité) | AH48: 41919 | AI48: N.GENIES R387722 | AJ48: NG 09/02/2015 : Prix validé pour 100 pces | AN48: DVL | AP48: n | AQ48: Pas de délai | AR48: Infos inutilisables | AS48: 3 - ZVPI(s) à mettre à jour | AT48: 3x - VPL | AU48: 39 | AV48: 11
A49: 135 | B49: G2 | C49: 5000138234 | F49: BAGUE ETANCHEITE"CYCLAM" | G49: 40 | H49: 30 | I49: 0 | J49: 10 | K49: 8 | L49: 7 | M49: 1 | N49: 0 | O49: 0 | P49: 2 | Q49: 0 | R49: 0 | S49: 68 | T49: 11329.PP01 | U49: 00.00.0000 | V49: FB 04.03 - attente remplacement ref | W49: 32 | X49: 15 - Autres cas Fr | Y49: 41956 | Z49: a.chalmendrier R438398 | AA49: Pas d'évolution de la situation | AB49: 42067 | AC49: F.BURCICA R395634 | AD49: aucune visibilité | AE49: 42067 | AF49: F.BURCICA R395634 | AG49: Majeure (aucune visibilité) | AH49: 42067 | AI49: F.BURCICA R395634 | AJ49: AC 13/11: le frn ne connait pas la réf // en attente info du frn | AK49: AC 24/11: le frn m'informe que cette réf est obsolète //En attente info acheteur | AL49: AC 30/01/2015: En attente validation de la solution alternative du frn // Se | AM49: rapprocher de Magaud Sylvain pour le suivi | AN49: CABS | AP49: n | AQ49: Pas de délai | AR49: Infos clients | AS49: 2 - Commentaire(s) sans délai | AT49: 1x - Supplier | AU49: 15 | AV49: 11
A50: 2 | B50: 32 | C50: 5010619517 | F50: CONDENSEUR | G50: 10 | H50: 0 | I50: 0 | J50: 10 | K50: 1 | L50: 0 | M50: 1 | N50: 0 | O50: 0 | P50: 1 | Q50: 50 | R50: 0 | S50: 0 | T50: 71709.PP00 | U50: 42075 | W50: 36 | Y50: 00.00.0000 | AB50: 00.00.0000 | AE50: 00.00.0000 | AH50: 00.00.0000 | AN50: CABS | AO50: New | AP50: o | AQ50: Délai valable | AR50: Pas d'infos | AS50: 1 - Délai(s) valide(s) | AT50: undefine | AU50: undefine | AV50: 11
A51: 6 | B51: G2 | C51: 7420872378 | F51: FAISCEAU WIRES CABINE GYROPHARE | G51: 10 | H51: 0 | I51: 0 | J51: 10 | K51: 1 | L51: 0 | M51: 1 | N51: 0 | O51: 0 | P51: 0 | Q51: 0 | R51: 0 | S51: 0 | U51: 00.00.0000 | W51: 38 | Y51: 00.00.0000 | AB51: 00.00.0000 | AE51: 00.00.0000 | AH51: 00.00.0000 | AN51: CABS | AP51: n | AQ51: Pas de délai | AR51: Pas d'infos | AS51: 4 - ZVPI(s) non traitée(s) | AT51: undefine | AU51: undefine | AV51: 11
A52: 78 | B52: G2 | C52: 773685 | F52: PISTON...L4813 | G52: 8 | H52: 0 | I52: 0 | J52: 8 | K52: 1 | L52: 0 | M52: 1 | N52: 0 | O52: 0 | P52: 0 | Q52: 3 | R52: 2 | S52: 0 | T52: 75069.PP00 | U52: 00.00.0000 | V52: CO order closed on 05.11.2012 | W52: 14 | X52: 02 - DA pour MEP contrat HA | Y52: 42062 | Z52: C.GUIGUE R074602 | AB52: 00.00.0000 | AE52: 00.00.0000 | AH52: 00.00.0000 | AJ52: Trying to get a new price proposal for MOQ = 270 pces | AK52: CG on 27.02.2015 | AN52: DVL | AP52: n | AQ52: Pas de délai | AR52: Infos clients | AS52: 2 - Commentaire(s) sans délai | AT52: 0x - Purchasing | AU52: 02 | AV52: 11
A53: 160 | B53: G4 | C53: 7420570449 | D53: BA | F53: BAGUE ETANCHEITE | G53: 8 | H53: 0 | I53: 0 | J53: 8 | K53: 1 | L53: 0 | M53: 1 | N53: 0 | O53: 0 | P53: 32 | Q53: 74 | R53: 0 | S53: 0 | T53: 31268.PP00 | U53: 00.00.0000 | W53: 37 | Y53: 00.00.0000 | AB53: 00.00.0000 | AE53: 00.00.0000 | AH53: 00.00.0000 | AN53: CABS | AP53: n | AQ53: Pas de délai | AR53: Pas d'infos | AS53: 4 - ZVPI(s) non traitée(s) | AT53: undefine | AU53: undefine | AV53: 11
A54: 6 | B54: G2 | C54: 5001868169 | D54: AA | F54: POCHETTE DE JOINTS-INF-"415/416" | G54: 7 | H54: 0 | I54: 0 | J54: 7 | K54: 1 | L54: 0 | M54: 1 | N54: 0 | O54: 40 | P54: 3 | Q54: 23 | R54: 0 | S54: 0 | U54: 42083 | V54: 7420850506 (066) 100 pces in receiving | W54: 14 | X54: 56 - Manque composant(s) | Y54: 42073 | Z54: C.GUIGUE R074602 | AB54: 00.00.0000 | AE54: 00.00.0000 | AH54: 00.00.0000 | AJ54: CG on 10.03.2015 | AN54: DVL | AP54: o | AQ54: Délai valable | AR54: Infos clients | AS54: 1 - Délai(s) valide(s) | AT54: 5x - Others | AU54: 56 | AV54: 11
A55: 261 | B55: G0 | C55: 5000685988 | F55: BUTEE DE PLANETAIRE | G55: 7 | H55: 0 | I55: 0 | J55: 7 | K55: 1 | L55: 0 | M55: 1 | N55: 0 | O55: 0 | P55: 0 | Q55: 1 | R55: 1 | S55: 0 | T55: 71046.02 | U55: 42111 | V55: ETA end of march | W55: 33 | X55: A déterminer | Y55: 41793 | Z55: J.LARRET R388277 | AA55: Cas soldé - Attente livraison | AB55: 42038 | AC55: J.LARRET R388277 | AD55: sous 2 semaine | AE55: 42038 | AF55: J.LARRET R388277 | AG55: Haute (environ 3 mois) | AH55: 42038 | AI55: J.LARRET R388277 | AJ55: I#ve been told that we should get a part around Xmas but I don#t have the exact | AK55: partial q'ty expected within january escalation top priority meritor | AN55: CABS | AP55: o | AQ55: Délai valable | AR55: Infos inutilisables | AS55: 1 - Délai(s) valide(s) | AT55: undefine | AU55: undefine | AV55: 11
A56: 44 | B56: G2 | C56: 5010248400 | F56: SUPPORT FILTRE A GAZOLE | G56: 7 | H56: 0 | I56: 0 | J56: 7 | K56: 1 | L56: 0 | M56: 1 | N56: 0 | O56: 0 | P56: 0 | Q56: 8 | R56: 0 | S56: 0 | T56: 39459.PP00 | U56: 42016 | W56: 88 | Y56: 00.00.0000 | AB56: 00.00.0000 | AE56: 00.00.0000 | AH56: 00.00.0000 | AN56: TSC | AP56: o | AQ56: Délai dépassé | AR56: Pas d'infos | AS56: 3 - ZVPI(s) à mettre à jour | AT56: undefine | AU56: undefine | AV56: 11
A57: 2 | B57: G4 | C57: 5010227152 | D57: BA | F57: LEVIER DR. INTER OUVERT.DE PORTE | G57: 6 | H57: 0 | I57: 0 | J57: 6 | K57: 1 | L57: 0 | M57: 1 | N57: 0 | O57: 0 | P57: 14 | Q57: 34 | R57: 0 | S57: 0 | T57: 37701.15 | U57: 42080 | W57: 35 | Y57: 00.00.0000 | AB57: 00.00.0000 | AE57: 00.00.0000 | AH57: 00.00.0000 | AN57: CABS | AO57: New | AP57: o | AQ57: Délai valable | AR57: Pas d'infos | AS57: 1 - Délai(s) valide(s) | AT57: undefine | AU57: undefine | AV57: 11
A58: 78 | B58: 30 | C58: 7422254568 | F58: INJECTEUR AUTOMATIQUE | G58: 6 | H58: 0 | I58: 0 | J58: 6 | K58: 1 | L58: 0 | M58: 1 | N58: 0 | O58: 0 | P58: 0 | Q58: 0 | R58: 0 | S58: 4 | T58: 71417.PP00 | U58: 41852 | V58: Voir pn 7421977909 | W58: 90 | X58: A déterminer | Y58: 42002 | Z58: E.PERRET A167966 | AB58: 00.00.0000 | AE58: 00.00.0000 | AH58: 00.00.0000 | AN58: TSC | AP58: o | AQ58: Délai dépassé | AR58: Infos inutilisables | AS58: 3 - ZVPI(s) à mettre à jour | AT58: undefine | AU58: undefine | AV58: 11
A59: 44 | B59: G2 | C59: 5000732877 | F59: AXE ENTRETOISE | G59: 5 | H59: 0 | I59: 0 | J59: 5 | K59: 1 | L59: 0 | M59: 1 | N59: 0 | O59: 0 | P59: 1 | Q59: 10 | R59: 0 | S59: 0 | T59: 04200.PP00 | U59: 42090 | W59: 10 | Y59: 00.00.0000 | AB59: 00.00.0000 | AE59: 00.00.0000 | AH59: 00.00.0000 | AN59: DVL | AP59: o | AQ59: Délai valable | AR59: Pas d'infos | AS59: 1 - Délai(s) valide(s) | AT59: undefine | AU59: undefine | AV59: 11
A60: 254 | B60: G2 | C60: 870078200 | F60: TURBINE AVEC BAGU | G60: 5 | H60: 0 | I60: 0 | J60: 5 | K60: 1 | L60: 0 | M60: 1 | N60: 0 | O60: 0 | P60: 0 | Q60: 0 | R60: 0 | S60: 0 | T60: 75647.PP00 | U60: 00.00.0000 | V60: NG 08.07.14 NFP Frn | W60: 17 | X60: 13 - Arrêt définitif fourniture | Y60: 41828 | Z60: N.GENIES R387722 | AA60: Pas d'évolution de la situation | AB60: 41870 | AC60: N.GENIES R387722 | AD60: aucune visibilité | AE60: 41870 | AF60: N.GENIES R387722 | AG60: Majeure (aucune visibilité) | AH60: 41870 | AI60: N.GENIES R387722 | AN60: DVL | AP60: n | AQ60: Pas de délai | AR60: Infos inutilisables | AS60: 3 - ZVPI(s) à mettre à jour | AT60: 1x - Supplier | AU60: 13 | AV60: 11
A61: 7 | B61: G2 | C61: 7421939956 | F61: POMPE DE DIRECTION | G61: 5 | H61: 0 | I61: 0 | J61: 5 | K61: 1 | L61: 0 | M61: 1 | N61: 0 | O61: 0 | P61: 0 | Q61: 0 | R61: 0 | S61: 2 | T61: 79802.02 | U61: 42074 | W61: 62 | Y61: 00.00.0000 | AB61: 00.00.0000 | AE61: 00.00.0000 | AH61: 00.00.0000 | AN61: GOTH | AP61: o | AQ61: Délai dépassé | AR61: Pas d'infos | AS61: 3 - ZVPI(s) à mettre à jour | AT61: undefine | AU61: undefine | AV61: 11
A62: 3 | B62: G4 | C62: 7401696359 | D62: BA | F62: RESSORT ...... | G62: 22 | H62: 0 | I62: 0 | J62: 5 | K62: 4 | L62: 0 | M62: 1 | N62: 0 | O62: 0 | P62: 17 | Q62: 9 | R62: 0 | S62: 0 | T62: 79802.PP00 | U62: 00.00.0000 | W62: 62 | Y62: 00.00.0000 | AB62: 00.00.0000 | AE62: 00.00.0000 | AH62: 00.00.0000 | AN62: GOTH | AP62: n | AQ62: Pas de délai | AR62: Pas d'infos | AS62: 4 - ZVPI(s) non traitée(s) | AT62: undefine | AU62: undefine | AV62: 11
A63: 50 | B63: 32 | C63: 5001834579 | D63: AA | F63: JEU DE JOINTS INF **392/393** | G63: 8 | H63: 0 | I63: 0 | J63: 4 | K63: 2 | L63: 0 | M63: 1 | N63: 0 | O63: 80 | P63: 6 | Q63: 0 | R63: 0 | S63: 0 | U63: 42081 | V63: 40 kits in manufacturing | W63: 14 | X63: 56 - Manque composant(s) | Y63: 42072 | Z63: C.GUIGUE R074602 | AA63: Cas soldé - Attente livraison | AB63: 42073 | AC63: C.BRON R392388 | AE63: 00.00.0000 | AH63: 00.00.0000 | AJ63: CG on 09.03.2015 | AN63: DVL | AP63: o | AQ63: Délai valable | AR63: Infos clients | AS63: 1 - Délai(s) valide(s) | AT63: 5x - Others | AU63: 56 | AV63: 11
A64: 31 | B64: 32 | C64: 5001836501 | F64: UNITE CYLINDRE EURO 1 *21240/24 | G64: 4 | H64: 0 | I64: 0 | J64: 4 | K64: 1 | L64: 0 | M64: 1 | N64: 0 | O64: 30 | P64: 4 | Q64: 2 | R64: 0 | S64: 0 | U64: 42081 | V64: 30 kits in manufacturing | W64: 14 | X64: 52 - Consos imprévisibles | Y64: 42073 | Z64: C.GUIGUE R074602 | AB64: 00.00.0000 | AE64: 00.00.0000 | AH64: 00.00.0000 | AJ64: CG on 10.03.2015 | AN64: DVL | AP64: o | AQ64: Délai valable | AR64: Infos clients | AS64: 1 - Délai(s) valide(s) | AT64: 5x - Others | AU64: 52 | AV64: 11
A65: 1 | B65: G0 | C65: 5010339943 | F65: SEGMENT COUP DE FEU EP 3,5MM | G65: 4 | H65: 0 | I65: 0 | J65: 4 | K65: 1 | L65: 0 | M65: 1 | N65: 0 | O65: 0 | P65: 5 | Q65: 221 | R65: 136 | S65: 0 | T65: 85319.PP00 | U65: 42090 | W65: 14 | Y65: 00.00.0000 | AB65: 00.00.0000 | AE65: 00.00.0000 | AH65: 00.00.0000 | AN65: DVL | AO65: New | AP65: o | AQ65: Délai valable | AR65: Pas d'infos | AS65: 1 - Délai(s) valide(s) | AT65: undefine | AU65: undefine | AV65: 11
A66: 254 | B66: E3 | C66: 5000048145 | F66: ARBRE DE PPE A EAU | G66: 3 | H66: 0 | I66: 0 | J66: 3 | K66: 1 | L66: 0 | M66: 1 | N66: 0 | O66: 0 | P66: 0 | Q66: 2 | R66: 0 | S66: 0 | T66: 04965.PP00 | U66: 00.00.0000 | V66: 2 pces en stock CD 08/07 | W66: 15 | X66: 13 - Arrêt définitif fourniture | Y66: 41828 | Z66: C.DERRIEN A146081 | AA66: 13 - Arrêt définitif fourniture | AB66: 42068 | AC66: C.DERRIEN A146081 | AE66: 41922 | AF66: C.DERRIEN A146081 | AH66: 00.00.0000 | AJ66: PCE NFP CD 25/7 | AK66: FRNS PAS STOCK ET FABRIQUE PLUS CD 31/7 | AL66: ATT OK POUR FERMETURE KIT 5000793564 CD 29/10 | AN66: DVL | AP66: n | AQ66: Pas de délai | AR66: Infos clients | AS66: 2 - Commentaire(s) sans délai | AT66: 1x - Supplier | AU66: 13 | AV66: 11
A67: 45 | B67: 30 | C67: 7485135407 | F67: VOLANT MOTEUR D328 | G67: 3 | H67: 0 | I67: 0 | J67: 3 | K67: 1 | L67: 0 | M67: 1 | N67: 0 | O67: 0 | P67: 1 | Q67: 37 | R67: 0 | S67: 144 | T67: 78668.01 | U67: 00.00.0000 | V67: FB 06.03 : ATP 107 P | W67: 32 | X67: 52 - Consos imprévisibles | Y67: 42069 | Z67: F.BURCICA R395634 | AB67: 00.00.0000 | AE67: 00.00.0000 | AG67: Très faible (moins de 1 semaine) | AH67: 42069 | AI67: F.BURCICA R395634 | AN67: CABS | AP67: n | AQ67: Pas de délai | AR67: Infos clients | AS67: 2 - Commentaire(s) sans délai | AT67: 5x - Others | AU67: 52 | AV67: 11
A68: 73 | B68: G0 | C68: 7422282199 | F68: INJECTEUR POUR MOTEUR HDE11 | G68: 3 | H68: 0 | I68: 0 | J68: 3 | K68: 1 | L68: 0 | M68: 1 | N68: 0 | O68: 0 | P68: 0 | Q68: 97 | R68: 97 | S68: 0 | T68: 71417.PP00 | U68: 42076 | W68: 41 | Y68: 00.00.0000 | AB68: 00.00.0000 | AE68: 00.00.0000 | AH68: 00.00.0000 | AN68: ELSK | AP68: o | AQ68: Délai valable | AR68: Pas d'infos | AS68: 1 - Délai(s) valide(s) | AT68: undefine | AU68: undefine | AV68: 11
A69: 28 | B69: G2 | C69: 7408131292 | F69: PIGNON DE POMPE HYDRAULIQUE | G69: 3 | H69: 0 | I69: 0 | J69: 3 | K69: 1 | L69: 0 | M69: 1 | N69: 0 | O69: 0 | P69: 1 | Q69: 2 | R69: 0 | S69: 30 | T69: 70896.PP00 | U69: 42053 | V69: MK 150227 | W69: 43 | X69: 52 - Consos imprévisibles | Y69: 42047 | Z69: M.CARLSSON E113392 | AA69: Pas d'évolution de la situation | AB69: 42069 | AC69: M.CARLSSON E113392 | AD69: unknown | AE69: 42069 | AF69: M.CARLSSON E113392 | AG69: Majeure (aucune visibilité) | AH69: 42069 | AI69: M.CARLSSON E113392 | AN69: ELSK | AP69: o | AQ69: Délai dépassé | AR69: Infos clients | AS69: 3 - ZVPI(s) à mettre à jour | AT69: 5x - Others | AU69: 52 | AV69: 11
A70: 121 | B70: G2 | C70: 5000296786 | F70: JEU 4 DEMI FLASQUES COTE STANDAR | G70: 21 | H70: 1 | I70: 0 | J70: 2 | K70: 16 | L70: 1 | M70: 1 | N70: 0 | O70: 0 | P70: 1 | Q70: 0 | R70: 0 | S70: 100 | T70: 74844.PP00 | U70: 00.00.0000 | V70: Price LITIGATION | W70: 14 | X70: 11 - Retard sur Prog Appro | Y70: 42059 | Z70: C.BRON R392388 | AA70: 03 - Litige prix avec fr | AB70: 42062 | AC70: C.GUIGUE R074602 | AE70: 00.00.0000 | AH70: 00.00.0000 | AJ70: waiting for a new price proposal | AK70: CG on 27.02.2015 | AN70: DVL | AP70: n | AQ70: Pas de délai | AR70: Infos clients | AS70: 2 - Commentaire(s) sans délai | AT70: 1x - Supplier | AU70: 11 | AV70: 11
A71: 118 | B71: 98 | C71: 5010412126 | F71: PISTON | G71: 2 | H71: 0 | I71: 0 | J71: 2 | K71: 1 | L71: 0 | M71: 1 | N71: 0 | O71: 0 | P71: 0 | Q71: 0 | R71: 0 | S71: 0 | T71: 75069.PP00 | U71: 00.00.0000 | V71: NO more longer delivered | W71: 14 | X71: 13 - Arrêt définitif fourniture | Y71: 42051 | Z71: C.DERRIEN A146081 | AB71: 00.00.0000 | AE71: 00.00.0000 | AH71: 00.00.0000 | AJ71: CG on 27.02.2015 | AN71: DVL | AP71: n | AQ71: Pas de délai | AR71: Infos inutilisables | AS71: 3 - ZVPI(s) à mettre à jour | AT71: 1x - Supplier | AU71: 13 | AV71: 11
A72: 83 | B72: G0 | C72: 5600103869 | F72: LOT DIFFERENTIEL P1345 | G72: 2 | H72: 0 | I72: 0 | J72: 2 | K72: 1 | L72: 0 | M72: 1 | N72: 0 | O72: 0 | P72: 0 | Q72: 0 | R72: 0 | S72: 0 | T72: 71046.02 | U72: 42222 | V72: DA faite le 15.01 | W72: 33 | X72: 02 - DA pour MEP contrat HA | Y72: 41992 | Z72: J.LARRET R388277 | AA72: Cas soldé - Attente livraison | AB72: 42048 | AC72: J.LARRET R388277 | AD72: sous 2 semaine | AE72: 42048 | AF72: J.LARRET R388277 | AG72: Haute (environ 3 mois) | AH72: 42048 | AI72: J.LARRET R388277 | AN72: CABS | AP72: o | AQ72: Délai valable | AR72: Infos inutilisables | AS72: 1 - Délai(s) valide(s) | AT72: 0x - Purchasing | AU72: 02 | AV72: 11
A73: 22 | B73: G2 | C73: 5001858768 | F73: ECROU SPECIAL M30/M38X150 | G73: 2 | H73: 0 | I73: 0 | J73: 2 | K73: 1 | L73: 0 | M73: 1 | N73: 0 | O73: 0 | P73: 1 | Q73: 2 | R73: 0 | S73: 0 | T73: 56160.PP00 | U73: 00.00.0000 | W73: 33 | X73: 52 - Consos imprévisibles | Y73: 42067 | Z73: J.LARRET R388277 | AB73: 00.00.0000 | AD73: sous 24h | AE73: 42067 | AF73: J.LARRET R388277 | AG73: Haute (environ 3 mois) | AH73: 42067 | AI73: J.LARRET R388277 | AN73: CABS | AP73: n | AQ73: Pas de délai | AR73: Infos clients | AS73: 2 - Commentaire(s) sans délai | AT73: 5x - Others | AU73: 52 | AV73: 11
A74: 212 | B74: G2 | C74: 7421022632 | F74: PLATINE SUPPORT CDE SOUS VOLANT | G74: 2 | H74: 0 | I74: 0 | J74: 2 | K74: 1 | L74: 0 | M74: 1 | N74: 0 | O74: 0 | P74: 1 | Q74: 0 | R74: 0 | S74: 0 | T74: 56930.00 | U74: 42079 | W74: 37 | Y74: 00.00.0000 | AB74: 00.00.0000 | AE74: 00.00.0000 | AH74: 00.00.0000 | AN74: CABS | AP74: o | AQ74: Délai valable | AR74: Pas d'infos | AS74: 1 - Délai(s) valide(s) | AT74: undefine | AU74: undefine | AV74: 11
A75: 212 | B75: G4 | C75: 7421535700 | D75: AA | F75: CONTACT | G75: 160 | H75: 14 | I75: 0 | J75: 2 | K75: 104 | L75: 4 | M75: 1 | N75: 0 | O75: 0 | P75: 40 | Q75: 0 | R75: 0 | S75: 270 | T75: 56930.00 | U75: 42081 | V75: problem qualite chez frs | W75: 37 | X75: 19 - Autres cas Fr | Y75: 42068 | Z75: J.MANNINA R069429 | AA75: Cas soldé - Attente livraison | AB75: 42072 | AC75: J.MANNINA R069429 | AE75: 00.00.0000 | AH75: 00.00.0000 | AJ75: composant defectuex ( ressort ) jjm le 05/03/15 | AN75: CABS | AP75: o | AQ75: Délai valable | AR75: Infos clients | AS75: 1 - Délai(s) valide(s) | AT75: 1x - Supplier | AU75: 19 | AV75: 11
A76: 2 | B76: 30 | C76: 7421509881 | F76: INSTRUCTIONS D'ASSEMBLAGE | G76: 2 | H76: 0 | I76: 0 | J76: 2 | K76: 1 | L76: 0 | M76: 1 | N76: 0 | O76: 0 | P76: 0 | Q76: 0 | R76: 0 | S76: 0 | T76: 71849.PP00 | U76: 00.00.0000 | W76: 40 | X76: 52 - Consos imprévisibles | Y76: 42074 | Z76: S.DAFEROVIC A041719 | AB76: 00.00.0000 | AE76: 00.00.0000 | AG76: Majeure (aucune visibilité) | AH76: 42074 | AI76: S.DAFEROVIC A041719 | AN76: ELSK | AO76: New | AP76: n | AQ76: Pas de délai | AR76: Infos clients | AS76: 2 - Commentaire(s) sans délai | AT76: 5x - Others | AU76: 52 | AV76: 11
A77: 24 | B77: 30 | C77: 7421274699 | F77: RONDELLE | G77: 1 | H77: 0 | I77: 0 | J77: 1 | K77: 1 | L77: 0 | M77: 1 | N77: 0 | O77: 0 | P77: 0 | Q77: 0 | R77: 0 | S77: 0 | U77: 00.00.0000 | V77: 7421509881 (040) missing component | W77: 14 | X77: 56 - Manque composant(s) | Y77: 42073 | Z77: C.GUIGUE R074602 | AB77: 00.00.0000 | AE77: 00.00.0000 | AH77: 00.00.0000 | AJ77: No ETA | AK77: CG on 10.03.2015 | AN77: DVL | AP77: n | AQ77: Pas de délai | AR77: Infos clients | AS77: 2 - Commentaire(s) sans délai | AT77: 5x - Others | AU77: 56 | AV77: 11
A78: 160 | B78: 30 | C78: 5689503307 | F78: RUBAN ADHESIF | G78: 1 | H78: 0 | I78: 0 | J78: 1 | K78: 1 | L78: 0 | M78: 1 | N78: 0 | O78: 0 | P78: 0 | Q78: 0 | R78: 0 | S78: 0 | U78: 00.00.0000 | W78: 90 | X78: 02 - DA pour MEP contrat HA | Y78: 41919 | Z78: L.JANET A079240 | AB78: 00.00.0000 | AD78: aucune visibilité | AE78: 41919 | AF78: L.JANET A079240 | AG78: Majeure (aucune visibilité) | AH78: 41919 | AI78: L.JANET A079240 | AN78: TSC | AP78: n | AQ78: Pas de délai | AR78: Infos inutilisables | AS78: 3 - ZVPI(s) à mettre à jour | AT78: 0x - Purchasing | AU78: 02 | AV78: 11
A79: 15 | B79: 30 | C79: 7422069983 | F79: FAISCEAU CHASSIS | G79: 1 | H79: 0 | I79: 0 | J79: 1 | K79: 1 | L79: 0 | M79: 1 | N79: 0 | O79: 0 | P79: 0 | Q79: 0 | R79: 0 | S79: 0 | U79: 00.00.0000 | V79: EP 25/02 DA avec acheteur | W79: 94 | X79: 36 - 1ère demande client | Y79: 42060 | Z79: E.PERRET A167966 | AB79: 00.00.0000 | AE79: 00.00.0000 | AH79: 00.00.0000 | AJ79: MD 11/03 : pas d'évolution | AN79: TSC | AP79: n | AQ79: Pas de délai | AR79: Infos inutilisables | AS79: 3 - ZVPI(s) à mettre à jour | AT79: 3x - VPL | AU79: 36 | AV79: 11
A80: 212 | B80: 30 | C80: 7422069984 | F80: FAISCEAU CHASSIS | G80: 1 | H80: 0 | I80: 0 | J80: 1 | K80: 1 | L80: 0 | M80: 1 | N80: 0 | O80: 0 | P80: 0 | Q80: 0 | R80: 0 | S80: 0 | U80: 00.00.0000 | V80: pas de fr ni ha | W80: 94 | X80: 01 - Pas de fr identifié | Y80: 41864 | Z80: L.JANET A079240 | AA80: Pas d'évolution de la situation | AB80: 41911 | AC80: L.JANET A079240 | AD80: aucune visibilité | AE80: 41911 | AF80: L.JANET A079240 | AH80: 41894 | AI80: L.JANET A079240 | AN80: TSC | AP80: n | AQ80: Pas de délai | AR80: Infos inutilisables | AS80: 3 - ZVPI(s) à mettre à jour | AT80: 0x - Purchasing | AU80: 01 | AV80: 11
A81: 17 | B81: G0 | C81: 712560 | D81: CA | F81: JOINT CIRC.PLAT 26,5X32X2-CUIVRE | G81: 2214 | H81: 0 | I81: 0 | J81: 2034 | K81: 9 | L81: 0 | M81: 1 | N81: 0 | O81: 0 | P81: 280 | Q81: 1106 | R81: 966 | S81: 0 | T81: 76812.00 | U81: 42086 | V81: FB 04.03: 4000 p le 19/03 + 23/04 | W81: 32 | X81: 52 - Consos imprévisibles | Y81: 42067 | Z81: F.BURCICA R395634 | AB81: 00.00.0000 | AE81: 00.00.0000 | AG81: Moyenne (environ 1 mois) | AH81: 42067 | AI81: F.BURCICA R395634 | AN81: CABS | AP81: o | AQ81: Délai valable | AR81: Infos clients | AS81: 1 - Délai(s) valide(s) | AT81: 5x - Others | AU81: 52 | AV81: 12
A82: 7 | B82: G4 | C82: 7400983828 | F82: VIS H EMB M10X150 L25 8.8 FE/ZN8 | G82: 870 | H82: 0 | I82: 0 | J82: 870 | K82: 1 | L82: 0 | M82: 1 | N82: 0 | O82: 0 | P82: 0 | Q82: 150 | R82: 0 | S82: 525 | T82: 21887.PP00 | U82: 42054 | W82: 72 | Y82: 00.00.0000 | AB82: 00.00.0000 | AE82: 00.00.0000 | AH82: 00.00.0000 | AN82: GENT | AP82: o | AQ82: Délai dépassé | AR82: Pas d'infos | AS82: 3 - ZVPI(s) à mettre à jour | AT82: undefine | AU82: undefine | AV82: 12
A83: 13 | B83: G8 | C83: 7421380403 | D83: AA | E83: X | F83: PREFILTRE R60 | G83: 1728 | H83: 78 | I83: 0 | J83: 690 | K83: 26 | L83: 1 | M83: 1 | N83: 0 | O83: 0 | P83: 300 | Q83: 0 | R83: 0 | S83: 1440 | T83: 76208.PP00 | U83: 42076 | W83: 77 | X83: 52 - Consos imprévisibles | Y83: 42074 | Z83: T.VERSTRAETEN RB91228 | AB83: 00.00.0000 | AE83: 00.00.0000 | AH83: 00.00.0000 | AN83: GENT | AP83: o | AQ83: Délai valable | AR83: Infos clients | AS83: 1 - Délai(s) valide(s) | AT83: 5x - Others | AU83: 52 | AV83: 12
A84: 63 | B84: G0 | C84: 5010412490 | F84: SEGMENT DE PISTON-EP-3,5 | G84: 609 | H84: 0 | I84: 0 | J84: 609 | K84: 1 | L84: 0 | M84: 1 | N84: 0 | O84: 0 | P84: 0 | Q84: 583 | R84: 507 | S84: 0 | T84: 70343.04 | U84: 42076 | V84: 464 pces shipped on 06.03.2015 | W84: 14 | X84: 52 - Consos imprévisibles | Y84: 42055 | Z84: C.DERRIEN A146081 | AA84: Cas soldé - Attente livraison | AB84: 42073 | AC84: C.GUIGUE R074602 | AE84: 00.00.0000 | AH84: 00.00.0000 | AJ84: CG on 10.03.2015 | AN84: DVL | AP84: o | AQ84: Délai valable | AR84: Infos clients | AS84: 1 - Délai(s) valide(s) | AT84: 5x - Others | AU84: 52 | AV84: 12
A85: 115 | B85: G0 | C85: 5010284467 | F85: JOINT DE SOUPAPE | G85: 576 | H85: 24 | I85: 0 | J85: 540 | K85: 3 | L85: 1 | M85: 1 | N85: 0 | O85: 0 | P85: 2 | Q85: 0 | R85: 0 | S85: 0 | T85: 75094.PP | U85: 00.00.0000 | V85: demande ha v.p.le 18/11 | W85: 13 | X85: 02 - DA pour MEP contrat HA | Y85: 41961 | Z85: V.PROVOLO R072569 | AA85: Pas d'évolution de la situation | AB85: 42065 | AC85: V.PROVOLO R072569 | AE85: 00.00.0000 | AH85: 00.00.0000 | AN85: DVL | AP85: n | AQ85: Pas de délai | AR85: Infos clients | AS85: 2 - Commentaire(s) sans délai | AT85: 0x - Purchasing | AU85: 02 | AV85: 12
A86: 3 | B86: G8 | C86: 7420998809 | D86: AA | E86: X | F86: CARTOUCHE FILTRANTE HUILE | G86: 373 | H86: 0 | I86: 0 | J86: 348 | K86: 7 | L86: 0 | M86: 1 | N86: 31 | O86: 0 | P86: 372 | Q86: 372 | R86: 0 | S86: 0 | T86: 04457.00 | U86: 42075 | W86: 13 | Y86: 00.00.0000 | AB86: 00.00.0000 | AE86: 00.00.0000 | AH86: 00.00.0000 | AN86: DVL | AP86: o | AQ86: Délai valable | AR86: Pas d'infos | AS86: 1 - Délai(s) valide(s) | AT86: undefine | AU86: undefine | AV86: 12
A87: 63 | B87: G0 | C87: 5000694608 | F87: SEGMENT RACLEUR-EP-4 | G87: 314 | H87: 41 | I87: 0 | J87: 273 | K87: 2 | L87: 1 | M87: 1 | N87: 0 | O87: 100 | P87: 6 | Q87: 379 | R87: 379 | S87: 0 | T87: 85319.PP00 | U87: 42076 | W87: 14 | Y87: 00.00.0000 | AB87: 00.00.0000 | AE87: 00.00.0000 | AH87: 00.00.0000 | AN87: DVL | AP87: o | AQ87: Délai valable | AR87: Pas d'infos | AS87: 1 - Délai(s) valide(s) | AT87: undefine | AU87: undefine | AV87: 12
A88: 92 | B88: G2 | C88: 7421515329 | D88: BA | F88: DOUILLE D'INJECTEUR | G88: 291 | H88: 49 | I88: 0 | J88: 188 | K88: 27 | L88: 13 | M88: 1 | N88: 0 | O88: 0 | P88: 20 | Q88: 1 | R88: 0 | S88: 101 | T88: 78525.01 | U88: 00.00.0000 | W88: 66 | X88: 39 - Autres causes "Gestion" | Y88: 42066 | Z88: B.Lahotian RP44853 | AA88: 11 - Retard sur Prog Appro | AB88: 42074 | AC88: B.Lahotian RP44853 | AE88: 00.00.0000 | AG88: Moyenne (environ 1 mois) | AH88: 42066 | AI88: B.Lahotian RP44853 | AN88: GOTH | AP88: n | AQ88: Pas de délai | AR88: Infos clients | AS88: 2 - Commentaire(s) sans délai | AT88: 3x - VPL | AU88: 39 | AV88: 12
A89: 58 | B89: E3 | C89: 7420495935 | D89: AA | F89: JOINT CULASSE | G89: 194 | H89: 4 | I89: 0 | J89: 146 | K89: 21 | L89: 1 | M89: 1 | N89: 10 | O89: 0 | P89: 20 | Q89: 0 | R89: 0 | S89: 420 | T89: 71626.01 | U89: 42058 | W89: 66 | X89: 11 - Retard sur Prog Appro | Y89: 42026 | Z89: B.Lahotian RP44853 | AA89: 12 - Problème capacité | AB89: 42073 | AC89: B.Lahotian RP44853 | AE89: 00.00.0000 | AG89: Faible (environ 2 semaines) | AH89: 42073 | AI89: B.Lahotian RP44853 | AN89: GOTH | AP89: o | AQ89: Délai dépassé | AR89: Infos clients | AS89: 3 - ZVPI(s) à mettre à jour | AT89: 1x - Supplier | AU89: 11 | AV89: 12
A90: 52 | B90: 30 | C90: 7422559481 | F90: INSTRUCTIONS DE MONTAGE | G90: 120 | H90: 0 | I90: 0 | J90: 120 | K90: 1 | L90: 0 | M90: 1 | N90: 0 | O90: 0 | P90: 0 | Q90: 0 | R90: 0 | S90: 0 | T90: 71849.PP00 | U90: 42111 | W90: 91 | X90: A déterminer | Y90: 42067 | Z90: E.PERRET A167966 | AB90: 00.00.0000 | AE90: 00.00.0000 | AH90: 00.00.0000 | AN90: TSC | AP90: o | AQ90: Délai valable | AR90: Infos clients | AS90: 1 - Délai(s) valide(s) | AT90: undefine | AU90: undefine | AV90: 12
A91: 389 | B91: G0 | C91: 5003065046 | F91: JOINT TORIQUE 100X3 -4810 B3 E3 | G91: 118 | H91: 6 | I91: 0 | J91: 90 | K91: 12 | L91: 3 | M91: 1 | N91: 0 | O91: 0 | P91: 2 | Q91: 10 | R91: 10 | S91: 0 | T91: 05654.11 | U91: 00.00.0000 | V91: PPAP order towards week 1419 | W91: 64 | X91: 52 - Consos imprévisibles | Y91: 41599 | Z91: N.EN-NAJI E13952 | AA91: 29 - Autres cas Doc Techn | AB91: 42062 | AC91: N.EN-NAJI E13952 | AD91: unknown | AE91: 42062 | AF91: N.EN-NAJI E13952 | AG91: Majeure (aucune visibilité) | AH91: 42062 | AI91: N.EN-NAJI E13952 | AJ91: 140123: waiting for approval of new reference number, new price, | AK91: case sent again to new buyer/ 150304 NE | AN91: GOTH | AP91: n | AQ91: Pas de délai | AR91: Infos clients | AS91: 2 - Commentaire(s) sans délai | AT91: 5x - Others | AU91: 52 | AV91: 12
A92: 37 | B92: G4 | C92: 5010240400 | D92: AA | E92: X | F92: CARTOUCHE FILRE A HUILE | G92: 360 | H92: 0 | I92: 0 | J92: 72 | K92: 15 | L92: 0 | M92: 1 | N92: 560 | O92: 0 | P92: 32 | Q92: 8 | R92: 0 | S92: 160 | T92: 04457.00 | U92: 00.00.0000 | V92: attente delai v.p.le 09/03 | W92: 13 | X92: 41 - Incident transport (ponctuel) | Y92: 42072 | Z92: V.PROVOLO R072569 | AB92: 00.00.0000 | AE92: 00.00.0000 | AH92: 00.00.0000 | AN92: DVL | AP92: n | AQ92: Pas de délai | AR92: Infos clients | AS92: 1 - Délai(s) valide(s) | AT92: 4x - Carriage | AU92: 41 | AV92: 12
A93: 2 | B93: G2 | C93: 7422428201 | D93: AA | F93: BOUCHON | G93: 60 | H93: 0 | I93: 0 | J93: 60 | K93: 1 | L93: 0 | M93: 1 | N93: 0 | O93: 0 | P93: 0 | Q93: 0 | R93: 0 | S93: 0 | T93: 78041.PP00 | U93: 42101 | W93: 60 | Y93: 00.00.0000 | AB93: 00.00.0000 | AE93: 00.00.0000 | AH93: 00.00.0000 | AN93: GOTH | AO93: New | AP93: o | AQ93: Délai valable | AR93: Pas d'infos | AS93: 1 - Délai(s) valide(s) | AT93: undefine | AU93: undefine | AV93: 12
A94: 52 | B94: G2 | C94: 7422428250 | F94: AXE-GUIDE | G94: 60 | H94: 0 | I94: 0 | J94: 60 | K94: 1 | L94: 0 | M94: 1 | N94: 0 | O94: 0 | P94: 0 | Q94: 0 | R94: 0 | S94: 130 | T94: 82077.PP00 | U94: 00.00.0000 | V94: michael relance l'acheteur cb 21/01 | W94: 91 | X94: 36 - 1ère demande client | Y94: 41996 | Z94: E.PERRET A167966 | AB94: 42033 | AC94: E.PERRET A167966 | AE94: 42025 | AF94: C.BRON R392388 | AH94: 42025 | AI94: C.BRON R392388 | AJ94: EP 29/01 Relance Fr, expé 09/02 | AK94: EP 10/03 Relance solde | AN94: TSC | AP94: n | AQ94: Pas de délai | AR94: Infos inutilisables | AS94: 3 - ZVPI(s) à mettre à jour | AT94: 3x - VPL | AU94: 36 | AV94: 12
A95: 1 | B95: G2 | C95: 7421764961 | D95: AA | F95: FILTRE A COMBUSTIBLE | G95: 82 | H95: 0 | I95: 0 | J95: 58 | K95: 8 | L95: 0 | M95: 1 | N95: 180 | O95: 0 | P95: 215 | Q95: 62 | R95: 0 | S95: 0 | T95: 76208.PP00 | U95: 00.00.0000 | W95: 77 | Y95: 00.00.0000 | AB95: 00.00.0000 | AE95: 00.00.0000 | AH95: 00.00.0000 | AN95: GENT | AO95: New | AP95: n | AQ95: Pas de délai | AR95: Pas d'infos | AS95: 4 - ZVPI(s) non traitée(s) | AT95: undefine | AU95: undefine | AV95: 12
A96: 52 | B96: G2 | C96: 7422428196 | D96: AA | F96: BOUCHON | G96: 55 | H96: 0 | I96: 0 | J96: 55 | K96: 1 | L96: 0 | M96: 1 | N96: 0 | O96: 0 | P96: 0 | Q96: 5 | R96: 0 | S96: 155 | T96: 78041.PP00 | U96: 42076 | V96: . | W96: 60 | X96: 52 - Consos imprévisibles | Y96: 42048 | Z96: A.JOHANSSON A055017 | AA96: Cas soldé - Attente livraison | AB96: 42062 | AC96: A.JOHANSSON A055017 | AD96: sous 24h | AE96: 42062 | AF96: A.JOHANSSON A055017 | AG96: Faible (environ 2 semaines) | AH96: 42062 | AI96: A.JOHANSSON A055017 | AN96: GOTH | AP96: o | AQ96: Délai valable | AR96: Infos clients | AS96: 1 - Délai(s) valide(s) | AT96: 5x - Others | AU96: 52 | AV96: 12
A97: 3 | B97: G2 | C97: 7420794356 | F97: JOINT COLLECTEUR ADM | G97: 54 | H97: 0 | I97: 0 | J97: 54 | K97: 1 | L97: 0 | M97: 1 | N97: 0 | O97: 0 | P97: 0 | Q97: 6 | R97: 0 | S97: 1 | T97: 78525.PP02 | U97: 00.00.0000 | W97: 71 | Y97: 00.00.0000 | AB97: 00.00.0000 | AE97: 00.00.0000 | AH97: 00.00.0000 | AN97: GENT | AP97: n | AQ97: Pas de délai | AR97: Pas d'infos | AS97: 4 - ZVPI(s) non traitée(s) | AT97: undefine | AU97: undefine | AV97: 12
A98: 1 | B98: G0 | C98: 5000667791 | F98: SEGMENT ETANCHEITE | G98: 50 | H98: 0 | I98: 0 | J98: 50 | K98: 1 | L98: 0 | M98: 1 | N98: 0 | O98: 0 | P98: 1 | Q98: 123 | R98: 90 | S98: 0 | T98: 85319.PP00 | U98: 42090 | W98: 14 | Y98: 00.00.0000 | AB98: 00.00.0000 | AE98: 00.00.0000 | AH98: 00.00.0000 | AN98: DVL | AO98: New | AP98: o | AQ98: Délai valable | AR98: Pas d'infos | AS98: 1 - Délai(s) valide(s) | AT98: undefine | AU98: undefine | AV98: 12
A99: 7 | B99: G2 | C99: 7421857436 | D99: AA | F99: JEU DE FILTRE A HUILE | G99: 81 | H99: 0 | I99: 0 | J99: 50 | K99: 12 | L99: 0 | M99: 1 | N99: 800 | O99: 0 | P99: 79 | Q99: 0 | R99: 0 | S99: 100 | T99: 73891.PP00 | U99: 00.00.0000 | W99: 94 | Y99: 00.00.0000 | AB99: 00.00.0000 | AE99: 00.00.0000 | AH99: 00.00.0000 | AN99: TSC | AP99: n | AQ99: Pas de délai | AR99: Pas d'infos | AS99: 1 - Délai(s) valide(s) | AT99: undefine | AU99: undefine | AV99: 12
A100: 0 | B100: G0 | C100: 7401698135 | F100: LUBRIFIANT PACKNINGSOLJA T 10ML | G100: 48 | H100: 0 | I100: 0 | J100: 48 | K100: 1 | L100: 0 | M100: 1 | N100: 0 | O100: 0 | P100: 0 | Q100: 12 | R100: 12 | S100: 610 | T100: 78525.01 | U100: 41991 | W100: 66 | Y100: 00.00.0000 | AB100: 00.00.0000 | AE100: 00.00.0000 | AH100: 00.00.0000 | AN100: GOTH | AO100: New | AP100: o | AQ100: Délai dépassé | AR100: Pas d'infos | AS100: 3 - ZVPI(s) à mettre à jour | AT100: undefine | AU100: undefine | AV100: 12
...

Sheet Top 10
A1: Top 10 | B1: Article | C1: Désignation article | D1: Pic AUTRE | F1: Top 10 | G1: Article | H1: Désignation article | I1: avec Week >> | J1: 11 | L1: Article | O1: Top 10 | P1: Article | Q1: Désignation article | R1: Pic AUTRE
A2: 1 | B2: =INDEX(Feuil1!$C$2:$C$403,MATCH($D2,Feuil1!$J$2:$J$403,0)) -> 7400949329 | C2: =INDEX(Feuil1!$F$2:$F$403,MATCH($D2,Feuil1!$J$2:$J$403,0)) -> JOINT CUIVRE RECT 24X29X2 | D2: =MAX(Feuil1!$J$2:$J$403) -> 3294 | F2: 1 | G2: =INDEX(Feuil1!$C$2:$C$403,MATCH($I2,Feuil1!$J$2:$J$403,0)) -> 712560 | H2: =INDEX(Feuil1!$F$2:$F$403,MATCH($I2,Feuil1!$J$2:$J$403,0)) -> JOINT CIRC.PLAT 26,5X32X2-CUIVRE | I2: {=MAX(IF((Feuil1!$AV$2:$AV$403='Top 10'!$J$1)*(Feuil1!$J$2:$J$403<>""),Feuil1!$J$2:$J$403))} -> 2034 | L2: 712560 | M2: =SUMIFS(Feuil1!$J:$J,Feuil1!C:C,'Top 10'!L2) -> 6170 | O2: 1 | P2: =INDEX($L:$L,MATCH($R2,$M:$M,0)) -> 712560 | Q2: =INDEX(Feuil1!$F:$F,MATCH($L2,Feuil1!$C:$C,0)) -> JOINT CIRC.PLAT 26,5X32X2-CUIVRE | R2: =MAX($M$2:$M$136) -> 6170
A3: 2 | B3: =INDEX(Feuil1!$C$2:$C$403,MATCH($D3,Feuil1!$J$2:$J$403,0)) -> 7400949329 | C3: =INDEX(Feuil1!$F$2:$F$403,MATCH($D3,Feuil1!$J$2:$J$403,0)) -> JOINT CUIVRE RECT 24X29X2 | D3: {=MAX(IF(Feuil1!$J$2:$J$403<$D2,Feuil1!$J$2:$J$403))} -> 2046 | F3: 2 | G3: =INDEX(Feuil1!$C$2:$C$403,MATCH($I3,Feuil1!$J$2:$J$403,0)) -> 7400983828 | H3: =INDEX(Feuil1!$F$2:$F$403,MATCH($I3,Feuil1!$J$2:$J$403,0)) -> VIS H EMB M10X150 L25 8.8 FE/ZN8 | I3: {=MAX(IF((Feuil1!$AV$2:$AV$403='Top 10'!$J$1)*(Feuil1!$J$2:$J$403<$I2),Feuil1!$J$2:$J$403))} -> 870 | L3: 7400983828 | M3: =SUMIFS(Feuil1!$J:$J,Feuil1!C:C,'Top 10'!L3) -> 3310 | O3: 2 | P3: =INDEX($L:$L,MATCH($R3,$M:$M,0)) -> 7400949329 | Q3: =INDEX(Feuil1!$F:$F,MATCH($L3,Feuil1!$C:$C,0)) -> VIS H EMB M10X150 L25 8.8 FE/ZN8 | R3: {=MAX(IF($M$2:$M$136<$R2,$M$2:$M$136))} -> 5340
A4: 3 | B4: =INDEX(Feuil1!$C$2:$C$403,MATCH($D4,Feuil1!$J$2:$J$403,0)) -> 712560 | C4: =INDEX(Feuil1!$F$2:$F$403,MATCH($D4,Feuil1!$J$2:$J$403,0)) -> JOINT CIRC.PLAT 26,5X32X2-CUIVRE | D4: {=MAX(IF(Feuil1!$J$2:$J$403<$D3,Feuil1!$J$2:$J$403))} -> 2034 | F4: 3 | G4: =INDEX(Feuil1!$C$2:$C$403,MATCH($I4,Feuil1!$J$2:$J$403,0)) -> 7421380403 | H4: =INDEX(Feuil1!$F$2:$F$403,MATCH($I4,Feuil1!$J$2:$J$403,0)) -> PREFILTRE R60 | I4: {=MAX(IF((Feuil1!$AV$2:$AV$403='Top 10'!$J$1)*(Feuil1!$J$2:$J$403<$I3),Feuil1!$J$2:$J$403))} -> 690 | L4: 7421380403 | M4: =SUMIFS(Feuil1!$J:$J,Feuil1!C:C,'Top 10'!L4) -> 2370 | O4: 3 | P4: =INDEX($L:$L,MATCH($R4,$M:$M,0)) -> 7400983828 | Q4: =INDEX(Feuil1!$F:$F,MATCH($L4,Feuil1!$C:$C,0)) -> PREFILTRE R60 | R4: {=MAX(IF($M$2:$M$136<$R3,$M$2:$M$136))} -> 3310
A5: 4 | B5: =INDEX(Feuil1!$C$2:$C$403,MATCH($D5,Feuil1!$J$2:$J$403,0)) -> 7420998806 | C5: =INDEX(Feuil1!$F$2:$F$403,MATCH($D5,Feuil1!$J$2:$J$403,0)) -> CARTOUCHE FILTRANTE GO DXI5/7 | D5: {=MAX(IF(Feuil1!$J$2:$J$403<$D4,Feuil1!$J$2:$J$403))} -> 1080 | F5: 4 | G5: =INDEX(Feuil1!$C$2:$C$403,MATCH($I5,Feuil1!$J$2:$J$403,0)) -> 5010412490 | H5: =INDEX(Feuil1!$F$2:$F$403,MATCH($I5,Feuil1!$J$2:$J$403,0)) -> SEGMENT DE PISTON-EP-3,5 | I5: {=MAX(IF((Feuil1!$AV$2:$AV$403='Top 10'!$J$1)*(Feuil1!$J$2:$J$403<$I4),Feuil1!$J$2:$J$403))} -> 609 | L5: 5010412490 | M5: =SUMIFS(Feuil1!$J:$J,Feuil1!C:C,'Top 10'!L5) -> 1827 | O5: 4 | P5: =INDEX($L:$L,MATCH($R5,$M:$M,0)) -> 5010284467 | Q5: =INDEX(Feuil1!$F:$F,MATCH($L5,Feuil1!$C:$C,0)) -> SEGMENT DE PISTON-EP-3,5 | R5: {=MAX(IF($M$2:$M$136<$R4,$M$2:$M$136))} -> 2780
A6: 5 | B6: =INDEX(Feuil1!$C$2:$C$403,MATCH($D6,Feuil1!$J$2:$J$403,0)) -> 7421380472 | C6: =INDEX(Feuil1!$F$2:$F$403,MATCH($D6,Feuil1!$J$2:$J$403,0)) -> PREFILTRE GAZOLE | D6: {=MAX(IF(Feuil1!$J$2:$J$403<$D5,Feuil1!$J$2:$J$403))} -> 1056 | F6: 5 | G6: =INDEX(Feuil1!$C$2:$C$403,MATCH($I6,Feuil1!$J$2:$J$403,0)) -> 5010284467 | H6: =INDEX(Feuil1!$F$2:$F$403,MATCH($I6,Feuil1!$J$2:$J$403,0)) -> JOINT DE SOUPAPE | I6: {=MAX(IF((Feuil1!$AV$2:$AV$403='Top 10'!$J$1)*(Feuil1!$J$2:$J$403<$I5),Feuil1!$J$2:$J$403))} -> 540 | L6: 5010284467 | M6: =SUMIFS(Feuil1!$J:$J,Feuil1!C:C,'Top 10'!L6) -> 2780 | O6: 5 | P6: =INDEX($L:$L,MATCH($R6,$M:$M,0)) -> 7421380403 | Q6: =INDEX(Feuil1!$F:$F,MATCH($L6,Feuil1!$C:$C,0)) -> JOINT DE SOUPAPE | R6: {=MAX(IF($M$2:$M$136<$R5,$M$2:$M$136))} -> 2370
A7: 6 | B7: =INDEX(Feuil1!$C$2:$C$403,MATCH($D7,Feuil1!$J$2:$J$403,0)) -> 7400983828 | C7: =INDEX(Feuil1!$F$2:$F$403,MATCH($D7,Feuil1!$J$2:$J$403,0)) -> VIS H EMB M10X150 L25 8.8 FE/ZN8 | D7: {=MAX(IF(Feuil1!$J$2:$J$403<$D6,Feuil1!$J$2:$J$403))} -> 870 | F7: 6 | G7: =INDEX(Feuil1!$C$2:$C$403,MATCH($I7,Feuil1!$J$2:$J$403,0)) -> 7420998809 | H7: =INDEX(Feuil1!$F$2:$F$403,MATCH($I7,Feuil1!$J$2:$J$403,0)) -> CARTOUCHE FILTRANTE HUILE | I7: {=MAX(IF((Feuil1!$AV$2:$AV$403='Top 10'!$J$1)*(Feuil1!$J$2:$J$403<$I6),Feuil1!$J$2:$J$403))} -> 348 | L7: 7420998809 | M7: =SUMIFS(Feuil1!$J:$J,Feuil1!C:C,'Top 10'!L7) -> 1469 | O7: 6 | P7: =INDEX($L:$L,MATCH($R7,$M:$M,0)) -> 5010412490 | Q7: =INDEX(Feuil1!$F:$F,MATCH($L7,Feuil1!$C:$C,0)) -> CARTOUCHE FILTRANTE HUILE | R7: {=MAX(IF($M$2:$M$136<$R6,$M$2:$M$136))} -> 1827
A8: 7 | B8: =INDEX(Feuil1!$C$2:$C$403,MATCH($D8,Feuil1!$J$2:$J$403,0)) -> 7421380403 | C8: =INDEX(Feuil1!$F$2:$F$403,MATCH($D8,Feuil1!$J$2:$J$403,0)) -> PREFILTRE R60 | D8: {=MAX(IF(Feuil1!$J$2:$J$403<$D7,Feuil1!$J$2:$J$403))} -> 690 | F8: 7 | G8: =INDEX(Feuil1!$C$2:$C$403,MATCH($I8,Feuil1!$J$2:$J$403,0)) -> 5000694608 | H8: =INDEX(Feuil1!$F$2:$F$403,MATCH($I8,Feuil1!$J$2:$J$403,0)) -> SEGMENT RACLEUR-EP-4 | I8: {=MAX(IF((Feuil1!$AV$2:$AV$403='Top 10'!$J$1)*(Feuil1!$J$2:$J$403<$I7),Feuil1!$J$2:$J$403))} -> 273 | L8: 5000694608 | M8: =SUMIFS(Feuil1!$J:$J,Feuil1!C:C,'Top 10'!L8) -> 1067 | O8: 7 | P8: =INDEX($L:$L,MATCH($R8,$M:$M,0)) -> 7420998806 | Q8: =INDEX(Feuil1!$F:$F,MATCH($L8,Feuil1!$C:$C,0)) -> SEGMENT RACLEUR-EP-4 | R8: {=MAX(IF($M$2:$M$136<$R7,$M$2:$M$136))} -> 1642
A9: 8 | B9: =INDEX(Feuil1!$C$2:$C$403,MATCH($D9,Feuil1!$J$2:$J$403,0)) -> 5010412490 | C9: =INDEX(Feuil1!$F$2:$F$403,MATCH($D9,Feuil1!$J$2:$J$403,0)) -> SEGMENT DE PISTON-EP-3,5 | D9: {=MAX(IF(Feuil1!$J$2:$J$403<$D8,Feuil1!$J$2:$J$403))} -> 609 | F9: 8 | G9: =INDEX(Feuil1!$C$2:$C$403,MATCH($I9,Feuil1!$J$2:$J$403,0)) -> 7421515329 | H9: =INDEX(Feuil1!$F$2:$F$403,MATCH($I9,Feuil1!$J$2:$J$403,0)) -> DOUILLE D'INJECTEUR | I9: {=MAX(IF((Feuil1!$AV$2:$AV$403='Top 10'!$J$1)*(Feuil1!$J$2:$J$403<$I8),Feuil1!$J$2:$J$403))} -> 188 | L9: 7421515329 | M9: =SUMIFS(Feuil1!$J:$J,Feuil1!C:C,'Top 10'!L9) -> 693 | O9: 8 | P9: =INDEX($L:$L,MATCH($R9,$M:$M,0)) -> 7420998809 | Q9: =INDEX(Feuil1!$F:$F,MATCH($L9,Feuil1!$C:$C,0)) -> DOUILLE D'INJECTEUR | R9: {=MAX(IF($M$2:$M$136<$R8,$M$2:$M$136))} -> 1469
A10: 9 | B10: =INDEX(Feuil1!$C$2:$C$403,MATCH($D10,Feuil1!$J$2:$J$403,0)) -> 5010284467 | C10: =INDEX(Feuil1!$F$2:$F$403,MATCH($D10,Feuil1!$J$2:$J$403,0)) -> JOINT DE SOUPAPE | D10: {=MAX(IF(Feuil1!$J$2:$J$403<$D9,Feuil1!$J$2:$J$403))} -> 580 | F10: 9 | G10: =INDEX(Feuil1!$C$2:$C$403,MATCH($I10,Feuil1!$J$2:$J$403,0)) -> 7420495935 | H10: =INDEX(Feuil1!$F$2:$F$403,MATCH($I10,Feuil1!$J$2:$J$403,0)) -> JOINT CULASSE | I10: {=MAX(IF((Feuil1!$AV$2:$AV$403='Top 10'!$J$1)*(Feuil1!$J$2:$J$403<$I9),Feuil1!$J$2:$J$403))} -> 146 | L10: 7420495935 | M10: =SUMIFS(Feuil1!$J:$J,Feuil1!C:C,'Top 10'!L10) -> 543 | O10: 9 | P10: =INDEX($L:$L,MATCH($R10,$M:$M,0)) -> 5000694608 | Q10: =INDEX(Feuil1!$F:$F,MATCH($L10,Feuil1!$C:$C,0)) -> JOINT CULASSE | R10: {=MAX(IF($M$2:$M$136<$R9,$M$2:$M$136))} -> 1067
A11: 10 | B11: =INDEX(Feuil1!$C$2:$C$403,MATCH($D11,Feuil1!$J$2:$J$403,0)) -> 7420998806 | C11: =INDEX(Feuil1!$F$2:$F$403,MATCH($D11,Feuil1!$J$2:$J$403,0)) -> CARTOUCHE FILTRANTE GO DXI5/7 | D11: {=MAX(IF(Feuil1!$J$2:$J$403<$D10,Feuil1!$J$2:$J$403))} -> 562 | F11: 10 | G11: =INDEX(Feuil1!$C$2:$C$403,MATCH($I11,Feuil1!$J$2:$J$403,0)) -> 7422559481 | H11: =INDEX(Feuil1!$F$2:$F$403,MATCH($I11,Feuil1!$J$2:$J$403,0)) -> INSTRUCTIONS DE MONTAGE | I11: {=MAX(IF((Feuil1!$AV$2:$AV$403='Top 10'!$J$1)*(Feuil1!$J$2:$J$403<$I10),Feuil1!$J$2:$J$403))} -> 120 | L11: 7422559481 | M11: =SUMIFS(Feuil1!$J:$J,Feuil1!C:C,'Top 10'!L11) -> 771 | O11: 10 | P11: =INDEX($L:$L,MATCH($R11,$M:$M,0)) -> 7421380472 | Q11: =INDEX(Feuil1!$F:$F,MATCH($L11,Feuil1!$C:$C,0)) -> INSTRUCTIONS DE MONTAGE | R11: {=MAX(IF($M$2:$M$136<$R10,$M$2:$M$136))} -> 1056
L12: 5003065046 | M12: =SUMIFS(Feuil1!$J:$J,Feuil1!C:C,'Top 10'!L12) -> 450
C13: formule à max sur feuil1 résultat NOK car une ref peut apparaitre plusieurs en feuil1 | L13: 5010240400 | M13: =SUMIFS(Feuil1!$J:$J,Feuil1!C:C,'Top 10'!L13) -> 216 | Q13: Formule Max faite sur la NB.SI.ens de ttes les refs en feuil1
L14: 7422428201 | M14: =SUMIFS(Feuil1!$J:$J,Feuil1!C:C,'Top 10'!L14) -> 340
L15: 7422428250 | M15: =SUMIFS(Feuil1!$J:$J,Feuil1!C:C,'Top 10'!L15) -> 180
L16: 7421764961 | M16: =SUMIFS(Feuil1!$J:$J,Feuil1!C:C,'Top 10'!L16) -> 174
L17: 7422428196 | M17: =SUMIFS(Feuil1!$J:$J,Feuil1!C:C,'Top 10'!L17) -> 286
L18: 7420794356 | M18: =SUMIFS(Feuil1!$J:$J,Feuil1!C:C,'Top 10'!L18) -> 162
L19: 5000667791 | M19: =SUMIFS(Feuil1!$J:$J,Feuil1!C:C,'Top 10'!L19) -> 150
L20: 7421857436 | M20: =SUMIFS(Feuil1!$J:$J,Feuil1!C:C,'Top 10'!L20) -> 150
L21: 7401698135 | M21: =SUMIFS(Feuil1!$J:$J,Feuil1!C:C,'Top 10'!L21) -> 144
L22: 7420850506 | M22: =SUMIFS(Feuil1!$J:$J,Feuil1!C:C,'Top 10'!L22) -> 129
L23: 5010295362 | M23: =SUMIFS(Feuil1!$J:$J,Feuil1!C:C,'Top 10'!L23) -> 210
L24: 7422282198 | M24: =SUMIFS(Feuil1!$J:$J,Feuil1!C:C,'Top 10'!L24) -> 186
L25: 5010389423 | M25: =SUMIFS(Feuil1!$J:$J,Feuil1!C:C,'Top 10'!L25) -> 195
... L112: 7421700305 | M112: =SUMIFS(Feuil1!$J:$J,Feuil1!C:C,'Top 10'!L112) -> 1
L113: Article | M113: =SUMIFS(Feuil1!$J:$J,Feuil1!C:C,'Top 10'!L113) -> 0
L114: 5010323502 | M114: =SUMIFS(Feuil1!$J:$J,Feuil1!C:C,'Top 10'!L114) -> 440
L115: 5010284211 | M115: =SUMIFS(Feuil1!$J:$J,Feuil1!C:C,'Top 10'!L115) -> 389
L116: 5005330183 | M116: =SUMIFS(Feuil1!$J:$J,Feuil1!C:C,'Top 10'!L116) -> 228
L117: 5003065197 | M117: =SUMIFS(Feuil1!$J:$J,Feuil1!C:C,'Top 10'!L117) -> 225
L118: 7400992025 | M118: =SUMIFS(Feuil1!$J:$J,Feuil1!C:C,'Top 10'!L118) -> 202
L119: 7420820662 | M119: =SUMIFS(Feuil1!$J:$J,Feuil1!C:C,'Top 10'!L119) -> 175
L120: 7422428199 | M120: =SUMIFS(Feuil1!$J:$J,Feuil1!C:C,'Top 10'!L120) -> 120
L121: 7421764981 | M121: =SUMIFS(Feuil1!$J:$J,Feuil1!C:C,'Top 10'!L121) -> 96
L122: 7400644243 | M122: =SUMIFS(Feuil1!$J:$J,Feuil1!C:C,'Top 10'!L122) -> 86
L123: 5010450709 | M123: =SUMIFS(Feuil1!$J:$J,Feuil1!C:C,'Top 10'!L123) -> 65
L124: 7422428241 | M124: =SUMIFS(Feuil1!$J:$J,Feuil1!C:C,'Top 10'!L124) -> 58
L125: 7420584639 | M125: =SUMIFS(Feuil1!$J:$J,Feuil1!C:C,'Top 10'!L125) -> 49
... L136: 5010258698 | M136: =SUMIFS(Feuil1!$J:$J,Feuil1!C:C,'Top 10'!L136) -> 1

Sheet TCD
A3: Article | B3: Désignation article | C3: .Pic Autre
A4: 712560 | B4: JOINT CIRC.PLAT 26,5X32X2-CUIVRE | C4: 7570
A5: 7421380403 | B5: PREFILTRE R60 | C5: 5484
A6: 7400949329 | B6: JOINT CUIVRE RECT 24X29X2 | C6: 5340
A7: 7400983828 | B7: VIS H EMB M10X150 L25 8.8 FE/ZN8 | C7: 3310
A8: 5010284467 | B8: JOINT DE SOUPAPE | C8: 2966
A9: 7420998806 | B9: CARTOUCHE FILTRANTE GO DXI5/7 | C9: 2412
A10: 5010412490 | B10: SEGMENT DE PISTON-EP-3,5 | C10: 1827
A11: 7420998809 | B11: CARTOUCHE FILTRANTE HUILE | C11: 1584
A12: 5000694608 | B12: SEGMENT RACLEUR-EP-4 | C12: 1190
A13: 7421515329 | B13: DOUILLE D'INJECTEUR | C13: 1096
A14: Total général | C14: 32779
